{"text_format":"1","workbook":"xlsx","n_sheets":8,"sheets":["User Guide","EZBuck design calculator","Sheet3","Sheet2","Sheet1 select","Efficiency calculations","Bode Plot Calculations","Controller parameters"],"not_rendered":{"charts":2,"images":14,"macros":1,"external_links":2,"defined_names":27,"comments":1,"pivot_tables":0},"unopened":[],"bounds":{"document_bytes":16777216,"sheet_cells":100000,"rows_first":2000,"rows_last":500,"rows_between":2000,"halvings":0,"cell_chars":16384,"cell_head_chars":4096},"cells_cut":0,"cells_raw":0,"read":"whole","date_system":"1900"}

{"sheet":"User Guide","index":0,"n_rows":16,"n_cols":9,"rows_kept":16,"cut":false,"hidden":false,"merged":[[0,2,0,7],[13,3,13,4],[8,0,8,2],[8,3,8,4],[9,3,9,4],[10,3,10,4],[11,3,11,4],[12,3,12,4],[10,5,10,10],[15,0,17,12],[14,0,14,9],[2,0,4,12],[5,0,5,12],[6,0,7,12],[11,5,11,10],[8,5,8,10],[9,5,9,10],[12,5,12,10],[13,5,13,10]]}
[null,null,"EZbuck Design Sheet Directions   ",null,null,null,null,null,"Rev.2.1"]
[]
["The spreadsheet was design to help quickly implement the AOZ101X,AOZ102X,AOZ121X EZbuck controllers in a DC/DC converter using a buck converter. "]
[]
[]
["The spreadsheet requires macros to be enabled to operate correctly.  "]
["The design tool will generate a recommended design that includes the loop compensation parameters and the calculated efficiency.The recommended values in the design may not be practical, yet the operation of the converter can be altered by using the closest parameter."]
[]
["Input converter parameters: ",null,null,"Select buck regulator IC:",null,"Pick the IC you want to design with."]
[null,null,null,"Input voltage:",null,"Which is converter input voltage."]
[null,null,null,"Output voltage:",null,"Which is converter output voltage."]
[null,null,null,"Maximum output current:",null,"Which is converter maximum output current."]
[null,null,null,"Maximum output voltage ripple%:",null,"Which is the output voltage ripple ratio."]
[null,null,null,"Ambient temperature:",null,"Which is the converter ambient temperature."]
[]
["To use the design tool, enter data in the cells with the yellow text, the calculated values are in the cells with blue text. Red font indicate illegal input or\npotential design problems. "]

{"sheet":"EZBuck design calculator","index":1,"n_rows":81,"n_cols":15,"rows_kept":81,"cut":false,"hidden":false,"merged":[[62,9,66,14],[60,9,60,12],[7,1,7,4],[8,1,8,4],[48,9,48,12],[49,9,49,12],[36,9,36,12],[44,9,44,14],[45,9,45,12],[40,9,40,12],[0,0,4,5],[10,9,10,10],[9,1,9,4],[55,9,55,12],[50,9,50,12],[51,9,51,12],[53,9,53,14],[54,9,54,12],[46,9,46,12],[47,9,47,12],[41,9,41,12],[42,9,42,12],[31,9,31,12],[32,9,32,12],[33,9,33,12],[35,9,35,14],[21,9,21,14],[22,9,22,12],[23,9,23,12],[14,9,14,12],[15,9,15,12],[16,9,16,12],[59,9,59,12],[30,9,30,12],[25,9,25,12],[13,15,18,15],[17,9,17,12],[18,9,18,12],[24,9,24,12],[27,9,27,14],[28,9,28,12],[29,9,29,12]]}
[]
[7]
[]
[]
[]
[]
["EZBuck Design Spreadsheet",null,null,null,null,null,"Rev. 2.1"]
["Yellow cell","is the input parameters"]
["Blue cell","is the calculated parameters"]
[null,"is the cell with comment",null,null,null,null,null,null,null,"Step1: Buck regulator IC selection"]
[null,null,null,null,null,null,null,null,null,4]
["Typical application schematic"]
[null,null,null,null,null,null,null,null,null,"Step2: Define the system specification"]
[null,null,null,null,null,null,null,null,null,"Enter Application Parameters "]
[null,null,null,null,null,null,null,null,null," Input Voltage:",null,null,null,12,"V"]
[null,null,null,null,null,null,null,null,null," Output Voltage:",null,null,null,3.3,"V"]
[null,null,null,null,null,null,null,null,null," Maximum Output Current:",null,null,null,2,"A"]
[null,null,null,null,null,null,null,null,null,"Maximum Output Voltage Ripple%:",null,null,null,1,"%"]
[null,null,null,null,null,null,null,null,null,"Ambient Temperature",null,null,null,25,"℃"]
[]
[null,null,null,null,null,null,null,null,null,"Step3: Power stage component selection"]
[null,null,null,null,null,null,null,null,null,"Inductor Selection (L)"]
[null,null,null,null,null,null,null,null,null,"Recommended L:",null,null,null,{"$f":"((N15-N16)*(N16/N15)/('Sheet1 select'!B3*1000*'Sheet1 select'!B42*0.35))*1000000","v":6.8357142857142845},"µH"]
[null,null,null,null,null,null,null,null,null,"Recommended ISATURATE:",null,null,null,{"$f":"'Sheet1 select'!B11","v":2.5},"A"]
[null,null,null,null,null,null,null,null,null,"Enter The Chosen Inductor Value:",null,null,null,4.7,"µH"]
[null,null,null,null,null,null,null,null,null,"Enter The DCR of Chosen Inductor:",null,null,null,40,"mΩ"]
[]
["Calculated Efficiency vs Load Current",null,null,null,null,null,null,null,null,"Capacitor Selection (CIN and CO)"]
[null,null,null,null,null,null,null,null,null,"Minimum Recommended Input Capacitance:",null,null,null,22,"µF"]
[null,null,null,null,null,null,null,null,null,"Minimum Input Capacitor RMS current rating:",null,null,null,{"$f":"SQRT((N16/N15)*(1-N16/N15))*N17","v":0.89302855497458755},"Arms"]
[null,null,null,null,null,null,null,null,null,"Minimum Recommended Output Capacitance:",null,null,null,{"$f":"1000000*(N16*(1-N16/N15)/(N25*'Sheet1 select'!B3))/(8*'Sheet1 select'!B3*N18*N16*0.01)","v":7.712765957446809},"µF"]
[null,null,null,null,null,null,null,null,null,"Maximum Output Capacitor ESR:",null,null,null,{"$f":"((N16*N18/100)/((N15-N16)*(N16/N15)/(N25*0.000001*'Sheet1 select'!B3*1000)))*1000","v":32.413793103448278},"mΩ"]
[null,null,null,null,null,null,null,null,null,"Enter the chosen Output Capacitor Value:",null,null,null,44,"µF"]
[null,null,null,null,null,null,null,null,null,"Enter the chosen Output Capacitor ESR:",null,null,null,3,"mΩ"]
[]
[null,null,null,null,null,null,null,null,null,"Output Voltage Characteristics"]
[null,null,null,null,null,null,null,null,null,"Estimated Output Voltage Ripple:",null,null,null,{"$f":"(((N15-N16)*(N16/N15)/(N25*0.000001*'Sheet1 select'!B3*1000))*((N34*0.001+1/(8*'Sheet1 select'!B3*1000*N33*0.000001))))*1000","v":8.8388297872340438},"mV"]
[]
[null,null,null,null,null,null,null,null,null,"Step4: Control component selection"]
[null,null,null,null,null,null,null,null,null,"Feedback Resistors Selection(RFB1, RFB2)"]
[null,null,null,null,null,null,null,null,null,"Enter a Value for RFB2:",null,null,null,10,"kΩ"]
[null,null,null,null,null,null,null,null,null,"Recommended  Value for RFB1:",null,null,null,{"$f":"N41*(N16/0.8-1)","v":31.249999999999993},"kΩ"]
[]
[]
[null,null,null,null,null,null,null,null,null,"Compensation Component Selection (RC, CC1, CC2)"]
[null,null,null,null,null,null,null,null,null,"Enter Desired Crossover Frequency:",null,null,null,30,"kHz"]
["Calculated Bode Plot",null,null,null,null,null,null,null,null,"Recommended Value for CC1:",null,null,null,{"$f":"(('Sheet1 select'!B6/1000000)*'Bode Plot Calculations'!E3*'Bode Plot Calculations'!E4*'Bode Plot Calculations'!B3/(SQRT(((1-(('EZBuck design calculator'!N46*1000)/('Sheet1 select'!B3*1000/2))^2)^2)+((1/'Bode Plot Calculations'!K6)*(('EZBuck design calculator'!N46*1000)/('Sheet1 select'!B3*1000/2)))^2)*2*PI()*'EZBuck design calculator'!N46*1000))*1000000000","v":1.9668628676067734},"nF"]
[null,null,null,null,null,null,null,null,null,"Recommended Value for RC:",null,null,null,{"$f":"(1/(2*PI()*'Bode Plot Calculations'!H4*N47*0.000000001))*0.001","v":21.056817015121773},"kΩ"]
[null,null,null,null,null,null,null,null,null,"Recommended Value for CC2:",null,null,null,{"$f":"IF((1/(2*PI()*'EZBuck design calculator'!N33*0.000001*'EZBuck design calculator'!N34*0.001))<3*'EZBuck design calculator'!N46*1000,('EZBuck design calculator'!N33*0.000001*'EZBuck design calculator'!N34*0.001/('EZBuck design calculator'!N48*1000))*(1000000000000)-10,0)","v":0},"pF"]
[null,null,null,null,null,null,null,null,null,"Enter The Chosen Value for CC1:",null,null,null,1,"nF"]
[null,null,null,null,null,null,null,null,null,"Enter The Chosen Value for RC:",null,null,null,20,"kΩ"]
[null,null,null,null,null,null,null,null,null,"Enter The Chosen Value for CC2:",null,null,null,0,"pF"]
[]
[null,null,null,null,null,null,null,null,null,"Loop Characteristics"]
[null,null,null,null,null,null,null,null,null,"Expected Crossover Frequency:",null,null,null,{"$f":"'Bode Plot Calculations'!N4","v":29.344000000000001},"kHz"]
[null,null,null,null,null,null,null,null,null,"Expected Phase Margin:",null,null,null,{"$f":"'Bode Plot Calculations'!N5","v":59.92843462037375},"°"]
[]
[null,null,null,null,null,null,null,null,null,"Step5: Thermal Performance"]
[null,null,null,null,null,null,null,null,null,"Thermal Characteristics"]
[null,null,null,null,null,null,null,null,null,"Internal Power Dissipation:",null,null,null,{"$f":"'Efficiency calculations'!T302","v":0.70440261179824981},"W"]
[null,null,null,null,null,null,null,null,null,"Junction Temperature:",null,null,null,{"$f":"N19+'Sheet1 select'!B34*'Efficiency calculations'!T302","v":86.283027226447729},"℃"]
[]
[null,null,null,null,null,null,null,null,null,"For datasheets,evaluation note,please visit:\nwww.aosmd.com"]
[]
[]
[]
[]
[]
[]
[]
[]
[]
[]
[]
[]
[]
[]
[null,null,null,null,null,{"$f":"'Sheet1 select'!B3","v":500}]
[null,null,null,null,null,{"$f":"'Sheet1 select'!$B$42","v":2}]
[null,null,null,null,null,{"$f":"'Sheet1 select'!$B$43","v":16}]
[null,null,null,null,null,{"$f":"'Sheet1 select'!$B$3","v":500}]

{"sheet":"Sheet3","index":2,"n_rows":0,"n_cols":0,"rows_kept":0,"cut":false,"hidden":true,"merged":[]}

{"sheet":"Sheet2","index":3,"n_rows":2,"n_cols":1,"rows_kept":2,"cut":false,"hidden":true,"merged":[[2,2,3,10],[8,2,9,10],[10,2,11,10]]}
[4]
[{"$f":"'Sheet1 select'!B30","v":3}]

{"sheet":"Sheet1 select","index":4,"n_rows":43,"n_cols":2,"rows_kept":43,"cut":false,"hidden":true,"merged":[]}
["Controller / Driver:"]
[4,{"$f":"INDEX(ControllerList,A2,1)","v":"AOZ1016"}]
["Switching \nfrequency\n(KHz)",{"$f":"VLOOKUP(B$2,CData,MATCH(A3,CColHead,0),0)","v":500}]
["Se peak voltage\n(V)",0.4]
["Current sense amplifier gain",1.82]
["Error amplifier transconductance(Gm)(uA/V)",160]
["Error amplifier output impedance(Rm)\n(MΩ)",1.5]
["High-Side Pull-up (Turn on) Resistance(Ω)",7.4]
["High-Side Pull-down\n(Turn off) Resistance(Ω)",7.4]
["High-Side drive voltage\n(V)",12]
["Current Limit\n(A)",2.5]
["Dead Time L-H\n(ns)",0]
["Dead Time H-L\n(ns)",0]
["Low-Side Pull-up (Turn on) Resistance(Ω)",0]
["Low-Side Pull-down\n(Turn off) Resistance(Ω)",0]
["High-Side Rdson@12V\n 25C\n(mΩ)",97]
["Low-Side Rdson@12V\n 25C\n(mΩ)",0]
["Reference voltage\n(V)",0.8]
["High-Side Gate threshold voltage\n(V)",1.9]
["Low-Side Gate threshold voltage\n(V)",{"$f":"VLOOKUP(B$2,CData,MATCH(A20,CColHead,0),0)","v":0}]
["High-Side transconductance(Gfs)(s)",{"$f":"VLOOKUP(B$2,CData,MATCH(A21,CColHead,0),0)","v":3.8}]
["Low-Side transconductance(Gfs)(s)",{"$f":"VLOOKUP(B$2,CData,MATCH(A22,CColHead,0),0)","v":0}]
["High-Side Vsp(V)",{"$f":"VLOOKUP(B$2,CData,MATCH(A23,CColHead,0),0)","v":2.426315789473684}]
["Low-Side Vsp(V)",{"$f":"VLOOKUP(B$2,CData,MATCH(A24,CColHead,0),0)","v":0}]
["High-Side Rdson as function of temp&Vin(Ω)",5.0791899661343884E-2]
["Low-Side Rdson as function of temp&Vin(Ω)",0]
["High-Side Rgate\n(Ω)",{"$f":"VLOOKUP(B$2,CData,MATCH(A27,CColHead,0),0)","v":12}]
["Low-Side Rgate\n(Ω)",{"$f":"VLOOKUP(B$2,CData,MATCH(A28,CColHead,0),0)","v":0}]
["Controller Quiescent Current (mA)",2]
["Theta J-A",3]
["High-Side Tatal gate charge Qg\n(nc)",{"$f":"VLOOKUP(B$2,CData,MATCH(A31,CColHead,0),0)","v":6.8}]
["High-Side Gate source charge Qgs\n(nc)",1.6]
["High-Side Gate drain charge Qgd\n(nc)",0.95]
["θja\n(℃/w)",87]
["Low-Side Tatal gate charge Qg\n(nc)",0]
["Low-Side Gate source charge Qgs\n(nc)",0]
["Low-Side Gate drain charge Qgd\n(nc)",{"$f":"VLOOKUP(B$2,CData,MATCH(A37,CColHead,0),0)","v":0}]
["High-Side Die temperature\n(℃)",44.2978414232456]
["Low-Side Die temperature\n(℃)",0]
["Factor",1]
["Schottky diode voltage droop\n(V)",0.33]
["Maxim output current\n(A)",2]
["Maxim \ninput voltage\n(V)",16]

{"sheet":"Efficiency calculations","index":5,"n_rows":302,"n_cols":20,"rows_kept":302,"cut":false,"hidden":true,"merged":[]}
[]
["Iripple=",{"$f":"(('EZBuck design calculator'!N15-'EZBuck design calculator'!N16)*'Efficiency calculations'!B4)/('EZBuck design calculator'!N25*0.000001*'Sheet1 select'!B3*1000)","v":1.0180851063829786},"A",null,"Load step","Load Current","Inductor DCR Loss","High Side MOSFET Rds(on) Loss","Schottky diode loss","Low Side MOSFET Rds(on) Loss","HS MOSFET tr+tf Loss","Deadtime Loss","Output Cap ESR Loss","Controller Loss","High Side Gate Charge Loss","Low Side Gate Charge Loss","LS MOSFET tr+tf loss","Total Loss","η","Icloss"]
["Cout(rms)=",{"$f":"B2/SQRT(12)","v":0.29389585511408073},"A",null,1,{"$f":"$B$13*E3/300","v":6.6666666666666671E-3},{"$f":"F3*F3*$B$15*0.001*2","v":3.5555555555555563E-6},{"$f":"F3*F3*('Sheet1 select'!$B$25)*$B$4","v":6.2078988474975862E-7},{"$f":"F3*(1-$B$4)*'Sheet1 select'!$B$41","v":1.5950000000000005E-3},{"$f":"F3*F3*('Sheet1 select'!$B$26)*(1-$B$4)","v":0},{"$f":"0.0000005*$B$11*F3*$B$9*((('Sheet1 select'!$B$33+0.5*'Sheet1 select'!$B$32)/(('Sheet1 select'!$B$10-'Sheet1 select'!$B$23)/('Sheet1 select'!$B$27+'Sheet1 select'!$B$8)))+(('Sheet1 select'!$B$33+0.5*'Sheet1 select'!$B$32)/(('Sheet1 select'!$B$23)/('Sheet1 select'!$B$27+'Sheet1 select'!$B$9))))","v":3.5077174056923841E-4},{"$f":"(F3*$B$29)*(('Sheet1 select'!$B$12+'Sheet1 select'!$B$13)*(0.000000001))*$B$9*1000","v":0},{"$f":"($B$3^2)*$B$17*0.001","v":2.5912432095971015E-4},{"$f":"$B$11*'Sheet1 select'!$B$29*0.001","v":2.4E-2},{"$f":"'Sheet1 select'!$B$10*'Sheet1 select'!$B$31*$B$9*1000*0.000000001","v":4.0800000000000003E-2},{"$f":"'Sheet1 select'!$B$35*$B$11*$B$9*1000*0.000000001","v":0},{"$f":"IF('Sheet1 select'!$B$17=0,0,(0.00000006*0.7+0.00000003*(0.7+F3*1.1*'Sheet1 select'!$B$26))*F3*$B$9*1000)","v":0},{"$f":"SUM(G3:P3)+Q3","v":6.7009072406969267E-2},{"$f":"($B$12*F3)/($B$12*F3+R3)","v":0.24716581585538955},{"$f":"H3+K3+O3+N3+'Sheet1 select'!$B$40*I3+J3+P3","v":6.6746392530453988E-2}]
["D=",{"$f":"'EZBuck design calculator'!N16/'EZBuck design calculator'!N15","v":0.27499999999999997},null,null,2,{"$f":"$B$13*E4/300","v":1.3333333333333334E-2},{"$f":"F4*F4*$B$15*0.001*2","v":1.4222222222222225E-5},{"$f":"F4*F4*('Sheet1 select'!$B$25)*$B$4","v":2.4831595389990345E-6},{"$f":"F4*(1-$B$4)*'Sheet1 select'!$B$41","v":3.190000000000001E-3},{"$f":"F4*F4*('Sheet1 select'!$B$26)*(1-$B$4)","v":0},{"$f":"0.0000005*$B$11*F4*$B$9*((('Sheet1 select'!$B$33+0.5*'Sheet1 select'!$B$32)/(('Sheet1 select'!$B$10-'Sheet1 select'!$B$23)/('Sheet1 select'!$B$27+'Sheet1 select'!$B$8)))+(('Sheet1 select'!$B$33+0.5*'Sheet1 select'!$B$32)/(('Sheet1 select'!$B$23)/('Sheet1 select'!$B$27+'Sheet1 select'!$B$9))))","v":7.0154348113847683E-4},{"$f":"(F4*$B$29)*(('Sheet1 select'!$B$12+'Sheet1 select'!$B$13)*(0.000000001))*$B$9*1000","v":0},{"$f":"($B$3^2)*$B$17*0.001","v":2.5912432095971015E-4},{"$f":"$B$11*'Sheet1 select'!$B$29*0.001","v":2.4E-2},{"$f":"'Sheet1 select'!$B$10*'Sheet1 select'!$B$31*$B$9*1000*0.000000001","v":4.0800000000000003E-2},{"$f":"'Sheet1 select'!$B$35*$B$11*$B$9*1000*0.000000001","v":0},{"$f":"IF('Sheet1 select'!$B$17=0,0,(0.00000006*0.7+0.00000003*(0.7+F4*1.1*'Sheet1 select'!$B$26))*F4*$B$9*1000)","v":0},6.8967373183859412E-2,{"$f":"($B$12*F4)/($B$12*F4+R4)","v":0.38949299040872665},{"$f":"H4+K4+O4+N4+'Sheet1 select'!$B$40*I4+J4+P4","v":6.8694026640677475E-2}]
[null,null,null,null,3,0.02,3.1999999999999999E-5,{"$f":"F5*F5*('Sheet1 select'!$B$25)*$B$4","v":5.5871089627478263E-6},{"$f":"F5*(1-$B$4)*'Sheet1 select'!$B$41","v":4.7850000000000011E-3},{"$f":"F5*F5*('Sheet1 select'!$B$26)*(1-$B$4)","v":0},{"$f":"0.0000005*$B$11*F5*$B$9*((('Sheet1 select'!$B$33+0.5*'Sheet1 select'!$B$32)/(('Sheet1 select'!$B$10-'Sheet1 select'!$B$23)/('Sheet1 select'!$B$27+'Sheet1 select'!$B$8)))+(('Sheet1 select'!$B$33+0.5*'Sheet1 select'!$B$32)/(('Sheet1 select'!$B$23)/('Sheet1 select'!$B$27+'Sheet1 select'!$B$9))))","v":1.0523152217077152E-3},{"$f":"(F5*$B$29)*(('Sheet1 select'!$B$12+'Sheet1 select'!$B$13)*(0.000000001))*$B$9*1000","v":0},2.5912432095971015E-4,{"$f":"$B$11*'Sheet1 select'!$B$29*0.001","v":2.4E-2},{"$f":"'Sheet1 select'!$B$10*'Sheet1 select'!$B$31*$B$9*1000*0.000000001","v":4.0800000000000003E-2},{"$f":"'Sheet1 select'!$B$35*$B$11*$B$9*1000*0.000000001","v":0},{"$f":"IF('Sheet1 select'!$B$17=0,0,(0.00000006*0.7+0.00000003*(0.7+F5*1.1*'Sheet1 select'!$B$26))*F5*$B$9*1000)","v":0},7.0934026651630178E-2,0.48198392769029319,{"$f":"H5+K5+O5+N5+'Sheet1 select'!$B$40*I5+J5+P5","v":7.0642902330670457E-2}]
[null,null,null,null,4,2.6666666666666668E-2,5.6888888888888901E-5,{"$f":"F6*F6*('Sheet1 select'!$B$25)*$B$4","v":9.9326381559961379E-6},{"$f":"F6*(1-$B$4)*'Sheet1 select'!$B$41","v":6.380000000000002E-3},{"$f":"F6*F6*('Sheet1 select'!$B$26)*(1-$B$4)","v":0},{"$f":"0.0000005*$B$11*F6*$B$9*((('Sheet1 select'!$B$33+0.5*'Sheet1 select'!$B$32)/(('Sheet1 select'!$B$10-'Sheet1 select'!$B$23)/('Sheet1 select'!$B$27+'Sheet1 select'!$B$8)))+(('Sheet1 select'!$B$33+0.5*'Sheet1 select'!$B$32)/(('Sheet1 select'!$B$23)/('Sheet1 select'!$B$27+'Sheet1 select'!$B$9))))","v":1.4030869622769537E-3},{"$f":"(F6*$B$29)*(('Sheet1 select'!$B$12+'Sheet1 select'!$B$13)*(0.000000001))*$B$9*1000","v":0},2.5912432095971015E-4,{"$f":"$B$11*'Sheet1 select'!$B$29*0.001","v":2.4E-2},{"$f":"'Sheet1 select'!$B$10*'Sheet1 select'!$B$31*$B$9*1000*0.000000001","v":4.0800000000000003E-2},{"$f":"'Sheet1 select'!$B$35*$B$11*$B$9*1000*0.000000001","v":0},{"$f":"IF('Sheet1 select'!$B$17=0,0,(0.00000006*0.7+0.00000003*(0.7+F6*1.1*'Sheet1 select'!$B$26))*F6*$B$9*1000)","v":0},7.2909032810281549E-2,0.5468928528316721,{"$f":"H6+K6+O6+N6+'Sheet1 select'!$B$40*I6+J6+P6","v":7.2593019600432948E-2}]
["Parameters",null,null,null,5,3.3333333333333333E-2,8.8888888888888893E-5,{"$f":"F7*F7*('Sheet1 select'!$B$25)*$B$4","v":1.5519747118743962E-5},{"$f":"F7*(1-$B$4)*'Sheet1 select'!$B$41","v":7.9750000000000012E-3},{"$f":"F7*F7*('Sheet1 select'!$B$26)*(1-$B$4)","v":0},{"$f":"0.0000005*$B$11*F7*$B$9*((('Sheet1 select'!$B$33+0.5*'Sheet1 select'!$B$32)/(('Sheet1 select'!$B$10-'Sheet1 select'!$B$23)/('Sheet1 select'!$B$27+'Sheet1 select'!$B$8)))+(('Sheet1 select'!$B$33+0.5*'Sheet1 select'!$B$32)/(('Sheet1 select'!$B$23)/('Sheet1 select'!$B$27+'Sheet1 select'!$B$9))))","v":1.7538587028461917E-3},{"$f":"(F7*$B$29)*(('Sheet1 select'!$B$12+'Sheet1 select'!$B$13)*(0.000000001))*$B$9*1000","v":0},2.5912432095971015E-4,{"$f":"$B$11*'Sheet1 select'!$B$29*0.001","v":2.4E-2},{"$f":"'Sheet1 select'!$B$10*'Sheet1 select'!$B$31*$B$9*1000*0.000000001","v":4.0800000000000003E-2},{"$f":"'Sheet1 select'!$B$35*$B$11*$B$9*1000*0.000000001","v":0},{"$f":"IF('Sheet1 select'!$B$17=0,0,(0.00000006*0.7+0.00000003*(0.7+F7*1.1*'Sheet1 select'!$B$26))*F7*$B$9*1000)","v":0},7.489239165981354E-2,0.59494065176240862,{"$f":"H7+K7+O7+N7+'Sheet1 select'!$B$40*I7+J7+P7","v":7.4544378449964935E-2}]
[null,null,null,null,6,0.04,1.2799999999999999E-4,{"$f":"F8*F8*('Sheet1 select'!$B$25)*$B$4","v":2.2348435850991305E-5},{"$f":"F8*(1-$B$4)*'Sheet1 select'!$B$41","v":9.5700000000000021E-3},{"$f":"F8*F8*('Sheet1 select'!$B$26)*(1-$B$4)","v":0},{"$f":"0.0000005*$B$11*F8*$B$9*((('Sheet1 select'!$B$33+0.5*'Sheet1 select'!$B$32)/(('Sheet1 select'!$B$10-'Sheet1 select'!$B$23)/('Sheet1 select'!$B$27+'Sheet1 select'!$B$8)))+(('Sheet1 select'!$B$33+0.5*'Sheet1 select'!$B$32)/(('Sheet1 select'!$B$23)/('Sheet1 select'!$B$27+'Sheet1 select'!$B$9))))","v":2.1046304434154304E-3},{"$f":"(F8*$B$29)*(('Sheet1 select'!$B$12+'Sheet1 select'!$B$13)*(0.000000001))*$B$9*1000","v":0},2.5912432095971015E-4,{"$f":"$B$11*'Sheet1 select'!$B$29*0.001","v":2.4E-2},{"$f":"'Sheet1 select'!$B$10*'Sheet1 select'!$B$31*$B$9*1000*0.000000001","v":4.0800000000000003E-2},{"$f":"'Sheet1 select'!$B$35*$B$11*$B$9*1000*0.000000001","v":0},{"$f":"IF('Sheet1 select'!$B$17=0,0,(0.00000006*0.7+0.00000003*(0.7+F8*1.1*'Sheet1 select'!$B$26))*F8*$B$9*1000)","v":0},7.6884103200226137E-2,0.63192937125268556,{"$f":"H8+K8+O8+N8+'Sheet1 select'!$B$40*I8+J8+P8","v":7.6496978879266431E-2}]
["fsw=",{"$f":"'Sheet1 select'!B3","v":500},"kHz",null,7,4.6666666666666669E-2,1.7422222222222226E-4,{"$f":"F9*F9*('Sheet1 select'!$B$25)*$B$4","v":3.0418704352738172E-5},{"$f":"F9*(1-$B$4)*'Sheet1 select'!$B$41","v":1.1165000000000003E-2},{"$f":"F9*F9*('Sheet1 select'!$B$26)*(1-$B$4)","v":0},{"$f":"0.0000005*$B$11*F9*$B$9*((('Sheet1 select'!$B$33+0.5*'Sheet1 select'!$B$32)/(('Sheet1 select'!$B$10-'Sheet1 select'!$B$23)/('Sheet1 select'!$B$27+'Sheet1 select'!$B$8)))+(('Sheet1 select'!$B$33+0.5*'Sheet1 select'!$B$32)/(('Sheet1 select'!$B$23)/('Sheet1 select'!$B$27+'Sheet1 select'!$B$9))))","v":2.4554021839846688E-3},{"$f":"(F9*$B$29)*(('Sheet1 select'!$B$12+'Sheet1 select'!$B$13)*(0.000000001))*$B$9*1000","v":0},2.5912432095971015E-4,{"$f":"$B$11*'Sheet1 select'!$B$29*0.001","v":2.4E-2},{"$f":"'Sheet1 select'!$B$10*'Sheet1 select'!$B$31*$B$9*1000*0.000000001","v":4.0800000000000003E-2},{"$f":"'Sheet1 select'!$B$35*$B$11*$B$9*1000*0.000000001","v":0},{"$f":"IF('Sheet1 select'!$B$17=0,0,(0.00000006*0.7+0.00000003*(0.7+F9*1.1*'Sheet1 select'!$B$26))*F9*$B$9*1000)","v":0},7.8884167431519353E-2,0.66127294825778316,{"$f":"H9+K9+O9+N9+'Sheet1 select'!$B$40*I9+J9+P9","v":7.8450820888337408E-2}]
[null,null,null,null,8,5.3333333333333337E-2,2.2755555555555561E-4,{"$f":"F10*F10*('Sheet1 select'!$B$25)*$B$4","v":3.9730552623984551E-5},{"$f":"F10*(1-$B$4)*'Sheet1 select'!$B$41","v":1.2760000000000004E-2},{"$f":"F10*F10*('Sheet1 select'!$B$26)*(1-$B$4)","v":0},{"$f":"0.0000005*$B$11*F10*$B$9*((('Sheet1 select'!$B$33+0.5*'Sheet1 select'!$B$32)/(('Sheet1 select'!$B$10-'Sheet1 select'!$B$23)/('Sheet1 select'!$B$27+'Sheet1 select'!$B$8)))+(('Sheet1 select'!$B$33+0.5*'Sheet1 select'!$B$32)/(('Sheet1 select'!$B$23)/('Sheet1 select'!$B$27+'Sheet1 select'!$B$9))))","v":2.8061739245539073E-3},{"$f":"(F10*$B$29)*(('Sheet1 select'!$B$12+'Sheet1 select'!$B$13)*(0.000000001))*$B$9*1000","v":0},2.5912432095971015E-4,{"$f":"$B$11*'Sheet1 select'!$B$29*0.001","v":2.4E-2},{"$f":"'Sheet1 select'!$B$10*'Sheet1 select'!$B$31*$B$9*1000*0.000000001","v":4.0800000000000003E-2},{"$f":"'Sheet1 select'!$B$35*$B$11*$B$9*1000*0.000000001","v":0},{"$f":"IF('Sheet1 select'!$B$17=0,0,(0.00000006*0.7+0.00000003*(0.7+F10*1.1*'Sheet1 select'!$B$26))*F10*$B$9*1000)","v":0},8.0892584353693162E-2,0.6851112516260135,{"$f":"H10+K10+O10+N10+'Sheet1 select'!$B$40*I10+J10+P10","v":8.0405904477177895E-2}]
["Vin=",{"$f":"'EZBuck design calculator'!N15","v":12},"V",null,9,0.06,2.8800000000000001E-4,{"$f":"F11*F11*('Sheet1 select'!$B$25)*$B$4","v":5.0283980664730437E-5},{"$f":"F11*(1-$B$4)*'Sheet1 select'!$B$41","v":1.4355000000000001E-2},{"$f":"F11*F11*('Sheet1 select'!$B$26)*(1-$B$4)","v":0},{"$f":"0.0000005*$B$11*F11*$B$9*((('Sheet1 select'!$B$33+0.5*'Sheet1 select'!$B$32)/(('Sheet1 select'!$B$10-'Sheet1 select'!$B$23)/('Sheet1 select'!$B$27+'Sheet1 select'!$B$8)))+(('Sheet1 select'!$B$33+0.5*'Sheet1 select'!$B$32)/(('Sheet1 select'!$B$23)/('Sheet1 select'!$B$27+'Sheet1 select'!$B$9))))","v":3.1569456651231449E-3},{"$f":"(F11*$B$29)*(('Sheet1 select'!$B$12+'Sheet1 select'!$B$13)*(0.000000001))*$B$9*1000","v":0},2.5912432095971015E-4,{"$f":"$B$11*'Sheet1 select'!$B$29*0.001","v":2.4E-2},{"$f":"'Sheet1 select'!$B$10*'Sheet1 select'!$B$31*$B$9*1000*0.000000001","v":4.0800000000000003E-2},{"$f":"'Sheet1 select'!$B$35*$B$11*$B$9*1000*0.000000001","v":0},{"$f":"IF('Sheet1 select'!$B$17=0,0,(0.00000006*0.7+0.00000003*(0.7+F11*1.1*'Sheet1 select'!$B$26))*F11*$B$9*1000)","v":0},8.290935396674759E-2,0.7048537088709339,{"$f":"H11+K11+O11+N11+'Sheet1 select'!$B$40*I11+J11+P11","v":8.2362229645787877E-2}]
["Vout=",{"$f":"'EZBuck design calculator'!N16","v":3.3},"V",null,10,6.6666666666666666E-2,3.5555555555555557E-4,{"$f":"F12*F12*('Sheet1 select'!$B$25)*$B$4","v":6.2078988474975846E-5},{"$f":"F12*(1-$B$4)*'Sheet1 select'!$B$41","v":1.5950000000000002E-2},{"$f":"F12*F12*('Sheet1 select'!$B$26)*(1-$B$4)","v":0},{"$f":"0.0000005*$B$11*F12*$B$9*((('Sheet1 select'!$B$33+0.5*'Sheet1 select'!$B$32)/(('Sheet1 select'!$B$10-'Sheet1 select'!$B$23)/('Sheet1 select'!$B$27+'Sheet1 select'!$B$8)))+(('Sheet1 select'!$B$33+0.5*'Sheet1 select'!$B$32)/(('Sheet1 select'!$B$23)/('Sheet1 select'!$B$27+'Sheet1 select'!$B$9))))","v":3.5077174056923834E-3},{"$f":"(F12*$B$29)*(('Sheet1 select'!$B$12+'Sheet1 select'!$B$13)*(0.000000001))*$B$9*1000","v":0},2.5912432095971015E-4,{"$f":"$B$11*'Sheet1 select'!$B$29*0.001","v":2.4E-2},{"$f":"'Sheet1 select'!$B$10*'Sheet1 select'!$B$31*$B$9*1000*0.000000001","v":4.0800000000000003E-2},{"$f":"'Sheet1 select'!$B$35*$B$11*$B$9*1000*0.000000001","v":0},{"$f":"IF('Sheet1 select'!$B$17=0,0,(0.00000006*0.7+0.00000003*(0.7+F12*1.1*'Sheet1 select'!$B$26))*F12*$B$9*1000)","v":0},8.4934476270682624E-2,0.72146646942181625,{"$f":"H12+K12+O12+N12+'Sheet1 select'!$B$40*I12+J12+P12","v":8.4319796394167368E-2}]
["Iout(max)=",{"$f":"'EZBuck design calculator'!N17","v":2},"A",null,11,7.3333333333333334E-2,4.302222222222223E-4,{"$f":"F13*F13*('Sheet1 select'!$B$25)*$B$4","v":7.5115576054720785E-5},{"$f":"F13*(1-$B$4)*'Sheet1 select'!$B$41","v":1.7545000000000005E-2},{"$f":"F13*F13*('Sheet1 select'!$B$26)*(1-$B$4)","v":0},{"$f":"0.0000005*$B$11*F13*$B$9*((('Sheet1 select'!$B$33+0.5*'Sheet1 select'!$B$32)/(('Sheet1 select'!$B$10-'Sheet1 select'!$B$23)/('Sheet1 select'!$B$27+'Sheet1 select'!$B$8)))+(('Sheet1 select'!$B$33+0.5*'Sheet1 select'!$B$32)/(('Sheet1 select'!$B$23)/('Sheet1 select'!$B$27+'Sheet1 select'!$B$9))))","v":3.8584891462616223E-3},{"$f":"(F13*$B$29)*(('Sheet1 select'!$B$12+'Sheet1 select'!$B$13)*(0.000000001))*$B$9*1000","v":0},2.5912432095971015E-4,{"$f":"$B$11*'Sheet1 select'!$B$29*0.001","v":2.4E-2},{"$f":"'Sheet1 select'!$B$10*'Sheet1 select'!$B$31*$B$9*1000*0.000000001","v":4.0800000000000003E-2},{"$f":"'Sheet1 select'!$B$35*$B$11*$B$9*1000*0.000000001","v":0},{"$f":"IF('Sheet1 select'!$B$17=0,0,(0.00000006*0.7+0.00000003*(0.7+F13*1.1*'Sheet1 select'!$B$26))*F13*$B$9*1000)","v":0},8.6967951265498278E-2,0.73563397002369524,{"$f":"H13+K13+O13+N13+'Sheet1 select'!$B$40*I13+J13+P13","v":8.6278604722316354E-2}]
["L=",{"$f":"'EZBuck design calculator'!N25","v":4.7},"uH",null,12,0.08,5.1199999999999998E-4,{"$f":"F14*F14*('Sheet1 select'!$B$25)*$B$4","v":8.939374340396522E-5},{"$f":"F14*(1-$B$4)*'Sheet1 select'!$B$41","v":1.9140000000000004E-2},{"$f":"F14*F14*('Sheet1 select'!$B$26)*(1-$B$4)","v":0},{"$f":"0.0000005*$B$11*F14*$B$9*((('Sheet1 select'!$B$33+0.5*'Sheet1 select'!$B$32)/(('Sheet1 select'!$B$10-'Sheet1 select'!$B$23)/('Sheet1 select'!$B$27+'Sheet1 select'!$B$8)))+(('Sheet1 select'!$B$33+0.5*'Sheet1 select'!$B$32)/(('Sheet1 select'!$B$23)/('Sheet1 select'!$B$27+'Sheet1 select'!$B$9))))","v":4.2092608868308607E-3},{"$f":"(F14*$B$29)*(('Sheet1 select'!$B$12+'Sheet1 select'!$B$13)*(0.000000001))*$B$9*1000","v":0},2.5912432095971015E-4,{"$f":"$B$11*'Sheet1 select'!$B$29*0.001","v":2.4E-2},{"$f":"'Sheet1 select'!$B$10*'Sheet1 select'!$B$31*$B$9*1000*0.000000001","v":4.0800000000000003E-2},{"$f":"'Sheet1 select'!$B$35*$B$11*$B$9*1000*0.000000001","v":0},{"$f":"IF('Sheet1 select'!$B$17=0,0,(0.00000006*0.7+0.00000003*(0.7+F14*1.1*'Sheet1 select'!$B$26))*F14*$B$9*1000)","v":0},8.9009778951194551E-2,0.74785463673089747,{"$f":"H14+K14+O14+N14+'Sheet1 select'!$B$40*I14+J14+P14","v":8.8238654630234836E-2}]
["L(DCR)=",{"$f":"'EZBuck design calculator'!N26","v":40},"mΩ",null,13,8.666666666666667E-2,6.0088888888888898E-4,{"$f":"F15*F15*('Sheet1 select'!$B$25)*$B$4","v":1.0491349052270919E-4},{"$f":"F15*(1-$B$4)*'Sheet1 select'!$B$41","v":2.0735000000000003E-2},{"$f":"F15*F15*('Sheet1 select'!$B$26)*(1-$B$4)","v":0},{"$f":"0.0000005*$B$11*F15*$B$9*((('Sheet1 select'!$B$33+0.5*'Sheet1 select'!$B$32)/(('Sheet1 select'!$B$10-'Sheet1 select'!$B$23)/('Sheet1 select'!$B$27+'Sheet1 select'!$B$8)))+(('Sheet1 select'!$B$33+0.5*'Sheet1 select'!$B$32)/(('Sheet1 select'!$B$23)/('Sheet1 select'!$B$27+'Sheet1 select'!$B$9))))","v":4.5600326274000983E-3},{"$f":"(F15*$B$29)*(('Sheet1 select'!$B$12+'Sheet1 select'!$B$13)*(0.000000001))*$B$9*1000","v":0},2.5912432095971015E-4,{"$f":"$B$11*'Sheet1 select'!$B$29*0.001","v":2.4E-2},{"$f":"'Sheet1 select'!$B$10*'Sheet1 select'!$B$31*$B$9*1000*0.000000001","v":4.0800000000000003E-2},{"$f":"'Sheet1 select'!$B$35*$B$11*$B$9*1000*0.000000001","v":0},{"$f":"IF('Sheet1 select'!$B$17=0,0,(0.00000006*0.7+0.00000003*(0.7+F15*1.1*'Sheet1 select'!$B$26))*F15*$B$9*1000)","v":0},9.1059959327771417E-2,0.75850005529594133,{"$f":"H15+K15+O15+N15+'Sheet1 select'!$B$40*I15+J15+P15","v":9.0199946117922813E-2}]
["Cout=",{"$f":"'EZBuck design calculator'!N33","v":44},"uF",null,14,9.3333333333333338E-2,6.9688888888888904E-4,{"$f":"F16*F16*('Sheet1 select'!$B$25)*$B$4","v":1.2167481741095269E-4},{"$f":"F16*(1-$B$4)*'Sheet1 select'!$B$41","v":2.2330000000000006E-2},{"$f":"F16*F16*('Sheet1 select'!$B$26)*(1-$B$4)","v":0},{"$f":"0.0000005*$B$11*F16*$B$9*((('Sheet1 select'!$B$33+0.5*'Sheet1 select'!$B$32)/(('Sheet1 select'!$B$10-'Sheet1 select'!$B$23)/('Sheet1 select'!$B$27+'Sheet1 select'!$B$8)))+(('Sheet1 select'!$B$33+0.5*'Sheet1 select'!$B$32)/(('Sheet1 select'!$B$23)/('Sheet1 select'!$B$27+'Sheet1 select'!$B$9))))","v":4.9108043679693377E-3},{"$f":"(F16*$B$29)*(('Sheet1 select'!$B$12+'Sheet1 select'!$B$13)*(0.000000001))*$B$9*1000","v":0},2.5912432095971015E-4,{"$f":"$B$11*'Sheet1 select'!$B$29*0.001","v":2.4E-2},{"$f":"'Sheet1 select'!$B$10*'Sheet1 select'!$B$31*$B$9*1000*0.000000001","v":4.0800000000000003E-2},{"$f":"'Sheet1 select'!$B$35*$B$11*$B$9*1000*0.000000001","v":0},{"$f":"IF('Sheet1 select'!$B$17=0,0,(0.00000006*0.7+0.00000003*(0.7+F16*1.1*'Sheet1 select'!$B$26))*F16*$B$9*1000)","v":0},9.3118492395228902E-2,0.76785290591021249,{"$f":"H16+K16+O16+N16+'Sheet1 select'!$B$40*I16+J16+P16","v":9.21624791853803E-2}]
["Cout(ESR)=",{"$f":"'EZBuck design calculator'!N34","v":3},"mΩ",null,15,0.1,8.0000000000000015E-4,{"$f":"F17*F17*('Sheet1 select'!$B$25)*$B$4","v":1.3967772406869568E-4},{"$f":"F17*(1-$B$4)*'Sheet1 select'!$B$41","v":2.3925000000000005E-2},{"$f":"F17*F17*('Sheet1 select'!$B$26)*(1-$B$4)","v":0},{"$f":"0.0000005*$B$11*F17*$B$9*((('Sheet1 select'!$B$33+0.5*'Sheet1 select'!$B$32)/(('Sheet1 select'!$B$10-'Sheet1 select'!$B$23)/('Sheet1 select'!$B$27+'Sheet1 select'!$B$8)))+(('Sheet1 select'!$B$33+0.5*'Sheet1 select'!$B$32)/(('Sheet1 select'!$B$23)/('Sheet1 select'!$B$27+'Sheet1 select'!$B$9))))","v":5.2615761085385761E-3},{"$f":"(F17*$B$29)*(('Sheet1 select'!$B$12+'Sheet1 select'!$B$13)*(0.000000001))*$B$9*1000","v":0},2.5912432095971015E-4,{"$f":"$B$11*'Sheet1 select'!$B$29*0.001","v":2.4E-2},{"$f":"'Sheet1 select'!$B$10*'Sheet1 select'!$B$31*$B$9*1000*0.000000001","v":4.0800000000000003E-2},{"$f":"'Sheet1 select'!$B$35*$B$11*$B$9*1000*0.000000001","v":0},{"$f":"IF('Sheet1 select'!$B$17=0,0,(0.00000006*0.7+0.00000003*(0.7+F17*1.1*'Sheet1 select'!$B$26))*F17*$B$9*1000)","v":0},9.5185378153566993E-2,0.77613205193714763,{"$f":"H17+K17+O17+N17+'Sheet1 select'!$B$40*I17+J17+P17","v":9.4126253832607282E-2}]
[null,null,null,null,16,0.10666666666666667,9.1022222222222242E-4,{"$f":"F18*F18*('Sheet1 select'!$B$25)*$B$4","v":1.5892221049593821E-4},{"$f":"F18*(1-$B$4)*'Sheet1 select'!$B$41","v":2.5520000000000008E-2},{"$f":"F18*F18*('Sheet1 select'!$B$26)*(1-$B$4)","v":0},{"$f":"0.0000005*$B$11*F18*$B$9*((('Sheet1 select'!$B$33+0.5*'Sheet1 select'!$B$32)/(('Sheet1 select'!$B$10-'Sheet1 select'!$B$23)/('Sheet1 select'!$B$27+'Sheet1 select'!$B$8)))+(('Sheet1 select'!$B$33+0.5*'Sheet1 select'!$B$32)/(('Sheet1 select'!$B$23)/('Sheet1 select'!$B$27+'Sheet1 select'!$B$9))))","v":5.6123478491078146E-3},{"$f":"(F18*$B$29)*(('Sheet1 select'!$B$12+'Sheet1 select'!$B$13)*(0.000000001))*$B$9*1000","v":0},2.5912432095971015E-4,{"$f":"$B$11*'Sheet1 select'!$B$29*0.001","v":2.4E-2},{"$f":"'Sheet1 select'!$B$10*'Sheet1 select'!$B$31*$B$9*1000*0.000000001","v":4.0800000000000003E-2},{"$f":"'Sheet1 select'!$B$35*$B$11*$B$9*1000*0.000000001","v":0},{"$f":"IF('Sheet1 select'!$B$17=0,0,(0.00000006*0.7+0.00000003*(0.7+F18*1.1*'Sheet1 select'!$B$26))*F18*$B$9*1000)","v":0},9.7260616602785704E-2,0.78350958662201453,{"$f":"H18+K18+O18+N18+'Sheet1 select'!$B$40*I18+J18+P18","v":9.6091270059603773E-2}]
[null,null,null,null,17,0.11333333333333333,1.0275555555555554E-3,{"$f":"F19*F19*('Sheet1 select'!$B$25)*$B$4","v":1.7940827669268018E-4},{"$f":"F19*(1-$B$4)*'Sheet1 select'!$B$41","v":2.7115000000000007E-2},{"$f":"F19*F19*('Sheet1 select'!$B$26)*(1-$B$4)","v":0},{"$f":"0.0000005*$B$11*F19*$B$9*((('Sheet1 select'!$B$33+0.5*'Sheet1 select'!$B$32)/(('Sheet1 select'!$B$10-'Sheet1 select'!$B$23)/('Sheet1 select'!$B$27+'Sheet1 select'!$B$8)))+(('Sheet1 select'!$B$33+0.5*'Sheet1 select'!$B$32)/(('Sheet1 select'!$B$23)/('Sheet1 select'!$B$27+'Sheet1 select'!$B$9))))","v":5.9631195896770522E-3},{"$f":"(F19*$B$29)*(('Sheet1 select'!$B$12+'Sheet1 select'!$B$13)*(0.000000001))*$B$9*1000","v":0},2.5912432095971015E-4,{"$f":"$B$11*'Sheet1 select'!$B$29*0.001","v":2.4E-2},{"$f":"'Sheet1 select'!$B$10*'Sheet1 select'!$B$31*$B$9*1000*0.000000001","v":4.0800000000000003E-2},{"$f":"'Sheet1 select'!$B$35*$B$11*$B$9*1000*0.000000001","v":0},{"$f":"IF('Sheet1 select'!$B$17=0,0,(0.00000006*0.7+0.00000003*(0.7+F19*1.1*'Sheet1 select'!$B$26))*F19*$B$9*1000)","v":0},9.9344207742885007E-2,0.79012269270896496,{"$f":"H19+K19+O19+N19+'Sheet1 select'!$B$40*I19+J19+P19","v":9.8057527866369731E-2}]
[null,null,null,null,18,0.12,1.152E-3,{"$f":"F20*F20*('Sheet1 select'!$B$25)*$B$4","v":2.0113592265892175E-4},{"$f":"F20*(1-$B$4)*'Sheet1 select'!$B$41","v":2.8710000000000003E-2},{"$f":"F20*F20*('Sheet1 select'!$B$26)*(1-$B$4)","v":0},{"$f":"0.0000005*$B$11*F20*$B$9*((('Sheet1 select'!$B$33+0.5*'Sheet1 select'!$B$32)/(('Sheet1 select'!$B$10-'Sheet1 select'!$B$23)/('Sheet1 select'!$B$27+'Sheet1 select'!$B$8)))+(('Sheet1 select'!$B$33+0.5*'Sheet1 select'!$B$32)/(('Sheet1 select'!$B$23)/('Sheet1 select'!$B$27+'Sheet1 select'!$B$9))))","v":6.3138913302462898E-3},{"$f":"(F20*$B$29)*(('Sheet1 select'!$B$12+'Sheet1 select'!$B$13)*(0.000000001))*$B$9*1000","v":0},2.5912432095971015E-4,{"$f":"$B$11*'Sheet1 select'!$B$29*0.001","v":2.4E-2},{"$f":"'Sheet1 select'!$B$10*'Sheet1 select'!$B$31*$B$9*1000*0.000000001","v":4.0800000000000003E-2},{"$f":"'Sheet1 select'!$B$35*$B$11*$B$9*1000*0.000000001","v":0},{"$f":"IF('Sheet1 select'!$B$17=0,0,(0.00000006*0.7+0.00000003*(0.7+F20*1.1*'Sheet1 select'!$B$26))*F20*$B$9*1000)","v":0},0.10143615157386493,0.79608206751172861,{"$f":"H20+K20+O20+N20+'Sheet1 select'!$B$40*I20+J20+P20","v":0.10002502725290521}]
[null,null,null,null,19,0.12666666666666668,1.2835555555555558E-3,{"$f":"F21*F21*('Sheet1 select'!$B$25)*$B$4","v":2.2410514839466285E-4},{"$f":"F21*(1-$B$4)*'Sheet1 select'!$B$41","v":3.0305000000000006E-2},{"$f":"F21*F21*('Sheet1 select'!$B$26)*(1-$B$4)","v":0},{"$f":"0.0000005*$B$11*F21*$B$9*((('Sheet1 select'!$B$33+0.5*'Sheet1 select'!$B$32)/(('Sheet1 select'!$B$10-'Sheet1 select'!$B$23)/('Sheet1 select'!$B$27+'Sheet1 select'!$B$8)))+(('Sheet1 select'!$B$33+0.5*'Sheet1 select'!$B$32)/(('Sheet1 select'!$B$23)/('Sheet1 select'!$B$27+'Sheet1 select'!$B$9))))","v":6.66466307081553E-3},{"$f":"(F21*$B$29)*(('Sheet1 select'!$B$12+'Sheet1 select'!$B$13)*(0.000000001))*$B$9*1000","v":0},2.5912432095971015E-4,{"$f":"$B$11*'Sheet1 select'!$B$29*0.001","v":2.4E-2},{"$f":"'Sheet1 select'!$B$10*'Sheet1 select'!$B$31*$B$9*1000*0.000000001","v":4.0800000000000003E-2},{"$f":"'Sheet1 select'!$B$35*$B$11*$B$9*1000*0.000000001","v":0},{"$f":"IF('Sheet1 select'!$B$17=0,0,(0.00000006*0.7+0.00000003*(0.7+F21*1.1*'Sheet1 select'!$B$26))*F21*$B$9*1000)","v":0},0.10353644809572546,0.80147802042644223,{"$f":"H21+K21+O21+N21+'Sheet1 select'!$B$40*I21+J21+P21","v":0.10199376821921019}]
[null,null,null,null,20,0.13333333333333333,1.4222222222222223E-3,{"$f":"F22*F22*('Sheet1 select'!$B$25)*$B$4","v":2.4831595389990339E-4},{"$f":"F22*(1-$B$4)*'Sheet1 select'!$B$41","v":3.1900000000000005E-2},{"$f":"F22*F22*('Sheet1 select'!$B$26)*(1-$B$4)","v":0},{"$f":"0.0000005*$B$11*F22*$B$9*((('Sheet1 select'!$B$33+0.5*'Sheet1 select'!$B$32)/(('Sheet1 select'!$B$10-'Sheet1 select'!$B$23)/('Sheet1 select'!$B$27+'Sheet1 select'!$B$8)))+(('Sheet1 select'!$B$33+0.5*'Sheet1 select'!$B$32)/(('Sheet1 select'!$B$23)/('Sheet1 select'!$B$27+'Sheet1 select'!$B$9))))","v":7.0154348113847667E-3},{"$f":"(F22*$B$29)*(('Sheet1 select'!$B$12+'Sheet1 select'!$B$13)*(0.000000001))*$B$9*1000","v":0},2.5912432095971015E-4,{"$f":"$B$11*'Sheet1 select'!$B$29*0.001","v":2.4E-2},{"$f":"'Sheet1 select'!$B$10*'Sheet1 select'!$B$31*$B$9*1000*0.000000001","v":4.0800000000000003E-2},{"$f":"'Sheet1 select'!$B$35*$B$11*$B$9*1000*0.000000001","v":0},{"$f":"IF('Sheet1 select'!$B$17=0,0,(0.00000006*0.7+0.00000003*(0.7+F22*1.1*'Sheet1 select'!$B$26))*F22*$B$9*1000)","v":0},0.10564509730846661,0.80638496005995841,{"$f":"H22+K22+O22+N22+'Sheet1 select'!$B$40*I22+J22+P22","v":0.10396375076528469}]
[null,null,null,null,21,0.14000000000000001,1.5680000000000004E-3,{"$f":"F23*F23*('Sheet1 select'!$B$25)*$B$4","v":2.7376833917464353E-4},{"$f":"F23*(1-$B$4)*'Sheet1 select'!$B$41","v":3.3495000000000011E-2},{"$f":"F23*F23*('Sheet1 select'!$B$26)*(1-$B$4)","v":0},{"$f":"0.0000005*$B$11*F23*$B$9*((('Sheet1 select'!$B$33+0.5*'Sheet1 select'!$B$32)/(('Sheet1 select'!$B$10-'Sheet1 select'!$B$23)/('Sheet1 select'!$B$27+'Sheet1 select'!$B$8)))+(('Sheet1 select'!$B$33+0.5*'Sheet1 select'!$B$32)/(('Sheet1 select'!$B$23)/('Sheet1 select'!$B$27+'Sheet1 select'!$B$9))))","v":7.3662065519540069E-3},{"$f":"(F23*$B$29)*(('Sheet1 select'!$B$12+'Sheet1 select'!$B$13)*(0.000000001))*$B$9*1000","v":0},2.5912432095971015E-4,{"$f":"$B$11*'Sheet1 select'!$B$29*0.001","v":2.4E-2},{"$f":"'Sheet1 select'!$B$10*'Sheet1 select'!$B$31*$B$9*1000*0.000000001","v":4.0800000000000003E-2},{"$f":"'Sheet1 select'!$B$35*$B$11*$B$9*1000*0.000000001","v":0},{"$f":"IF('Sheet1 select'!$B$17=0,0,(0.00000006*0.7+0.00000003*(0.7+F23*1.1*'Sheet1 select'!$B$26))*F23*$B$9*1000)","v":0},0.10776209921208837,0.81086474624916216,{"$f":"H23+K23+O23+N23+'Sheet1 select'!$B$40*I23+J23+P23","v":0.10593497489112867}]
[null,null,null,null,22,0.14666666666666667,1.7208888888888892E-3,{"$f":"F24*F24*('Sheet1 select'!$B$25)*$B$4","v":3.0046230421888314E-4},{"$f":"F24*(1-$B$4)*'Sheet1 select'!$B$41","v":3.509000000000001E-2},{"$f":"F24*F24*('Sheet1 select'!$B$26)*(1-$B$4)","v":0},{"$f":"0.0000005*$B$11*F24*$B$9*((('Sheet1 select'!$B$33+0.5*'Sheet1 select'!$B$32)/(('Sheet1 select'!$B$10-'Sheet1 select'!$B$23)/('Sheet1 select'!$B$27+'Sheet1 select'!$B$8)))+(('Sheet1 select'!$B$33+0.5*'Sheet1 select'!$B$32)/(('Sheet1 select'!$B$23)/('Sheet1 select'!$B$27+'Sheet1 select'!$B$9))))","v":7.7169782925232445E-3},{"$f":"(F24*$B$29)*(('Sheet1 select'!$B$12+'Sheet1 select'!$B$13)*(0.000000001))*$B$9*1000","v":0},2.5912432095971015E-4,{"$f":"$B$11*'Sheet1 select'!$B$29*0.001","v":2.4E-2},{"$f":"'Sheet1 select'!$B$10*'Sheet1 select'!$B$31*$B$9*1000*0.000000001","v":4.0800000000000003E-2},{"$f":"'Sheet1 select'!$B$35*$B$11*$B$9*1000*0.000000001","v":0},{"$f":"IF('Sheet1 select'!$B$17=0,0,(0.00000006*0.7+0.00000003*(0.7+F24*1.1*'Sheet1 select'!$B$26))*F24*$B$9*1000)","v":0},0.10988745380659073,0.81496922842492414,{"$f":"H24+K24+O24+N24+'Sheet1 select'!$B$40*I24+J24+P24","v":0.10790744059674215}]
[null,null,null,null,23,0.15333333333333332,1.8808888888888888E-3,{"$f":"F25*F25*('Sheet1 select'!$B$25)*$B$4","v":3.2839784903262222E-4},{"$f":"F25*(1-$B$4)*'Sheet1 select'!$B$41","v":3.6685000000000002E-2},{"$f":"F25*F25*('Sheet1 select'!$B$26)*(1-$B$4)","v":0},{"$f":"0.0000005*$B$11*F25*$B$9*((('Sheet1 select'!$B$33+0.5*'Sheet1 select'!$B$32)/(('Sheet1 select'!$B$10-'Sheet1 select'!$B$23)/('Sheet1 select'!$B$27+'Sheet1 select'!$B$8)))+(('Sheet1 select'!$B$33+0.5*'Sheet1 select'!$B$32)/(('Sheet1 select'!$B$23)/('Sheet1 select'!$B$27+'Sheet1 select'!$B$9))))","v":8.0677500330924821E-3},{"$f":"(F25*$B$29)*(('Sheet1 select'!$B$12+'Sheet1 select'!$B$13)*(0.000000001))*$B$9*1000","v":0},2.5912432095971015E-4,{"$f":"$B$11*'Sheet1 select'!$B$29*0.001","v":2.4E-2},{"$f":"'Sheet1 select'!$B$10*'Sheet1 select'!$B$31*$B$9*1000*0.000000001","v":4.0800000000000003E-2},{"$f":"'Sheet1 select'!$B$35*$B$11*$B$9*1000*0.000000001","v":0},{"$f":"IF('Sheet1 select'!$B$17=0,0,(0.00000006*0.7+0.00000003*(0.7+F25*1.1*'Sheet1 select'!$B$26))*F25*$B$9*1000)","v":0},0.11202116109197371,0.81874219178183971,{"$f":"H25+K25+O25+N25+'Sheet1 select'!$B$40*I25+J25+P25","v":0.10988114788212511}]
[null,null,null,null,24,0.16,2.0479999999999999E-3,{"$f":"F26*F26*('Sheet1 select'!$B$25)*$B$4","v":3.5757497361586088E-4},{"$f":"F26*(1-$B$4)*'Sheet1 select'!$B$41","v":3.8280000000000008E-2},{"$f":"F26*F26*('Sheet1 select'!$B$26)*(1-$B$4)","v":0},{"$f":"0.0000005*$B$11*F26*$B$9*((('Sheet1 select'!$B$33+0.5*'Sheet1 select'!$B$32)/(('Sheet1 select'!$B$10-'Sheet1 select'!$B$23)/('Sheet1 select'!$B$27+'Sheet1 select'!$B$8)))+(('Sheet1 select'!$B$33+0.5*'Sheet1 select'!$B$32)/(('Sheet1 select'!$B$23)/('Sheet1 select'!$B$27+'Sheet1 select'!$B$9))))","v":8.4185217736617215E-3},{"$f":"(F26*$B$29)*(('Sheet1 select'!$B$12+'Sheet1 select'!$B$13)*(0.000000001))*$B$9*1000","v":0},2.5912432095971015E-4,{"$f":"$B$11*'Sheet1 select'!$B$29*0.001","v":2.4E-2},{"$f":"'Sheet1 select'!$B$10*'Sheet1 select'!$B$31*$B$9*1000*0.000000001","v":4.0800000000000003E-2},{"$f":"'Sheet1 select'!$B$35*$B$11*$B$9*1000*0.000000001","v":0},{"$f":"IF('Sheet1 select'!$B$17=0,0,(0.00000006*0.7+0.00000003*(0.7+F26*1.1*'Sheet1 select'!$B$26))*F26*$B$9*1000)","v":0},0.11416322106823731,0.82222086640476388,{"$f":"H26+K26+O26+N26+'Sheet1 select'!$B$40*I26+J26+P26","v":0.11185609674727759}]
[null,null,null,null,25,0.16666666666666666,2.2222222222222222E-3,{"$f":"F27*F27*('Sheet1 select'!$B$25)*$B$4","v":3.8799367796859901E-4},{"$f":"F27*(1-$B$4)*'Sheet1 select'!$B$41","v":3.9875000000000008E-2},{"$f":"F27*F27*('Sheet1 select'!$B$26)*(1-$B$4)","v":0},{"$f":"0.0000005*$B$11*F27*$B$9*((('Sheet1 select'!$B$33+0.5*'Sheet1 select'!$B$32)/(('Sheet1 select'!$B$10-'Sheet1 select'!$B$23)/('Sheet1 select'!$B$27+'Sheet1 select'!$B$8)))+(('Sheet1 select'!$B$33+0.5*'Sheet1 select'!$B$32)/(('Sheet1 select'!$B$23)/('Sheet1 select'!$B$27+'Sheet1 select'!$B$9))))","v":8.7692935142309591E-3},{"$f":"(F27*$B$29)*(('Sheet1 select'!$B$12+'Sheet1 select'!$B$13)*(0.000000001))*$B$9*1000","v":0},2.5912432095971015E-4,{"$f":"$B$11*'Sheet1 select'!$B$29*0.001","v":2.4E-2},{"$f":"'Sheet1 select'!$B$10*'Sheet1 select'!$B$31*$B$9*1000*0.000000001","v":4.0800000000000003E-2},{"$f":"'Sheet1 select'!$B$35*$B$11*$B$9*1000*0.000000001","v":0},{"$f":"IF('Sheet1 select'!$B$17=0,0,(0.00000006*0.7+0.00000003*(0.7+F27*1.1*'Sheet1 select'!$B$26))*F27*$B$9*1000)","v":0},0.11631363373538151,0.82543710972365592,{"$f":"H27+K27+O27+N27+'Sheet1 select'!$B$40*I27+J27+P27","v":0.11383228719219958}]
[null,null,null,null,26,0.17333333333333334,2.4035555555555559E-3,{"$f":"F28*F28*('Sheet1 select'!$B$25)*$B$4","v":4.1965396209083677E-4},{"$f":"F28*(1-$B$4)*'Sheet1 select'!$B$41","v":4.1470000000000007E-2},{"$f":"F28*F28*('Sheet1 select'!$B$26)*(1-$B$4)","v":0},{"$f":"0.0000005*$B$11*F28*$B$9*((('Sheet1 select'!$B$33+0.5*'Sheet1 select'!$B$32)/(('Sheet1 select'!$B$10-'Sheet1 select'!$B$23)/('Sheet1 select'!$B$27+'Sheet1 select'!$B$8)))+(('Sheet1 select'!$B$33+0.5*'Sheet1 select'!$B$32)/(('Sheet1 select'!$B$23)/('Sheet1 select'!$B$27+'Sheet1 select'!$B$9))))","v":9.1200652548001967E-3},{"$f":"(F28*$B$29)*(('Sheet1 select'!$B$12+'Sheet1 select'!$B$13)*(0.000000001))*$B$9*1000","v":0},2.5912432095971015E-4,{"$f":"$B$11*'Sheet1 select'!$B$29*0.001","v":2.4E-2},{"$f":"'Sheet1 select'!$B$10*'Sheet1 select'!$B$31*$B$9*1000*0.000000001","v":4.0800000000000003E-2},{"$f":"'Sheet1 select'!$B$35*$B$11*$B$9*1000*0.000000001","v":0},{"$f":"IF('Sheet1 select'!$B$17=0,0,(0.00000006*0.7+0.00000003*(0.7+F28*1.1*'Sheet1 select'!$B$26))*F28*$B$9*1000)","v":0},0.11847239909340632,0.82841834192219532,{"$f":"H28+K28+O28+N28+'Sheet1 select'!$B$40*I28+J28+P28","v":0.11580971921689104}]
["Vd=",0.69,"V",null,27,0.18,2.5919999999999997E-3,{"$f":"F29*F29*('Sheet1 select'!$B$25)*$B$4","v":4.5255582598257394E-4},{"$f":"F29*(1-$B$4)*'Sheet1 select'!$B$41","v":4.3065000000000006E-2},{"$f":"F29*F29*('Sheet1 select'!$B$26)*(1-$B$4)","v":0},{"$f":"0.0000005*$B$11*F29*$B$9*((('Sheet1 select'!$B$33+0.5*'Sheet1 select'!$B$32)/(('Sheet1 select'!$B$10-'Sheet1 select'!$B$23)/('Sheet1 select'!$B$27+'Sheet1 select'!$B$8)))+(('Sheet1 select'!$B$33+0.5*'Sheet1 select'!$B$32)/(('Sheet1 select'!$B$23)/('Sheet1 select'!$B$27+'Sheet1 select'!$B$9))))","v":9.470836995369436E-3},{"$f":"(F29*$B$29)*(('Sheet1 select'!$B$12+'Sheet1 select'!$B$13)*(0.000000001))*$B$9*1000","v":0},2.5912432095971015E-4,{"$f":"$B$11*'Sheet1 select'!$B$29*0.001","v":2.4E-2},{"$f":"'Sheet1 select'!$B$10*'Sheet1 select'!$B$31*$B$9*1000*0.000000001","v":4.0800000000000003E-2},{"$f":"'Sheet1 select'!$B$35*$B$11*$B$9*1000*0.000000001","v":0},{"$f":"IF('Sheet1 select'!$B$17=0,0,(0.00000006*0.7+0.00000003*(0.7+F29*1.1*'Sheet1 select'!$B$26))*F29*$B$9*1000)","v":0},0.12063951714231172,0.83118829249084503,{"$f":"H29+K29+O29+N29+'Sheet1 select'!$B$40*I29+J29+P29","v":0.11778839282135202}]
[null,null,null,null,28,0.18666666666666668,2.7875555555555561E-3,{"$f":"F30*F30*('Sheet1 select'!$B$25)*$B$4","v":4.8669926964381075E-4},{"$f":"F30*(1-$B$4)*'Sheet1 select'!$B$41","v":4.4660000000000012E-2},{"$f":"F30*F30*('Sheet1 select'!$B$26)*(1-$B$4)","v":0},{"$f":"0.0000005*$B$11*F30*$B$9*((('Sheet1 select'!$B$33+0.5*'Sheet1 select'!$B$32)/(('Sheet1 select'!$B$10-'Sheet1 select'!$B$23)/('Sheet1 select'!$B$27+'Sheet1 select'!$B$8)))+(('Sheet1 select'!$B$33+0.5*'Sheet1 select'!$B$32)/(('Sheet1 select'!$B$23)/('Sheet1 select'!$B$27+'Sheet1 select'!$B$9))))","v":9.8216087359386754E-3},{"$f":"(F30*$B$29)*(('Sheet1 select'!$B$12+'Sheet1 select'!$B$13)*(0.000000001))*$B$9*1000","v":0},2.5912432095971015E-4,{"$f":"$B$11*'Sheet1 select'!$B$29*0.001","v":2.4E-2},{"$f":"'Sheet1 select'!$B$10*'Sheet1 select'!$B$31*$B$9*1000*0.000000001","v":4.0800000000000003E-2},{"$f":"'Sheet1 select'!$B$35*$B$11*$B$9*1000*0.000000001","v":0},{"$f":"IF('Sheet1 select'!$B$17=0,0,(0.00000006*0.7+0.00000003*(0.7+F30*1.1*'Sheet1 select'!$B$26))*F30*$B$9*1000)","v":0},0.12281498788209777,0.83376760096034086,{"$f":"H30+K30+O30+N30+'Sheet1 select'!$B$40*I30+J30+P30","v":0.1197683080055825}]
[null,null,null,null,29,0.19333333333333333,2.9902222222222222E-3,{"$f":"F31*F31*('Sheet1 select'!$B$25)*$B$4","v":5.2208429307454686E-4},{"$f":"F31*(1-$B$4)*'Sheet1 select'!$B$41","v":4.6255000000000011E-2},{"$f":"F31*F31*('Sheet1 select'!$B$26)*(1-$B$4)","v":0},{"$f":"0.0000005*$B$11*F31*$B$9*((('Sheet1 select'!$B$33+0.5*'Sheet1 select'!$B$32)/(('Sheet1 select'!$B$10-'Sheet1 select'!$B$23)/('Sheet1 select'!$B$27+'Sheet1 select'!$B$8)))+(('Sheet1 select'!$B$33+0.5*'Sheet1 select'!$B$32)/(('Sheet1 select'!$B$23)/('Sheet1 select'!$B$27+'Sheet1 select'!$B$9))))","v":1.0172380476507913E-2},{"$f":"(F31*$B$29)*(('Sheet1 select'!$B$12+'Sheet1 select'!$B$13)*(0.000000001))*$B$9*1000","v":0},2.5912432095971015E-4,{"$f":"$B$11*'Sheet1 select'!$B$29*0.001","v":2.4E-2},{"$f":"'Sheet1 select'!$B$10*'Sheet1 select'!$B$31*$B$9*1000*0.000000001","v":4.0800000000000003E-2},{"$f":"'Sheet1 select'!$B$35*$B$11*$B$9*1000*0.000000001","v":0},{"$f":"IF('Sheet1 select'!$B$17=0,0,(0.00000006*0.7+0.00000003*(0.7+F31*1.1*'Sheet1 select'!$B$26))*F31*$B$9*1000)","v":0},0.12499881131276441,0.8361743039970142,{"$f":"H31+K31+O31+N31+'Sheet1 select'!$B$40*I31+J31+P31","v":0.12174946476958248}]
[null,null,null,null,30,0.2,3.2000000000000006E-3,{"$f":"F32*F32*('Sheet1 select'!$B$25)*$B$4","v":5.5871089627478271E-4},{"$f":"F32*(1-$B$4)*'Sheet1 select'!$B$41","v":4.7850000000000011E-2},{"$f":"F32*F32*('Sheet1 select'!$B$26)*(1-$B$4)","v":0},{"$f":"0.0000005*$B$11*F32*$B$9*((('Sheet1 select'!$B$33+0.5*'Sheet1 select'!$B$32)/(('Sheet1 select'!$B$10-'Sheet1 select'!$B$23)/('Sheet1 select'!$B$27+'Sheet1 select'!$B$8)))+(('Sheet1 select'!$B$33+0.5*'Sheet1 select'!$B$32)/(('Sheet1 select'!$B$23)/('Sheet1 select'!$B$27+'Sheet1 select'!$B$9))))","v":1.0523152217077152E-2},{"$f":"(F32*$B$29)*(('Sheet1 select'!$B$12+'Sheet1 select'!$B$13)*(0.000000001))*$B$9*1000","v":0},2.5912432095971015E-4,{"$f":"$B$11*'Sheet1 select'!$B$29*0.001","v":2.4E-2},{"$f":"'Sheet1 select'!$B$10*'Sheet1 select'!$B$31*$B$9*1000*0.000000001","v":4.0800000000000003E-2},{"$f":"'Sheet1 select'!$B$35*$B$11*$B$9*1000*0.000000001","v":0},{"$f":"IF('Sheet1 select'!$B$17=0,0,(0.00000006*0.7+0.00000003*(0.7+F32*1.1*'Sheet1 select'!$B$26))*F32*$B$9*1000)","v":0},0.12719098743431168,0.83842423317260695,{"$f":"H32+K32+O32+N32+'Sheet1 select'!$B$40*I32+J32+P32","v":0.12373186311335194}]
[null,null,null,null,31,0.20666666666666667,3.416888888888889E-3,{"$f":"F33*F33*('Sheet1 select'!$B$25)*$B$4","v":5.9657907924451792E-4},{"$f":"F33*(1-$B$4)*'Sheet1 select'!$B$41","v":4.944500000000001E-2},{"$f":"F33*F33*('Sheet1 select'!$B$26)*(1-$B$4)","v":0},{"$f":"0.0000005*$B$11*F33*$B$9*((('Sheet1 select'!$B$33+0.5*'Sheet1 select'!$B$32)/(('Sheet1 select'!$B$10-'Sheet1 select'!$B$23)/('Sheet1 select'!$B$27+'Sheet1 select'!$B$8)))+(('Sheet1 select'!$B$33+0.5*'Sheet1 select'!$B$32)/(('Sheet1 select'!$B$23)/('Sheet1 select'!$B$27+'Sheet1 select'!$B$9))))","v":1.087392395764639E-2},{"$f":"(F33*$B$29)*(('Sheet1 select'!$B$12+'Sheet1 select'!$B$13)*(0.000000001))*$B$9*1000","v":0},2.5912432095971015E-4,{"$f":"$B$11*'Sheet1 select'!$B$29*0.001","v":2.4E-2},{"$f":"'Sheet1 select'!$B$10*'Sheet1 select'!$B$31*$B$9*1000*0.000000001","v":4.0800000000000003E-2},{"$f":"'Sheet1 select'!$B$35*$B$11*$B$9*1000*0.000000001","v":0},{"$f":"IF('Sheet1 select'!$B$17=0,0,(0.00000006*0.7+0.00000003*(0.7+F33*1.1*'Sheet1 select'!$B$26))*F33*$B$9*1000)","v":0},0.12939151624673953,0.84053134195281343,{"$f":"H33+K33+O33+N33+'Sheet1 select'!$B$40*I33+J33+P33","v":0.12571550303689091}]
[null,null,null,null,32,0.21333333333333335,3.6408888888888897E-3,{"$f":"F34*F34*('Sheet1 select'!$B$25)*$B$4","v":6.3568884198375282E-4},{"$f":"F34*(1-$B$4)*'Sheet1 select'!$B$41","v":5.1040000000000016E-2},{"$f":"F34*F34*('Sheet1 select'!$B$26)*(1-$B$4)","v":0},{"$f":"0.0000005*$B$11*F34*$B$9*((('Sheet1 select'!$B$33+0.5*'Sheet1 select'!$B$32)/(('Sheet1 select'!$B$10-'Sheet1 select'!$B$23)/('Sheet1 select'!$B$27+'Sheet1 select'!$B$8)))+(('Sheet1 select'!$B$33+0.5*'Sheet1 select'!$B$32)/(('Sheet1 select'!$B$23)/('Sheet1 select'!$B$27+'Sheet1 select'!$B$9))))","v":1.1224695698215629E-2},{"$f":"(F34*$B$29)*(('Sheet1 select'!$B$12+'Sheet1 select'!$B$13)*(0.000000001))*$B$9*1000","v":0},2.5912432095971015E-4,{"$f":"$B$11*'Sheet1 select'!$B$29*0.001","v":2.4E-2},{"$f":"'Sheet1 select'!$B$10*'Sheet1 select'!$B$31*$B$9*1000*0.000000001","v":4.0800000000000003E-2},{"$f":"'Sheet1 select'!$B$35*$B$11*$B$9*1000*0.000000001","v":0},{"$f":"IF('Sheet1 select'!$B$17=0,0,(0.00000006*0.7+0.00000003*(0.7+F34*1.1*'Sheet1 select'!$B$26))*F34*$B$9*1000)","v":0},0.131600397750048,0.84250797617569662,{"$f":"H34+K34+O34+N34+'Sheet1 select'!$B$40*I34+J34+P34","v":0.12770038454019939}]
[null,null,null,null,33,0.22,3.872E-3,{"$f":"F35*F35*('Sheet1 select'!$B$25)*$B$4","v":6.7604018449248697E-4},{"$f":"F35*(1-$B$4)*'Sheet1 select'!$B$41","v":5.2635000000000015E-2},{"$f":"F35*F35*('Sheet1 select'!$B$26)*(1-$B$4)","v":0},{"$f":"0.0000005*$B$11*F35*$B$9*((('Sheet1 select'!$B$33+0.5*'Sheet1 select'!$B$32)/(('Sheet1 select'!$B$10-'Sheet1 select'!$B$23)/('Sheet1 select'!$B$27+'Sheet1 select'!$B$8)))+(('Sheet1 select'!$B$33+0.5*'Sheet1 select'!$B$32)/(('Sheet1 select'!$B$23)/('Sheet1 select'!$B$27+'Sheet1 select'!$B$9))))","v":1.1575467438784867E-2},{"$f":"(F35*$B$29)*(('Sheet1 select'!$B$12+'Sheet1 select'!$B$13)*(0.000000001))*$B$9*1000","v":0},2.5912432095971015E-4,{"$f":"$B$11*'Sheet1 select'!$B$29*0.001","v":2.4E-2},{"$f":"'Sheet1 select'!$B$10*'Sheet1 select'!$B$31*$B$9*1000*0.000000001","v":4.0800000000000003E-2},{"$f":"'Sheet1 select'!$B$35*$B$11*$B$9*1000*0.000000001","v":0},{"$f":"IF('Sheet1 select'!$B$17=0,0,(0.00000006*0.7+0.00000003*(0.7+F35*1.1*'Sheet1 select'!$B$26))*F35*$B$9*1000)","v":0},0.1338176319442371,0.84436509909473945,{"$f":"H35+K35+O35+N35+'Sheet1 select'!$B$40*I35+J35+P35","v":0.12968650762327738}]
[null,null,null,null,34,0.22666666666666666,4.1102222222222217E-3,{"$f":"F36*F36*('Sheet1 select'!$B$25)*$B$4","v":7.176331067707207E-4},{"$f":"F36*(1-$B$4)*'Sheet1 select'!$B$41","v":5.4230000000000014E-2},{"$f":"F36*F36*('Sheet1 select'!$B$26)*(1-$B$4)","v":0},{"$f":"0.0000005*$B$11*F36*$B$9*((('Sheet1 select'!$B$33+0.5*'Sheet1 select'!$B$32)/(('Sheet1 select'!$B$10-'Sheet1 select'!$B$23)/('Sheet1 select'!$B$27+'Sheet1 select'!$B$8)))+(('Sheet1 select'!$B$33+0.5*'Sheet1 select'!$B$32)/(('Sheet1 select'!$B$23)/('Sheet1 select'!$B$27+'Sheet1 select'!$B$9))))","v":1.1926239179354104E-2},{"$f":"(F36*$B$29)*(('Sheet1 select'!$B$12+'Sheet1 select'!$B$13)*(0.000000001))*$B$9*1000","v":0},2.5912432095971015E-4,{"$f":"$B$11*'Sheet1 select'!$B$29*0.001","v":2.4E-2},{"$f":"'Sheet1 select'!$B$10*'Sheet1 select'!$B$31*$B$9*1000*0.000000001","v":4.0800000000000003E-2},{"$f":"'Sheet1 select'!$B$35*$B$11*$B$9*1000*0.000000001","v":0},{"$f":"IF('Sheet1 select'!$B$17=0,0,(0.00000006*0.7+0.00000003*(0.7+F36*1.1*'Sheet1 select'!$B$26))*F36*$B$9*1000)","v":0},0.13604321882930678,0.84611247964837977,{"$f":"H36+K36+O36+N36+'Sheet1 select'!$B$40*I36+J36+P36","v":0.13167387228612484}]
[null,null,null,null,35,0.23333333333333334,4.3555555555555561E-3,{"$f":"F37*F37*('Sheet1 select'!$B$25)*$B$4","v":7.6046760881845422E-4},{"$f":"F37*(1-$B$4)*'Sheet1 select'!$B$41","v":5.5825000000000007E-2},{"$f":"F37*F37*('Sheet1 select'!$B$26)*(1-$B$4)","v":0},{"$f":"0.0000005*$B$11*F37*$B$9*((('Sheet1 select'!$B$33+0.5*'Sheet1 select'!$B$32)/(('Sheet1 select'!$B$10-'Sheet1 select'!$B$23)/('Sheet1 select'!$B$27+'Sheet1 select'!$B$8)))+(('Sheet1 select'!$B$33+0.5*'Sheet1 select'!$B$32)/(('Sheet1 select'!$B$23)/('Sheet1 select'!$B$27+'Sheet1 select'!$B$9))))","v":1.2277010919923345E-2},{"$f":"(F37*$B$29)*(('Sheet1 select'!$B$12+'Sheet1 select'!$B$13)*(0.000000001))*$B$9*1000","v":0},2.5912432095971015E-4,{"$f":"$B$11*'Sheet1 select'!$B$29*0.001","v":2.4E-2},{"$f":"'Sheet1 select'!$B$10*'Sheet1 select'!$B$31*$B$9*1000*0.000000001","v":4.0800000000000003E-2},{"$f":"'Sheet1 select'!$B$35*$B$11*$B$9*1000*0.000000001","v":0},{"$f":"IF('Sheet1 select'!$B$17=0,0,(0.00000006*0.7+0.00000003*(0.7+F37*1.1*'Sheet1 select'!$B$26))*F37*$B$9*1000)","v":0},0.13827715840525709,0.84775885078069935,{"$f":"H37+K37+O37+N37+'Sheet1 select'!$B$40*I37+J37+P37","v":0.1336624785287418}]
[null,null,null,null,36,0.24,4.6080000000000001E-3,{"$f":"F38*F38*('Sheet1 select'!$B$25)*$B$4","v":8.04543690635687E-4},{"$f":"F38*(1-$B$4)*'Sheet1 select'!$B$41","v":5.7420000000000006E-2},{"$f":"F38*F38*('Sheet1 select'!$B$26)*(1-$B$4)","v":0},{"$f":"0.0000005*$B$11*F38*$B$9*((('Sheet1 select'!$B$33+0.5*'Sheet1 select'!$B$32)/(('Sheet1 select'!$B$10-'Sheet1 select'!$B$23)/('Sheet1 select'!$B$27+'Sheet1 select'!$B$8)))+(('Sheet1 select'!$B$33+0.5*'Sheet1 select'!$B$32)/(('Sheet1 select'!$B$23)/('Sheet1 select'!$B$27+'Sheet1 select'!$B$9))))","v":1.262778266049258E-2},{"$f":"(F38*$B$29)*(('Sheet1 select'!$B$12+'Sheet1 select'!$B$13)*(0.000000001))*$B$9*1000","v":0},2.5912432095971015E-4,{"$f":"$B$11*'Sheet1 select'!$B$29*0.001","v":2.4E-2},{"$f":"'Sheet1 select'!$B$10*'Sheet1 select'!$B$31*$B$9*1000*0.000000001","v":4.0800000000000003E-2},{"$f":"'Sheet1 select'!$B$35*$B$11*$B$9*1000*0.000000001","v":0},{"$f":"IF('Sheet1 select'!$B$17=0,0,(0.00000006*0.7+0.00000003*(0.7+F38*1.1*'Sheet1 select'!$B$26))*F38*$B$9*1000)","v":0},0.14051945067208799,0.84931204322782494,{"$f":"H38+K38+O38+N38+'Sheet1 select'!$B$40*I38+J38+P38","v":0.13565232635112828}]
[null,null,null,null,37,0.24666666666666667,4.8675555555555564E-3,{"$f":"F39*F39*('Sheet1 select'!$B$25)*$B$4","v":8.4986135222241946E-4},{"$f":"F39*(1-$B$4)*'Sheet1 select'!$B$41","v":5.9015000000000019E-2},{"$f":"F39*F39*('Sheet1 select'!$B$26)*(1-$B$4)","v":0},{"$f":"0.0000005*$B$11*F39*$B$9*((('Sheet1 select'!$B$33+0.5*'Sheet1 select'!$B$32)/(('Sheet1 select'!$B$10-'Sheet1 select'!$B$23)/('Sheet1 select'!$B$27+'Sheet1 select'!$B$8)))+(('Sheet1 select'!$B$33+0.5*'Sheet1 select'!$B$32)/(('Sheet1 select'!$B$23)/('Sheet1 select'!$B$27+'Sheet1 select'!$B$9))))","v":1.2978554401061819E-2},{"$f":"(F39*$B$29)*(('Sheet1 select'!$B$12+'Sheet1 select'!$B$13)*(0.000000001))*$B$9*1000","v":0},2.5912432095971015E-4,{"$f":"$B$11*'Sheet1 select'!$B$29*0.001","v":2.4E-2},{"$f":"'Sheet1 select'!$B$10*'Sheet1 select'!$B$31*$B$9*1000*0.000000001","v":4.0800000000000003E-2},{"$f":"'Sheet1 select'!$B$35*$B$11*$B$9*1000*0.000000001","v":0},{"$f":"IF('Sheet1 select'!$B$17=0,0,(0.00000006*0.7+0.00000003*(0.7+F39*1.1*'Sheet1 select'!$B$26))*F39*$B$9*1000)","v":0},0.14277009562979953,0.85077909909399885,{"$f":"H39+K39+O39+N39+'Sheet1 select'!$B$40*I39+J39+P39","v":0.13764341575328426}]
[null,null,null,null,38,0.25333333333333335,5.1342222222222232E-3,{"$f":"F40*F40*('Sheet1 select'!$B$25)*$B$4","v":8.9642059357865139E-4},{"$f":"F40*(1-$B$4)*'Sheet1 select'!$B$41","v":6.0610000000000011E-2},{"$f":"F40*F40*('Sheet1 select'!$B$26)*(1-$B$4)","v":0},{"$f":"0.0000005*$B$11*F40*$B$9*((('Sheet1 select'!$B$33+0.5*'Sheet1 select'!$B$32)/(('Sheet1 select'!$B$10-'Sheet1 select'!$B$23)/('Sheet1 select'!$B$27+'Sheet1 select'!$B$8)))+(('Sheet1 select'!$B$33+0.5*'Sheet1 select'!$B$32)/(('Sheet1 select'!$B$23)/('Sheet1 select'!$B$27+'Sheet1 select'!$B$9))))","v":1.332932614163106E-2},{"$f":"(F40*$B$29)*(('Sheet1 select'!$B$12+'Sheet1 select'!$B$13)*(0.000000001))*$B$9*1000","v":0},2.5912432095971015E-4,{"$f":"$B$11*'Sheet1 select'!$B$29*0.001","v":2.4E-2},{"$f":"'Sheet1 select'!$B$10*'Sheet1 select'!$B$31*$B$9*1000*0.000000001","v":4.0800000000000003E-2},{"$f":"'Sheet1 select'!$B$35*$B$11*$B$9*1000*0.000000001","v":0},{"$f":"IF('Sheet1 select'!$B$17=0,0,(0.00000006*0.7+0.00000003*(0.7+F40*1.1*'Sheet1 select'!$B$26))*F40*$B$9*1000)","v":0},0.14502909327839167,0.85216636869174278,{"$f":"H40+K40+O40+N40+'Sheet1 select'!$B$40*I40+J40+P40","v":0.13963574673520973}]
[null,null,null,null,39,0.26,5.4080000000000005E-3,{"$f":"F41*F41*('Sheet1 select'!$B$25)*$B$4","v":9.4422141470438278E-4},{"$f":"F41*(1-$B$4)*'Sheet1 select'!$B$41","v":6.220500000000001E-2},{"$f":"F41*F41*('Sheet1 select'!$B$26)*(1-$B$4)","v":0},{"$f":"0.0000005*$B$11*F41*$B$9*((('Sheet1 select'!$B$33+0.5*'Sheet1 select'!$B$32)/(('Sheet1 select'!$B$10-'Sheet1 select'!$B$23)/('Sheet1 select'!$B$27+'Sheet1 select'!$B$8)))+(('Sheet1 select'!$B$33+0.5*'Sheet1 select'!$B$32)/(('Sheet1 select'!$B$23)/('Sheet1 select'!$B$27+'Sheet1 select'!$B$9))))","v":1.3680097882200298E-2},{"$f":"(F41*$B$29)*(('Sheet1 select'!$B$12+'Sheet1 select'!$B$13)*(0.000000001))*$B$9*1000","v":0},2.5912432095971015E-4,{"$f":"$B$11*'Sheet1 select'!$B$29*0.001","v":2.4E-2},{"$f":"'Sheet1 select'!$B$10*'Sheet1 select'!$B$31*$B$9*1000*0.000000001","v":4.0800000000000003E-2},{"$f":"'Sheet1 select'!$B$35*$B$11*$B$9*1000*0.000000001","v":0},{"$f":"IF('Sheet1 select'!$B$17=0,0,(0.00000006*0.7+0.00000003*(0.7+F41*1.1*'Sheet1 select'!$B$26))*F41*$B$9*1000)","v":0},0.14729644361786443,0.8534795934542716,{"$f":"H41+K41+O41+N41+'Sheet1 select'!$B$40*I41+J41+P41","v":0.1416293192969047}]
[null,null,null,null,40,0.26666666666666666,5.6888888888888892E-3,{"$f":"F42*F42*('Sheet1 select'!$B$25)*$B$4","v":9.9326381559961354E-4},{"$f":"F42*(1-$B$4)*'Sheet1 select'!$B$41","v":6.3800000000000009E-2},{"$f":"F42*F42*('Sheet1 select'!$B$26)*(1-$B$4)","v":0},{"$f":"0.0000005*$B$11*F42*$B$9*((('Sheet1 select'!$B$33+0.5*'Sheet1 select'!$B$32)/(('Sheet1 select'!$B$10-'Sheet1 select'!$B$23)/('Sheet1 select'!$B$27+'Sheet1 select'!$B$8)))+(('Sheet1 select'!$B$33+0.5*'Sheet1 select'!$B$32)/(('Sheet1 select'!$B$23)/('Sheet1 select'!$B$27+'Sheet1 select'!$B$9))))","v":1.4030869622769533E-2},{"$f":"(F42*$B$29)*(('Sheet1 select'!$B$12+'Sheet1 select'!$B$13)*(0.000000001))*$B$9*1000","v":0},2.5912432095971015E-4,{"$f":"$B$11*'Sheet1 select'!$B$29*0.001","v":2.4E-2},{"$f":"'Sheet1 select'!$B$10*'Sheet1 select'!$B$31*$B$9*1000*0.000000001","v":4.0800000000000003E-2},{"$f":"'Sheet1 select'!$B$35*$B$11*$B$9*1000*0.000000001","v":0},{"$f":"IF('Sheet1 select'!$B$17=0,0,(0.00000006*0.7+0.00000003*(0.7+F42*1.1*'Sheet1 select'!$B$26))*F42*$B$9*1000)","v":0},0.14957214664821777,0.85472397720242199,{"$f":"H42+K42+O42+N42+'Sheet1 select'!$B$40*I42+J42+P42","v":0.14362413343836916}]
[null,null,null,null,41,0.27333333333333332,5.9768888888888884E-3,{"$f":"F43*F43*('Sheet1 select'!$B$25)*$B$4","v":1.0435477962643439E-3},{"$f":"F43*(1-$B$4)*'Sheet1 select'!$B$41","v":6.5395000000000009E-2},{"$f":"F43*F43*('Sheet1 select'!$B$26)*(1-$B$4)","v":0},{"$f":"0.0000005*$B$11*F43*$B$9*((('Sheet1 select'!$B$33+0.5*'Sheet1 select'!$B$32)/(('Sheet1 select'!$B$10-'Sheet1 select'!$B$23)/('Sheet1 select'!$B$27+'Sheet1 select'!$B$8)))+(('Sheet1 select'!$B$33+0.5*'Sheet1 select'!$B$32)/(('Sheet1 select'!$B$23)/('Sheet1 select'!$B$27+'Sheet1 select'!$B$9))))","v":1.4381641363338773E-2},{"$f":"(F43*$B$29)*(('Sheet1 select'!$B$12+'Sheet1 select'!$B$13)*(0.000000001))*$B$9*1000","v":0},2.5912432095971015E-4,{"$f":"$B$11*'Sheet1 select'!$B$29*0.001","v":2.4E-2},{"$f":"'Sheet1 select'!$B$10*'Sheet1 select'!$B$31*$B$9*1000*0.000000001","v":4.0800000000000003E-2},{"$f":"'Sheet1 select'!$B$35*$B$11*$B$9*1000*0.000000001","v":0},{"$f":"IF('Sheet1 select'!$B$17=0,0,(0.00000006*0.7+0.00000003*(0.7+F43*1.1*'Sheet1 select'!$B$26))*F43*$B$9*1000)","v":0},0.15185620236945174,0.85590424763072637,{"$f":"H43+K43+O43+N43+'Sheet1 select'!$B$40*I43+J43+P43","v":0.14562018915960312}]
[null,null,null,null,42,0.28000000000000003,6.2720000000000015E-3,{"$f":"F44*F44*('Sheet1 select'!$B$25)*$B$4","v":1.0950733566985741E-3},{"$f":"F44*(1-$B$4)*'Sheet1 select'!$B$41","v":6.6990000000000022E-2},{"$f":"F44*F44*('Sheet1 select'!$B$26)*(1-$B$4)","v":0},{"$f":"0.0000005*$B$11*F44*$B$9*((('Sheet1 select'!$B$33+0.5*'Sheet1 select'!$B$32)/(('Sheet1 select'!$B$10-'Sheet1 select'!$B$23)/('Sheet1 select'!$B$27+'Sheet1 select'!$B$8)))+(('Sheet1 select'!$B$33+0.5*'Sheet1 select'!$B$32)/(('Sheet1 select'!$B$23)/('Sheet1 select'!$B$27+'Sheet1 select'!$B$9))))","v":1.4732413103908014E-2},{"$f":"(F44*$B$29)*(('Sheet1 select'!$B$12+'Sheet1 select'!$B$13)*(0.000000001))*$B$9*1000","v":0},2.5912432095971015E-4,{"$f":"$B$11*'Sheet1 select'!$B$29*0.001","v":2.4E-2},{"$f":"'Sheet1 select'!$B$10*'Sheet1 select'!$B$31*$B$9*1000*0.000000001","v":4.0800000000000003E-2},{"$f":"'Sheet1 select'!$B$35*$B$11*$B$9*1000*0.000000001","v":0},{"$f":"IF('Sheet1 select'!$B$17=0,0,(0.00000006*0.7+0.00000003*(0.7+F44*1.1*'Sheet1 select'!$B$26))*F44*$B$9*1000)","v":0},0.15414861078156633,0.85702470954368559,{"$f":"H44+K44+O44+N44+'Sheet1 select'!$B$40*I44+J44+P44","v":0.14761748646060663}]
[null,null,null,null,43,0.28666666666666668,6.5742222222222226E-3,{"$f":"F45*F45*('Sheet1 select'!$B$25)*$B$4","v":1.1478404969023036E-3},{"$f":"F45*(1-$B$4)*'Sheet1 select'!$B$41","v":6.8585000000000021E-2},{"$f":"F45*F45*('Sheet1 select'!$B$26)*(1-$B$4)","v":0},{"$f":"0.0000005*$B$11*F45*$B$9*((('Sheet1 select'!$B$33+0.5*'Sheet1 select'!$B$32)/(('Sheet1 select'!$B$10-'Sheet1 select'!$B$23)/('Sheet1 select'!$B$27+'Sheet1 select'!$B$8)))+(('Sheet1 select'!$B$33+0.5*'Sheet1 select'!$B$32)/(('Sheet1 select'!$B$23)/('Sheet1 select'!$B$27+'Sheet1 select'!$B$9))))","v":1.508318484447725E-2},{"$f":"(F45*$B$29)*(('Sheet1 select'!$B$12+'Sheet1 select'!$B$13)*(0.000000001))*$B$9*1000","v":0},2.5912432095971015E-4,{"$f":"$B$11*'Sheet1 select'!$B$29*0.001","v":2.4E-2},{"$f":"'Sheet1 select'!$B$10*'Sheet1 select'!$B$31*$B$9*1000*0.000000001","v":4.0800000000000003E-2},{"$f":"'Sheet1 select'!$B$35*$B$11*$B$9*1000*0.000000001","v":0},{"$f":"IF('Sheet1 select'!$B$17=0,0,(0.00000006*0.7+0.00000003*(0.7+F45*1.1*'Sheet1 select'!$B$26))*F45*$B$9*1000)","v":0},0.15644937188456151,0.85808929110538479,{"$f":"H45+K45+O45+N45+'Sheet1 select'!$B$40*I45+J45+P45","v":0.14961602534137958}]
[null,null,null,null,44,0.29333333333333333,6.8835555555555568E-3,{"$f":"F46*F46*('Sheet1 select'!$B$25)*$B$4","v":1.2018492168755326E-3},{"$f":"F46*(1-$B$4)*'Sheet1 select'!$B$41","v":7.018000000000002E-2},{"$f":"F46*F46*('Sheet1 select'!$B$26)*(1-$B$4)","v":0},{"$f":"0.0000005*$B$11*F46*$B$9*((('Sheet1 select'!$B$33+0.5*'Sheet1 select'!$B$32)/(('Sheet1 select'!$B$10-'Sheet1 select'!$B$23)/('Sheet1 select'!$B$27+'Sheet1 select'!$B$8)))+(('Sheet1 select'!$B$33+0.5*'Sheet1 select'!$B$32)/(('Sheet1 select'!$B$23)/('Sheet1 select'!$B$27+'Sheet1 select'!$B$9))))","v":1.5433956585046489E-2},{"$f":"(F46*$B$29)*(('Sheet1 select'!$B$12+'Sheet1 select'!$B$13)*(0.000000001))*$B$9*1000","v":0},2.5912432095971015E-4,{"$f":"$B$11*'Sheet1 select'!$B$29*0.001","v":2.4E-2},{"$f":"'Sheet1 select'!$B$10*'Sheet1 select'!$B$31*$B$9*1000*0.000000001","v":4.0800000000000003E-2},{"$f":"'Sheet1 select'!$B$35*$B$11*$B$9*1000*0.000000001","v":0},{"$f":"IF('Sheet1 select'!$B$17=0,0,(0.00000006*0.7+0.00000003*(0.7+F46*1.1*'Sheet1 select'!$B$26))*F46*$B$9*1000)","v":0},0.15875848567843731,0.85910158414928961,{"$f":"H46+K46+O46+N46+'Sheet1 select'!$B$40*I46+J46+P46","v":0.15161580580192205}]
[null,null,null,null,45,0.3,7.1999999999999998E-3,{"$f":"F47*F47*('Sheet1 select'!$B$25)*$B$4","v":1.257099516618261E-3},{"$f":"F47*(1-$B$4)*'Sheet1 select'!$B$41","v":7.1775000000000005E-2},{"$f":"F47*F47*('Sheet1 select'!$B$26)*(1-$B$4)","v":0},{"$f":"0.0000005*$B$11*F47*$B$9*((('Sheet1 select'!$B$33+0.5*'Sheet1 select'!$B$32)/(('Sheet1 select'!$B$10-'Sheet1 select'!$B$23)/('Sheet1 select'!$B$27+'Sheet1 select'!$B$8)))+(('Sheet1 select'!$B$33+0.5*'Sheet1 select'!$B$32)/(('Sheet1 select'!$B$23)/('Sheet1 select'!$B$27+'Sheet1 select'!$B$9))))","v":1.5784728325615727E-2},{"$f":"(F47*$B$29)*(('Sheet1 select'!$B$12+'Sheet1 select'!$B$13)*(0.000000001))*$B$9*1000","v":0},2.5912432095971015E-4,{"$f":"$B$11*'Sheet1 select'!$B$29*0.001","v":2.4E-2},{"$f":"'Sheet1 select'!$B$10*'Sheet1 select'!$B$31*$B$9*1000*0.000000001","v":4.0800000000000003E-2},{"$f":"'Sheet1 select'!$B$35*$B$11*$B$9*1000*0.000000001","v":0},{"$f":"IF('Sheet1 select'!$B$17=0,0,(0.00000006*0.7+0.00000003*(0.7+F47*1.1*'Sheet1 select'!$B$26))*F47*$B$9*1000)","v":0},0.1610759521631937,0.86006487941956655,{"$f":"H47+K47+O47+N47+'Sheet1 select'!$B$40*I47+J47+P47","v":0.15361682784223399}]
[null,null,null,null,46,0.30666666666666664,7.523555555555555E-3,{"$f":"F48*F48*('Sheet1 select'!$B$25)*$B$4","v":1.3135913961304889E-3},{"$f":"F48*(1-$B$4)*'Sheet1 select'!$B$41","v":7.3370000000000005E-2},{"$f":"F48*F48*('Sheet1 select'!$B$26)*(1-$B$4)","v":0},{"$f":"0.0000005*$B$11*F48*$B$9*((('Sheet1 select'!$B$33+0.5*'Sheet1 select'!$B$32)/(('Sheet1 select'!$B$10-'Sheet1 select'!$B$23)/('Sheet1 select'!$B$27+'Sheet1 select'!$B$8)))+(('Sheet1 select'!$B$33+0.5*'Sheet1 select'!$B$32)/(('Sheet1 select'!$B$23)/('Sheet1 select'!$B$27+'Sheet1 select'!$B$9))))","v":1.6135500066184964E-2},{"$f":"(F48*$B$29)*(('Sheet1 select'!$B$12+'Sheet1 select'!$B$13)*(0.000000001))*$B$9*1000","v":0},2.5912432095971015E-4,{"$f":"$B$11*'Sheet1 select'!$B$29*0.001","v":2.4E-2},{"$f":"'Sheet1 select'!$B$10*'Sheet1 select'!$B$31*$B$9*1000*0.000000001","v":4.0800000000000003E-2},{"$f":"'Sheet1 select'!$B$35*$B$11*$B$9*1000*0.000000001","v":0},{"$f":"IF('Sheet1 select'!$B$17=0,0,(0.00000006*0.7+0.00000003*(0.7+F48*1.1*'Sheet1 select'!$B$26))*F48*$B$9*1000)","v":0},0.16340177133883074,0.86098219747218052,{"$f":"H48+K48+O48+N48+'Sheet1 select'!$B$40*I48+J48+P48","v":0.15561909146231545}]
[null,null,null,null,47,0.31333333333333335,7.8542222222222242E-3,{"$f":"F49*F49*('Sheet1 select'!$B$25)*$B$4","v":1.3713248554122167E-3},{"$f":"F49*(1-$B$4)*'Sheet1 select'!$B$41","v":7.4965000000000018E-2},{"$f":"F49*F49*('Sheet1 select'!$B$26)*(1-$B$4)","v":0},{"$f":"0.0000005*$B$11*F49*$B$9*((('Sheet1 select'!$B$33+0.5*'Sheet1 select'!$B$32)/(('Sheet1 select'!$B$10-'Sheet1 select'!$B$23)/('Sheet1 select'!$B$27+'Sheet1 select'!$B$8)))+(('Sheet1 select'!$B$33+0.5*'Sheet1 select'!$B$32)/(('Sheet1 select'!$B$23)/('Sheet1 select'!$B$27+'Sheet1 select'!$B$9))))","v":1.6486271806754205E-2},{"$f":"(F49*$B$29)*(('Sheet1 select'!$B$12+'Sheet1 select'!$B$13)*(0.000000001))*$B$9*1000","v":0},2.5912432095971015E-4,{"$f":"$B$11*'Sheet1 select'!$B$29*0.001","v":2.4E-2},{"$f":"'Sheet1 select'!$B$10*'Sheet1 select'!$B$31*$B$9*1000*0.000000001","v":4.0800000000000003E-2},{"$f":"'Sheet1 select'!$B$35*$B$11*$B$9*1000*0.000000001","v":0},{"$f":"IF('Sheet1 select'!$B$17=0,0,(0.00000006*0.7+0.00000003*(0.7+F49*1.1*'Sheet1 select'!$B$26))*F49*$B$9*1000)","v":0},0.16573594320534837,0.86185631584684397,{"$f":"H49+K49+O49+N49+'Sheet1 select'!$B$40*I49+J49+P49","v":0.15762259666216644}]
[null,null,null,null,48,0.32,8.1919999999999996E-3,{"$f":"F50*F50*('Sheet1 select'!$B$25)*$B$4","v":1.4302998944634435E-3},{"$f":"F50*(1-$B$4)*'Sheet1 select'!$B$41","v":7.6560000000000017E-2},{"$f":"F50*F50*('Sheet1 select'!$B$26)*(1-$B$4)","v":0},{"$f":"0.0000005*$B$11*F50*$B$9*((('Sheet1 select'!$B$33+0.5*'Sheet1 select'!$B$32)/(('Sheet1 select'!$B$10-'Sheet1 select'!$B$23)/('Sheet1 select'!$B$27+'Sheet1 select'!$B$8)))+(('Sheet1 select'!$B$33+0.5*'Sheet1 select'!$B$32)/(('Sheet1 select'!$B$23)/('Sheet1 select'!$B$27+'Sheet1 select'!$B$9))))","v":1.6837043547323443E-2},{"$f":"(F50*$B$29)*(('Sheet1 select'!$B$12+'Sheet1 select'!$B$13)*(0.000000001))*$B$9*1000","v":0},2.5912432095971015E-4,{"$f":"$B$11*'Sheet1 select'!$B$29*0.001","v":2.4E-2},{"$f":"'Sheet1 select'!$B$10*'Sheet1 select'!$B$31*$B$9*1000*0.000000001","v":4.0800000000000003E-2},{"$f":"'Sheet1 select'!$B$35*$B$11*$B$9*1000*0.000000001","v":0},{"$f":"IF('Sheet1 select'!$B$17=0,0,(0.00000006*0.7+0.00000003*(0.7+F50*1.1*'Sheet1 select'!$B$26))*F50*$B$9*1000)","v":0},0.16807846776274663,0.86268979302450732,{"$f":"H50+K50+O50+N50+'Sheet1 select'!$B$40*I50+J50+P50","v":0.15962734344178692}]
[null,null,null,null,49,0.32666666666666666,8.536888888888889E-3,{"$f":"F51*F51*('Sheet1 select'!$B$25)*$B$4","v":1.49051651328417E-3},{"$f":"F51*(1-$B$4)*'Sheet1 select'!$B$41","v":7.8155000000000016E-2},{"$f":"F51*F51*('Sheet1 select'!$B$26)*(1-$B$4)","v":0},{"$f":"0.0000005*$B$11*F51*$B$9*((('Sheet1 select'!$B$33+0.5*'Sheet1 select'!$B$32)/(('Sheet1 select'!$B$10-'Sheet1 select'!$B$23)/('Sheet1 select'!$B$27+'Sheet1 select'!$B$8)))+(('Sheet1 select'!$B$33+0.5*'Sheet1 select'!$B$32)/(('Sheet1 select'!$B$23)/('Sheet1 select'!$B$27+'Sheet1 select'!$B$9))))","v":1.7187815287892681E-2},{"$f":"(F51*$B$29)*(('Sheet1 select'!$B$12+'Sheet1 select'!$B$13)*(0.000000001))*$B$9*1000","v":0},2.5912432095971015E-4,{"$f":"$B$11*'Sheet1 select'!$B$29*0.001","v":2.4E-2},{"$f":"'Sheet1 select'!$B$10*'Sheet1 select'!$B$31*$B$9*1000*0.000000001","v":4.0800000000000003E-2},{"$f":"'Sheet1 select'!$B$35*$B$11*$B$9*1000*0.000000001","v":0},{"$f":"IF('Sheet1 select'!$B$17=0,0,(0.00000006*0.7+0.00000003*(0.7+F51*1.1*'Sheet1 select'!$B$26))*F51*$B$9*1000)","v":0},0.17042934501102547,0.86348498960546272,{"$f":"H51+K51+O51+N51+'Sheet1 select'!$B$40*I51+J51+P51","v":0.16163333180117689}]
[null,null,null,null,50,0.33333333333333331,8.8888888888888889E-3,{"$f":"F52*F52*('Sheet1 select'!$B$25)*$B$4","v":1.551974711874396E-3},{"$f":"F52*(1-$B$4)*'Sheet1 select'!$B$41","v":7.9750000000000015E-2},{"$f":"F52*F52*('Sheet1 select'!$B$26)*(1-$B$4)","v":0},{"$f":"0.0000005*$B$11*F52*$B$9*((('Sheet1 select'!$B$33+0.5*'Sheet1 select'!$B$32)/(('Sheet1 select'!$B$10-'Sheet1 select'!$B$23)/('Sheet1 select'!$B$27+'Sheet1 select'!$B$8)))+(('Sheet1 select'!$B$33+0.5*'Sheet1 select'!$B$32)/(('Sheet1 select'!$B$23)/('Sheet1 select'!$B$27+'Sheet1 select'!$B$9))))","v":1.7538587028461918E-2},{"$f":"(F52*$B$29)*(('Sheet1 select'!$B$12+'Sheet1 select'!$B$13)*(0.000000001))*$B$9*1000","v":0},2.5912432095971015E-4,{"$f":"$B$11*'Sheet1 select'!$B$29*0.001","v":2.4E-2},{"$f":"'Sheet1 select'!$B$10*'Sheet1 select'!$B$31*$B$9*1000*0.000000001","v":4.0800000000000003E-2},{"$f":"'Sheet1 select'!$B$35*$B$11*$B$9*1000*0.000000001","v":0},{"$f":"IF('Sheet1 select'!$B$17=0,0,(0.00000006*0.7+0.00000003*(0.7+F52*1.1*'Sheet1 select'!$B$26))*F52*$B$9*1000)","v":0},0.17278857495018493,0.8642440870771112,{"$f":"H52+K52+O52+N52+'Sheet1 select'!$B$40*I52+J52+P52","v":0.16364056174033634}]
[null,null,null,null,51,0.34,9.248000000000001E-3,{"$f":"F53*F53*('Sheet1 select'!$B$25)*$B$4","v":1.6146744902341221E-3},{"$f":"F53*(1-$B$4)*'Sheet1 select'!$B$41","v":8.1345000000000015E-2},{"$f":"F53*F53*('Sheet1 select'!$B$26)*(1-$B$4)","v":0},{"$f":"0.0000005*$B$11*F53*$B$9*((('Sheet1 select'!$B$33+0.5*'Sheet1 select'!$B$32)/(('Sheet1 select'!$B$10-'Sheet1 select'!$B$23)/('Sheet1 select'!$B$27+'Sheet1 select'!$B$8)))+(('Sheet1 select'!$B$33+0.5*'Sheet1 select'!$B$32)/(('Sheet1 select'!$B$23)/('Sheet1 select'!$B$27+'Sheet1 select'!$B$9))))","v":1.7889358769031163E-2},{"$f":"(F53*$B$29)*(('Sheet1 select'!$B$12+'Sheet1 select'!$B$13)*(0.000000001))*$B$9*1000","v":0},2.5912432095971015E-4,{"$f":"$B$11*'Sheet1 select'!$B$29*0.001","v":2.4E-2},{"$f":"'Sheet1 select'!$B$10*'Sheet1 select'!$B$31*$B$9*1000*0.000000001","v":4.0800000000000003E-2},{"$f":"'Sheet1 select'!$B$35*$B$11*$B$9*1000*0.000000001","v":0},{"$f":"IF('Sheet1 select'!$B$17=0,0,(0.00000006*0.7+0.00000003*(0.7+F53*1.1*'Sheet1 select'!$B$26))*F53*$B$9*1000)","v":0},0.17515615758022501,0.86496910448548514,{"$f":"H53+K53+O53+N53+'Sheet1 select'!$B$40*I53+J53+P53","v":0.16564903325926528}]
[null,null,null,null,52,0.34666666666666668,9.6142222222222237E-3,{"$f":"F54*F54*('Sheet1 select'!$B$25)*$B$4","v":1.6786158483633471E-3},{"$f":"F54*(1-$B$4)*'Sheet1 select'!$B$41","v":8.2940000000000014E-2},{"$f":"F54*F54*('Sheet1 select'!$B$26)*(1-$B$4)","v":0},{"$f":"0.0000005*$B$11*F54*$B$9*((('Sheet1 select'!$B$33+0.5*'Sheet1 select'!$B$32)/(('Sheet1 select'!$B$10-'Sheet1 select'!$B$23)/('Sheet1 select'!$B$27+'Sheet1 select'!$B$8)))+(('Sheet1 select'!$B$33+0.5*'Sheet1 select'!$B$32)/(('Sheet1 select'!$B$23)/('Sheet1 select'!$B$27+'Sheet1 select'!$B$9))))","v":1.8240130509600393E-2},{"$f":"(F54*$B$29)*(('Sheet1 select'!$B$12+'Sheet1 select'!$B$13)*(0.000000001))*$B$9*1000","v":0},2.5912432095971015E-4,{"$f":"$B$11*'Sheet1 select'!$B$29*0.001","v":2.4E-2},{"$f":"'Sheet1 select'!$B$10*'Sheet1 select'!$B$31*$B$9*1000*0.000000001","v":4.0800000000000003E-2},{"$f":"'Sheet1 select'!$B$35*$B$11*$B$9*1000*0.000000001","v":0},{"$f":"IF('Sheet1 select'!$B$17=0,0,(0.00000006*0.7+0.00000003*(0.7+F54*1.1*'Sheet1 select'!$B$26))*F54*$B$9*1000)","v":0},0.17753209290114569,0.86566191327869202,{"$f":"H54+K54+O54+N54+'Sheet1 select'!$B$40*I54+J54+P54","v":0.16765874635796377}]
[null,null,null,null,53,0.35333333333333333,9.9875555555555568E-3,{"$f":"F55*F55*('Sheet1 select'!$B$25)*$B$4","v":1.7437987862620715E-3},{"$f":"F55*(1-$B$4)*'Sheet1 select'!$B$41","v":8.4535000000000013E-2},{"$f":"F55*F55*('Sheet1 select'!$B$26)*(1-$B$4)","v":0},{"$f":"0.0000005*$B$11*F55*$B$9*((('Sheet1 select'!$B$33+0.5*'Sheet1 select'!$B$32)/(('Sheet1 select'!$B$10-'Sheet1 select'!$B$23)/('Sheet1 select'!$B$27+'Sheet1 select'!$B$8)))+(('Sheet1 select'!$B$33+0.5*'Sheet1 select'!$B$32)/(('Sheet1 select'!$B$23)/('Sheet1 select'!$B$27+'Sheet1 select'!$B$9))))","v":1.8590902250169634E-2},{"$f":"(F55*$B$29)*(('Sheet1 select'!$B$12+'Sheet1 select'!$B$13)*(0.000000001))*$B$9*1000","v":0},2.5912432095971015E-4,{"$f":"$B$11*'Sheet1 select'!$B$29*0.001","v":2.4E-2},{"$f":"'Sheet1 select'!$B$10*'Sheet1 select'!$B$31*$B$9*1000*0.000000001","v":4.0800000000000003E-2},{"$f":"'Sheet1 select'!$B$35*$B$11*$B$9*1000*0.000000001","v":0},{"$f":"IF('Sheet1 select'!$B$17=0,0,(0.00000006*0.7+0.00000003*(0.7+F55*1.1*'Sheet1 select'!$B$26))*F55*$B$9*1000)","v":0},0.17991638091294701,0.86632425055194884,{"$f":"H55+K55+O55+N55+'Sheet1 select'!$B$40*I55+J55+P55","v":0.1696697010364317}]
[null,null,null,null,54,0.36,1.0367999999999999E-2,{"$f":"F56*F56*('Sheet1 select'!$B$25)*$B$4","v":1.8102233039302958E-3},{"$f":"F56*(1-$B$4)*'Sheet1 select'!$B$41","v":8.6130000000000012E-2},{"$f":"F56*F56*('Sheet1 select'!$B$26)*(1-$B$4)","v":0},{"$f":"0.0000005*$B$11*F56*$B$9*((('Sheet1 select'!$B$33+0.5*'Sheet1 select'!$B$32)/(('Sheet1 select'!$B$10-'Sheet1 select'!$B$23)/('Sheet1 select'!$B$27+'Sheet1 select'!$B$8)))+(('Sheet1 select'!$B$33+0.5*'Sheet1 select'!$B$32)/(('Sheet1 select'!$B$23)/('Sheet1 select'!$B$27+'Sheet1 select'!$B$9))))","v":1.8941673990738872E-2},{"$f":"(F56*$B$29)*(('Sheet1 select'!$B$12+'Sheet1 select'!$B$13)*(0.000000001))*$B$9*1000","v":0},2.5912432095971015E-4,{"$f":"$B$11*'Sheet1 select'!$B$29*0.001","v":2.4E-2},{"$f":"'Sheet1 select'!$B$10*'Sheet1 select'!$B$31*$B$9*1000*0.000000001","v":4.0800000000000003E-2},{"$f":"'Sheet1 select'!$B$35*$B$11*$B$9*1000*0.000000001","v":0},{"$f":"IF('Sheet1 select'!$B$17=0,0,(0.00000006*0.7+0.00000003*(0.7+F56*1.1*'Sheet1 select'!$B$26))*F56*$B$9*1000)","v":0},0.1823090216156289,0.86695773089147299,{"$f":"H56+K56+O56+N56+'Sheet1 select'!$B$40*I56+J56+P56","v":0.17168189729466918}]
[null,null,null,null,55,0.36666666666666664,1.0755555555555553E-2,{"$f":"F57*F57*('Sheet1 select'!$B$25)*$B$4","v":1.8778894013680191E-3},{"$f":"F57*(1-$B$4)*'Sheet1 select'!$B$41","v":8.7725000000000011E-2},{"$f":"F57*F57*('Sheet1 select'!$B$26)*(1-$B$4)","v":0},{"$f":"0.0000005*$B$11*F57*$B$9*((('Sheet1 select'!$B$33+0.5*'Sheet1 select'!$B$32)/(('Sheet1 select'!$B$10-'Sheet1 select'!$B$23)/('Sheet1 select'!$B$27+'Sheet1 select'!$B$8)))+(('Sheet1 select'!$B$33+0.5*'Sheet1 select'!$B$32)/(('Sheet1 select'!$B$23)/('Sheet1 select'!$B$27+'Sheet1 select'!$B$9))))","v":1.929244573130811E-2},{"$f":"(F57*$B$29)*(('Sheet1 select'!$B$12+'Sheet1 select'!$B$13)*(0.000000001))*$B$9*1000","v":0},2.5912432095971015E-4,{"$f":"$B$11*'Sheet1 select'!$B$29*0.001","v":2.4E-2},{"$f":"'Sheet1 select'!$B$10*'Sheet1 select'!$B$31*$B$9*1000*0.000000001","v":4.0800000000000003E-2},{"$f":"'Sheet1 select'!$B$35*$B$11*$B$9*1000*0.000000001","v":0},{"$f":"IF('Sheet1 select'!$B$17=0,0,(0.00000006*0.7+0.00000003*(0.7+F57*1.1*'Sheet1 select'!$B$26))*F57*$B$9*1000)","v":0},0.18471001500919143,0.86756385698716432,{"$f":"H57+K57+O57+N57+'Sheet1 select'!$B$40*I57+J57+P57","v":0.17369533513267615}]
[null,null,null,null,56,0.37333333333333335,1.1150222222222225E-2,{"$f":"F58*F58*('Sheet1 select'!$B$25)*$B$4","v":1.946797078575243E-3},{"$f":"F58*(1-$B$4)*'Sheet1 select'!$B$41","v":8.9320000000000024E-2},{"$f":"F58*F58*('Sheet1 select'!$B$26)*(1-$B$4)","v":0},{"$f":"0.0000005*$B$11*F58*$B$9*((('Sheet1 select'!$B$33+0.5*'Sheet1 select'!$B$32)/(('Sheet1 select'!$B$10-'Sheet1 select'!$B$23)/('Sheet1 select'!$B$27+'Sheet1 select'!$B$8)))+(('Sheet1 select'!$B$33+0.5*'Sheet1 select'!$B$32)/(('Sheet1 select'!$B$23)/('Sheet1 select'!$B$27+'Sheet1 select'!$B$9))))","v":1.9643217471877351E-2},{"$f":"(F58*$B$29)*(('Sheet1 select'!$B$12+'Sheet1 select'!$B$13)*(0.000000001))*$B$9*1000","v":0},2.5912432095971015E-4,{"$f":"$B$11*'Sheet1 select'!$B$29*0.001","v":2.4E-2},{"$f":"'Sheet1 select'!$B$10*'Sheet1 select'!$B$31*$B$9*1000*0.000000001","v":4.0800000000000003E-2},{"$f":"'Sheet1 select'!$B$35*$B$11*$B$9*1000*0.000000001","v":0},{"$f":"IF('Sheet1 select'!$B$17=0,0,(0.00000006*0.7+0.00000003*(0.7+F58*1.1*'Sheet1 select'!$B$26))*F58*$B$9*1000)","v":0},0.18711936109363456,0.86814402916085065,{"$f":"H58+K58+O58+N58+'Sheet1 select'!$B$40*I58+J58+P58","v":0.1757100145504526}]
[null,null,null,null,57,0.38,1.1552E-2,{"$f":"F59*F59*('Sheet1 select'!$B$25)*$B$4","v":2.0169463355519655E-3},{"$f":"F59*(1-$B$4)*'Sheet1 select'!$B$41","v":9.091500000000001E-2},{"$f":"F59*F59*('Sheet1 select'!$B$26)*(1-$B$4)","v":0},{"$f":"0.0000005*$B$11*F59*$B$9*((('Sheet1 select'!$B$33+0.5*'Sheet1 select'!$B$32)/(('Sheet1 select'!$B$10-'Sheet1 select'!$B$23)/('Sheet1 select'!$B$27+'Sheet1 select'!$B$8)))+(('Sheet1 select'!$B$33+0.5*'Sheet1 select'!$B$32)/(('Sheet1 select'!$B$23)/('Sheet1 select'!$B$27+'Sheet1 select'!$B$9))))","v":1.9993989212446592E-2},{"$f":"(F59*$B$29)*(('Sheet1 select'!$B$12+'Sheet1 select'!$B$13)*(0.000000001))*$B$9*1000","v":0},2.5912432095971015E-4,{"$f":"$B$11*'Sheet1 select'!$B$29*0.001","v":2.4E-2},{"$f":"'Sheet1 select'!$B$10*'Sheet1 select'!$B$31*$B$9*1000*0.000000001","v":4.0800000000000003E-2},{"$f":"'Sheet1 select'!$B$35*$B$11*$B$9*1000*0.000000001","v":0},{"$f":"IF('Sheet1 select'!$B$17=0,0,(0.00000006*0.7+0.00000003*(0.7+F59*1.1*'Sheet1 select'!$B$26))*F59*$B$9*1000)","v":0},0.18953705986895827,0.86869955393721299,{"$f":"H59+K59+O59+N59+'Sheet1 select'!$B$40*I59+J59+P59","v":0.17772593554799859}]
[null,null,null,null,58,0.38666666666666666,1.1960888888888889E-2,{"$f":"F60*F60*('Sheet1 select'!$B$25)*$B$4","v":2.0883371722981874E-3},{"$f":"F60*(1-$B$4)*'Sheet1 select'!$B$41","v":9.2510000000000023E-2},{"$f":"F60*F60*('Sheet1 select'!$B$26)*(1-$B$4)","v":0},{"$f":"0.0000005*$B$11*F60*$B$9*((('Sheet1 select'!$B$33+0.5*'Sheet1 select'!$B$32)/(('Sheet1 select'!$B$10-'Sheet1 select'!$B$23)/('Sheet1 select'!$B$27+'Sheet1 select'!$B$8)))+(('Sheet1 select'!$B$33+0.5*'Sheet1 select'!$B$32)/(('Sheet1 select'!$B$23)/('Sheet1 select'!$B$27+'Sheet1 select'!$B$9))))","v":2.0344760953015826E-2},{"$f":"(F60*$B$29)*(('Sheet1 select'!$B$12+'Sheet1 select'!$B$13)*(0.000000001))*$B$9*1000","v":0},2.5912432095971015E-4,{"$f":"$B$11*'Sheet1 select'!$B$29*0.001","v":2.4E-2},{"$f":"'Sheet1 select'!$B$10*'Sheet1 select'!$B$31*$B$9*1000*0.000000001","v":4.0800000000000003E-2},{"$f":"'Sheet1 select'!$B$35*$B$11*$B$9*1000*0.000000001","v":0},{"$f":"IF('Sheet1 select'!$B$17=0,0,(0.00000006*0.7+0.00000003*(0.7+F60*1.1*'Sheet1 select'!$B$26))*F60*$B$9*1000)","v":0},0.19196311133516264,0.86923165176775752,{"$f":"H60+K60+O60+N60+'Sheet1 select'!$B$40*I60+J60+P60","v":0.17974309812531403}]
[null,null,null,null,59,0.39333333333333331,1.2376888888888889E-2,{"$f":"F61*F61*('Sheet1 select'!$B$25)*$B$4","v":2.1609695888139091E-3},{"$f":"F61*(1-$B$4)*'Sheet1 select'!$B$41","v":9.4105000000000008E-2},{"$f":"F61*F61*('Sheet1 select'!$B$26)*(1-$B$4)","v":0},{"$f":"0.0000005*$B$11*F61*$B$9*((('Sheet1 select'!$B$33+0.5*'Sheet1 select'!$B$32)/(('Sheet1 select'!$B$10-'Sheet1 select'!$B$23)/('Sheet1 select'!$B$27+'Sheet1 select'!$B$8)))+(('Sheet1 select'!$B$33+0.5*'Sheet1 select'!$B$32)/(('Sheet1 select'!$B$23)/('Sheet1 select'!$B$27+'Sheet1 select'!$B$9))))","v":2.069553269358506E-2},{"$f":"(F61*$B$29)*(('Sheet1 select'!$B$12+'Sheet1 select'!$B$13)*(0.000000001))*$B$9*1000","v":0},2.5912432095971015E-4,{"$f":"$B$11*'Sheet1 select'!$B$29*0.001","v":2.4E-2},{"$f":"'Sheet1 select'!$B$10*'Sheet1 select'!$B$31*$B$9*1000*0.000000001","v":4.0800000000000003E-2},{"$f":"'Sheet1 select'!$B$35*$B$11*$B$9*1000*0.000000001","v":0},{"$f":"IF('Sheet1 select'!$B$17=0,0,(0.00000006*0.7+0.00000003*(0.7+F61*1.1*'Sheet1 select'!$B$26))*F61*$B$9*1000)","v":0},0.19439751549224757,0.86974146400389307,{"$f":"H61+K61+O61+N61+'Sheet1 select'!$B$40*I61+J61+P61","v":0.18176150228239896}]
[null,null,null,null,60,0.4,1.2800000000000002E-2,{"$f":"F62*F62*('Sheet1 select'!$B$25)*$B$4","v":2.2348435850991308E-3},{"$f":"F62*(1-$B$4)*'Sheet1 select'!$B$41","v":9.5700000000000021E-2},{"$f":"F62*F62*('Sheet1 select'!$B$26)*(1-$B$4)","v":0},{"$f":"0.0000005*$B$11*F62*$B$9*((('Sheet1 select'!$B$33+0.5*'Sheet1 select'!$B$32)/(('Sheet1 select'!$B$10-'Sheet1 select'!$B$23)/('Sheet1 select'!$B$27+'Sheet1 select'!$B$8)))+(('Sheet1 select'!$B$33+0.5*'Sheet1 select'!$B$32)/(('Sheet1 select'!$B$23)/('Sheet1 select'!$B$27+'Sheet1 select'!$B$9))))","v":2.1046304434154305E-2},{"$f":"(F62*$B$29)*(('Sheet1 select'!$B$12+'Sheet1 select'!$B$13)*(0.000000001))*$B$9*1000","v":0},2.5912432095971015E-4,{"$f":"$B$11*'Sheet1 select'!$B$29*0.001","v":2.4E-2},{"$f":"'Sheet1 select'!$B$10*'Sheet1 select'!$B$31*$B$9*1000*0.000000001","v":4.0800000000000003E-2},{"$f":"'Sheet1 select'!$B$35*$B$11*$B$9*1000*0.000000001","v":0},{"$f":"IF('Sheet1 select'!$B$17=0,0,(0.00000006*0.7+0.00000003*(0.7+F62*1.1*'Sheet1 select'!$B$26))*F62*$B$9*1000)","v":0},0.19684027234021315,0.87023005920292196,{"$f":"H62+K62+O62+N62+'Sheet1 select'!$B$40*I62+J62+P62","v":0.18378114801925344}]
[null,null,null,null,61,0.40666666666666668,1.3230222222222225E-2,{"$f":"F63*F63*('Sheet1 select'!$B$25)*$B$4","v":2.3099591611538514E-3},{"$f":"F63*(1-$B$4)*'Sheet1 select'!$B$41","v":9.729500000000002E-2},{"$f":"F63*F63*('Sheet1 select'!$B$26)*(1-$B$4)","v":0},{"$f":"0.0000005*$B$11*F63*$B$9*((('Sheet1 select'!$B$33+0.5*'Sheet1 select'!$B$32)/(('Sheet1 select'!$B$10-'Sheet1 select'!$B$23)/('Sheet1 select'!$B$27+'Sheet1 select'!$B$8)))+(('Sheet1 select'!$B$33+0.5*'Sheet1 select'!$B$32)/(('Sheet1 select'!$B$23)/('Sheet1 select'!$B$27+'Sheet1 select'!$B$9))))","v":2.1397076174723539E-2},{"$f":"(F63*$B$29)*(('Sheet1 select'!$B$12+'Sheet1 select'!$B$13)*(0.000000001))*$B$9*1000","v":0},2.5912432095971015E-4,{"$f":"$B$11*'Sheet1 select'!$B$29*0.001","v":2.4E-2},{"$f":"'Sheet1 select'!$B$10*'Sheet1 select'!$B$31*$B$9*1000*0.000000001","v":4.0800000000000003E-2},{"$f":"'Sheet1 select'!$B$35*$B$11*$B$9*1000*0.000000001","v":0},{"$f":"IF('Sheet1 select'!$B$17=0,0,(0.00000006*0.7+0.00000003*(0.7+F63*1.1*'Sheet1 select'!$B$26))*F63*$B$9*1000)","v":0},0.19929138187905934,0.87069843884023146,{"$f":"H63+K63+O63+N63+'Sheet1 select'!$B$40*I63+J63+P63","v":0.18580203533587741}]
[null,null,null,null,62,0.41333333333333333,1.3667555555555556E-2,{"$f":"F64*F64*('Sheet1 select'!$B$25)*$B$4","v":2.3863163169780717E-3},{"$f":"F64*(1-$B$4)*'Sheet1 select'!$B$41","v":9.889000000000002E-2},{"$f":"F64*F64*('Sheet1 select'!$B$26)*(1-$B$4)","v":0},{"$f":"0.0000005*$B$11*F64*$B$9*((('Sheet1 select'!$B$33+0.5*'Sheet1 select'!$B$32)/(('Sheet1 select'!$B$10-'Sheet1 select'!$B$23)/('Sheet1 select'!$B$27+'Sheet1 select'!$B$8)))+(('Sheet1 select'!$B$33+0.5*'Sheet1 select'!$B$32)/(('Sheet1 select'!$B$23)/('Sheet1 select'!$B$27+'Sheet1 select'!$B$9))))","v":2.174784791529278E-2},{"$f":"(F64*$B$29)*(('Sheet1 select'!$B$12+'Sheet1 select'!$B$13)*(0.000000001))*$B$9*1000","v":0},2.5912432095971015E-4,{"$f":"$B$11*'Sheet1 select'!$B$29*0.001","v":2.4E-2},{"$f":"'Sheet1 select'!$B$10*'Sheet1 select'!$B$31*$B$9*1000*0.000000001","v":4.0800000000000003E-2},{"$f":"'Sheet1 select'!$B$35*$B$11*$B$9*1000*0.000000001","v":0},{"$f":"IF('Sheet1 select'!$B$17=0,0,(0.00000006*0.7+0.00000003*(0.7+F64*1.1*'Sheet1 select'!$B$26))*F64*$B$9*1000)","v":0},0.20175084410878613,0.87114754249190829,{"$f":"H64+K64+O64+N64+'Sheet1 select'!$B$40*I64+J64+P64","v":0.18782416423227088}]
[null,null,null,null,63,0.42,1.4111999999999998E-2,{"$f":"F65*F65*('Sheet1 select'!$B$25)*$B$4","v":2.4639150525717912E-3},{"$f":"F65*(1-$B$4)*'Sheet1 select'!$B$41","v":0.10048500000000002},{"$f":"F65*F65*('Sheet1 select'!$B$26)*(1-$B$4)","v":0},{"$f":"0.0000005*$B$11*F65*$B$9*((('Sheet1 select'!$B$33+0.5*'Sheet1 select'!$B$32)/(('Sheet1 select'!$B$10-'Sheet1 select'!$B$23)/('Sheet1 select'!$B$27+'Sheet1 select'!$B$8)))+(('Sheet1 select'!$B$33+0.5*'Sheet1 select'!$B$32)/(('Sheet1 select'!$B$23)/('Sheet1 select'!$B$27+'Sheet1 select'!$B$9))))","v":2.2098619655862017E-2},{"$f":"(F65*$B$29)*(('Sheet1 select'!$B$12+'Sheet1 select'!$B$13)*(0.000000001))*$B$9*1000","v":0},2.5912432095971015E-4,{"$f":"$B$11*'Sheet1 select'!$B$29*0.001","v":2.4E-2},{"$f":"'Sheet1 select'!$B$10*'Sheet1 select'!$B$31*$B$9*1000*0.000000001","v":4.0800000000000003E-2},{"$f":"'Sheet1 select'!$B$35*$B$11*$B$9*1000*0.000000001","v":0},{"$f":"IF('Sheet1 select'!$B$17=0,0,(0.00000006*0.7+0.00000003*(0.7+F65*1.1*'Sheet1 select'!$B$26))*F65*$B$9*1000)","v":0},0.20421865902939354,0.87157825254418753,{"$f":"H65+K65+O65+N65+'Sheet1 select'!$B$40*I65+J65+P65","v":0.18984753470843382}]
[null,null,null,null,64,0.42666666666666669,1.4563555555555559E-2,{"$f":"F66*F66*('Sheet1 select'!$B$25)*$B$4","v":2.5427553679350113E-3},{"$f":"F66*(1-$B$4)*'Sheet1 select'!$B$41","v":0.10208000000000003},{"$f":"F66*F66*('Sheet1 select'!$B$26)*(1-$B$4)","v":0},{"$f":"0.0000005*$B$11*F66*$B$9*((('Sheet1 select'!$B$33+0.5*'Sheet1 select'!$B$32)/(('Sheet1 select'!$B$10-'Sheet1 select'!$B$23)/('Sheet1 select'!$B$27+'Sheet1 select'!$B$8)))+(('Sheet1 select'!$B$33+0.5*'Sheet1 select'!$B$32)/(('Sheet1 select'!$B$23)/('Sheet1 select'!$B$27+'Sheet1 select'!$B$9))))","v":2.2449391396431258E-2},{"$f":"(F66*$B$29)*(('Sheet1 select'!$B$12+'Sheet1 select'!$B$13)*(0.000000001))*$B$9*1000","v":0},2.5912432095971015E-4,{"$f":"$B$11*'Sheet1 select'!$B$29*0.001","v":2.4E-2},{"$f":"'Sheet1 select'!$B$10*'Sheet1 select'!$B$31*$B$9*1000*0.000000001","v":4.0800000000000003E-2},{"$f":"'Sheet1 select'!$B$35*$B$11*$B$9*1000*0.000000001","v":0},{"$f":"IF('Sheet1 select'!$B$17=0,0,(0.00000006*0.7+0.00000003*(0.7+F66*1.1*'Sheet1 select'!$B$26))*F66*$B$9*1000)","v":0},0.20669482664088157,0.87199139847937845,{"$f":"H66+K66+O66+N66+'Sheet1 select'!$B$40*I66+J66+P66","v":0.19187214676436631}]
[null,null,null,null,65,0.43333333333333335,1.5022222222222225E-2,{"$f":"F67*F67*('Sheet1 select'!$B$25)*$B$4","v":2.6228372630677298E-3},{"$f":"F67*(1-$B$4)*'Sheet1 select'!$B$41","v":0.10367500000000002},{"$f":"F67*F67*('Sheet1 select'!$B$26)*(1-$B$4)","v":0},{"$f":"0.0000005*$B$11*F67*$B$9*((('Sheet1 select'!$B$33+0.5*'Sheet1 select'!$B$32)/(('Sheet1 select'!$B$10-'Sheet1 select'!$B$23)/('Sheet1 select'!$B$27+'Sheet1 select'!$B$8)))+(('Sheet1 select'!$B$33+0.5*'Sheet1 select'!$B$32)/(('Sheet1 select'!$B$23)/('Sheet1 select'!$B$27+'Sheet1 select'!$B$9))))","v":2.2800163137000493E-2},{"$f":"(F67*$B$29)*(('Sheet1 select'!$B$12+'Sheet1 select'!$B$13)*(0.000000001))*$B$9*1000","v":0},2.5912432095971015E-4,{"$f":"$B$11*'Sheet1 select'!$B$29*0.001","v":2.4E-2},{"$f":"'Sheet1 select'!$B$10*'Sheet1 select'!$B$31*$B$9*1000*0.000000001","v":4.0800000000000003E-2},{"$f":"'Sheet1 select'!$B$35*$B$11*$B$9*1000*0.000000001","v":0},{"$f":"IF('Sheet1 select'!$B$17=0,0,(0.00000006*0.7+0.00000003*(0.7+F67*1.1*'Sheet1 select'!$B$26))*F67*$B$9*1000)","v":0},{"$f":"SUM(G67:P67)+Q67","v":0.20917934694325016},0.87238776078204694,{"$f":"H67+K67+O67+N67+'Sheet1 select'!$B$40*I67+J67+P67","v":0.19389800040006824}]
[null,null,null,null,66,{"$f":"$B$13*E68/300","v":0.44},{"$f":"F68*F68*$B$15*0.001*2","v":1.5488E-2},{"$f":"F68*F68*('Sheet1 select'!$B$25)*$B$4","v":2.7041607379699479E-3},{"$f":"F68*(1-$B$4)*'Sheet1 select'!$B$41","v":0.10527000000000003},{"$f":"F68*F68*('Sheet1 select'!$B$26)*(1-$B$4)","v":0},{"$f":"0.0000005*$B$11*F68*$B$9*((('Sheet1 select'!$B$33+0.5*'Sheet1 select'!$B$32)/(('Sheet1 select'!$B$10-'Sheet1 select'!$B$23)/('Sheet1 select'!$B$27+'Sheet1 select'!$B$8)))+(('Sheet1 select'!$B$33+0.5*'Sheet1 select'!$B$32)/(('Sheet1 select'!$B$23)/('Sheet1 select'!$B$27+'Sheet1 select'!$B$9))))","v":2.3150934877569734E-2},{"$f":"(F68*$B$29)*(('Sheet1 select'!$B$12+'Sheet1 select'!$B$13)*(0.000000001))*$B$9*1000","v":0},{"$f":"($B$3^2)*$B$17*0.001","v":2.5912432095971015E-4},{"$f":"$B$11*'Sheet1 select'!$B$29*0.001","v":2.4E-2},{"$f":"'Sheet1 select'!$B$10*'Sheet1 select'!$B$31*$B$9*1000*0.000000001","v":4.0800000000000003E-2},{"$f":"'Sheet1 select'!$B$35*$B$11*$B$9*1000*0.000000001","v":0},{"$f":"IF('Sheet1 select'!$B$17=0,0,(0.00000006*0.7+0.00000003*(0.7+F68*1.1*'Sheet1 select'!$B$26))*F68*$B$9*1000)","v":0},0.2116722199364994,{"$f":"($B$12*F68)/($B$12*F68+R68)","v":0.87276807450413596},{"$f":"H68+K68+O68+N68+'Sheet1 select'!$B$40*I68+J68+P68","v":0.19592509561553972}]
[null,null,null,null,67,0.44666666666666666,1.5960888888888889E-2,{"$f":"F69*F69*('Sheet1 select'!$B$25)*$B$4","v":2.7867257926416657E-3},{"$f":"F69*(1-$B$4)*'Sheet1 select'!$B$41","v":0.10686500000000002},{"$f":"F69*F69*('Sheet1 select'!$B$26)*(1-$B$4)","v":0},{"$f":"0.0000005*$B$11*F69*$B$9*((('Sheet1 select'!$B$33+0.5*'Sheet1 select'!$B$32)/(('Sheet1 select'!$B$10-'Sheet1 select'!$B$23)/('Sheet1 select'!$B$27+'Sheet1 select'!$B$8)))+(('Sheet1 select'!$B$33+0.5*'Sheet1 select'!$B$32)/(('Sheet1 select'!$B$23)/('Sheet1 select'!$B$27+'Sheet1 select'!$B$9))))","v":2.3501706618138971E-2},{"$f":"(F69*$B$29)*(('Sheet1 select'!$B$12+'Sheet1 select'!$B$13)*(0.000000001))*$B$9*1000","v":0},2.5912432095971015E-4,{"$f":"$B$11*'Sheet1 select'!$B$29*0.001","v":2.4E-2},{"$f":"'Sheet1 select'!$B$10*'Sheet1 select'!$B$31*$B$9*1000*0.000000001","v":4.0800000000000003E-2},{"$f":"'Sheet1 select'!$B$35*$B$11*$B$9*1000*0.000000001","v":0},{"$f":"IF('Sheet1 select'!$B$17=0,0,(0.00000006*0.7+0.00000003*(0.7+F69*1.1*'Sheet1 select'!$B$26))*F69*$B$9*1000)","v":0},0.21417344562062923,0.87313303252327135,{"$f":"H69+K69+O69+N69+'Sheet1 select'!$B$40*I69+J69+P69","v":0.19795343241078064}]
[null,null,null,null,68,0.45333333333333331,1.6440888888888887E-2,{"$f":"F70*F70*('Sheet1 select'!$B$25)*$B$4","v":2.8705324270828828E-3},{"$f":"F70*(1-$B$4)*'Sheet1 select'!$B$41","v":0.10846000000000003},{"$f":"F70*F70*('Sheet1 select'!$B$26)*(1-$B$4)","v":0},{"$f":"0.0000005*$B$11*F70*$B$9*((('Sheet1 select'!$B$33+0.5*'Sheet1 select'!$B$32)/(('Sheet1 select'!$B$10-'Sheet1 select'!$B$23)/('Sheet1 select'!$B$27+'Sheet1 select'!$B$8)))+(('Sheet1 select'!$B$33+0.5*'Sheet1 select'!$B$32)/(('Sheet1 select'!$B$23)/('Sheet1 select'!$B$27+'Sheet1 select'!$B$9))))","v":2.3852478358708209E-2},{"$f":"(F70*$B$29)*(('Sheet1 select'!$B$12+'Sheet1 select'!$B$13)*(0.000000001))*$B$9*1000","v":0},2.5912432095971015E-4,{"$f":"$B$11*'Sheet1 select'!$B$29*0.001","v":2.4E-2},{"$f":"'Sheet1 select'!$B$10*'Sheet1 select'!$B$31*$B$9*1000*0.000000001","v":4.0800000000000003E-2},{"$f":"'Sheet1 select'!$B$35*$B$11*$B$9*1000*0.000000001","v":0},{"$f":"IF('Sheet1 select'!$B$17=0,0,(0.00000006*0.7+0.00000003*(0.7+F70*1.1*'Sheet1 select'!$B$26))*F70*$B$9*1000)","v":0},0.21668302399563971,0.87348328852461887,{"$f":"H70+K70+O70+N70+'Sheet1 select'!$B$40*I70+J70+P70","v":0.19998301078579112}]
[null,null,null,null,69,0.46,1.6928000000000002E-2,{"$f":"F71*F71*('Sheet1 select'!$B$25)*$B$4","v":2.9555806412936004E-3},{"$f":"F71*(1-$B$4)*'Sheet1 select'!$B$41","v":0.11005500000000003},{"$f":"F71*F71*('Sheet1 select'!$B$26)*(1-$B$4)","v":0},{"$f":"0.0000005*$B$11*F71*$B$9*((('Sheet1 select'!$B$33+0.5*'Sheet1 select'!$B$32)/(('Sheet1 select'!$B$10-'Sheet1 select'!$B$23)/('Sheet1 select'!$B$27+'Sheet1 select'!$B$8)))+(('Sheet1 select'!$B$33+0.5*'Sheet1 select'!$B$32)/(('Sheet1 select'!$B$23)/('Sheet1 select'!$B$27+'Sheet1 select'!$B$9))))","v":2.420325009927745E-2},{"$f":"(F71*$B$29)*(('Sheet1 select'!$B$12+'Sheet1 select'!$B$13)*(0.000000001))*$B$9*1000","v":0},2.5912432095971015E-4,{"$f":"$B$11*'Sheet1 select'!$B$29*0.001","v":2.4E-2},{"$f":"'Sheet1 select'!$B$10*'Sheet1 select'!$B$31*$B$9*1000*0.000000001","v":4.0800000000000003E-2},{"$f":"'Sheet1 select'!$B$35*$B$11*$B$9*1000*0.000000001","v":0},{"$f":"IF('Sheet1 select'!$B$17=0,0,(0.00000006*0.7+0.00000003*(0.7+F71*1.1*'Sheet1 select'!$B$26))*F71*$B$9*1000)","v":0},0.21920095506153078,0.87381945973327724,{"$f":"H71+K71+O71+N71+'Sheet1 select'!$B$40*I71+J71+P71","v":0.20201383074057105}]
[null,null,null,null,70,0.46666666666666667,1.7422222222222224E-2,{"$f":"F72*F72*('Sheet1 select'!$B$25)*$B$4","v":3.0418704352738169E-3},{"$f":"F72*(1-$B$4)*'Sheet1 select'!$B$41","v":0.11165000000000001},{"$f":"F72*F72*('Sheet1 select'!$B$26)*(1-$B$4)","v":0},{"$f":"0.0000005*$B$11*F72*$B$9*((('Sheet1 select'!$B$33+0.5*'Sheet1 select'!$B$32)/(('Sheet1 select'!$B$10-'Sheet1 select'!$B$23)/('Sheet1 select'!$B$27+'Sheet1 select'!$B$8)))+(('Sheet1 select'!$B$33+0.5*'Sheet1 select'!$B$32)/(('Sheet1 select'!$B$23)/('Sheet1 select'!$B$27+'Sheet1 select'!$B$9))))","v":2.4554021839846691E-2},{"$f":"(F72*$B$29)*(('Sheet1 select'!$B$12+'Sheet1 select'!$B$13)*(0.000000001))*$B$9*1000","v":0},2.5912432095971015E-4,{"$f":"$B$11*'Sheet1 select'!$B$29*0.001","v":2.4E-2},{"$f":"'Sheet1 select'!$B$10*'Sheet1 select'!$B$31*$B$9*1000*0.000000001","v":4.0800000000000003E-2},{"$f":"'Sheet1 select'!$B$35*$B$11*$B$9*1000*0.000000001","v":0},{"$f":"IF('Sheet1 select'!$B$17=0,0,(0.00000006*0.7+0.00000003*(0.7+F72*1.1*'Sheet1 select'!$B$26))*F72*$B$9*1000)","v":0},0.22172723881830245,0.8741421294212216,{"$f":"H72+K72+O72+N72+'Sheet1 select'!$B$40*I72+J72+P72","v":0.20404589227512054}]
[null,null,null,null,71,0.47333333333333333,1.7923555555555557E-2,{"$f":"F73*F73*('Sheet1 select'!$B$25)*$B$4","v":3.1294018090235322E-3},{"$f":"F73*(1-$B$4)*'Sheet1 select'!$B$41","v":0.11324500000000003},{"$f":"F73*F73*('Sheet1 select'!$B$26)*(1-$B$4)","v":0},{"$f":"0.0000005*$B$11*F73*$B$9*((('Sheet1 select'!$B$33+0.5*'Sheet1 select'!$B$32)/(('Sheet1 select'!$B$10-'Sheet1 select'!$B$23)/('Sheet1 select'!$B$27+'Sheet1 select'!$B$8)))+(('Sheet1 select'!$B$33+0.5*'Sheet1 select'!$B$32)/(('Sheet1 select'!$B$23)/('Sheet1 select'!$B$27+'Sheet1 select'!$B$9))))","v":2.4904793580415925E-2},{"$f":"(F73*$B$29)*(('Sheet1 select'!$B$12+'Sheet1 select'!$B$13)*(0.000000001))*$B$9*1000","v":0},2.5912432095971015E-4,{"$f":"$B$11*'Sheet1 select'!$B$29*0.001","v":2.4E-2},{"$f":"'Sheet1 select'!$B$10*'Sheet1 select'!$B$31*$B$9*1000*0.000000001","v":4.0800000000000003E-2},{"$f":"'Sheet1 select'!$B$35*$B$11*$B$9*1000*0.000000001","v":0},{"$f":"IF('Sheet1 select'!$B$17=0,0,(0.00000006*0.7+0.00000003*(0.7+F73*1.1*'Sheet1 select'!$B$26))*F73*$B$9*1000)","v":0},0.22426187526595473,0.87445184921020358,{"$f":"H73+K73+O73+N73+'Sheet1 select'!$B$40*I73+J73+P73","v":0.20607919538943947}]
[null,null,null,null,72,0.48,1.8432E-2,{"$f":"F74*F74*('Sheet1 select'!$B$25)*$B$4","v":3.218174762542748E-3},{"$f":"F74*(1-$B$4)*'Sheet1 select'!$B$41","v":0.11484000000000001},{"$f":"F74*F74*('Sheet1 select'!$B$26)*(1-$B$4)","v":0},{"$f":"0.0000005*$B$11*F74*$B$9*((('Sheet1 select'!$B$33+0.5*'Sheet1 select'!$B$32)/(('Sheet1 select'!$B$10-'Sheet1 select'!$B$23)/('Sheet1 select'!$B$27+'Sheet1 select'!$B$8)))+(('Sheet1 select'!$B$33+0.5*'Sheet1 select'!$B$32)/(('Sheet1 select'!$B$23)/('Sheet1 select'!$B$27+'Sheet1 select'!$B$9))))","v":2.5255565320985159E-2},{"$f":"(F74*$B$29)*(('Sheet1 select'!$B$12+'Sheet1 select'!$B$13)*(0.000000001))*$B$9*1000","v":0},2.5912432095971015E-4,{"$f":"$B$11*'Sheet1 select'!$B$29*0.001","v":2.4E-2},{"$f":"'Sheet1 select'!$B$10*'Sheet1 select'!$B$31*$B$9*1000*0.000000001","v":4.0800000000000003E-2},{"$f":"'Sheet1 select'!$B$35*$B$11*$B$9*1000*0.000000001","v":0},{"$f":"IF('Sheet1 select'!$B$17=0,0,(0.00000006*0.7+0.00000003*(0.7+F74*1.1*'Sheet1 select'!$B$26))*F74*$B$9*1000)","v":0},0.22680486440448763,0.87474914118972391,{"$f":"H74+K74+O74+N74+'Sheet1 select'!$B$40*I74+J74+P74","v":0.2081137400835279}]
[null,null,null,null,73,0.48666666666666669,1.8947555555555558E-2,{"$f":"F75*F75*('Sheet1 select'!$B$25)*$B$4","v":3.3081892958314635E-3},{"$f":"F75*(1-$B$4)*'Sheet1 select'!$B$41","v":0.11643500000000002},{"$f":"F75*F75*('Sheet1 select'!$B$26)*(1-$B$4)","v":0},{"$f":"0.0000005*$B$11*F75*$B$9*((('Sheet1 select'!$B$33+0.5*'Sheet1 select'!$B$32)/(('Sheet1 select'!$B$10-'Sheet1 select'!$B$23)/('Sheet1 select'!$B$27+'Sheet1 select'!$B$8)))+(('Sheet1 select'!$B$33+0.5*'Sheet1 select'!$B$32)/(('Sheet1 select'!$B$23)/('Sheet1 select'!$B$27+'Sheet1 select'!$B$9))))","v":2.5606337061554404E-2},{"$f":"(F75*$B$29)*(('Sheet1 select'!$B$12+'Sheet1 select'!$B$13)*(0.000000001))*$B$9*1000","v":0},2.5912432095971015E-4,{"$f":"$B$11*'Sheet1 select'!$B$29*0.001","v":2.4E-2},{"$f":"'Sheet1 select'!$B$10*'Sheet1 select'!$B$31*$B$9*1000*0.000000001","v":4.0800000000000003E-2},{"$f":"'Sheet1 select'!$B$35*$B$11*$B$9*1000*0.000000001","v":0},{"$f":"IF('Sheet1 select'!$B$17=0,0,(0.00000006*0.7+0.00000003*(0.7+F75*1.1*'Sheet1 select'!$B$26))*F75*$B$9*1000)","v":0},0.22935620623390116,0.87503449986717641,{"$f":"H75+K75+O75+N75+'Sheet1 select'!$B$40*I75+J75+P75","v":0.21014952635738587}]
[null,null,null,null,74,0.49333333333333335,1.9470222222222226E-2,{"$f":"F76*F76*('Sheet1 select'!$B$25)*$B$4","v":3.3994454088896778E-3},{"$f":"F76*(1-$B$4)*'Sheet1 select'!$B$41","v":0.11803000000000004},{"$f":"F76*F76*('Sheet1 select'!$B$26)*(1-$B$4)","v":0},{"$f":"0.0000005*$B$11*F76*$B$9*((('Sheet1 select'!$B$33+0.5*'Sheet1 select'!$B$32)/(('Sheet1 select'!$B$10-'Sheet1 select'!$B$23)/('Sheet1 select'!$B$27+'Sheet1 select'!$B$8)))+(('Sheet1 select'!$B$33+0.5*'Sheet1 select'!$B$32)/(('Sheet1 select'!$B$23)/('Sheet1 select'!$B$27+'Sheet1 select'!$B$9))))","v":2.5957108802123638E-2},{"$f":"(F76*$B$29)*(('Sheet1 select'!$B$12+'Sheet1 select'!$B$13)*(0.000000001))*$B$9*1000","v":0},2.5912432095971015E-4,{"$f":"$B$11*'Sheet1 select'!$B$29*0.001","v":2.4E-2},{"$f":"'Sheet1 select'!$B$10*'Sheet1 select'!$B$31*$B$9*1000*0.000000001","v":4.0800000000000003E-2},{"$f":"'Sheet1 select'!$B$35*$B$11*$B$9*1000*0.000000001","v":0},{"$f":"IF('Sheet1 select'!$B$17=0,0,(0.00000006*0.7+0.00000003*(0.7+F76*1.1*'Sheet1 select'!$B$26))*F76*$B$9*1000)","v":0},0.2319159007541953,0.87530839396547255,{"$f":"H76+K76+O76+N76+'Sheet1 select'!$B$40*I76+J76+P76","v":0.21218655421101335}]
[null,null,null,null,75,0.5,0.02,{"$f":"F77*F77*('Sheet1 select'!$B$25)*$B$4","v":3.4919431017173914E-3},{"$f":"F77*(1-$B$4)*'Sheet1 select'!$B$41","v":0.11962500000000002},{"$f":"F77*F77*('Sheet1 select'!$B$26)*(1-$B$4)","v":0},{"$f":"0.0000005*$B$11*F77*$B$9*((('Sheet1 select'!$B$33+0.5*'Sheet1 select'!$B$32)/(('Sheet1 select'!$B$10-'Sheet1 select'!$B$23)/('Sheet1 select'!$B$27+'Sheet1 select'!$B$8)))+(('Sheet1 select'!$B$33+0.5*'Sheet1 select'!$B$32)/(('Sheet1 select'!$B$23)/('Sheet1 select'!$B$27+'Sheet1 select'!$B$9))))","v":2.6307880542692879E-2},{"$f":"(F77*$B$29)*(('Sheet1 select'!$B$12+'Sheet1 select'!$B$13)*(0.000000001))*$B$9*1000","v":0},2.5912432095971015E-4,{"$f":"$B$11*'Sheet1 select'!$B$29*0.001","v":2.4E-2},{"$f":"'Sheet1 select'!$B$10*'Sheet1 select'!$B$31*$B$9*1000*0.000000001","v":4.0800000000000003E-2},{"$f":"'Sheet1 select'!$B$35*$B$11*$B$9*1000*0.000000001","v":0},{"$f":"IF('Sheet1 select'!$B$17=0,0,(0.00000006*0.7+0.00000003*(0.7+F77*1.1*'Sheet1 select'!$B$26))*F77*$B$9*1000)","v":0},0.23448394796536998,0.87557126808188712,{"$f":"H77+K77+O77+N77+'Sheet1 select'!$B$40*I77+J77+P77","v":0.21422482364441031}]
[null,null,null,null,76,0.50666666666666671,2.0536888888888893E-2,{"$f":"F78*F78*('Sheet1 select'!$B$25)*$B$4","v":3.5856823743146055E-3},{"$f":"F78*(1-$B$4)*'Sheet1 select'!$B$41","v":0.12122000000000002},{"$f":"F78*F78*('Sheet1 select'!$B$26)*(1-$B$4)","v":0},{"$f":"0.0000005*$B$11*F78*$B$9*((('Sheet1 select'!$B$33+0.5*'Sheet1 select'!$B$32)/(('Sheet1 select'!$B$10-'Sheet1 select'!$B$23)/('Sheet1 select'!$B$27+'Sheet1 select'!$B$8)))+(('Sheet1 select'!$B$33+0.5*'Sheet1 select'!$B$32)/(('Sheet1 select'!$B$23)/('Sheet1 select'!$B$27+'Sheet1 select'!$B$9))))","v":2.665865228326212E-2},{"$f":"(F78*$B$29)*(('Sheet1 select'!$B$12+'Sheet1 select'!$B$13)*(0.000000001))*$B$9*1000","v":0},2.5912432095971015E-4,{"$f":"$B$11*'Sheet1 select'!$B$29*0.001","v":2.4E-2},{"$f":"'Sheet1 select'!$B$10*'Sheet1 select'!$B$31*$B$9*1000*0.000000001","v":4.0800000000000003E-2},{"$f":"'Sheet1 select'!$B$35*$B$11*$B$9*1000*0.000000001","v":0},{"$f":"IF('Sheet1 select'!$B$17=0,0,(0.00000006*0.7+0.00000003*(0.7+F78*1.1*'Sheet1 select'!$B$26))*F78*$B$9*1000)","v":0},0.23706034786742533,0.87582354422046382,{"$f":"H78+K78+O78+N78+'Sheet1 select'!$B$40*I78+J78+P78","v":0.21626433465757675}]
[null,null,null,null,77,0.51333333333333331,2.1080888888888885E-2,{"$f":"F79*F79*('Sheet1 select'!$B$25)*$B$4","v":3.6806632266813176E-3},{"$f":"F79*(1-$B$4)*'Sheet1 select'!$B$41","v":0.12281500000000002},{"$f":"F79*F79*('Sheet1 select'!$B$26)*(1-$B$4)","v":0},{"$f":"0.0000005*$B$11*F79*$B$9*((('Sheet1 select'!$B$33+0.5*'Sheet1 select'!$B$32)/(('Sheet1 select'!$B$10-'Sheet1 select'!$B$23)/('Sheet1 select'!$B$27+'Sheet1 select'!$B$8)))+(('Sheet1 select'!$B$33+0.5*'Sheet1 select'!$B$32)/(('Sheet1 select'!$B$23)/('Sheet1 select'!$B$27+'Sheet1 select'!$B$9))))","v":2.7009424023831354E-2},{"$f":"(F79*$B$29)*(('Sheet1 select'!$B$12+'Sheet1 select'!$B$13)*(0.000000001))*$B$9*1000","v":0},2.5912432095971015E-4,{"$f":"$B$11*'Sheet1 select'!$B$29*0.001","v":2.4E-2},{"$f":"'Sheet1 select'!$B$10*'Sheet1 select'!$B$31*$B$9*1000*0.000000001","v":4.0800000000000003E-2},{"$f":"'Sheet1 select'!$B$35*$B$11*$B$9*1000*0.000000001","v":0},{"$f":"IF('Sheet1 select'!$B$17=0,0,(0.00000006*0.7+0.00000003*(0.7+F79*1.1*'Sheet1 select'!$B$26))*F79*$B$9*1000)","v":0},0.23964510046036128,0.87606562320908488,{"$f":"H79+K79+O79+N79+'Sheet1 select'!$B$40*I79+J79+P79","v":0.21830508725051267}]
[null,null,null,null,78,0.52,2.1632000000000002E-2,{"$f":"F80*F80*('Sheet1 select'!$B$25)*$B$4","v":3.7768856588175311E-3},{"$f":"F80*(1-$B$4)*'Sheet1 select'!$B$41","v":0.12441000000000002},{"$f":"F80*F80*('Sheet1 select'!$B$26)*(1-$B$4)","v":0},{"$f":"0.0000005*$B$11*F80*$B$9*((('Sheet1 select'!$B$33+0.5*'Sheet1 select'!$B$32)/(('Sheet1 select'!$B$10-'Sheet1 select'!$B$23)/('Sheet1 select'!$B$27+'Sheet1 select'!$B$8)))+(('Sheet1 select'!$B$33+0.5*'Sheet1 select'!$B$32)/(('Sheet1 select'!$B$23)/('Sheet1 select'!$B$27+'Sheet1 select'!$B$9))))","v":2.7360195764400595E-2},{"$f":"(F80*$B$29)*(('Sheet1 select'!$B$12+'Sheet1 select'!$B$13)*(0.000000001))*$B$9*1000","v":0},2.5912432095971015E-4,{"$f":"$B$11*'Sheet1 select'!$B$29*0.001","v":2.4E-2},{"$f":"'Sheet1 select'!$B$10*'Sheet1 select'!$B$31*$B$9*1000*0.000000001","v":4.0800000000000003E-2},{"$f":"'Sheet1 select'!$B$35*$B$11*$B$9*1000*0.000000001","v":0},{"$f":"IF('Sheet1 select'!$B$17=0,0,(0.00000006*0.7+0.00000003*(0.7+F80*1.1*'Sheet1 select'!$B$26))*F80*$B$9*1000)","v":0},0.24223820574417787,0.87629788601120595,{"$f":"H80+K80+O80+N80+'Sheet1 select'!$B$40*I80+J80+P80","v":0.22034708142321816}]
[null,null,null,null,79,0.52666666666666662,2.2190222222222219E-2,{"$f":"F81*F81*('Sheet1 select'!$B$25)*$B$4","v":3.8743496707232422E-3},{"$f":"F81*(1-$B$4)*'Sheet1 select'!$B$41","v":0.12600500000000001},{"$f":"F81*F81*('Sheet1 select'!$B$26)*(1-$B$4)","v":0},{"$f":"0.0000005*$B$11*F81*$B$9*((('Sheet1 select'!$B$33+0.5*'Sheet1 select'!$B$32)/(('Sheet1 select'!$B$10-'Sheet1 select'!$B$23)/('Sheet1 select'!$B$27+'Sheet1 select'!$B$8)))+(('Sheet1 select'!$B$33+0.5*'Sheet1 select'!$B$32)/(('Sheet1 select'!$B$23)/('Sheet1 select'!$B$27+'Sheet1 select'!$B$9))))","v":2.7710967504969829E-2},{"$f":"(F81*$B$29)*(('Sheet1 select'!$B$12+'Sheet1 select'!$B$13)*(0.000000001))*$B$9*1000","v":0},2.5912432095971015E-4,{"$f":"$B$11*'Sheet1 select'!$B$29*0.001","v":2.4E-2},{"$f":"'Sheet1 select'!$B$10*'Sheet1 select'!$B$31*$B$9*1000*0.000000001","v":4.0800000000000003E-2},{"$f":"'Sheet1 select'!$B$35*$B$11*$B$9*1000*0.000000001","v":0},{"$f":"IF('Sheet1 select'!$B$17=0,0,(0.00000006*0.7+0.00000003*(0.7+F81*1.1*'Sheet1 select'!$B$26))*F81*$B$9*1000)","v":0},0.24483966371887497,0.87652069494127882,{"$f":"H81+K81+O81+N81+'Sheet1 select'!$B$40*I81+J81+P81","v":0.22239031717569308}]
[null,null,null,null,80,0.53333333333333333,2.2755555555555557E-2,{"$f":"F82*F82*('Sheet1 select'!$B$25)*$B$4","v":3.9730552623984542E-3},{"$f":"F82*(1-$B$4)*'Sheet1 select'!$B$41","v":0.12760000000000002},{"$f":"F82*F82*('Sheet1 select'!$B$26)*(1-$B$4)","v":0},{"$f":"0.0000005*$B$11*F82*$B$9*((('Sheet1 select'!$B$33+0.5*'Sheet1 select'!$B$32)/(('Sheet1 select'!$B$10-'Sheet1 select'!$B$23)/('Sheet1 select'!$B$27+'Sheet1 select'!$B$8)))+(('Sheet1 select'!$B$33+0.5*'Sheet1 select'!$B$32)/(('Sheet1 select'!$B$23)/('Sheet1 select'!$B$27+'Sheet1 select'!$B$9))))","v":2.8061739245539067E-2},{"$f":"(F82*$B$29)*(('Sheet1 select'!$B$12+'Sheet1 select'!$B$13)*(0.000000001))*$B$9*1000","v":0},2.5912432095971015E-4,{"$f":"$B$11*'Sheet1 select'!$B$29*0.001","v":2.4E-2},{"$f":"'Sheet1 select'!$B$10*'Sheet1 select'!$B$31*$B$9*1000*0.000000001","v":4.0800000000000003E-2},{"$f":"'Sheet1 select'!$B$35*$B$11*$B$9*1000*0.000000001","v":0},{"$f":"IF('Sheet1 select'!$B$17=0,0,(0.00000006*0.7+0.00000003*(0.7+F82*1.1*'Sheet1 select'!$B$26))*F82*$B$9*1000)","v":0},0.24744947438445278,0.87673439479201409,{"$f":"H82+K82+O82+N82+'Sheet1 select'!$B$40*I82+J82+P82","v":0.22443479450793755}]
[null,null,null,null,81,0.54,2.3328000000000005E-2,{"$f":"F83*F83*('Sheet1 select'!$B$25)*$B$4","v":4.0730024338431663E-3},{"$f":"F83*(1-$B$4)*'Sheet1 select'!$B$41","v":0.12919500000000003},{"$f":"F83*F83*('Sheet1 select'!$B$26)*(1-$B$4)","v":0},{"$f":"0.0000005*$B$11*F83*$B$9*((('Sheet1 select'!$B$33+0.5*'Sheet1 select'!$B$32)/(('Sheet1 select'!$B$10-'Sheet1 select'!$B$23)/('Sheet1 select'!$B$27+'Sheet1 select'!$B$8)))+(('Sheet1 select'!$B$33+0.5*'Sheet1 select'!$B$32)/(('Sheet1 select'!$B$23)/('Sheet1 select'!$B$27+'Sheet1 select'!$B$9))))","v":2.8412510986108312E-2},{"$f":"(F83*$B$29)*(('Sheet1 select'!$B$12+'Sheet1 select'!$B$13)*(0.000000001))*$B$9*1000","v":0},2.5912432095971015E-4,{"$f":"$B$11*'Sheet1 select'!$B$29*0.001","v":2.4E-2},{"$f":"'Sheet1 select'!$B$10*'Sheet1 select'!$B$31*$B$9*1000*0.000000001","v":4.0800000000000003E-2},{"$f":"'Sheet1 select'!$B$35*$B$11*$B$9*1000*0.000000001","v":0},{"$f":"IF('Sheet1 select'!$B$17=0,0,(0.00000006*0.7+0.00000003*(0.7+F83*1.1*'Sheet1 select'!$B$26))*F83*$B$9*1000)","v":0},0.25006763774091123,0.87693931388085278,{"$f":"H83+K83+O83+N83+'Sheet1 select'!$B$40*I83+J83+P83","v":0.22648051341995151}]
[null,null,null,null,82,0.54666666666666663,2.3907555555555553E-2,{"$f":"F84*F84*('Sheet1 select'!$B$25)*$B$4","v":4.1741911850573755E-3},{"$f":"F84*(1-$B$4)*'Sheet1 select'!$B$41","v":0.13079000000000002},{"$f":"F84*F84*('Sheet1 select'!$B$26)*(1-$B$4)","v":0},{"$f":"0.0000005*$B$11*F84*$B$9*((('Sheet1 select'!$B$33+0.5*'Sheet1 select'!$B$32)/(('Sheet1 select'!$B$10-'Sheet1 select'!$B$23)/('Sheet1 select'!$B$27+'Sheet1 select'!$B$8)))+(('Sheet1 select'!$B$33+0.5*'Sheet1 select'!$B$32)/(('Sheet1 select'!$B$23)/('Sheet1 select'!$B$27+'Sheet1 select'!$B$9))))","v":2.8763282726677546E-2},{"$f":"(F84*$B$29)*(('Sheet1 select'!$B$12+'Sheet1 select'!$B$13)*(0.000000001))*$B$9*1000","v":0},2.5912432095971015E-4,{"$f":"$B$11*'Sheet1 select'!$B$29*0.001","v":2.4E-2},{"$f":"'Sheet1 select'!$B$10*'Sheet1 select'!$B$31*$B$9*1000*0.000000001","v":4.0800000000000003E-2},{"$f":"'Sheet1 select'!$B$35*$B$11*$B$9*1000*0.000000001","v":0},{"$f":"IF('Sheet1 select'!$B$17=0,0,(0.00000006*0.7+0.00000003*(0.7+F84*1.1*'Sheet1 select'!$B$26))*F84*$B$9*1000)","v":0},0.25269415378825022,0.87713576502232493,{"$f":"H84+K84+O84+N84+'Sheet1 select'!$B$40*I84+J84+P84","v":0.22852747391173495}]
[null,null,null,null,83,0.55333333333333334,2.4494222222222219E-2,{"$f":"F85*F85*('Sheet1 select'!$B$25)*$B$4","v":4.2766215160410861E-3},{"$f":"F85*(1-$B$4)*'Sheet1 select'!$B$41","v":0.13238500000000003},{"$f":"F85*F85*('Sheet1 select'!$B$26)*(1-$B$4)","v":0},{"$f":"0.0000005*$B$11*F85*$B$9*((('Sheet1 select'!$B$33+0.5*'Sheet1 select'!$B$32)/(('Sheet1 select'!$B$10-'Sheet1 select'!$B$23)/('Sheet1 select'!$B$27+'Sheet1 select'!$B$8)))+(('Sheet1 select'!$B$33+0.5*'Sheet1 select'!$B$32)/(('Sheet1 select'!$B$23)/('Sheet1 select'!$B$27+'Sheet1 select'!$B$9))))","v":2.9114054467246787E-2},{"$f":"(F85*$B$29)*(('Sheet1 select'!$B$12+'Sheet1 select'!$B$13)*(0.000000001))*$B$9*1000","v":0},2.5912432095971015E-4,{"$f":"$B$11*'Sheet1 select'!$B$29*0.001","v":2.4E-2},{"$f":"'Sheet1 select'!$B$10*'Sheet1 select'!$B$31*$B$9*1000*0.000000001","v":4.0800000000000003E-2},{"$f":"'Sheet1 select'!$B$35*$B$11*$B$9*1000*0.000000001","v":0},{"$f":"IF('Sheet1 select'!$B$17=0,0,(0.00000006*0.7+0.00000003*(0.7+F85*1.1*'Sheet1 select'!$B$26))*F85*$B$9*1000)","v":0},0.25532902252646983,0.87732404643234496,{"$f":"H85+K85+O85+N85+'Sheet1 select'!$B$40*I85+J85+P85","v":0.2305756759832879}]
[null,null,null,null,84,0.56000000000000005,2.5088000000000006E-2,{"$f":"F86*F86*('Sheet1 select'!$B$25)*$B$4","v":4.3802934267942965E-3},{"$f":"F86*(1-$B$4)*'Sheet1 select'!$B$41","v":0.13398000000000004},{"$f":"F86*F86*('Sheet1 select'!$B$26)*(1-$B$4)","v":0},{"$f":"0.0000005*$B$11*F86*$B$9*((('Sheet1 select'!$B$33+0.5*'Sheet1 select'!$B$32)/(('Sheet1 select'!$B$10-'Sheet1 select'!$B$23)/('Sheet1 select'!$B$27+'Sheet1 select'!$B$8)))+(('Sheet1 select'!$B$33+0.5*'Sheet1 select'!$B$32)/(('Sheet1 select'!$B$23)/('Sheet1 select'!$B$27+'Sheet1 select'!$B$9))))","v":2.9464826207816028E-2},{"$f":"(F86*$B$29)*(('Sheet1 select'!$B$12+'Sheet1 select'!$B$13)*(0.000000001))*$B$9*1000","v":0},2.5912432095971015E-4,{"$f":"$B$11*'Sheet1 select'!$B$29*0.001","v":2.4E-2},{"$f":"'Sheet1 select'!$B$10*'Sheet1 select'!$B$31*$B$9*1000*0.000000001","v":4.0800000000000003E-2},{"$f":"'Sheet1 select'!$B$35*$B$11*$B$9*1000*0.000000001","v":0},{"$f":"IF('Sheet1 select'!$B$17=0,0,(0.00000006*0.7+0.00000003*(0.7+F86*1.1*'Sheet1 select'!$B$26))*F86*$B$9*1000)","v":0},0.25797224395557006,0.87750444256994098,{"$f":"H86+K86+O86+N86+'Sheet1 select'!$B$40*I86+J86+P86","v":0.23262511963461036}]
[null,null,null,null,85,0.56666666666666665,2.5688888888888886E-2,{"$f":"F87*F87*('Sheet1 select'!$B$25)*$B$4","v":4.4852069173170039E-3},{"$f":"F87*(1-$B$4)*'Sheet1 select'!$B$41","v":0.13557500000000003},{"$f":"F87*F87*('Sheet1 select'!$B$26)*(1-$B$4)","v":0},{"$f":"0.0000005*$B$11*F87*$B$9*((('Sheet1 select'!$B$33+0.5*'Sheet1 select'!$B$32)/(('Sheet1 select'!$B$10-'Sheet1 select'!$B$23)/('Sheet1 select'!$B$27+'Sheet1 select'!$B$8)))+(('Sheet1 select'!$B$33+0.5*'Sheet1 select'!$B$32)/(('Sheet1 select'!$B$23)/('Sheet1 select'!$B$27+'Sheet1 select'!$B$9))))","v":2.9815597948385265E-2},{"$f":"(F87*$B$29)*(('Sheet1 select'!$B$12+'Sheet1 select'!$B$13)*(0.000000001))*$B$9*1000","v":0},2.5912432095971015E-4,{"$f":"$B$11*'Sheet1 select'!$B$29*0.001","v":2.4E-2},{"$f":"'Sheet1 select'!$B$10*'Sheet1 select'!$B$31*$B$9*1000*0.000000001","v":4.0800000000000003E-2},{"$f":"'Sheet1 select'!$B$35*$B$11*$B$9*1000*0.000000001","v":0},{"$f":"IF('Sheet1 select'!$B$17=0,0,(0.00000006*0.7+0.00000003*(0.7+F87*1.1*'Sheet1 select'!$B$26))*F87*$B$9*1000)","v":0},0.26062381807555091,0.87767722492140599,{"$f":"H87+K87+O87+N87+'Sheet1 select'!$B$40*I87+J87+P87","v":0.2346758048657023}]
[null,null,null,null,86,0.57333333333333336,2.629688888888889E-2,{"$f":"F88*F88*('Sheet1 select'!$B$25)*$B$4","v":4.5913619876092144E-3},{"$f":"F88*(1-$B$4)*'Sheet1 select'!$B$41","v":0.13717000000000004},{"$f":"F88*F88*('Sheet1 select'!$B$26)*(1-$B$4)","v":0},{"$f":"0.0000005*$B$11*F88*$B$9*((('Sheet1 select'!$B$33+0.5*'Sheet1 select'!$B$32)/(('Sheet1 select'!$B$10-'Sheet1 select'!$B$23)/('Sheet1 select'!$B$27+'Sheet1 select'!$B$8)))+(('Sheet1 select'!$B$33+0.5*'Sheet1 select'!$B$32)/(('Sheet1 select'!$B$23)/('Sheet1 select'!$B$27+'Sheet1 select'!$B$9))))","v":3.01663696889545E-2},{"$f":"(F88*$B$29)*(('Sheet1 select'!$B$12+'Sheet1 select'!$B$13)*(0.000000001))*$B$9*1000","v":0},2.5912432095971015E-4,{"$f":"$B$11*'Sheet1 select'!$B$29*0.001","v":2.4E-2},{"$f":"'Sheet1 select'!$B$10*'Sheet1 select'!$B$31*$B$9*1000*0.000000001","v":4.0800000000000003E-2},{"$f":"'Sheet1 select'!$B$35*$B$11*$B$9*1000*0.000000001","v":0},{"$f":"IF('Sheet1 select'!$B$17=0,0,(0.00000006*0.7+0.00000003*(0.7+F88*1.1*'Sheet1 select'!$B$26))*F88*$B$9*1000)","v":0},0.26328374488641237,0.87784265273142115,{"$f":"H88+K88+O88+N88+'Sheet1 select'!$B$40*I88+J88+P88","v":0.23672773167656375}]
[null,null,null,null,87,0.57999999999999996,2.6911999999999998E-2,{"$f":"F89*F89*('Sheet1 select'!$B$25)*$B$4","v":4.6987586376709221E-3},{"$f":"F89*(1-$B$4)*'Sheet1 select'!$B$41","v":0.13876500000000003},{"$f":"F89*F89*('Sheet1 select'!$B$26)*(1-$B$4)","v":0},{"$f":"0.0000005*$B$11*F89*$B$9*((('Sheet1 select'!$B$33+0.5*'Sheet1 select'!$B$32)/(('Sheet1 select'!$B$10-'Sheet1 select'!$B$23)/('Sheet1 select'!$B$27+'Sheet1 select'!$B$8)))+(('Sheet1 select'!$B$33+0.5*'Sheet1 select'!$B$32)/(('Sheet1 select'!$B$23)/('Sheet1 select'!$B$27+'Sheet1 select'!$B$9))))","v":3.0517141429523734E-2},{"$f":"(F89*$B$29)*(('Sheet1 select'!$B$12+'Sheet1 select'!$B$13)*(0.000000001))*$B$9*1000","v":0},2.5912432095971015E-4,{"$f":"$B$11*'Sheet1 select'!$B$29*0.001","v":2.4E-2},{"$f":"'Sheet1 select'!$B$10*'Sheet1 select'!$B$31*$B$9*1000*0.000000001","v":4.0800000000000003E-2},{"$f":"'Sheet1 select'!$B$35*$B$11*$B$9*1000*0.000000001","v":0},{"$f":"IF('Sheet1 select'!$B$17=0,0,(0.00000006*0.7+0.00000003*(0.7+F89*1.1*'Sheet1 select'!$B$26))*F89*$B$9*1000)","v":0},0.26595202438815435,0.87800097368528152,{"$f":"H89+K89+O89+N89+'Sheet1 select'!$B$40*I89+J89+P89","v":0.23878090006719468}]
[null,null,null,null,88,0.58666666666666667,2.7534222222222227E-2,{"$f":"F90*F90*('Sheet1 select'!$B$25)*$B$4","v":4.8073968675021303E-3},{"$f":"F90*(1-$B$4)*'Sheet1 select'!$B$41","v":0.14036000000000004},{"$f":"F90*F90*('Sheet1 select'!$B$26)*(1-$B$4)","v":0},{"$f":"0.0000005*$B$11*F90*$B$9*((('Sheet1 select'!$B$33+0.5*'Sheet1 select'!$B$32)/(('Sheet1 select'!$B$10-'Sheet1 select'!$B$23)/('Sheet1 select'!$B$27+'Sheet1 select'!$B$8)))+(('Sheet1 select'!$B$33+0.5*'Sheet1 select'!$B$32)/(('Sheet1 select'!$B$23)/('Sheet1 select'!$B$27+'Sheet1 select'!$B$9))))","v":3.0867913170092978E-2},{"$f":"(F90*$B$29)*(('Sheet1 select'!$B$12+'Sheet1 select'!$B$13)*(0.000000001))*$B$9*1000","v":0},2.5912432095971015E-4,{"$f":"$B$11*'Sheet1 select'!$B$29*0.001","v":2.4E-2},{"$f":"'Sheet1 select'!$B$10*'Sheet1 select'!$B$31*$B$9*1000*0.000000001","v":4.0800000000000003E-2},{"$f":"'Sheet1 select'!$B$35*$B$11*$B$9*1000*0.000000001","v":0},{"$f":"IF('Sheet1 select'!$B$17=0,0,(0.00000006*0.7+0.00000003*(0.7+F90*1.1*'Sheet1 select'!$B$26))*F90*$B$9*1000)","v":0},0.26862865658077706,0.87815242454599995,{"$f":"H90+K90+O90+N90+'Sheet1 select'!$B$40*I90+J90+P90","v":0.24083531003759515}]
[null,null,null,null,89,0.59333333333333338,2.8163555555555563E-2,{"$f":"F91*F91*('Sheet1 select'!$B$25)*$B$4","v":4.9172766771028381E-3},{"$f":"F91*(1-$B$4)*'Sheet1 select'!$B$41","v":0.14195500000000003},{"$f":"F91*F91*('Sheet1 select'!$B$26)*(1-$B$4)","v":0},{"$f":"0.0000005*$B$11*F91*$B$9*((('Sheet1 select'!$B$33+0.5*'Sheet1 select'!$B$32)/(('Sheet1 select'!$B$10-'Sheet1 select'!$B$23)/('Sheet1 select'!$B$27+'Sheet1 select'!$B$8)))+(('Sheet1 select'!$B$33+0.5*'Sheet1 select'!$B$32)/(('Sheet1 select'!$B$23)/('Sheet1 select'!$B$27+'Sheet1 select'!$B$9))))","v":3.1218684910662216E-2},{"$f":"(F91*$B$29)*(('Sheet1 select'!$B$12+'Sheet1 select'!$B$13)*(0.000000001))*$B$9*1000","v":0},2.5912432095971015E-4,{"$f":"$B$11*'Sheet1 select'!$B$29*0.001","v":2.4E-2},{"$f":"'Sheet1 select'!$B$10*'Sheet1 select'!$B$31*$B$9*1000*0.000000001","v":4.0800000000000003E-2},{"$f":"'Sheet1 select'!$B$35*$B$11*$B$9*1000*0.000000001","v":0},{"$f":"IF('Sheet1 select'!$B$17=0,0,(0.00000006*0.7+0.00000003*(0.7+F91*1.1*'Sheet1 select'!$B$26))*F91*$B$9*1000)","v":0},0.27131364146428033,0.87829723174973562,{"$f":"H91+K91+O91+N91+'Sheet1 select'!$B$40*I91+J91+P91","v":0.24289096158776508}]
[null,null,null,null,90,0.6,2.8799999999999999E-2,{"$f":"F92*F92*('Sheet1 select'!$B$25)*$B$4","v":5.028398066473044E-3},{"$f":"F92*(1-$B$4)*'Sheet1 select'!$B$41","v":0.14355000000000001},{"$f":"F92*F92*('Sheet1 select'!$B$26)*(1-$B$4)","v":0},{"$f":"0.0000005*$B$11*F92*$B$9*((('Sheet1 select'!$B$33+0.5*'Sheet1 select'!$B$32)/(('Sheet1 select'!$B$10-'Sheet1 select'!$B$23)/('Sheet1 select'!$B$27+'Sheet1 select'!$B$8)))+(('Sheet1 select'!$B$33+0.5*'Sheet1 select'!$B$32)/(('Sheet1 select'!$B$23)/('Sheet1 select'!$B$27+'Sheet1 select'!$B$9))))","v":3.1569456651231453E-2},{"$f":"(F92*$B$29)*(('Sheet1 select'!$B$12+'Sheet1 select'!$B$13)*(0.000000001))*$B$9*1000","v":0},2.5912432095971015E-4,{"$f":"$B$11*'Sheet1 select'!$B$29*0.001","v":2.4E-2},{"$f":"'Sheet1 select'!$B$10*'Sheet1 select'!$B$31*$B$9*1000*0.000000001","v":4.0800000000000003E-2},{"$f":"'Sheet1 select'!$B$35*$B$11*$B$9*1000*0.000000001","v":0},{"$f":"IF('Sheet1 select'!$B$17=0,0,(0.00000006*0.7+0.00000003*(0.7+F92*1.1*'Sheet1 select'!$B$26))*F92*$B$9*1000)","v":0},0.27400697903866422,0.8784356119626886,{"$f":"H92+K92+O92+N92+'Sheet1 select'!$B$40*I92+J92+P92","v":0.2449478547177045}]
[null,null,null,null,91,0.60666666666666669,2.9443555555555556E-2,{"$f":"F93*F93*('Sheet1 select'!$B$25)*$B$4","v":5.1407610356127504E-3},{"$f":"F93*(1-$B$4)*'Sheet1 select'!$B$41","v":0.14514500000000002},{"$f":"F93*F93*('Sheet1 select'!$B$26)*(1-$B$4)","v":0},{"$f":"0.0000005*$B$11*F93*$B$9*((('Sheet1 select'!$B$33+0.5*'Sheet1 select'!$B$32)/(('Sheet1 select'!$B$10-'Sheet1 select'!$B$23)/('Sheet1 select'!$B$27+'Sheet1 select'!$B$8)))+(('Sheet1 select'!$B$33+0.5*'Sheet1 select'!$B$32)/(('Sheet1 select'!$B$23)/('Sheet1 select'!$B$27+'Sheet1 select'!$B$9))))","v":3.1920228391800698E-2},{"$f":"(F93*$B$29)*(('Sheet1 select'!$B$12+'Sheet1 select'!$B$13)*(0.000000001))*$B$9*1000","v":0},2.5912432095971015E-4,{"$f":"$B$11*'Sheet1 select'!$B$29*0.001","v":2.4E-2},{"$f":"'Sheet1 select'!$B$10*'Sheet1 select'!$B$31*$B$9*1000*0.000000001","v":4.0800000000000003E-2},{"$f":"'Sheet1 select'!$B$35*$B$11*$B$9*1000*0.000000001","v":0},{"$f":"IF('Sheet1 select'!$B$17=0,0,(0.00000006*0.7+0.00000003*(0.7+F93*1.1*'Sheet1 select'!$B$26))*F93*$B$9*1000)","v":0},0.27670866930392873,0.8785677726023422,{"$f":"H93+K93+O93+N93+'Sheet1 select'!$B$40*I93+J93+P93","v":0.24700598942741347}]
[null,null,null,null,92,0.61333333333333329,3.009422222222222E-2,{"$f":"F94*F94*('Sheet1 select'!$B$25)*$B$4","v":5.2543655845219556E-3},{"$f":"F94*(1-$B$4)*'Sheet1 select'!$B$41","v":0.14674000000000001},{"$f":"F94*F94*('Sheet1 select'!$B$26)*(1-$B$4)","v":0},{"$f":"0.0000005*$B$11*F94*$B$9*((('Sheet1 select'!$B$33+0.5*'Sheet1 select'!$B$32)/(('Sheet1 select'!$B$10-'Sheet1 select'!$B$23)/('Sheet1 select'!$B$27+'Sheet1 select'!$B$8)))+(('Sheet1 select'!$B$33+0.5*'Sheet1 select'!$B$32)/(('Sheet1 select'!$B$23)/('Sheet1 select'!$B$27+'Sheet1 select'!$B$9))))","v":3.2271000132369929E-2},{"$f":"(F94*$B$29)*(('Sheet1 select'!$B$12+'Sheet1 select'!$B$13)*(0.000000001))*$B$9*1000","v":0},2.5912432095971015E-4,{"$f":"$B$11*'Sheet1 select'!$B$29*0.001","v":2.4E-2},{"$f":"'Sheet1 select'!$B$10*'Sheet1 select'!$B$31*$B$9*1000*0.000000001","v":4.0800000000000003E-2},{"$f":"'Sheet1 select'!$B$35*$B$11*$B$9*1000*0.000000001","v":0},{"$f":"IF('Sheet1 select'!$B$17=0,0,(0.00000006*0.7+0.00000003*(0.7+F94*1.1*'Sheet1 select'!$B$26))*F94*$B$9*1000)","v":0},0.27941871226007386,0.87869391232568694,{"$f":"H94+K94+O94+N94+'Sheet1 select'!$B$40*I94+J94+P94","v":0.24906536571689189}]
[null,null,null,null,93,0.62,3.0752000000000002E-2,{"$f":"F95*F95*('Sheet1 select'!$B$25)*$B$4","v":5.3692117132006622E-3},{"$f":"F95*(1-$B$4)*'Sheet1 select'!$B$41","v":0.14833500000000002},{"$f":"F95*F95*('Sheet1 select'!$B$26)*(1-$B$4)","v":0},{"$f":"0.0000005*$B$11*F95*$B$9*((('Sheet1 select'!$B$33+0.5*'Sheet1 select'!$B$32)/(('Sheet1 select'!$B$10-'Sheet1 select'!$B$23)/('Sheet1 select'!$B$27+'Sheet1 select'!$B$8)))+(('Sheet1 select'!$B$33+0.5*'Sheet1 select'!$B$32)/(('Sheet1 select'!$B$23)/('Sheet1 select'!$B$27+'Sheet1 select'!$B$9))))","v":3.2621771872939166E-2},{"$f":"(F95*$B$29)*(('Sheet1 select'!$B$12+'Sheet1 select'!$B$13)*(0.000000001))*$B$9*1000","v":0},2.5912432095971015E-4,{"$f":"$B$11*'Sheet1 select'!$B$29*0.001","v":2.4E-2},{"$f":"'Sheet1 select'!$B$10*'Sheet1 select'!$B$31*$B$9*1000*0.000000001","v":4.0800000000000003E-2},{"$f":"'Sheet1 select'!$B$35*$B$11*$B$9*1000*0.000000001","v":0},{"$f":"IF('Sheet1 select'!$B$17=0,0,(0.00000006*0.7+0.00000003*(0.7+F95*1.1*'Sheet1 select'!$B$26))*F95*$B$9*1000)","v":0},0.28213710790709956,0.87881422148683963,{"$f":"H95+K95+O95+N95+'Sheet1 select'!$B$40*I95+J95+P95","v":0.25112598358613986}]
[null,null,null,null,94,0.62666666666666671,3.1416888888888897E-2,{"$f":"F96*F96*('Sheet1 select'!$B$25)*$B$4","v":5.4852994216488668E-3},{"$f":"F96*(1-$B$4)*'Sheet1 select'!$B$41","v":0.14993000000000004},{"$f":"F96*F96*('Sheet1 select'!$B$26)*(1-$B$4)","v":0},{"$f":"0.0000005*$B$11*F96*$B$9*((('Sheet1 select'!$B$33+0.5*'Sheet1 select'!$B$32)/(('Sheet1 select'!$B$10-'Sheet1 select'!$B$23)/('Sheet1 select'!$B$27+'Sheet1 select'!$B$8)))+(('Sheet1 select'!$B$33+0.5*'Sheet1 select'!$B$32)/(('Sheet1 select'!$B$23)/('Sheet1 select'!$B$27+'Sheet1 select'!$B$9))))","v":3.2972543613508411E-2},{"$f":"(F96*$B$29)*(('Sheet1 select'!$B$12+'Sheet1 select'!$B$13)*(0.000000001))*$B$9*1000","v":0},2.5912432095971015E-4,{"$f":"$B$11*'Sheet1 select'!$B$29*0.001","v":2.4E-2},{"$f":"'Sheet1 select'!$B$10*'Sheet1 select'!$B$31*$B$9*1000*0.000000001","v":4.0800000000000003E-2},{"$f":"'Sheet1 select'!$B$35*$B$11*$B$9*1000*0.000000001","v":0},{"$f":"IF('Sheet1 select'!$B$17=0,0,(0.00000006*0.7+0.00000003*(0.7+F96*1.1*'Sheet1 select'!$B$26))*F96*$B$9*1000)","v":0},0.28486385624500588,0.87892888256627522,{"$f":"H96+K96+O96+N96+'Sheet1 select'!$B$40*I96+J96+P96","v":0.25318784303515729}]
[null,null,null,null,95,0.6333333333333333,3.2088888888888889E-2,{"$f":"F97*F97*('Sheet1 select'!$B$25)*$B$4","v":5.6026287098665702E-3},{"$f":"F97*(1-$B$4)*'Sheet1 select'!$B$41","v":0.15152500000000002},{"$f":"F97*F97*('Sheet1 select'!$B$26)*(1-$B$4)","v":0},{"$f":"0.0000005*$B$11*F97*$B$9*((('Sheet1 select'!$B$33+0.5*'Sheet1 select'!$B$32)/(('Sheet1 select'!$B$10-'Sheet1 select'!$B$23)/('Sheet1 select'!$B$27+'Sheet1 select'!$B$8)))+(('Sheet1 select'!$B$33+0.5*'Sheet1 select'!$B$32)/(('Sheet1 select'!$B$23)/('Sheet1 select'!$B$27+'Sheet1 select'!$B$9))))","v":3.3323315354077648E-2},{"$f":"(F97*$B$29)*(('Sheet1 select'!$B$12+'Sheet1 select'!$B$13)*(0.000000001))*$B$9*1000","v":0},2.5912432095971015E-4,{"$f":"$B$11*'Sheet1 select'!$B$29*0.001","v":2.4E-2},{"$f":"'Sheet1 select'!$B$10*'Sheet1 select'!$B$31*$B$9*1000*0.000000001","v":4.0800000000000003E-2},{"$f":"'Sheet1 select'!$B$35*$B$11*$B$9*1000*0.000000001","v":0},{"$f":"IF('Sheet1 select'!$B$17=0,0,(0.00000006*0.7+0.00000003*(0.7+F97*1.1*'Sheet1 select'!$B$26))*F97*$B$9*1000)","v":0},0.28759895727379281,0.87903807057370176,{"$f":"H97+K97+O97+N97+'Sheet1 select'!$B$40*I97+J97+P97","v":0.25525094406394422}]
[null,null,null,null,96,0.64,3.2767999999999999E-2,{"$f":"F98*F98*('Sheet1 select'!$B$25)*$B$4","v":5.7211995778537741E-3},{"$f":"F98*(1-$B$4)*'Sheet1 select'!$B$41","v":0.15312000000000003},{"$f":"F98*F98*('Sheet1 select'!$B$26)*(1-$B$4)","v":0},{"$f":"0.0000005*$B$11*F98*$B$9*((('Sheet1 select'!$B$33+0.5*'Sheet1 select'!$B$32)/(('Sheet1 select'!$B$10-'Sheet1 select'!$B$23)/('Sheet1 select'!$B$27+'Sheet1 select'!$B$8)))+(('Sheet1 select'!$B$33+0.5*'Sheet1 select'!$B$32)/(('Sheet1 select'!$B$23)/('Sheet1 select'!$B$27+'Sheet1 select'!$B$9))))","v":3.3674087094646886E-2},{"$f":"(F98*$B$29)*(('Sheet1 select'!$B$12+'Sheet1 select'!$B$13)*(0.000000001))*$B$9*1000","v":0},2.5912432095971015E-4,{"$f":"$B$11*'Sheet1 select'!$B$29*0.001","v":2.4E-2},{"$f":"'Sheet1 select'!$B$10*'Sheet1 select'!$B$31*$B$9*1000*0.000000001","v":4.0800000000000003E-2},{"$f":"'Sheet1 select'!$B$35*$B$11*$B$9*1000*0.000000001","v":0},{"$f":"IF('Sheet1 select'!$B$17=0,0,(0.00000006*0.7+0.00000003*(0.7+F98*1.1*'Sheet1 select'!$B$26))*F98*$B$9*1000)","v":0},0.29034241099346036,0.87914195342645063,{"$f":"H98+K98+O98+N98+'Sheet1 select'!$B$40*I98+J98+P98","v":0.2573152866725007}]
[null,null,null,null,97,0.64666666666666661,3.3454222222222212E-2,{"$f":"F99*F99*('Sheet1 select'!$B$25)*$B$4","v":5.8410120256104769E-3},{"$f":"F99*(1-$B$4)*'Sheet1 select'!$B$41","v":0.15471499999999999},{"$f":"F99*F99*('Sheet1 select'!$B$26)*(1-$B$4)","v":0},{"$f":"0.0000005*$B$11*F99*$B$9*((('Sheet1 select'!$B$33+0.5*'Sheet1 select'!$B$32)/(('Sheet1 select'!$B$10-'Sheet1 select'!$B$23)/('Sheet1 select'!$B$27+'Sheet1 select'!$B$8)))+(('Sheet1 select'!$B$33+0.5*'Sheet1 select'!$B$32)/(('Sheet1 select'!$B$23)/('Sheet1 select'!$B$27+'Sheet1 select'!$B$9))))","v":3.4024858835216124E-2},{"$f":"(F99*$B$29)*(('Sheet1 select'!$B$12+'Sheet1 select'!$B$13)*(0.000000001))*$B$9*1000","v":0},2.5912432095971015E-4,{"$f":"$B$11*'Sheet1 select'!$B$29*0.001","v":2.4E-2},{"$f":"'Sheet1 select'!$B$10*'Sheet1 select'!$B$31*$B$9*1000*0.000000001","v":4.0800000000000003E-2},{"$f":"'Sheet1 select'!$B$35*$B$11*$B$9*1000*0.000000001","v":0},{"$f":"IF('Sheet1 select'!$B$17=0,0,(0.00000006*0.7+0.00000003*(0.7+F99*1.1*'Sheet1 select'!$B$26))*F99*$B$9*1000)","v":0},0.29309421740400854,0.87924069230509783,{"$f":"H99+K99+O99+N99+'Sheet1 select'!$B$40*I99+J99+P99","v":0.25938087086082662}]
[null,null,null,null,98,0.65333333333333332,3.4147555555555556E-2,{"$f":"F100*F100*('Sheet1 select'!$B$25)*$B$4","v":5.9620660531366802E-3},{"$f":"F100*(1-$B$4)*'Sheet1 select'!$B$41","v":0.15631000000000003},{"$f":"F100*F100*('Sheet1 select'!$B$26)*(1-$B$4)","v":0},{"$f":"0.0000005*$B$11*F100*$B$9*((('Sheet1 select'!$B$33+0.5*'Sheet1 select'!$B$32)/(('Sheet1 select'!$B$10-'Sheet1 select'!$B$23)/('Sheet1 select'!$B$27+'Sheet1 select'!$B$8)))+(('Sheet1 select'!$B$33+0.5*'Sheet1 select'!$B$32)/(('Sheet1 select'!$B$23)/('Sheet1 select'!$B$27+'Sheet1 select'!$B$9))))","v":3.4375630575785361E-2},{"$f":"(F100*$B$29)*(('Sheet1 select'!$B$12+'Sheet1 select'!$B$13)*(0.000000001))*$B$9*1000","v":0},2.5912432095971015E-4,{"$f":"$B$11*'Sheet1 select'!$B$29*0.001","v":2.4E-2},{"$f":"'Sheet1 select'!$B$10*'Sheet1 select'!$B$31*$B$9*1000*0.000000001","v":4.0800000000000003E-2},{"$f":"'Sheet1 select'!$B$35*$B$11*$B$9*1000*0.000000001","v":0},{"$f":"IF('Sheet1 select'!$B$17=0,0,(0.00000006*0.7+0.00000003*(0.7+F100*1.1*'Sheet1 select'!$B$26))*F100*$B$9*1000)","v":0},0.29585437650543733,0.87933444198790034,{"$f":"H100+K100+O100+N100+'Sheet1 select'!$B$40*I100+J100+P100","v":0.26144769662892209}]
[null,null,null,null,99,0.66,3.4848000000000004E-2,{"$f":"F101*F101*('Sheet1 select'!$B$25)*$B$4","v":6.0843616604323832E-3},{"$f":"F101*(1-$B$4)*'Sheet1 select'!$B$41","v":0.15790500000000005},{"$f":"F101*F101*('Sheet1 select'!$B$26)*(1-$B$4)","v":0},{"$f":"0.0000005*$B$11*F101*$B$9*((('Sheet1 select'!$B$33+0.5*'Sheet1 select'!$B$32)/(('Sheet1 select'!$B$10-'Sheet1 select'!$B$23)/('Sheet1 select'!$B$27+'Sheet1 select'!$B$8)))+(('Sheet1 select'!$B$33+0.5*'Sheet1 select'!$B$32)/(('Sheet1 select'!$B$23)/('Sheet1 select'!$B$27+'Sheet1 select'!$B$9))))","v":3.4726402316354599E-2},{"$f":"(F101*$B$29)*(('Sheet1 select'!$B$12+'Sheet1 select'!$B$13)*(0.000000001))*$B$9*1000","v":0},2.5912432095971015E-4,{"$f":"$B$11*'Sheet1 select'!$B$29*0.001","v":2.4E-2},{"$f":"'Sheet1 select'!$B$10*'Sheet1 select'!$B$31*$B$9*1000*0.000000001","v":4.0800000000000003E-2},{"$f":"'Sheet1 select'!$B$35*$B$11*$B$9*1000*0.000000001","v":0},{"$f":"IF('Sheet1 select'!$B$17=0,0,(0.00000006*0.7+0.00000003*(0.7+F101*1.1*'Sheet1 select'!$B$26))*F101*$B$9*1000)","v":0},0.29862288829774675,0.8794233511655063,{"$f":"H101+K101+O101+N101+'Sheet1 select'!$B$40*I101+J101+P101","v":0.263515763976787}]
[null,null,null,null,100,0.66666666666666663,3.5555555555555556E-2,{"$f":"F102*F102*('Sheet1 select'!$B$25)*$B$4","v":6.2078988474975842E-3},{"$f":"F102*(1-$B$4)*'Sheet1 select'!$B$41","v":0.15950000000000003},{"$f":"F102*F102*('Sheet1 select'!$B$26)*(1-$B$4)","v":0},{"$f":"0.0000005*$B$11*F102*$B$9*((('Sheet1 select'!$B$33+0.5*'Sheet1 select'!$B$32)/(('Sheet1 select'!$B$10-'Sheet1 select'!$B$23)/('Sheet1 select'!$B$27+'Sheet1 select'!$B$8)))+(('Sheet1 select'!$B$33+0.5*'Sheet1 select'!$B$32)/(('Sheet1 select'!$B$23)/('Sheet1 select'!$B$27+'Sheet1 select'!$B$9))))","v":3.5077174056923836E-2},{"$f":"(F102*$B$29)*(('Sheet1 select'!$B$12+'Sheet1 select'!$B$13)*(0.000000001))*$B$9*1000","v":0},2.5912432095971015E-4,{"$f":"$B$11*'Sheet1 select'!$B$29*0.001","v":2.4E-2},{"$f":"'Sheet1 select'!$B$10*'Sheet1 select'!$B$31*$B$9*1000*0.000000001","v":4.0800000000000003E-2},{"$f":"'Sheet1 select'!$B$35*$B$11*$B$9*1000*0.000000001","v":0},{"$f":"IF('Sheet1 select'!$B$17=0,0,(0.00000006*0.7+0.00000003*(0.7+F102*1.1*'Sheet1 select'!$B$26))*F102*$B$9*1000)","v":0},0.30139975278093672,0.87950756273728148,{"$f":"H102+K102+O102+N102+'Sheet1 select'!$B$40*I102+J102+P102","v":0.26558507290442146}]
[null,null,null,null,101,0.67333333333333334,3.6270222222222225E-2,{"$f":"F103*F103*('Sheet1 select'!$B$25)*$B$4","v":6.3326776143322857E-3},{"$f":"F103*(1-$B$4)*'Sheet1 select'!$B$41","v":0.16109500000000004},{"$f":"F103*F103*('Sheet1 select'!$B$26)*(1-$B$4)","v":0},{"$f":"0.0000005*$B$11*F103*$B$9*((('Sheet1 select'!$B$33+0.5*'Sheet1 select'!$B$32)/(('Sheet1 select'!$B$10-'Sheet1 select'!$B$23)/('Sheet1 select'!$B$27+'Sheet1 select'!$B$8)))+(('Sheet1 select'!$B$33+0.5*'Sheet1 select'!$B$32)/(('Sheet1 select'!$B$23)/('Sheet1 select'!$B$27+'Sheet1 select'!$B$9))))","v":3.5427945797493081E-2},{"$f":"(F103*$B$29)*(('Sheet1 select'!$B$12+'Sheet1 select'!$B$13)*(0.000000001))*$B$9*1000","v":0},2.5912432095971015E-4,{"$f":"$B$11*'Sheet1 select'!$B$29*0.001","v":2.4E-2},{"$f":"'Sheet1 select'!$B$10*'Sheet1 select'!$B$31*$B$9*1000*0.000000001","v":4.0800000000000003E-2},{"$f":"'Sheet1 select'!$B$35*$B$11*$B$9*1000*0.000000001","v":0},{"$f":"IF('Sheet1 select'!$B$17=0,0,(0.00000006*0.7+0.00000003*(0.7+F103*1.1*'Sheet1 select'!$B$26))*F103*$B$9*1000)","v":0},0.30418496995500738,0.87958721409049279,{"$f":"H103+K103+O103+N103+'Sheet1 select'!$B$40*I103+J103+P103","v":0.26765562341182542}]
[null,null,null,null,102,0.68,3.6992000000000004E-2,{"$f":"F104*F104*('Sheet1 select'!$B$25)*$B$4","v":6.4586979609364886E-3},{"$f":"F104*(1-$B$4)*'Sheet1 select'!$B$41","v":0.16269000000000003},{"$f":"F104*F104*('Sheet1 select'!$B$26)*(1-$B$4)","v":0},{"$f":"0.0000005*$B$11*F104*$B$9*((('Sheet1 select'!$B$33+0.5*'Sheet1 select'!$B$32)/(('Sheet1 select'!$B$10-'Sheet1 select'!$B$23)/('Sheet1 select'!$B$27+'Sheet1 select'!$B$8)))+(('Sheet1 select'!$B$33+0.5*'Sheet1 select'!$B$32)/(('Sheet1 select'!$B$23)/('Sheet1 select'!$B$27+'Sheet1 select'!$B$9))))","v":3.5778717538062325E-2},{"$f":"(F104*$B$29)*(('Sheet1 select'!$B$12+'Sheet1 select'!$B$13)*(0.000000001))*$B$9*1000","v":0},2.5912432095971015E-4,{"$f":"$B$11*'Sheet1 select'!$B$29*0.001","v":2.4E-2},{"$f":"'Sheet1 select'!$B$10*'Sheet1 select'!$B$31*$B$9*1000*0.000000001","v":4.0800000000000003E-2},{"$f":"'Sheet1 select'!$B$35*$B$11*$B$9*1000*0.000000001","v":0},{"$f":"IF('Sheet1 select'!$B$17=0,0,(0.00000006*0.7+0.00000003*(0.7+F104*1.1*'Sheet1 select'!$B$26))*F104*$B$9*1000)","v":0},0.3069785398199586,0.87966243736349725,{"$f":"H104+K104+O104+N104+'Sheet1 select'!$B$40*I104+J104+P104","v":0.26972741549899881}]
[null,null,null,null,103,0.68666666666666665,3.7720888888888887E-2,{"$f":"F105*F105*('Sheet1 select'!$B$25)*$B$4","v":6.5859598873101877E-3},{"$f":"F105*(1-$B$4)*'Sheet1 select'!$B$41","v":0.16428500000000004},{"$f":"F105*F105*('Sheet1 select'!$B$26)*(1-$B$4)","v":0},{"$f":"0.0000005*$B$11*F105*$B$9*((('Sheet1 select'!$B$33+0.5*'Sheet1 select'!$B$32)/(('Sheet1 select'!$B$10-'Sheet1 select'!$B$23)/('Sheet1 select'!$B$27+'Sheet1 select'!$B$8)))+(('Sheet1 select'!$B$33+0.5*'Sheet1 select'!$B$32)/(('Sheet1 select'!$B$23)/('Sheet1 select'!$B$27+'Sheet1 select'!$B$9))))","v":3.6129489278631556E-2},{"$f":"(F105*$B$29)*(('Sheet1 select'!$B$12+'Sheet1 select'!$B$13)*(0.000000001))*$B$9*1000","v":0},2.5912432095971015E-4,{"$f":"$B$11*'Sheet1 select'!$B$29*0.001","v":2.4E-2},{"$f":"'Sheet1 select'!$B$10*'Sheet1 select'!$B$31*$B$9*1000*0.000000001","v":4.0800000000000003E-2},{"$f":"'Sheet1 select'!$B$35*$B$11*$B$9*1000*0.000000001","v":0},{"$f":"IF('Sheet1 select'!$B$17=0,0,(0.00000006*0.7+0.00000003*(0.7+F105*1.1*'Sheet1 select'!$B$26))*F105*$B$9*1000)","v":0},0.30978046237579038,0.87973335969399269,{"$f":"H105+K105+O105+N105+'Sheet1 select'!$B$40*I105+J105+P105","v":0.27180044916594182}]
[null,null,null,null,104,0.69333333333333336,3.8456888888888895E-2,{"$f":"F106*F106*('Sheet1 select'!$B$25)*$B$4","v":6.7144633934533883E-3},{"$f":"F106*(1-$B$4)*'Sheet1 select'!$B$41","v":0.16588000000000003},{"$f":"F106*F106*('Sheet1 select'!$B$26)*(1-$B$4)","v":0},{"$f":"0.0000005*$B$11*F106*$B$9*((('Sheet1 select'!$B$33+0.5*'Sheet1 select'!$B$32)/(('Sheet1 select'!$B$10-'Sheet1 select'!$B$23)/('Sheet1 select'!$B$27+'Sheet1 select'!$B$8)))+(('Sheet1 select'!$B$33+0.5*'Sheet1 select'!$B$32)/(('Sheet1 select'!$B$23)/('Sheet1 select'!$B$27+'Sheet1 select'!$B$9))))","v":3.6480261019200787E-2},{"$f":"(F106*$B$29)*(('Sheet1 select'!$B$12+'Sheet1 select'!$B$13)*(0.000000001))*$B$9*1000","v":0},2.5912432095971015E-4,{"$f":"$B$11*'Sheet1 select'!$B$29*0.001","v":2.4E-2},{"$f":"'Sheet1 select'!$B$10*'Sheet1 select'!$B$31*$B$9*1000*0.000000001","v":4.0800000000000003E-2},{"$f":"'Sheet1 select'!$B$35*$B$11*$B$9*1000*0.000000001","v":0},{"$f":"IF('Sheet1 select'!$B$17=0,0,(0.00000006*0.7+0.00000003*(0.7+F106*1.1*'Sheet1 select'!$B$26))*F106*$B$9*1000)","v":0},0.31259073762250283,0.87980010345331083,{"$f":"H106+K106+O106+N106+'Sheet1 select'!$B$40*I106+J106+P106","v":0.2738747244126542}]
[null,null,null,null,105,0.7,3.9199999999999999E-2,{"$f":"F107*F107*('Sheet1 select'!$B$25)*$B$4","v":6.8442084793660868E-3},{"$f":"F107*(1-$B$4)*'Sheet1 select'!$B$41","v":0.16747500000000004},{"$f":"F107*F107*('Sheet1 select'!$B$26)*(1-$B$4)","v":0},{"$f":"0.0000005*$B$11*F107*$B$9*((('Sheet1 select'!$B$33+0.5*'Sheet1 select'!$B$32)/(('Sheet1 select'!$B$10-'Sheet1 select'!$B$23)/('Sheet1 select'!$B$27+'Sheet1 select'!$B$8)))+(('Sheet1 select'!$B$33+0.5*'Sheet1 select'!$B$32)/(('Sheet1 select'!$B$23)/('Sheet1 select'!$B$27+'Sheet1 select'!$B$9))))","v":3.6831032759770024E-2},{"$f":"(F107*$B$29)*(('Sheet1 select'!$B$12+'Sheet1 select'!$B$13)*(0.000000001))*$B$9*1000","v":0},2.5912432095971015E-4,{"$f":"$B$11*'Sheet1 select'!$B$29*0.001","v":2.4E-2},{"$f":"'Sheet1 select'!$B$10*'Sheet1 select'!$B$31*$B$9*1000*0.000000001","v":4.0800000000000003E-2},{"$f":"'Sheet1 select'!$B$35*$B$11*$B$9*1000*0.000000001","v":0},{"$f":"IF('Sheet1 select'!$B$17=0,0,(0.00000006*0.7+0.00000003*(0.7+F107*1.1*'Sheet1 select'!$B$26))*F107*$B$9*1000)","v":0},0.31540936556009586,0.87986278646766103,{"$f":"H107+K107+O107+N107+'Sheet1 select'!$B$40*I107+J107+P107","v":0.27595024123913614}]
[null,null,null,null,106,0.70666666666666667,3.9950222222222227E-2,{"$f":"F108*F108*('Sheet1 select'!$B$25)*$B$4","v":6.9751951450482859E-3},{"$f":"F108*(1-$B$4)*'Sheet1 select'!$B$41","v":0.16907000000000003},{"$f":"F108*F108*('Sheet1 select'!$B$26)*(1-$B$4)","v":0},{"$f":"0.0000005*$B$11*F108*$B$9*((('Sheet1 select'!$B$33+0.5*'Sheet1 select'!$B$32)/(('Sheet1 select'!$B$10-'Sheet1 select'!$B$23)/('Sheet1 select'!$B$27+'Sheet1 select'!$B$8)))+(('Sheet1 select'!$B$33+0.5*'Sheet1 select'!$B$32)/(('Sheet1 select'!$B$23)/('Sheet1 select'!$B$27+'Sheet1 select'!$B$9))))","v":3.7181804500339269E-2},{"$f":"(F108*$B$29)*(('Sheet1 select'!$B$12+'Sheet1 select'!$B$13)*(0.000000001))*$B$9*1000","v":0},2.5912432095971015E-4,{"$f":"$B$11*'Sheet1 select'!$B$29*0.001","v":2.4E-2},{"$f":"'Sheet1 select'!$B$10*'Sheet1 select'!$B$31*$B$9*1000*0.000000001","v":4.0800000000000003E-2},{"$f":"'Sheet1 select'!$B$35*$B$11*$B$9*1000*0.000000001","v":0},{"$f":"IF('Sheet1 select'!$B$17=0,0,(0.00000006*0.7+0.00000003*(0.7+F108*1.1*'Sheet1 select'!$B$26))*F108*$B$9*1000)","v":0},0.31823634618856955,0.8799215222271628,{"$f":"H108+K108+O108+N108+'Sheet1 select'!$B$40*I108+J108+P108","v":0.27802699964538757}]
[null,null,null,null,107,0.71333333333333337,4.0707555555555566E-2,{"$f":"F109*F109*('Sheet1 select'!$B$25)*$B$4","v":7.1074233904999864E-3},{"$f":"F109*(1-$B$4)*'Sheet1 select'!$B$41","v":0.17066500000000004},{"$f":"F109*F109*('Sheet1 select'!$B$26)*(1-$B$4)","v":0},{"$f":"0.0000005*$B$11*F109*$B$9*((('Sheet1 select'!$B$33+0.5*'Sheet1 select'!$B$32)/(('Sheet1 select'!$B$10-'Sheet1 select'!$B$23)/('Sheet1 select'!$B$27+'Sheet1 select'!$B$8)))+(('Sheet1 select'!$B$33+0.5*'Sheet1 select'!$B$32)/(('Sheet1 select'!$B$23)/('Sheet1 select'!$B$27+'Sheet1 select'!$B$9))))","v":3.7532576240908513E-2},{"$f":"(F109*$B$29)*(('Sheet1 select'!$B$12+'Sheet1 select'!$B$13)*(0.000000001))*$B$9*1000","v":0},2.5912432095971015E-4,{"$f":"$B$11*'Sheet1 select'!$B$29*0.001","v":2.4E-2},{"$f":"'Sheet1 select'!$B$10*'Sheet1 select'!$B$31*$B$9*1000*0.000000001","v":4.0800000000000003E-2},{"$f":"'Sheet1 select'!$B$35*$B$11*$B$9*1000*0.000000001","v":0},{"$f":"IF('Sheet1 select'!$B$17=0,0,(0.00000006*0.7+0.00000003*(0.7+F109*1.1*'Sheet1 select'!$B$26))*F109*$B$9*1000)","v":0},0.32107167950792381,0.87997642008344823,{"$f":"H109+K109+O109+N109+'Sheet1 select'!$B$40*I109+J109+P109","v":0.28010499963140856}]
[null,null,null,null,108,0.72,4.1471999999999995E-2,{"$f":"F110*F110*('Sheet1 select'!$B$25)*$B$4","v":7.2408932157211831E-3},{"$f":"F110*(1-$B$4)*'Sheet1 select'!$B$41","v":0.17226000000000002},{"$f":"F110*F110*('Sheet1 select'!$B$26)*(1-$B$4)","v":0},{"$f":"0.0000005*$B$11*F110*$B$9*((('Sheet1 select'!$B$33+0.5*'Sheet1 select'!$B$32)/(('Sheet1 select'!$B$10-'Sheet1 select'!$B$23)/('Sheet1 select'!$B$27+'Sheet1 select'!$B$8)))+(('Sheet1 select'!$B$33+0.5*'Sheet1 select'!$B$32)/(('Sheet1 select'!$B$23)/('Sheet1 select'!$B$27+'Sheet1 select'!$B$9))))","v":3.7883347981477744E-2},{"$f":"(F110*$B$29)*(('Sheet1 select'!$B$12+'Sheet1 select'!$B$13)*(0.000000001))*$B$9*1000","v":0},2.5912432095971015E-4,{"$f":"$B$11*'Sheet1 select'!$B$29*0.001","v":2.4E-2},{"$f":"'Sheet1 select'!$B$10*'Sheet1 select'!$B$31*$B$9*1000*0.000000001","v":4.0800000000000003E-2},{"$f":"'Sheet1 select'!$B$35*$B$11*$B$9*1000*0.000000001","v":0},{"$f":"IF('Sheet1 select'!$B$17=0,0,(0.00000006*0.7+0.00000003*(0.7+F110*1.1*'Sheet1 select'!$B$26))*F110*$B$9*1000)","v":0},0.32391536551815869,0.88002758543655535,{"$f":"H110+K110+O110+N110+'Sheet1 select'!$B$40*I110+J110+P110","v":0.28218424119719898}]
[null,null,null,null,109,0.72666666666666668,4.2243555555555555E-2,{"$f":"F111*F111*('Sheet1 select'!$B$25)*$B$4","v":7.3756046207118803E-3},{"$f":"F111*(1-$B$4)*'Sheet1 select'!$B$41","v":0.17385500000000001},{"$f":"F111*F111*('Sheet1 select'!$B$26)*(1-$B$4)","v":0},{"$f":"0.0000005*$B$11*F111*$B$9*((('Sheet1 select'!$B$33+0.5*'Sheet1 select'!$B$32)/(('Sheet1 select'!$B$10-'Sheet1 select'!$B$23)/('Sheet1 select'!$B$27+'Sheet1 select'!$B$8)))+(('Sheet1 select'!$B$33+0.5*'Sheet1 select'!$B$32)/(('Sheet1 select'!$B$23)/('Sheet1 select'!$B$27+'Sheet1 select'!$B$9))))","v":3.8234119722046989E-2},{"$f":"(F111*$B$29)*(('Sheet1 select'!$B$12+'Sheet1 select'!$B$13)*(0.000000001))*$B$9*1000","v":0},2.5912432095971015E-4,{"$f":"$B$11*'Sheet1 select'!$B$29*0.001","v":2.4E-2},{"$f":"'Sheet1 select'!$B$10*'Sheet1 select'!$B$31*$B$9*1000*0.000000001","v":4.0800000000000003E-2},{"$f":"'Sheet1 select'!$B$35*$B$11*$B$9*1000*0.000000001","v":0},{"$f":"IF('Sheet1 select'!$B$17=0,0,(0.00000006*0.7+0.00000003*(0.7+F111*1.1*'Sheet1 select'!$B$26))*F111*$B$9*1000)","v":0},0.32676740421927419,0.88007511991178466,{"$f":"H111+K111+O111+N111+'Sheet1 select'!$B$40*I111+J111+P111","v":0.28426472434275885}]
[null,null,null,null,110,0.73333333333333328,4.3022222222222212E-2,{"$f":"F112*F112*('Sheet1 select'!$B$25)*$B$4","v":7.5115576054720764E-3},{"$f":"F112*(1-$B$4)*'Sheet1 select'!$B$41","v":0.17545000000000002},{"$f":"F112*F112*('Sheet1 select'!$B$26)*(1-$B$4)","v":0},{"$f":"0.0000005*$B$11*F112*$B$9*((('Sheet1 select'!$B$33+0.5*'Sheet1 select'!$B$32)/(('Sheet1 select'!$B$10-'Sheet1 select'!$B$23)/('Sheet1 select'!$B$27+'Sheet1 select'!$B$8)))+(('Sheet1 select'!$B$33+0.5*'Sheet1 select'!$B$32)/(('Sheet1 select'!$B$23)/('Sheet1 select'!$B$27+'Sheet1 select'!$B$9))))","v":3.8584891462616219E-2},{"$f":"(F112*$B$29)*(('Sheet1 select'!$B$12+'Sheet1 select'!$B$13)*(0.000000001))*$B$9*1000","v":0},2.5912432095971015E-4,{"$f":"$B$11*'Sheet1 select'!$B$29*0.001","v":2.4E-2},{"$f":"'Sheet1 select'!$B$10*'Sheet1 select'!$B$31*$B$9*1000*0.000000001","v":4.0800000000000003E-2},{"$f":"'Sheet1 select'!$B$35*$B$11*$B$9*1000*0.000000001","v":0},{"$f":"IF('Sheet1 select'!$B$17=0,0,(0.00000006*0.7+0.00000003*(0.7+F112*1.1*'Sheet1 select'!$B$26))*F112*$B$9*1000)","v":0},0.32962779561127026,0.88011912152714089,{"$f":"H112+K112+O112+N112+'Sheet1 select'!$B$40*I112+J112+P112","v":0.28634644906808832}]
[null,null,null,null,111,0.74,4.3808E-2,{"$f":"F113*F113*('Sheet1 select'!$B$25)*$B$4","v":7.6487521700017739E-3},{"$f":"F113*(1-$B$4)*'Sheet1 select'!$B$41","v":0.17704500000000004},{"$f":"F113*F113*('Sheet1 select'!$B$26)*(1-$B$4)","v":0},{"$f":"0.0000005*$B$11*F113*$B$9*((('Sheet1 select'!$B$33+0.5*'Sheet1 select'!$B$32)/(('Sheet1 select'!$B$10-'Sheet1 select'!$B$23)/('Sheet1 select'!$B$27+'Sheet1 select'!$B$8)))+(('Sheet1 select'!$B$33+0.5*'Sheet1 select'!$B$32)/(('Sheet1 select'!$B$23)/('Sheet1 select'!$B$27+'Sheet1 select'!$B$9))))","v":3.8935663203185457E-2},{"$f":"(F113*$B$29)*(('Sheet1 select'!$B$12+'Sheet1 select'!$B$13)*(0.000000001))*$B$9*1000","v":0},2.5912432095971015E-4,{"$f":"$B$11*'Sheet1 select'!$B$29*0.001","v":2.4E-2},{"$f":"'Sheet1 select'!$B$10*'Sheet1 select'!$B$31*$B$9*1000*0.000000001","v":4.0800000000000003E-2},{"$f":"'Sheet1 select'!$B$35*$B$11*$B$9*1000*0.000000001","v":0},{"$f":"IF('Sheet1 select'!$B$17=0,0,(0.00000006*0.7+0.00000003*(0.7+F113*1.1*'Sheet1 select'!$B$26))*F113*$B$9*1000)","v":0},0.332496539694147,0.88015968485194052,{"$f":"H113+K113+O113+N113+'Sheet1 select'!$B$40*I113+J113+P113","v":0.28842941537318723}]
[null,null,null,null,112,0.7466666666666667,4.4600888888888898E-2,{"$f":"F114*F114*('Sheet1 select'!$B$25)*$B$4","v":7.787188314300972E-3},{"$f":"F114*(1-$B$4)*'Sheet1 select'!$B$41","v":0.17864000000000005},{"$f":"F114*F114*('Sheet1 select'!$B$26)*(1-$B$4)","v":0},{"$f":"0.0000005*$B$11*F114*$B$9*((('Sheet1 select'!$B$33+0.5*'Sheet1 select'!$B$32)/(('Sheet1 select'!$B$10-'Sheet1 select'!$B$23)/('Sheet1 select'!$B$27+'Sheet1 select'!$B$8)))+(('Sheet1 select'!$B$33+0.5*'Sheet1 select'!$B$32)/(('Sheet1 select'!$B$23)/('Sheet1 select'!$B$27+'Sheet1 select'!$B$9))))","v":3.9286434943754701E-2},{"$f":"(F114*$B$29)*(('Sheet1 select'!$B$12+'Sheet1 select'!$B$13)*(0.000000001))*$B$9*1000","v":0},2.5912432095971015E-4,{"$f":"$B$11*'Sheet1 select'!$B$29*0.001","v":2.4E-2},{"$f":"'Sheet1 select'!$B$10*'Sheet1 select'!$B$31*$B$9*1000*0.000000001","v":4.0800000000000003E-2},{"$f":"'Sheet1 select'!$B$35*$B$11*$B$9*1000*0.000000001","v":0},{"$f":"IF('Sheet1 select'!$B$17=0,0,(0.00000006*0.7+0.00000003*(0.7+F114*1.1*'Sheet1 select'!$B$26))*F114*$B$9*1000)","v":0},0.33537363646790436,0.88019690115712446,{"$f":"H114+K114+O114+N114+'Sheet1 select'!$B$40*I114+J114+P114","v":0.29051362325805574}]
[null,null,null,null,113,0.7533333333333333,4.5400888888888886E-2,{"$f":"F115*F115*('Sheet1 select'!$B$25)*$B$4","v":7.9268660383696662E-3},{"$f":"F115*(1-$B$4)*'Sheet1 select'!$B$41","v":0.18023500000000001},{"$f":"F115*F115*('Sheet1 select'!$B$26)*(1-$B$4)","v":0},{"$f":"0.0000005*$B$11*F115*$B$9*((('Sheet1 select'!$B$33+0.5*'Sheet1 select'!$B$32)/(('Sheet1 select'!$B$10-'Sheet1 select'!$B$23)/('Sheet1 select'!$B$27+'Sheet1 select'!$B$8)))+(('Sheet1 select'!$B$33+0.5*'Sheet1 select'!$B$32)/(('Sheet1 select'!$B$23)/('Sheet1 select'!$B$27+'Sheet1 select'!$B$9))))","v":3.9637206684323932E-2},{"$f":"(F115*$B$29)*(('Sheet1 select'!$B$12+'Sheet1 select'!$B$13)*(0.000000001))*$B$9*1000","v":0},2.5912432095971015E-4,{"$f":"$B$11*'Sheet1 select'!$B$29*0.001","v":2.4E-2},{"$f":"'Sheet1 select'!$B$10*'Sheet1 select'!$B$31*$B$9*1000*0.000000001","v":4.0800000000000003E-2},{"$f":"'Sheet1 select'!$B$35*$B$11*$B$9*1000*0.000000001","v":0},{"$f":"IF('Sheet1 select'!$B$17=0,0,(0.00000006*0.7+0.00000003*(0.7+F115*1.1*'Sheet1 select'!$B$26))*F115*$B$9*1000)","v":0},0.33825908593254223,0.8802308585577755,{"$f":"H115+K115+O115+N115+'Sheet1 select'!$B$40*I115+J115+P115","v":0.29259907272269359}]
[null,null,null,null,114,0.76,4.6207999999999999E-2,{"$f":"F116*F116*('Sheet1 select'!$B$25)*$B$4","v":8.0677853422078619E-3},{"$f":"F116*(1-$B$4)*'Sheet1 select'!$B$41","v":0.18183000000000002},{"$f":"F116*F116*('Sheet1 select'!$B$26)*(1-$B$4)","v":0},{"$f":"0.0000005*$B$11*F116*$B$9*((('Sheet1 select'!$B$33+0.5*'Sheet1 select'!$B$32)/(('Sheet1 select'!$B$10-'Sheet1 select'!$B$23)/('Sheet1 select'!$B$27+'Sheet1 select'!$B$8)))+(('Sheet1 select'!$B$33+0.5*'Sheet1 select'!$B$32)/(('Sheet1 select'!$B$23)/('Sheet1 select'!$B$27+'Sheet1 select'!$B$9))))","v":3.9987978424893184E-2},{"$f":"(F116*$B$29)*(('Sheet1 select'!$B$12+'Sheet1 select'!$B$13)*(0.000000001))*$B$9*1000","v":0},2.5912432095971015E-4,{"$f":"$B$11*'Sheet1 select'!$B$29*0.001","v":2.4E-2},{"$f":"'Sheet1 select'!$B$10*'Sheet1 select'!$B$31*$B$9*1000*0.000000001","v":4.0800000000000003E-2},{"$f":"'Sheet1 select'!$B$35*$B$11*$B$9*1000*0.000000001","v":0},{"$f":"IF('Sheet1 select'!$B$17=0,0,(0.00000006*0.7+0.00000003*(0.7+F116*1.1*'Sheet1 select'!$B$26))*F116*$B$9*1000)","v":0},0.34115288808806077,0.88026164214831115,{"$f":"H116+K116+O116+N116+'Sheet1 select'!$B$40*I116+J116+P116","v":0.29468576376710109}]
[null,null,null,null,115,0.76666666666666672,4.7022222222222229E-2,{"$f":"F117*F117*('Sheet1 select'!$B$25)*$B$4","v":8.2099462258155564E-3},{"$f":"F117*(1-$B$4)*'Sheet1 select'!$B$41","v":0.18342500000000003},{"$f":"F117*F117*('Sheet1 select'!$B$26)*(1-$B$4)","v":0},{"$f":"0.0000005*$B$11*F117*$B$9*((('Sheet1 select'!$B$33+0.5*'Sheet1 select'!$B$32)/(('Sheet1 select'!$B$10-'Sheet1 select'!$B$23)/('Sheet1 select'!$B$27+'Sheet1 select'!$B$8)))+(('Sheet1 select'!$B$33+0.5*'Sheet1 select'!$B$32)/(('Sheet1 select'!$B$23)/('Sheet1 select'!$B$27+'Sheet1 select'!$B$9))))","v":4.0338750165462421E-2},{"$f":"(F117*$B$29)*(('Sheet1 select'!$B$12+'Sheet1 select'!$B$13)*(0.000000001))*$B$9*1000","v":0},2.5912432095971015E-4,{"$f":"$B$11*'Sheet1 select'!$B$29*0.001","v":2.4E-2},{"$f":"'Sheet1 select'!$B$10*'Sheet1 select'!$B$31*$B$9*1000*0.000000001","v":4.0800000000000003E-2},{"$f":"'Sheet1 select'!$B$35*$B$11*$B$9*1000*0.000000001","v":0},{"$f":"IF('Sheet1 select'!$B$17=0,0,(0.00000006*0.7+0.00000003*(0.7+F117*1.1*'Sheet1 select'!$B$26))*F117*$B$9*1000)","v":0},0.34405504293445993,0.88028933413078481,{"$f":"H117+K117+O117+N117+'Sheet1 select'!$B$40*I117+J117+P117","v":0.29677369639127804}]
[null,null,null,null,116,0.77333333333333332,4.7843555555555556E-2,{"$f":"F118*F118*('Sheet1 select'!$B$25)*$B$4","v":8.3533486891927498E-3},{"$f":"F118*(1-$B$4)*'Sheet1 select'!$B$41","v":0.18502000000000005},{"$f":"F118*F118*('Sheet1 select'!$B$26)*(1-$B$4)","v":0},{"$f":"0.0000005*$B$11*F118*$B$9*((('Sheet1 select'!$B$33+0.5*'Sheet1 select'!$B$32)/(('Sheet1 select'!$B$10-'Sheet1 select'!$B$23)/('Sheet1 select'!$B$27+'Sheet1 select'!$B$8)))+(('Sheet1 select'!$B$33+0.5*'Sheet1 select'!$B$32)/(('Sheet1 select'!$B$23)/('Sheet1 select'!$B$27+'Sheet1 select'!$B$9))))","v":4.0689521906031652E-2},{"$f":"(F118*$B$29)*(('Sheet1 select'!$B$12+'Sheet1 select'!$B$13)*(0.000000001))*$B$9*1000","v":0},2.5912432095971015E-4,{"$f":"$B$11*'Sheet1 select'!$B$29*0.001","v":2.4E-2},{"$f":"'Sheet1 select'!$B$10*'Sheet1 select'!$B$31*$B$9*1000*0.000000001","v":4.0800000000000003E-2},{"$f":"'Sheet1 select'!$B$35*$B$11*$B$9*1000*0.000000001","v":0},{"$f":"IF('Sheet1 select'!$B$17=0,0,(0.00000006*0.7+0.00000003*(0.7+F118*1.1*'Sheet1 select'!$B$26))*F118*$B$9*1000)","v":0},0.34696555047173971,0.88031401393670261,{"$f":"H118+K118+O118+N118+'Sheet1 select'!$B$40*I118+J118+P118","v":0.29886287059522443}]
[null,null,null,null,117,0.78,4.8672000000000007E-2,{"$f":"F119*F119*('Sheet1 select'!$B$25)*$B$4","v":8.4979927323394454E-3},{"$f":"F119*(1-$B$4)*'Sheet1 select'!$B$41","v":0.18661500000000006},{"$f":"F119*F119*('Sheet1 select'!$B$26)*(1-$B$4)","v":0},{"$f":"0.0000005*$B$11*F119*$B$9*((('Sheet1 select'!$B$33+0.5*'Sheet1 select'!$B$32)/(('Sheet1 select'!$B$10-'Sheet1 select'!$B$23)/('Sheet1 select'!$B$27+'Sheet1 select'!$B$8)))+(('Sheet1 select'!$B$33+0.5*'Sheet1 select'!$B$32)/(('Sheet1 select'!$B$23)/('Sheet1 select'!$B$27+'Sheet1 select'!$B$9))))","v":4.1040293646600889E-2},{"$f":"(F119*$B$29)*(('Sheet1 select'!$B$12+'Sheet1 select'!$B$13)*(0.000000001))*$B$9*1000","v":0},2.5912432095971015E-4,{"$f":"$B$11*'Sheet1 select'!$B$29*0.001","v":2.4E-2},{"$f":"'Sheet1 select'!$B$10*'Sheet1 select'!$B$31*$B$9*1000*0.000000001","v":4.0800000000000003E-2},{"$f":"'Sheet1 select'!$B$35*$B$11*$B$9*1000*0.000000001","v":0},{"$f":"IF('Sheet1 select'!$B$17=0,0,(0.00000006*0.7+0.00000003*(0.7+F119*1.1*'Sheet1 select'!$B$26))*F119*$B$9*1000)","v":0},0.34988441069990012,0.88033575834273592,{"$f":"H119+K119+O119+N119+'Sheet1 select'!$B$40*I119+J119+P119","v":0.30095328637894037}]
[null,null,null,null,118,0.78666666666666663,4.9507555555555555E-2,{"$f":"F120*F120*('Sheet1 select'!$B$25)*$B$4","v":8.6438783552556363E-3},{"$f":"F120*(1-$B$4)*'Sheet1 select'!$B$41","v":0.18821000000000002},{"$f":"F120*F120*('Sheet1 select'!$B$26)*(1-$B$4)","v":0},{"$f":"0.0000005*$B$11*F120*$B$9*((('Sheet1 select'!$B$33+0.5*'Sheet1 select'!$B$32)/(('Sheet1 select'!$B$10-'Sheet1 select'!$B$23)/('Sheet1 select'!$B$27+'Sheet1 select'!$B$8)))+(('Sheet1 select'!$B$33+0.5*'Sheet1 select'!$B$32)/(('Sheet1 select'!$B$23)/('Sheet1 select'!$B$27+'Sheet1 select'!$B$9))))","v":4.139106538717012E-2},{"$f":"(F120*$B$29)*(('Sheet1 select'!$B$12+'Sheet1 select'!$B$13)*(0.000000001))*$B$9*1000","v":0},2.5912432095971015E-4,{"$f":"$B$11*'Sheet1 select'!$B$29*0.001","v":2.4E-2},{"$f":"'Sheet1 select'!$B$10*'Sheet1 select'!$B$31*$B$9*1000*0.000000001","v":4.0800000000000003E-2},{"$f":"'Sheet1 select'!$B$35*$B$11*$B$9*1000*0.000000001","v":0},{"$f":"IF('Sheet1 select'!$B$17=0,0,(0.00000006*0.7+0.00000003*(0.7+F120*1.1*'Sheet1 select'!$B$26))*F120*$B$9*1000)","v":0},0.35281162361894108,0.88035464158068144,{"$f":"H120+K120+O120+N120+'Sheet1 select'!$B$40*I120+J120+P120","v":0.30304494374242574}]
[null,null,null,null,119,0.79333333333333333,5.0350222222222227E-2,{"$f":"F121*F121*('Sheet1 select'!$B$25)*$B$4","v":8.7910055579413313E-3},{"$f":"F121*(1-$B$4)*'Sheet1 select'!$B$41","v":0.18980500000000003},{"$f":"F121*F121*('Sheet1 select'!$B$26)*(1-$B$4)","v":0},{"$f":"0.0000005*$B$11*F121*$B$9*((('Sheet1 select'!$B$33+0.5*'Sheet1 select'!$B$32)/(('Sheet1 select'!$B$10-'Sheet1 select'!$B$23)/('Sheet1 select'!$B$27+'Sheet1 select'!$B$8)))+(('Sheet1 select'!$B$33+0.5*'Sheet1 select'!$B$32)/(('Sheet1 select'!$B$23)/('Sheet1 select'!$B$27+'Sheet1 select'!$B$9))))","v":4.1741837127739372E-2},{"$f":"(F121*$B$29)*(('Sheet1 select'!$B$12+'Sheet1 select'!$B$13)*(0.000000001))*$B$9*1000","v":0},2.5912432095971015E-4,{"$f":"$B$11*'Sheet1 select'!$B$29*0.001","v":2.4E-2},{"$f":"'Sheet1 select'!$B$10*'Sheet1 select'!$B$31*$B$9*1000*0.000000001","v":4.0800000000000003E-2},{"$f":"'Sheet1 select'!$B$35*$B$11*$B$9*1000*0.000000001","v":0},{"$f":"IF('Sheet1 select'!$B$17=0,0,(0.00000006*0.7+0.00000003*(0.7+F121*1.1*'Sheet1 select'!$B$26))*F121*$B$9*1000)","v":0},0.35574718922886267,0.88037073544200195,{"$f":"H121+K121+O121+N121+'Sheet1 select'!$B$40*I121+J121+P121","v":0.30513784268568073}]
[null,null,null,null,120,0.8,5.1200000000000009E-2,{"$f":"F122*F122*('Sheet1 select'!$B$25)*$B$4","v":8.9393743403965234E-3},{"$f":"F122*(1-$B$4)*'Sheet1 select'!$B$41","v":0.19140000000000004},{"$f":"F122*F122*('Sheet1 select'!$B$26)*(1-$B$4)","v":0},{"$f":"0.0000005*$B$11*F122*$B$9*((('Sheet1 select'!$B$33+0.5*'Sheet1 select'!$B$32)/(('Sheet1 select'!$B$10-'Sheet1 select'!$B$23)/('Sheet1 select'!$B$27+'Sheet1 select'!$B$8)))+(('Sheet1 select'!$B$33+0.5*'Sheet1 select'!$B$32)/(('Sheet1 select'!$B$23)/('Sheet1 select'!$B$27+'Sheet1 select'!$B$9))))","v":4.2092608868308609E-2},{"$f":"(F122*$B$29)*(('Sheet1 select'!$B$12+'Sheet1 select'!$B$13)*(0.000000001))*$B$9*1000","v":0},2.5912432095971015E-4,{"$f":"$B$11*'Sheet1 select'!$B$29*0.001","v":2.4E-2},{"$f":"'Sheet1 select'!$B$10*'Sheet1 select'!$B$31*$B$9*1000*0.000000001","v":4.0800000000000003E-2},{"$f":"'Sheet1 select'!$B$35*$B$11*$B$9*1000*0.000000001","v":0},{"$f":"IF('Sheet1 select'!$B$17=0,0,(0.00000006*0.7+0.00000003*(0.7+F122*1.1*'Sheet1 select'!$B$26))*F122*$B$9*1000)","v":0},0.35869110752966493,0.88038410937725553,{"$f":"H122+K122+O122+N122+'Sheet1 select'!$B$40*I122+J122+P122","v":0.30723198320870515}]
[null,null,null,null,121,0.80666666666666664,5.2056888888888882E-2,{"$f":"F123*F123*('Sheet1 select'!$B$25)*$B$4","v":9.0889847026212126E-3},{"$f":"F123*(1-$B$4)*'Sheet1 select'!$B$41","v":0.19299500000000003},{"$f":"F123*F123*('Sheet1 select'!$B$26)*(1-$B$4)","v":0},{"$f":"0.0000005*$B$11*F123*$B$9*((('Sheet1 select'!$B$33+0.5*'Sheet1 select'!$B$32)/(('Sheet1 select'!$B$10-'Sheet1 select'!$B$23)/('Sheet1 select'!$B$27+'Sheet1 select'!$B$8)))+(('Sheet1 select'!$B$33+0.5*'Sheet1 select'!$B$32)/(('Sheet1 select'!$B$23)/('Sheet1 select'!$B$27+'Sheet1 select'!$B$9))))","v":4.2443380608877847E-2},{"$f":"(F123*$B$29)*(('Sheet1 select'!$B$12+'Sheet1 select'!$B$13)*(0.000000001))*$B$9*1000","v":0},2.5912432095971015E-4,{"$f":"$B$11*'Sheet1 select'!$B$29*0.001","v":2.4E-2},{"$f":"'Sheet1 select'!$B$10*'Sheet1 select'!$B$31*$B$9*1000*0.000000001","v":4.0800000000000003E-2},{"$f":"'Sheet1 select'!$B$35*$B$11*$B$9*1000*0.000000001","v":0},{"$f":"IF('Sheet1 select'!$B$17=0,0,(0.00000006*0.7+0.00000003*(0.7+F123*1.1*'Sheet1 select'!$B$26))*F123*$B$9*1000)","v":0},0.3616433785213477,0.88039483059070212,{"$f":"H123+K123+O123+N123+'Sheet1 select'!$B$40*I123+J123+P123","v":0.30932736531149907}]
[null,null,null,null,122,0.81333333333333335,5.2920888888888899E-2,{"$f":"F124*F124*('Sheet1 select'!$B$25)*$B$4","v":9.2398366446154057E-3},{"$f":"F124*(1-$B$4)*'Sheet1 select'!$B$41","v":0.19459000000000004},{"$f":"F124*F124*('Sheet1 select'!$B$26)*(1-$B$4)","v":0},{"$f":"0.0000005*$B$11*F124*$B$9*((('Sheet1 select'!$B$33+0.5*'Sheet1 select'!$B$32)/(('Sheet1 select'!$B$10-'Sheet1 select'!$B$23)/('Sheet1 select'!$B$27+'Sheet1 select'!$B$8)))+(('Sheet1 select'!$B$33+0.5*'Sheet1 select'!$B$32)/(('Sheet1 select'!$B$23)/('Sheet1 select'!$B$27+'Sheet1 select'!$B$9))))","v":4.2794152349447077E-2},{"$f":"(F124*$B$29)*(('Sheet1 select'!$B$12+'Sheet1 select'!$B$13)*(0.000000001))*$B$9*1000","v":0},2.5912432095971015E-4,{"$f":"$B$11*'Sheet1 select'!$B$29*0.001","v":2.4E-2},{"$f":"'Sheet1 select'!$B$10*'Sheet1 select'!$B$31*$B$9*1000*0.000000001","v":4.0800000000000003E-2},{"$f":"'Sheet1 select'!$B$35*$B$11*$B$9*1000*0.000000001","v":0},{"$f":"IF('Sheet1 select'!$B$17=0,0,(0.00000006*0.7+0.00000003*(0.7+F124*1.1*'Sheet1 select'!$B$26))*F124*$B$9*1000)","v":0},0.36460400220391115,0.88040296413035934,{"$f":"H124+K124+O124+N124+'Sheet1 select'!$B$40*I124+J124+P124","v":0.31142398899406254}]
[null,null,null,null,123,0.82,5.3791999999999986E-2,{"$f":"F125*F125*('Sheet1 select'!$B$25)*$B$4","v":9.391930166379096E-3},{"$f":"F125*(1-$B$4)*'Sheet1 select'!$B$41","v":0.19618500000000003},{"$f":"F125*F125*('Sheet1 select'!$B$26)*(1-$B$4)","v":0},{"$f":"0.0000005*$B$11*F125*$B$9*((('Sheet1 select'!$B$33+0.5*'Sheet1 select'!$B$32)/(('Sheet1 select'!$B$10-'Sheet1 select'!$B$23)/('Sheet1 select'!$B$27+'Sheet1 select'!$B$8)))+(('Sheet1 select'!$B$33+0.5*'Sheet1 select'!$B$32)/(('Sheet1 select'!$B$23)/('Sheet1 select'!$B$27+'Sheet1 select'!$B$9))))","v":4.3144924090016322E-2},{"$f":"(F125*$B$29)*(('Sheet1 select'!$B$12+'Sheet1 select'!$B$13)*(0.000000001))*$B$9*1000","v":0},2.5912432095971015E-4,{"$f":"$B$11*'Sheet1 select'!$B$29*0.001","v":2.4E-2},{"$f":"'Sheet1 select'!$B$10*'Sheet1 select'!$B$31*$B$9*1000*0.000000001","v":4.0800000000000003E-2},{"$f":"'Sheet1 select'!$B$35*$B$11*$B$9*1000*0.000000001","v":0},{"$f":"IF('Sheet1 select'!$B$17=0,0,(0.00000006*0.7+0.00000003*(0.7+F125*1.1*'Sheet1 select'!$B$26))*F125*$B$9*1000)","v":0},0.3675729785773551,0.88040857297376052,{"$f":"H125+K125+O125+N125+'Sheet1 select'!$B$40*I125+J125+P125","v":0.31352185425639545}]
[null,null,null,null,124,0.82666666666666666,5.4670222222222224E-2,{"$f":"F126*F126*('Sheet1 select'!$B$25)*$B$4","v":9.5452652679122868E-3},{"$f":"F126*(1-$B$4)*'Sheet1 select'!$B$41","v":0.19778000000000004},{"$f":"F126*F126*('Sheet1 select'!$B$26)*(1-$B$4)","v":0},{"$f":"0.0000005*$B$11*F126*$B$9*((('Sheet1 select'!$B$33+0.5*'Sheet1 select'!$B$32)/(('Sheet1 select'!$B$10-'Sheet1 select'!$B$23)/('Sheet1 select'!$B$27+'Sheet1 select'!$B$8)))+(('Sheet1 select'!$B$33+0.5*'Sheet1 select'!$B$32)/(('Sheet1 select'!$B$23)/('Sheet1 select'!$B$27+'Sheet1 select'!$B$9))))","v":4.349569583058556E-2},{"$f":"(F126*$B$29)*(('Sheet1 select'!$B$12+'Sheet1 select'!$B$13)*(0.000000001))*$B$9*1000","v":0},2.5912432095971015E-4,{"$f":"$B$11*'Sheet1 select'!$B$29*0.001","v":2.4E-2},{"$f":"'Sheet1 select'!$B$10*'Sheet1 select'!$B$31*$B$9*1000*0.000000001","v":4.0800000000000003E-2},{"$f":"'Sheet1 select'!$B$35*$B$11*$B$9*1000*0.000000001","v":0},{"$f":"IF('Sheet1 select'!$B$17=0,0,(0.00000006*0.7+0.00000003*(0.7+F126*1.1*'Sheet1 select'!$B$26))*F126*$B$9*1000)","v":0},0.37055030764167984,0.88041171810965135,{"$f":"H126+K126+O126+N126+'Sheet1 select'!$B$40*I126+J126+P126","v":0.31562096109849791}]
[null,null,null,null,125,0.83333333333333337,5.5555555555555566E-2,{"$f":"F127*F127*('Sheet1 select'!$B$25)*$B$4","v":9.6998419492149782E-3},{"$f":"F127*(1-$B$4)*'Sheet1 select'!$B$41","v":0.19937500000000002},{"$f":"F127*F127*('Sheet1 select'!$B$26)*(1-$B$4)","v":0},{"$f":"0.0000005*$B$11*F127*$B$9*((('Sheet1 select'!$B$33+0.5*'Sheet1 select'!$B$32)/(('Sheet1 select'!$B$10-'Sheet1 select'!$B$23)/('Sheet1 select'!$B$27+'Sheet1 select'!$B$8)))+(('Sheet1 select'!$B$33+0.5*'Sheet1 select'!$B$32)/(('Sheet1 select'!$B$23)/('Sheet1 select'!$B$27+'Sheet1 select'!$B$9))))","v":4.3846467571154797E-2},{"$f":"(F127*$B$29)*(('Sheet1 select'!$B$12+'Sheet1 select'!$B$13)*(0.000000001))*$B$9*1000","v":0},2.5912432095971015E-4,{"$f":"$B$11*'Sheet1 select'!$B$29*0.001","v":2.4E-2},{"$f":"'Sheet1 select'!$B$10*'Sheet1 select'!$B$31*$B$9*1000*0.000000001","v":4.0800000000000003E-2},{"$f":"'Sheet1 select'!$B$35*$B$11*$B$9*1000*0.000000001","v":0},{"$f":"IF('Sheet1 select'!$B$17=0,0,(0.00000006*0.7+0.00000003*(0.7+F127*1.1*'Sheet1 select'!$B$26))*F127*$B$9*1000)","v":0},0.37353598939688509,0.88041245861584894,{"$f":"H127+K127+O127+N127+'Sheet1 select'!$B$40*I127+J127+P127","v":0.31772130952036981}]
[null,null,null,null,126,0.84,5.6447999999999991E-2,{"$f":"F128*F128*('Sheet1 select'!$B$25)*$B$4","v":9.8556602102871649E-3},{"$f":"F128*(1-$B$4)*'Sheet1 select'!$B$41","v":0.20097000000000004},{"$f":"F128*F128*('Sheet1 select'!$B$26)*(1-$B$4)","v":0},{"$f":"0.0000005*$B$11*F128*$B$9*((('Sheet1 select'!$B$33+0.5*'Sheet1 select'!$B$32)/(('Sheet1 select'!$B$10-'Sheet1 select'!$B$23)/('Sheet1 select'!$B$27+'Sheet1 select'!$B$8)))+(('Sheet1 select'!$B$33+0.5*'Sheet1 select'!$B$32)/(('Sheet1 select'!$B$23)/('Sheet1 select'!$B$27+'Sheet1 select'!$B$9))))","v":4.4197239311724035E-2},{"$f":"(F128*$B$29)*(('Sheet1 select'!$B$12+'Sheet1 select'!$B$13)*(0.000000001))*$B$9*1000","v":0},2.5912432095971015E-4,{"$f":"$B$11*'Sheet1 select'!$B$29*0.001","v":2.4E-2},{"$f":"'Sheet1 select'!$B$10*'Sheet1 select'!$B$31*$B$9*1000*0.000000001","v":4.0800000000000003E-2},{"$f":"'Sheet1 select'!$B$35*$B$11*$B$9*1000*0.000000001","v":0},{"$f":"IF('Sheet1 select'!$B$17=0,0,(0.00000006*0.7+0.00000003*(0.7+F128*1.1*'Sheet1 select'!$B$26))*F128*$B$9*1000)","v":0},0.37653002384297096,0.88041085173347233,{"$f":"H128+K128+O128+N128+'Sheet1 select'!$B$40*I128+J128+P128","v":0.31982289952201126}]
[null,null,null,null,127,0.84666666666666668,5.7347555555555561E-2,{"$f":"F129*F129*('Sheet1 select'!$B$25)*$B$4","v":1.0012720051128856E-2},{"$f":"F129*(1-$B$4)*'Sheet1 select'!$B$41","v":0.20256500000000005},{"$f":"F129*F129*('Sheet1 select'!$B$26)*(1-$B$4)","v":0},{"$f":"0.0000005*$B$11*F129*$B$9*((('Sheet1 select'!$B$33+0.5*'Sheet1 select'!$B$32)/(('Sheet1 select'!$B$10-'Sheet1 select'!$B$23)/('Sheet1 select'!$B$27+'Sheet1 select'!$B$8)))+(('Sheet1 select'!$B$33+0.5*'Sheet1 select'!$B$32)/(('Sheet1 select'!$B$23)/('Sheet1 select'!$B$27+'Sheet1 select'!$B$9))))","v":4.4548011052293279E-2},{"$f":"(F129*$B$29)*(('Sheet1 select'!$B$12+'Sheet1 select'!$B$13)*(0.000000001))*$B$9*1000","v":0},2.5912432095971015E-4,{"$f":"$B$11*'Sheet1 select'!$B$29*0.001","v":2.4E-2},{"$f":"'Sheet1 select'!$B$10*'Sheet1 select'!$B$31*$B$9*1000*0.000000001","v":4.0800000000000003E-2},{"$f":"'Sheet1 select'!$B$35*$B$11*$B$9*1000*0.000000001","v":0},{"$f":"IF('Sheet1 select'!$B$17=0,0,(0.00000006*0.7+0.00000003*(0.7+F129*1.1*'Sheet1 select'!$B$26))*F129*$B$9*1000)","v":0},0.37953241097993745,0.88040695293773796,{"$f":"H129+K129+O129+N129+'Sheet1 select'!$B$40*I129+J129+P129","v":0.32192573110342215}]
[null,null,null,null,128,0.85333333333333339,5.8254222222222235E-2,{"$f":"F130*F130*('Sheet1 select'!$B$25)*$B$4","v":1.0171021471740045E-2},{"$f":"F130*(1-$B$4)*'Sheet1 select'!$B$41","v":0.20416000000000006},{"$f":"F130*F130*('Sheet1 select'!$B$26)*(1-$B$4)","v":0},{"$f":"0.0000005*$B$11*F130*$B$9*((('Sheet1 select'!$B$33+0.5*'Sheet1 select'!$B$32)/(('Sheet1 select'!$B$10-'Sheet1 select'!$B$23)/('Sheet1 select'!$B$27+'Sheet1 select'!$B$8)))+(('Sheet1 select'!$B$33+0.5*'Sheet1 select'!$B$32)/(('Sheet1 select'!$B$23)/('Sheet1 select'!$B$27+'Sheet1 select'!$B$9))))","v":4.4898782792862517E-2},{"$f":"(F130*$B$29)*(('Sheet1 select'!$B$12+'Sheet1 select'!$B$13)*(0.000000001))*$B$9*1000","v":0},2.5912432095971015E-4,{"$f":"$B$11*'Sheet1 select'!$B$29*0.001","v":2.4E-2},{"$f":"'Sheet1 select'!$B$10*'Sheet1 select'!$B$31*$B$9*1000*0.000000001","v":4.0800000000000003E-2},{"$f":"'Sheet1 select'!$B$35*$B$11*$B$9*1000*0.000000001","v":0},{"$f":"IF('Sheet1 select'!$B$17=0,0,(0.00000006*0.7+0.00000003*(0.7+F130*1.1*'Sheet1 select'!$B$26))*F130*$B$9*1000)","v":0},0.38254315080778456,0.88040081600550735,{"$f":"H130+K130+O130+N130+'Sheet1 select'!$B$40*I130+J130+P130","v":0.32402980426460259}]
[null,null,null,null,129,0.86,5.9167999999999991E-2,{"$f":"F131*F131*('Sheet1 select'!$B$25)*$B$4","v":1.033056447212073E-2},{"$f":"F131*(1-$B$4)*'Sheet1 select'!$B$41","v":0.20575500000000002},{"$f":"F131*F131*('Sheet1 select'!$B$26)*(1-$B$4)","v":0},{"$f":"0.0000005*$B$11*F131*$B$9*((('Sheet1 select'!$B$33+0.5*'Sheet1 select'!$B$32)/(('Sheet1 select'!$B$10-'Sheet1 select'!$B$23)/('Sheet1 select'!$B$27+'Sheet1 select'!$B$8)))+(('Sheet1 select'!$B$33+0.5*'Sheet1 select'!$B$32)/(('Sheet1 select'!$B$23)/('Sheet1 select'!$B$27+'Sheet1 select'!$B$9))))","v":4.5249554533431748E-2},{"$f":"(F131*$B$29)*(('Sheet1 select'!$B$12+'Sheet1 select'!$B$13)*(0.000000001))*$B$9*1000","v":0},2.5912432095971015E-4,{"$f":"$B$11*'Sheet1 select'!$B$29*0.001","v":2.4E-2},{"$f":"'Sheet1 select'!$B$10*'Sheet1 select'!$B$31*$B$9*1000*0.000000001","v":4.0800000000000003E-2},{"$f":"'Sheet1 select'!$B$35*$B$11*$B$9*1000*0.000000001","v":0},{"$f":"IF('Sheet1 select'!$B$17=0,0,(0.00000006*0.7+0.00000003*(0.7+F131*1.1*'Sheet1 select'!$B$26))*F131*$B$9*1000)","v":0},{"$f":"SUM(G131:P131)+Q131","v":0.38556224332651223},0.8803924930797562,{"$f":"H131+K131+O131+N131+'Sheet1 select'!$B$40*I131+J131+P131","v":0.32613511900555248}]
[null,null,null,null,130,{"$f":"$B$13*E132/300","v":0.8666666666666667},{"$f":"F132*F132*$B$15*0.001*2","v":6.00888888888889E-2},{"$f":"F132*F132*('Sheet1 select'!$B$25)*$B$4","v":1.0491349052270919E-2},{"$f":"F132*(1-$B$4)*'Sheet1 select'!$B$41","v":0.20735000000000003},{"$f":"F132*F132*('Sheet1 select'!$B$26)*(1-$B$4)","v":0},{"$f":"0.0000005*$B$11*F132*$B$9*((('Sheet1 select'!$B$33+0.5*'Sheet1 select'!$B$32)/(('Sheet1 select'!$B$10-'Sheet1 select'!$B$23)/('Sheet1 select'!$B$27+'Sheet1 select'!$B$8)))+(('Sheet1 select'!$B$33+0.5*'Sheet1 select'!$B$32)/(('Sheet1 select'!$B$23)/('Sheet1 select'!$B$27+'Sheet1 select'!$B$9))))","v":4.5600326274000985E-2},{"$f":"(F132*$B$29)*(('Sheet1 select'!$B$12+'Sheet1 select'!$B$13)*(0.000000001))*$B$9*1000","v":0},{"$f":"($B$3^2)*$B$17*0.001","v":2.5912432095971015E-4},{"$f":"$B$11*'Sheet1 select'!$B$29*0.001","v":2.4E-2},{"$f":"'Sheet1 select'!$B$10*'Sheet1 select'!$B$31*$B$9*1000*0.000000001","v":4.0800000000000003E-2},{"$f":"'Sheet1 select'!$B$35*$B$11*$B$9*1000*0.000000001","v":0},{"$f":"IF('Sheet1 select'!$B$17=0,0,(0.00000006*0.7+0.00000003*(0.7+F132*1.1*'Sheet1 select'!$B$26))*F132*$B$9*1000)","v":0},0.38858968853612053,{"$f":"($B$12*F132)/($B$12*F132+R132)","v":0.88038203473113064},{"$f":"H132+K132+O132+N132+'Sheet1 select'!$B$40*I132+J132+P132","v":0.32824167532627191}]
[null,null,null,null,131,0.87333333333333329,6.1016888888888877E-2,{"$f":"F133*F133*('Sheet1 select'!$B$25)*$B$4","v":1.0653375212190603E-2},{"$f":"F133*(1-$B$4)*'Sheet1 select'!$B$41","v":0.20894500000000005},{"$f":"F133*F133*('Sheet1 select'!$B$26)*(1-$B$4)","v":0},{"$f":"0.0000005*$B$11*F133*$B$9*((('Sheet1 select'!$B$33+0.5*'Sheet1 select'!$B$32)/(('Sheet1 select'!$B$10-'Sheet1 select'!$B$23)/('Sheet1 select'!$B$27+'Sheet1 select'!$B$8)))+(('Sheet1 select'!$B$33+0.5*'Sheet1 select'!$B$32)/(('Sheet1 select'!$B$23)/('Sheet1 select'!$B$27+'Sheet1 select'!$B$9))))","v":4.5951098014570223E-2},{"$f":"(F133*$B$29)*(('Sheet1 select'!$B$12+'Sheet1 select'!$B$13)*(0.000000001))*$B$9*1000","v":0},2.5912432095971015E-4,{"$f":"$B$11*'Sheet1 select'!$B$29*0.001","v":2.4E-2},{"$f":"'Sheet1 select'!$B$10*'Sheet1 select'!$B$31*$B$9*1000*0.000000001","v":4.0800000000000003E-2},{"$f":"'Sheet1 select'!$B$35*$B$11*$B$9*1000*0.000000001","v":0},{"$f":"IF('Sheet1 select'!$B$17=0,0,(0.00000006*0.7+0.00000003*(0.7+F133*1.1*'Sheet1 select'!$B$26))*F133*$B$9*1000)","v":0},0.39162548643660944,0.88036949001673992,{"$f":"H133+K133+O133+N133+'Sheet1 select'!$B$40*I133+J133+P133","v":0.33034947322676089}]
[null,null,null,null,132,0.88,6.1952E-2,{"$f":"F134*F134*('Sheet1 select'!$B$25)*$B$4","v":1.0816642951879792E-2},{"$f":"F134*(1-$B$4)*'Sheet1 select'!$B$41","v":0.21054000000000006},{"$f":"F134*F134*('Sheet1 select'!$B$26)*(1-$B$4)","v":0},{"$f":"0.0000005*$B$11*F134*$B$9*((('Sheet1 select'!$B$33+0.5*'Sheet1 select'!$B$32)/(('Sheet1 select'!$B$10-'Sheet1 select'!$B$23)/('Sheet1 select'!$B$27+'Sheet1 select'!$B$8)))+(('Sheet1 select'!$B$33+0.5*'Sheet1 select'!$B$32)/(('Sheet1 select'!$B$23)/('Sheet1 select'!$B$27+'Sheet1 select'!$B$9))))","v":4.6301869755139467E-2},{"$f":"(F134*$B$29)*(('Sheet1 select'!$B$12+'Sheet1 select'!$B$13)*(0.000000001))*$B$9*1000","v":0},2.5912432095971015E-4,{"$f":"$B$11*'Sheet1 select'!$B$29*0.001","v":2.4E-2},{"$f":"'Sheet1 select'!$B$10*'Sheet1 select'!$B$31*$B$9*1000*0.000000001","v":4.0800000000000003E-2},{"$f":"'Sheet1 select'!$B$35*$B$11*$B$9*1000*0.000000001","v":0},{"$f":"IF('Sheet1 select'!$B$17=0,0,(0.00000006*0.7+0.00000003*(0.7+F134*1.1*'Sheet1 select'!$B$26))*F134*$B$9*1000)","v":0},0.39466963702797903,0.88035490653633119,{"$f":"H134+K134+O134+N134+'Sheet1 select'!$B$40*I134+J134+P134","v":0.33245851270701932}]
[null,null,null,null,133,0.88666666666666671,6.2894222222222226E-2,{"$f":"F135*F135*('Sheet1 select'!$B$25)*$B$4","v":1.0981152271338479E-2},{"$f":"F135*(1-$B$4)*'Sheet1 select'!$B$41","v":0.21213500000000005},{"$f":"F135*F135*('Sheet1 select'!$B$26)*(1-$B$4)","v":0},{"$f":"0.0000005*$B$11*F135*$B$9*((('Sheet1 select'!$B$33+0.5*'Sheet1 select'!$B$32)/(('Sheet1 select'!$B$10-'Sheet1 select'!$B$23)/('Sheet1 select'!$B$27+'Sheet1 select'!$B$8)))+(('Sheet1 select'!$B$33+0.5*'Sheet1 select'!$B$32)/(('Sheet1 select'!$B$23)/('Sheet1 select'!$B$27+'Sheet1 select'!$B$9))))","v":4.6652641495708712E-2},{"$f":"(F135*$B$29)*(('Sheet1 select'!$B$12+'Sheet1 select'!$B$13)*(0.000000001))*$B$9*1000","v":0},2.5912432095971015E-4,{"$f":"$B$11*'Sheet1 select'!$B$29*0.001","v":2.4E-2},{"$f":"'Sheet1 select'!$B$10*'Sheet1 select'!$B$31*$B$9*1000*0.000000001","v":4.0800000000000003E-2},{"$f":"'Sheet1 select'!$B$35*$B$11*$B$9*1000*0.000000001","v":0},{"$f":"IF('Sheet1 select'!$B$17=0,0,(0.00000006*0.7+0.00000003*(0.7+F135*1.1*'Sheet1 select'!$B$26))*F135*$B$9*1000)","v":0},0.39772214031022918,0.88033833048598142,{"$f":"H135+K135+O135+N135+'Sheet1 select'!$B$40*I135+J135+P135","v":0.33456879376704723}]
[null,null,null,null,134,0.89333333333333331,6.3843555555555556E-2,{"$f":"F136*F136*('Sheet1 select'!$B$25)*$B$4","v":1.1146903170566663E-2},{"$f":"F136*(1-$B$4)*'Sheet1 select'!$B$41","v":0.21373000000000003},{"$f":"F136*F136*('Sheet1 select'!$B$26)*(1-$B$4)","v":0},{"$f":"0.0000005*$B$11*F136*$B$9*((('Sheet1 select'!$B$33+0.5*'Sheet1 select'!$B$32)/(('Sheet1 select'!$B$10-'Sheet1 select'!$B$23)/('Sheet1 select'!$B$27+'Sheet1 select'!$B$8)))+(('Sheet1 select'!$B$33+0.5*'Sheet1 select'!$B$32)/(('Sheet1 select'!$B$23)/('Sheet1 select'!$B$27+'Sheet1 select'!$B$9))))","v":4.7003413236277942E-2},{"$f":"(F136*$B$29)*(('Sheet1 select'!$B$12+'Sheet1 select'!$B$13)*(0.000000001))*$B$9*1000","v":0},2.5912432095971015E-4,{"$f":"$B$11*'Sheet1 select'!$B$29*0.001","v":2.4E-2},{"$f":"'Sheet1 select'!$B$10*'Sheet1 select'!$B$31*$B$9*1000*0.000000001","v":4.0800000000000003E-2},{"$f":"'Sheet1 select'!$B$35*$B$11*$B$9*1000*0.000000001","v":0},{"$f":"IF('Sheet1 select'!$B$17=0,0,(0.00000006*0.7+0.00000003*(0.7+F136*1.1*'Sheet1 select'!$B$26))*F136*$B$9*1000)","v":0},0.40078299628335989,0.880319806709432,{"$f":"H136+K136+O136+N136+'Sheet1 select'!$B$40*I136+J136+P136","v":0.33668031640684465}]
[null,null,null,null,135,0.9,6.480000000000001E-2,{"$f":"F137*F137*('Sheet1 select'!$B$25)*$B$4","v":1.1313895649564349E-2},{"$f":"F137*(1-$B$4)*'Sheet1 select'!$B$41","v":0.21532500000000004},{"$f":"F137*F137*('Sheet1 select'!$B$26)*(1-$B$4)","v":0},{"$f":"0.0000005*$B$11*F137*$B$9*((('Sheet1 select'!$B$33+0.5*'Sheet1 select'!$B$32)/(('Sheet1 select'!$B$10-'Sheet1 select'!$B$23)/('Sheet1 select'!$B$27+'Sheet1 select'!$B$8)))+(('Sheet1 select'!$B$33+0.5*'Sheet1 select'!$B$32)/(('Sheet1 select'!$B$23)/('Sheet1 select'!$B$27+'Sheet1 select'!$B$9))))","v":4.735418497684718E-2},{"$f":"(F137*$B$29)*(('Sheet1 select'!$B$12+'Sheet1 select'!$B$13)*(0.000000001))*$B$9*1000","v":0},2.5912432095971015E-4,{"$f":"$B$11*'Sheet1 select'!$B$29*0.001","v":2.4E-2},{"$f":"'Sheet1 select'!$B$10*'Sheet1 select'!$B$31*$B$9*1000*0.000000001","v":4.0800000000000003E-2},{"$f":"'Sheet1 select'!$B$35*$B$11*$B$9*1000*0.000000001","v":0},{"$f":"IF('Sheet1 select'!$B$17=0,0,(0.00000006*0.7+0.00000003*(0.7+F137*1.1*'Sheet1 select'!$B$26))*F137*$B$9*1000)","v":0},0.40385220494737128,0.88029937874718767,{"$f":"H137+K137+O137+N137+'Sheet1 select'!$B$40*I137+J137+P137","v":0.33879308062641156}]
[null,null,null,null,136,0.90666666666666662,6.5763555555555547E-2,{"$f":"F138*F138*('Sheet1 select'!$B$25)*$B$4","v":1.1482129708331531E-2},{"$f":"F138*(1-$B$4)*'Sheet1 select'!$B$41","v":0.21692000000000006},{"$f":"F138*F138*('Sheet1 select'!$B$26)*(1-$B$4)","v":0},{"$f":"0.0000005*$B$11*F138*$B$9*((('Sheet1 select'!$B$33+0.5*'Sheet1 select'!$B$32)/(('Sheet1 select'!$B$10-'Sheet1 select'!$B$23)/('Sheet1 select'!$B$27+'Sheet1 select'!$B$8)))+(('Sheet1 select'!$B$33+0.5*'Sheet1 select'!$B$32)/(('Sheet1 select'!$B$23)/('Sheet1 select'!$B$27+'Sheet1 select'!$B$9))))","v":4.7704956717416418E-2},{"$f":"(F138*$B$29)*(('Sheet1 select'!$B$12+'Sheet1 select'!$B$13)*(0.000000001))*$B$9*1000","v":0},2.5912432095971015E-4,{"$f":"$B$11*'Sheet1 select'!$B$29*0.001","v":2.4E-2},{"$f":"'Sheet1 select'!$B$10*'Sheet1 select'!$B$31*$B$9*1000*0.000000001","v":4.0800000000000003E-2},{"$f":"'Sheet1 select'!$B$35*$B$11*$B$9*1000*0.000000001","v":0},{"$f":"IF('Sheet1 select'!$B$17=0,0,(0.00000006*0.7+0.00000003*(0.7+F138*1.1*'Sheet1 select'!$B$26))*F138*$B$9*1000)","v":0},0.4069297663022633,0.88027708888349077,{"$f":"H138+K138+O138+N138+'Sheet1 select'!$B$40*I138+J138+P138","v":0.34090708642574802}]
[null,null,null,null,137,0.91333333333333333,6.6734222222222236E-2,{"$f":"F139*F139*('Sheet1 select'!$B$25)*$B$4","v":1.1651605346868217E-2},{"$f":"F139*(1-$B$4)*'Sheet1 select'!$B$41","v":0.21851500000000004},{"$f":"F139*F139*('Sheet1 select'!$B$26)*(1-$B$4)","v":0},{"$f":"0.0000005*$B$11*F139*$B$9*((('Sheet1 select'!$B$33+0.5*'Sheet1 select'!$B$32)/(('Sheet1 select'!$B$10-'Sheet1 select'!$B$23)/('Sheet1 select'!$B$27+'Sheet1 select'!$B$8)))+(('Sheet1 select'!$B$33+0.5*'Sheet1 select'!$B$32)/(('Sheet1 select'!$B$23)/('Sheet1 select'!$B$27+'Sheet1 select'!$B$9))))","v":4.8055728457985655E-2},{"$f":"(F139*$B$29)*(('Sheet1 select'!$B$12+'Sheet1 select'!$B$13)*(0.000000001))*$B$9*1000","v":0},2.5912432095971015E-4,{"$f":"$B$11*'Sheet1 select'!$B$29*0.001","v":2.4E-2},{"$f":"'Sheet1 select'!$B$10*'Sheet1 select'!$B$31*$B$9*1000*0.000000001","v":4.0800000000000003E-2},{"$f":"'Sheet1 select'!$B$35*$B$11*$B$9*1000*0.000000001","v":0},{"$f":"IF('Sheet1 select'!$B$17=0,0,(0.00000006*0.7+0.00000003*(0.7+F139*1.1*'Sheet1 select'!$B$26))*F139*$B$9*1000)","v":0},0.41001568034803593,0.8802529781912799,{"$f":"H139+K139+O139+N139+'Sheet1 select'!$B$40*I139+J139+P139","v":0.34302233380485392}]
[null,null,null,null,138,0.92,6.7712000000000008E-2,{"$f":"F140*F140*('Sheet1 select'!$B$25)*$B$4","v":1.1822322565174402E-2},{"$f":"F140*(1-$B$4)*'Sheet1 select'!$B$41","v":0.22011000000000006},{"$f":"F140*F140*('Sheet1 select'!$B$26)*(1-$B$4)","v":0},{"$f":"0.0000005*$B$11*F140*$B$9*((('Sheet1 select'!$B$33+0.5*'Sheet1 select'!$B$32)/(('Sheet1 select'!$B$10-'Sheet1 select'!$B$23)/('Sheet1 select'!$B$27+'Sheet1 select'!$B$8)))+(('Sheet1 select'!$B$33+0.5*'Sheet1 select'!$B$32)/(('Sheet1 select'!$B$23)/('Sheet1 select'!$B$27+'Sheet1 select'!$B$9))))","v":4.84065001985549E-2},{"$f":"(F140*$B$29)*(('Sheet1 select'!$B$12+'Sheet1 select'!$B$13)*(0.000000001))*$B$9*1000","v":0},2.5912432095971015E-4,{"$f":"$B$11*'Sheet1 select'!$B$29*0.001","v":2.4E-2},{"$f":"'Sheet1 select'!$B$10*'Sheet1 select'!$B$31*$B$9*1000*0.000000001","v":4.0800000000000003E-2},{"$f":"'Sheet1 select'!$B$35*$B$11*$B$9*1000*0.000000001","v":0},{"$f":"IF('Sheet1 select'!$B$17=0,0,(0.00000006*0.7+0.00000003*(0.7+F140*1.1*'Sheet1 select'!$B$26))*F140*$B$9*1000)","v":0},0.41310994708468912,0.88022708657522952,{"$f":"H140+K140+O140+N140+'Sheet1 select'!$B$40*I140+J140+P140","v":0.34513882276372937}]
[null,null,null,null,139,0.92666666666666664,6.8696888888888891E-2,{"$f":"F141*F141*('Sheet1 select'!$B$25)*$B$4","v":1.1994281363250084E-2},{"$f":"F141*(1-$B$4)*'Sheet1 select'!$B$41","v":0.22170500000000004},{"$f":"F141*F141*('Sheet1 select'!$B$26)*(1-$B$4)","v":0},{"$f":"0.0000005*$B$11*F141*$B$9*((('Sheet1 select'!$B$33+0.5*'Sheet1 select'!$B$32)/(('Sheet1 select'!$B$10-'Sheet1 select'!$B$23)/('Sheet1 select'!$B$27+'Sheet1 select'!$B$8)))+(('Sheet1 select'!$B$33+0.5*'Sheet1 select'!$B$32)/(('Sheet1 select'!$B$23)/('Sheet1 select'!$B$27+'Sheet1 select'!$B$9))))","v":4.875727193912413E-2},{"$f":"(F141*$B$29)*(('Sheet1 select'!$B$12+'Sheet1 select'!$B$13)*(0.000000001))*$B$9*1000","v":0},2.5912432095971015E-4,{"$f":"$B$11*'Sheet1 select'!$B$29*0.001","v":2.4E-2},{"$f":"'Sheet1 select'!$B$10*'Sheet1 select'!$B$31*$B$9*1000*0.000000001","v":4.0800000000000003E-2},{"$f":"'Sheet1 select'!$B$35*$B$11*$B$9*1000*0.000000001","v":0},{"$f":"IF('Sheet1 select'!$B$17=0,0,(0.00000006*0.7+0.00000003*(0.7+F141*1.1*'Sheet1 select'!$B$26))*F141*$B$9*1000)","v":0},0.41621256651222283,0.8801994528129693,{"$f":"H141+K141+O141+N141+'Sheet1 select'!$B$40*I141+J141+P141","v":0.34725655330237426}]
[null,null,null,null,140,0.93333333333333335,6.9688888888888897E-2,{"$f":"F142*F142*('Sheet1 select'!$B$25)*$B$4","v":1.2167481741095268E-2},{"$f":"F142*(1-$B$4)*'Sheet1 select'!$B$41","v":0.22330000000000003},{"$f":"F142*F142*('Sheet1 select'!$B$26)*(1-$B$4)","v":0},{"$f":"0.0000005*$B$11*F142*$B$9*((('Sheet1 select'!$B$33+0.5*'Sheet1 select'!$B$32)/(('Sheet1 select'!$B$10-'Sheet1 select'!$B$23)/('Sheet1 select'!$B$27+'Sheet1 select'!$B$8)))+(('Sheet1 select'!$B$33+0.5*'Sheet1 select'!$B$32)/(('Sheet1 select'!$B$23)/('Sheet1 select'!$B$27+'Sheet1 select'!$B$9))))","v":4.9108043679693382E-2},{"$f":"(F142*$B$29)*(('Sheet1 select'!$B$12+'Sheet1 select'!$B$13)*(0.000000001))*$B$9*1000","v":0},2.5912432095971015E-4,{"$f":"$B$11*'Sheet1 select'!$B$29*0.001","v":2.4E-2},{"$f":"'Sheet1 select'!$B$10*'Sheet1 select'!$B$31*$B$9*1000*0.000000001","v":4.0800000000000003E-2},{"$f":"'Sheet1 select'!$B$35*$B$11*$B$9*1000*0.000000001","v":0},{"$f":"IF('Sheet1 select'!$B$17=0,0,(0.00000006*0.7+0.00000003*(0.7+F142*1.1*'Sheet1 select'!$B$26))*F142*$B$9*1000)","v":0},0.41932353863063732,0.88017011459456884,{"$f":"H142+K142+O142+N142+'Sheet1 select'!$B$40*I142+J142+P142","v":0.34937552542078865}]
[null,null,null,null,141,0.94,7.0687999999999987E-2,{"$f":"F143*F143*('Sheet1 select'!$B$25)*$B$4","v":1.2341923698709947E-2},{"$f":"F143*(1-$B$4)*'Sheet1 select'!$B$41","v":0.22489500000000001},{"$f":"F143*F143*('Sheet1 select'!$B$26)*(1-$B$4)","v":0},{"$f":"0.0000005*$B$11*F143*$B$9*((('Sheet1 select'!$B$33+0.5*'Sheet1 select'!$B$32)/(('Sheet1 select'!$B$10-'Sheet1 select'!$B$23)/('Sheet1 select'!$B$27+'Sheet1 select'!$B$8)))+(('Sheet1 select'!$B$33+0.5*'Sheet1 select'!$B$32)/(('Sheet1 select'!$B$23)/('Sheet1 select'!$B$27+'Sheet1 select'!$B$9))))","v":4.9458815420262613E-2},{"$f":"(F143*$B$29)*(('Sheet1 select'!$B$12+'Sheet1 select'!$B$13)*(0.000000001))*$B$9*1000","v":0},2.5912432095971015E-4,{"$f":"$B$11*'Sheet1 select'!$B$29*0.001","v":2.4E-2},{"$f":"'Sheet1 select'!$B$10*'Sheet1 select'!$B$31*$B$9*1000*0.000000001","v":4.0800000000000003E-2},{"$f":"'Sheet1 select'!$B$35*$B$11*$B$9*1000*0.000000001","v":0},{"$f":"IF('Sheet1 select'!$B$17=0,0,(0.00000006*0.7+0.00000003*(0.7+F143*1.1*'Sheet1 select'!$B$26))*F143*$B$9*1000)","v":0},0.42244286343993226,0.88013910856037569,{"$f":"H143+K143+O143+N143+'Sheet1 select'!$B$40*I143+J143+P143","v":0.35149573911897258}]
[null,null,null,null,142,0.94666666666666666,7.1694222222222229E-2,{"$f":"F144*F144*('Sheet1 select'!$B$25)*$B$4","v":1.2517607236094129E-2},{"$f":"F144*(1-$B$4)*'Sheet1 select'!$B$41","v":0.22649000000000005},{"$f":"F144*F144*('Sheet1 select'!$B$26)*(1-$B$4)","v":0},{"$f":"0.0000005*$B$11*F144*$B$9*((('Sheet1 select'!$B$33+0.5*'Sheet1 select'!$B$32)/(('Sheet1 select'!$B$10-'Sheet1 select'!$B$23)/('Sheet1 select'!$B$27+'Sheet1 select'!$B$8)))+(('Sheet1 select'!$B$33+0.5*'Sheet1 select'!$B$32)/(('Sheet1 select'!$B$23)/('Sheet1 select'!$B$27+'Sheet1 select'!$B$9))))","v":4.980958716083185E-2},{"$f":"(F144*$B$29)*(('Sheet1 select'!$B$12+'Sheet1 select'!$B$13)*(0.000000001))*$B$9*1000","v":0},2.5912432095971015E-4,{"$f":"$B$11*'Sheet1 select'!$B$29*0.001","v":2.4E-2},{"$f":"'Sheet1 select'!$B$10*'Sheet1 select'!$B$31*$B$9*1000*0.000000001","v":4.0800000000000003E-2},{"$f":"'Sheet1 select'!$B$35*$B$11*$B$9*1000*0.000000001","v":0},{"$f":"IF('Sheet1 select'!$B$17=0,0,(0.00000006*0.7+0.00000003*(0.7+F144*1.1*'Sheet1 select'!$B$26))*F144*$B$9*1000)","v":0},0.42557054094010799,0.8801064703372834,{"$f":"H144+K144+O144+N144+'Sheet1 select'!$B$40*I144+J144+P144","v":0.35361719439692607}]
[null,null,null,null,143,0.95333333333333337,7.2707555555555553E-2,{"$f":"F145*F145*('Sheet1 select'!$B$25)*$B$4","v":1.2694532353247813E-2},{"$f":"F145*(1-$B$4)*'Sheet1 select'!$B$41","v":0.22808500000000007},{"$f":"F145*F145*('Sheet1 select'!$B$26)*(1-$B$4)","v":0},{"$f":"0.0000005*$B$11*F145*$B$9*((('Sheet1 select'!$B$33+0.5*'Sheet1 select'!$B$32)/(('Sheet1 select'!$B$10-'Sheet1 select'!$B$23)/('Sheet1 select'!$B$27+'Sheet1 select'!$B$8)))+(('Sheet1 select'!$B$33+0.5*'Sheet1 select'!$B$32)/(('Sheet1 select'!$B$23)/('Sheet1 select'!$B$27+'Sheet1 select'!$B$9))))","v":5.0160358901401088E-2},{"$f":"(F145*$B$29)*(('Sheet1 select'!$B$12+'Sheet1 select'!$B$13)*(0.000000001))*$B$9*1000","v":0},2.5912432095971015E-4,{"$f":"$B$11*'Sheet1 select'!$B$29*0.001","v":2.4E-2},{"$f":"'Sheet1 select'!$B$10*'Sheet1 select'!$B$31*$B$9*1000*0.000000001","v":4.0800000000000003E-2},{"$f":"'Sheet1 select'!$B$35*$B$11*$B$9*1000*0.000000001","v":0},{"$f":"IF('Sheet1 select'!$B$17=0,0,(0.00000006*0.7+0.00000003*(0.7+F145*1.1*'Sheet1 select'!$B$26))*F145*$B$9*1000)","v":0},0.42870657113116423,0.88007223457350625,{"$f":"H145+K145+O145+N145+'Sheet1 select'!$B$40*I145+J145+P145","v":0.355739891254649}]
[null,null,null,null,144,0.96,7.3728000000000002E-2,{"$f":"F146*F146*('Sheet1 select'!$B$25)*$B$4","v":1.2872699050170992E-2},{"$f":"F146*(1-$B$4)*'Sheet1 select'!$B$41","v":0.22968000000000002},{"$f":"F146*F146*('Sheet1 select'!$B$26)*(1-$B$4)","v":0},{"$f":"0.0000005*$B$11*F146*$B$9*((('Sheet1 select'!$B$33+0.5*'Sheet1 select'!$B$32)/(('Sheet1 select'!$B$10-'Sheet1 select'!$B$23)/('Sheet1 select'!$B$27+'Sheet1 select'!$B$8)))+(('Sheet1 select'!$B$33+0.5*'Sheet1 select'!$B$32)/(('Sheet1 select'!$B$23)/('Sheet1 select'!$B$27+'Sheet1 select'!$B$9))))","v":5.0511130641970318E-2},{"$f":"(F146*$B$29)*(('Sheet1 select'!$B$12+'Sheet1 select'!$B$13)*(0.000000001))*$B$9*1000","v":0},2.5912432095971015E-4,{"$f":"$B$11*'Sheet1 select'!$B$29*0.001","v":2.4E-2},{"$f":"'Sheet1 select'!$B$10*'Sheet1 select'!$B$31*$B$9*1000*0.000000001","v":4.0800000000000003E-2},{"$f":"'Sheet1 select'!$B$35*$B$11*$B$9*1000*0.000000001","v":0},{"$f":"IF('Sheet1 select'!$B$17=0,0,(0.00000006*0.7+0.00000003*(0.7+F146*1.1*'Sheet1 select'!$B$26))*F146*$B$9*1000)","v":0},0.43185095401310108,0.88003643497193251,{"$f":"H146+K146+O146+N146+'Sheet1 select'!$B$40*I146+J146+P146","v":0.35786382969214137}]
[null,null,null,null,145,0.96666666666666667,7.4755555555555561E-2,{"$f":"F147*F147*('Sheet1 select'!$B$25)*$B$4","v":1.3052107326863672E-2},{"$f":"F147*(1-$B$4)*'Sheet1 select'!$B$41","v":0.23127500000000004},{"$f":"F147*F147*('Sheet1 select'!$B$26)*(1-$B$4)","v":0},{"$f":"0.0000005*$B$11*F147*$B$9*((('Sheet1 select'!$B$33+0.5*'Sheet1 select'!$B$32)/(('Sheet1 select'!$B$10-'Sheet1 select'!$B$23)/('Sheet1 select'!$B$27+'Sheet1 select'!$B$8)))+(('Sheet1 select'!$B$33+0.5*'Sheet1 select'!$B$32)/(('Sheet1 select'!$B$23)/('Sheet1 select'!$B$27+'Sheet1 select'!$B$9))))","v":5.086190238253957E-2},{"$f":"(F147*$B$29)*(('Sheet1 select'!$B$12+'Sheet1 select'!$B$13)*(0.000000001))*$B$9*1000","v":0},2.5912432095971015E-4,{"$f":"$B$11*'Sheet1 select'!$B$29*0.001","v":2.4E-2},{"$f":"'Sheet1 select'!$B$10*'Sheet1 select'!$B$31*$B$9*1000*0.000000001","v":4.0800000000000003E-2},{"$f":"'Sheet1 select'!$B$35*$B$11*$B$9*1000*0.000000001","v":0},{"$f":"IF('Sheet1 select'!$B$17=0,0,(0.00000006*0.7+0.00000003*(0.7+F147*1.1*'Sheet1 select'!$B$26))*F147*$B$9*1000)","v":0},0.43500368958591856,0.87999910432212314,{"$f":"H147+K147+O147+N147+'Sheet1 select'!$B$40*I147+J147+P147","v":0.35998900970940328}]
[null,null,null,null,146,0.97333333333333338,7.5790222222222231E-2,{"$f":"F148*F148*('Sheet1 select'!$B$25)*$B$4","v":1.3232757183325854E-2},{"$f":"F148*(1-$B$4)*'Sheet1 select'!$B$41","v":0.23287000000000005},{"$f":"F148*F148*('Sheet1 select'!$B$26)*(1-$B$4)","v":0},{"$f":"0.0000005*$B$11*F148*$B$9*((('Sheet1 select'!$B$33+0.5*'Sheet1 select'!$B$32)/(('Sheet1 select'!$B$10-'Sheet1 select'!$B$23)/('Sheet1 select'!$B$27+'Sheet1 select'!$B$8)))+(('Sheet1 select'!$B$33+0.5*'Sheet1 select'!$B$32)/(('Sheet1 select'!$B$23)/('Sheet1 select'!$B$27+'Sheet1 select'!$B$9))))","v":5.1212674123108808E-2},{"$f":"(F148*$B$29)*(('Sheet1 select'!$B$12+'Sheet1 select'!$B$13)*(0.000000001))*$B$9*1000","v":0},2.5912432095971015E-4,{"$f":"$B$11*'Sheet1 select'!$B$29*0.001","v":2.4E-2},{"$f":"'Sheet1 select'!$B$10*'Sheet1 select'!$B$31*$B$9*1000*0.000000001","v":4.0800000000000003E-2},{"$f":"'Sheet1 select'!$B$35*$B$11*$B$9*1000*0.000000001","v":0},{"$f":"IF('Sheet1 select'!$B$17=0,0,(0.00000006*0.7+0.00000003*(0.7+F148*1.1*'Sheet1 select'!$B$26))*F148*$B$9*1000)","v":0},0.43816477784961666,0.87996027453101777,{"$f":"H148+K148+O148+N148+'Sheet1 select'!$B$40*I148+J148+P148","v":0.36211543130643475}]
[null,null,null,null,147,0.98,7.6831999999999998E-2,{"$f":"F149*F149*('Sheet1 select'!$B$25)*$B$4","v":1.341464861955753E-2},{"$f":"F149*(1-$B$4)*'Sheet1 select'!$B$41","v":0.23446500000000001},{"$f":"F149*F149*('Sheet1 select'!$B$26)*(1-$B$4)","v":0},{"$f":"0.0000005*$B$11*F149*$B$9*((('Sheet1 select'!$B$33+0.5*'Sheet1 select'!$B$32)/(('Sheet1 select'!$B$10-'Sheet1 select'!$B$23)/('Sheet1 select'!$B$27+'Sheet1 select'!$B$8)))+(('Sheet1 select'!$B$33+0.5*'Sheet1 select'!$B$32)/(('Sheet1 select'!$B$23)/('Sheet1 select'!$B$27+'Sheet1 select'!$B$9))))","v":5.1563445863678045E-2},{"$f":"(F149*$B$29)*(('Sheet1 select'!$B$12+'Sheet1 select'!$B$13)*(0.000000001))*$B$9*1000","v":0},2.5912432095971015E-4,{"$f":"$B$11*'Sheet1 select'!$B$29*0.001","v":2.4E-2},{"$f":"'Sheet1 select'!$B$10*'Sheet1 select'!$B$31*$B$9*1000*0.000000001","v":4.0800000000000003E-2},{"$f":"'Sheet1 select'!$B$35*$B$11*$B$9*1000*0.000000001","v":0},{"$f":"IF('Sheet1 select'!$B$17=0,0,(0.00000006*0.7+0.00000003*(0.7+F149*1.1*'Sheet1 select'!$B$26))*F149*$B$9*1000)","v":0},0.44133421880419532,0.87991997665241239,{"$f":"H149+K149+O149+N149+'Sheet1 select'!$B$40*I149+J149+P149","v":0.36424309448323555}]
[null,null,null,null,148,0.98666666666666669,7.7880888888888902E-2,{"$f":"F150*F150*('Sheet1 select'!$B$25)*$B$4","v":1.3597781635558711E-2},{"$f":"F150*(1-$B$4)*'Sheet1 select'!$B$41","v":0.23606000000000008},{"$f":"F150*F150*('Sheet1 select'!$B$26)*(1-$B$4)","v":0},{"$f":"0.0000005*$B$11*F150*$B$9*((('Sheet1 select'!$B$33+0.5*'Sheet1 select'!$B$32)/(('Sheet1 select'!$B$10-'Sheet1 select'!$B$23)/('Sheet1 select'!$B$27+'Sheet1 select'!$B$8)))+(('Sheet1 select'!$B$33+0.5*'Sheet1 select'!$B$32)/(('Sheet1 select'!$B$23)/('Sheet1 select'!$B$27+'Sheet1 select'!$B$9))))","v":5.1914217604247276E-2},{"$f":"(F150*$B$29)*(('Sheet1 select'!$B$12+'Sheet1 select'!$B$13)*(0.000000001))*$B$9*1000","v":0},2.5912432095971015E-4,{"$f":"$B$11*'Sheet1 select'!$B$29*0.001","v":2.4E-2},{"$f":"'Sheet1 select'!$B$10*'Sheet1 select'!$B$31*$B$9*1000*0.000000001","v":4.0800000000000003E-2},{"$f":"'Sheet1 select'!$B$35*$B$11*$B$9*1000*0.000000001","v":0},{"$f":"IF('Sheet1 select'!$B$17=0,0,(0.00000006*0.7+0.00000003*(0.7+F150*1.1*'Sheet1 select'!$B$26))*F150*$B$9*1000)","v":0},0.44451201244965466,0.87987824091526246,{"$f":"H150+K150+O150+N150+'Sheet1 select'!$B$40*I150+J150+P150","v":0.36637199923980607}]
[null,null,null,null,149,0.99333333333333329,7.8936888888888876E-2,{"$f":"F151*F151*('Sheet1 select'!$B$25)*$B$4","v":1.3782156231329388E-2},{"$f":"F151*(1-$B$4)*'Sheet1 select'!$B$41","v":0.23765500000000003},{"$f":"F151*F151*('Sheet1 select'!$B$26)*(1-$B$4)","v":0},{"$f":"0.0000005*$B$11*F151*$B$9*((('Sheet1 select'!$B$33+0.5*'Sheet1 select'!$B$32)/(('Sheet1 select'!$B$10-'Sheet1 select'!$B$23)/('Sheet1 select'!$B$27+'Sheet1 select'!$B$8)))+(('Sheet1 select'!$B$33+0.5*'Sheet1 select'!$B$32)/(('Sheet1 select'!$B$23)/('Sheet1 select'!$B$27+'Sheet1 select'!$B$9))))","v":5.226498934481652E-2},{"$f":"(F151*$B$29)*(('Sheet1 select'!$B$12+'Sheet1 select'!$B$13)*(0.000000001))*$B$9*1000","v":0},2.5912432095971015E-4,{"$f":"$B$11*'Sheet1 select'!$B$29*0.001","v":2.4E-2},{"$f":"'Sheet1 select'!$B$10*'Sheet1 select'!$B$31*$B$9*1000*0.000000001","v":4.0800000000000003E-2},{"$f":"'Sheet1 select'!$B$35*$B$11*$B$9*1000*0.000000001","v":0},{"$f":"IF('Sheet1 select'!$B$17=0,0,(0.00000006*0.7+0.00000003*(0.7+F151*1.1*'Sheet1 select'!$B$26))*F151*$B$9*1000)","v":0},0.4476981587859945,0.87983509675086635,{"$f":"H151+K151+O151+N151+'Sheet1 select'!$B$40*I151+J151+P151","v":0.36850214557614591}]
[null,null,null,null,150,1,0.08,{"$f":"F152*F152*('Sheet1 select'!$B$25)*$B$4","v":1.3967772406869566E-2},{"$f":"F152*(1-$B$4)*'Sheet1 select'!$B$41","v":0.23925000000000005},{"$f":"F152*F152*('Sheet1 select'!$B$26)*(1-$B$4)","v":0},{"$f":"0.0000005*$B$11*F152*$B$9*((('Sheet1 select'!$B$33+0.5*'Sheet1 select'!$B$32)/(('Sheet1 select'!$B$10-'Sheet1 select'!$B$23)/('Sheet1 select'!$B$27+'Sheet1 select'!$B$8)))+(('Sheet1 select'!$B$33+0.5*'Sheet1 select'!$B$32)/(('Sheet1 select'!$B$23)/('Sheet1 select'!$B$27+'Sheet1 select'!$B$9))))","v":5.2615761085385758E-2},{"$f":"(F152*$B$29)*(('Sheet1 select'!$B$12+'Sheet1 select'!$B$13)*(0.000000001))*$B$9*1000","v":0},2.5912432095971015E-4,{"$f":"$B$11*'Sheet1 select'!$B$29*0.001","v":2.4E-2},{"$f":"'Sheet1 select'!$B$10*'Sheet1 select'!$B$31*$B$9*1000*0.000000001","v":4.0800000000000003E-2},{"$f":"'Sheet1 select'!$B$35*$B$11*$B$9*1000*0.000000001","v":0},{"$f":"IF('Sheet1 select'!$B$17=0,0,(0.00000006*0.7+0.00000003*(0.7+F152*1.1*'Sheet1 select'!$B$26))*F152*$B$9*1000)","v":0},0.45089265781321508,0.87979057281898132,{"$f":"H152+K152+O152+N152+'Sheet1 select'!$B$40*I152+J152+P152","v":0.37063353349225536}]
[null,null,null,null,151,1.0066666666666666,8.107022222222221E-2,{"$f":"F153*F153*('Sheet1 select'!$B$25)*$B$4","v":1.4154630162179242E-2},{"$f":"F153*(1-$B$4)*'Sheet1 select'!$B$41","v":0.240845},{"$f":"F153*F153*('Sheet1 select'!$B$26)*(1-$B$4)","v":0},{"$f":"0.0000005*$B$11*F153*$B$9*((('Sheet1 select'!$B$33+0.5*'Sheet1 select'!$B$32)/(('Sheet1 select'!$B$10-'Sheet1 select'!$B$23)/('Sheet1 select'!$B$27+'Sheet1 select'!$B$8)))+(('Sheet1 select'!$B$33+0.5*'Sheet1 select'!$B$32)/(('Sheet1 select'!$B$23)/('Sheet1 select'!$B$27+'Sheet1 select'!$B$9))))","v":5.2966532825954989E-2},{"$f":"(F153*$B$29)*(('Sheet1 select'!$B$12+'Sheet1 select'!$B$13)*(0.000000001))*$B$9*1000","v":0},2.5912432095971015E-4,{"$f":"$B$11*'Sheet1 select'!$B$29*0.001","v":2.4E-2},{"$f":"'Sheet1 select'!$B$10*'Sheet1 select'!$B$31*$B$9*1000*0.000000001","v":4.0800000000000003E-2},{"$f":"'Sheet1 select'!$B$35*$B$11*$B$9*1000*0.000000001","v":0},{"$f":"IF('Sheet1 select'!$B$17=0,0,(0.00000006*0.7+0.00000003*(0.7+F153*1.1*'Sheet1 select'!$B$26))*F153*$B$9*1000)","v":0},0.45409550953131617,0.87974469703292069,{"$f":"H153+K153+O153+N153+'Sheet1 select'!$B$40*I153+J153+P153","v":0.37276616298813425}]
[null,null,null,null,152,1.0133333333333334,8.2147555555555571E-2,{"$f":"F154*F154*('Sheet1 select'!$B$25)*$B$4","v":1.4342729497258422E-2},{"$f":"F154*(1-$B$4)*'Sheet1 select'!$B$41","v":0.24244000000000004},{"$f":"F154*F154*('Sheet1 select'!$B$26)*(1-$B$4)","v":0},{"$f":"0.0000005*$B$11*F154*$B$9*((('Sheet1 select'!$B$33+0.5*'Sheet1 select'!$B$32)/(('Sheet1 select'!$B$10-'Sheet1 select'!$B$23)/('Sheet1 select'!$B$27+'Sheet1 select'!$B$8)))+(('Sheet1 select'!$B$33+0.5*'Sheet1 select'!$B$32)/(('Sheet1 select'!$B$23)/('Sheet1 select'!$B$27+'Sheet1 select'!$B$9))))","v":5.331730456652424E-2},{"$f":"(F154*$B$29)*(('Sheet1 select'!$B$12+'Sheet1 select'!$B$13)*(0.000000001))*$B$9*1000","v":0},2.5912432095971015E-4,{"$f":"$B$11*'Sheet1 select'!$B$29*0.001","v":2.4E-2},{"$f":"'Sheet1 select'!$B$10*'Sheet1 select'!$B$31*$B$9*1000*0.000000001","v":4.0800000000000003E-2},{"$f":"'Sheet1 select'!$B$35*$B$11*$B$9*1000*0.000000001","v":0},{"$f":"IF('Sheet1 select'!$B$17=0,0,(0.00000006*0.7+0.00000003*(0.7+F154*1.1*'Sheet1 select'!$B$26))*F154*$B$9*1000)","v":0},0.45730671394029798,0.87969749658367602,{"$f":"H154+K154+O154+N154+'Sheet1 select'!$B$40*I154+J154+P154","v":0.37490003406378269}]
[null,null,null,null,153,1.02,8.3232E-2,{"$f":"F155*F155*('Sheet1 select'!$B$25)*$B$4","v":1.4532070412107098E-2},{"$f":"F155*(1-$B$4)*'Sheet1 select'!$B$41","v":0.24403500000000006},{"$f":"F155*F155*('Sheet1 select'!$B$26)*(1-$B$4)","v":0},{"$f":"0.0000005*$B$11*F155*$B$9*((('Sheet1 select'!$B$33+0.5*'Sheet1 select'!$B$32)/(('Sheet1 select'!$B$10-'Sheet1 select'!$B$23)/('Sheet1 select'!$B$27+'Sheet1 select'!$B$8)))+(('Sheet1 select'!$B$33+0.5*'Sheet1 select'!$B$32)/(('Sheet1 select'!$B$23)/('Sheet1 select'!$B$27+'Sheet1 select'!$B$9))))","v":5.3668076307093471E-2},{"$f":"(F155*$B$29)*(('Sheet1 select'!$B$12+'Sheet1 select'!$B$13)*(0.000000001))*$B$9*1000","v":0},2.5912432095971015E-4,{"$f":"$B$11*'Sheet1 select'!$B$29*0.001","v":2.4E-2},{"$f":"'Sheet1 select'!$B$10*'Sheet1 select'!$B$31*$B$9*1000*0.000000001","v":4.0800000000000003E-2},{"$f":"'Sheet1 select'!$B$35*$B$11*$B$9*1000*0.000000001","v":0},{"$f":"IF('Sheet1 select'!$B$17=0,0,(0.00000006*0.7+0.00000003*(0.7+F155*1.1*'Sheet1 select'!$B$26))*F155*$B$9*1000)","v":0},0.46052627104016036,0.8796489979631118,{"$f":"H155+K155+O155+N155+'Sheet1 select'!$B$40*I155+J155+P155","v":0.37703514671920063}]
[null,null,null,null,154,1.0266666666666666,8.432355555555554E-2,{"$f":"F156*F156*('Sheet1 select'!$B$25)*$B$4","v":1.4722652906725271E-2},{"$f":"F156*(1-$B$4)*'Sheet1 select'!$B$41","v":0.24563000000000004},{"$f":"F156*F156*('Sheet1 select'!$B$26)*(1-$B$4)","v":0},{"$f":"0.0000005*$B$11*F156*$B$9*((('Sheet1 select'!$B$33+0.5*'Sheet1 select'!$B$32)/(('Sheet1 select'!$B$10-'Sheet1 select'!$B$23)/('Sheet1 select'!$B$27+'Sheet1 select'!$B$8)))+(('Sheet1 select'!$B$33+0.5*'Sheet1 select'!$B$32)/(('Sheet1 select'!$B$23)/('Sheet1 select'!$B$27+'Sheet1 select'!$B$9))))","v":5.4018848047662708E-2},{"$f":"(F156*$B$29)*(('Sheet1 select'!$B$12+'Sheet1 select'!$B$13)*(0.000000001))*$B$9*1000","v":0},2.5912432095971015E-4,{"$f":"$B$11*'Sheet1 select'!$B$29*0.001","v":2.4E-2},{"$f":"'Sheet1 select'!$B$10*'Sheet1 select'!$B$31*$B$9*1000*0.000000001","v":4.0800000000000003E-2},{"$f":"'Sheet1 select'!$B$35*$B$11*$B$9*1000*0.000000001","v":0},{"$f":"IF('Sheet1 select'!$B$17=0,0,(0.00000006*0.7+0.00000003*(0.7+F156*1.1*'Sheet1 select'!$B$26))*F156*$B$9*1000)","v":0},0.46375418083090331,0.87959922698627091,{"$f":"H156+K156+O156+N156+'Sheet1 select'!$B$40*I156+J156+P156","v":0.37917150095438801}]
[null,null,null,null,155,1.0333333333333334,8.5422222222222233E-2,{"$f":"F157*F157*('Sheet1 select'!$B$25)*$B$4","v":1.4914476981112951E-2},{"$f":"F157*(1-$B$4)*'Sheet1 select'!$B$41","v":0.24722500000000008},{"$f":"F157*F157*('Sheet1 select'!$B$26)*(1-$B$4)","v":0},{"$f":"0.0000005*$B$11*F157*$B$9*((('Sheet1 select'!$B$33+0.5*'Sheet1 select'!$B$32)/(('Sheet1 select'!$B$10-'Sheet1 select'!$B$23)/('Sheet1 select'!$B$27+'Sheet1 select'!$B$8)))+(('Sheet1 select'!$B$33+0.5*'Sheet1 select'!$B$32)/(('Sheet1 select'!$B$23)/('Sheet1 select'!$B$27+'Sheet1 select'!$B$9))))","v":5.4369619788231953E-2},{"$f":"(F157*$B$29)*(('Sheet1 select'!$B$12+'Sheet1 select'!$B$13)*(0.000000001))*$B$9*1000","v":0},2.5912432095971015E-4,{"$f":"$B$11*'Sheet1 select'!$B$29*0.001","v":2.4E-2},{"$f":"'Sheet1 select'!$B$10*'Sheet1 select'!$B$31*$B$9*1000*0.000000001","v":4.0800000000000003E-2},{"$f":"'Sheet1 select'!$B$35*$B$11*$B$9*1000*0.000000001","v":0},{"$f":"IF('Sheet1 select'!$B$17=0,0,(0.00000006*0.7+0.00000003*(0.7+F157*1.1*'Sheet1 select'!$B$26))*F157*$B$9*1000)","v":0},0.46699044331252693,0.8795482088128318,{"$f":"H157+K157+O157+N157+'Sheet1 select'!$B$40*I157+J157+P157","v":0.38130909676934499}]
[null,null,null,null,156,1.04,8.6528000000000008E-2,{"$f":"F158*F158*('Sheet1 select'!$B$25)*$B$4","v":1.5107542635270125E-2},{"$f":"F158*(1-$B$4)*'Sheet1 select'!$B$41","v":0.24882000000000004},{"$f":"F158*F158*('Sheet1 select'!$B$26)*(1-$B$4)","v":0},{"$f":"0.0000005*$B$11*F158*$B$9*((('Sheet1 select'!$B$33+0.5*'Sheet1 select'!$B$32)/(('Sheet1 select'!$B$10-'Sheet1 select'!$B$23)/('Sheet1 select'!$B$27+'Sheet1 select'!$B$8)))+(('Sheet1 select'!$B$33+0.5*'Sheet1 select'!$B$32)/(('Sheet1 select'!$B$23)/('Sheet1 select'!$B$27+'Sheet1 select'!$B$9))))","v":5.4720391528801191E-2},{"$f":"(F158*$B$29)*(('Sheet1 select'!$B$12+'Sheet1 select'!$B$13)*(0.000000001))*$B$9*1000","v":0},2.5912432095971015E-4,{"$f":"$B$11*'Sheet1 select'!$B$29*0.001","v":2.4E-2},{"$f":"'Sheet1 select'!$B$10*'Sheet1 select'!$B$31*$B$9*1000*0.000000001","v":4.0800000000000003E-2},{"$f":"'Sheet1 select'!$B$35*$B$11*$B$9*1000*0.000000001","v":0},{"$f":"IF('Sheet1 select'!$B$17=0,0,(0.00000006*0.7+0.00000003*(0.7+F158*1.1*'Sheet1 select'!$B$26))*F158*$B$9*1000)","v":0},0.47023505848503111,0.87949596796775464,{"$f":"H158+K158+O158+N158+'Sheet1 select'!$B$40*I158+J158+P158","v":0.38344793416407136}]
[null,null,null,null,157,1.0466666666666666,8.7640888888888893E-2,{"$f":"F159*F159*('Sheet1 select'!$B$25)*$B$4","v":1.5301849869196797E-2},{"$f":"F159*(1-$B$4)*'Sheet1 select'!$B$41","v":0.250415},{"$f":"F159*F159*('Sheet1 select'!$B$26)*(1-$B$4)","v":0},{"$f":"0.0000005*$B$11*F159*$B$9*((('Sheet1 select'!$B$33+0.5*'Sheet1 select'!$B$32)/(('Sheet1 select'!$B$10-'Sheet1 select'!$B$23)/('Sheet1 select'!$B$27+'Sheet1 select'!$B$8)))+(('Sheet1 select'!$B$33+0.5*'Sheet1 select'!$B$32)/(('Sheet1 select'!$B$23)/('Sheet1 select'!$B$27+'Sheet1 select'!$B$9))))","v":5.5071163269370428E-2},{"$f":"(F159*$B$29)*(('Sheet1 select'!$B$12+'Sheet1 select'!$B$13)*(0.000000001))*$B$9*1000","v":0},2.5912432095971015E-4,{"$f":"$B$11*'Sheet1 select'!$B$29*0.001","v":2.4E-2},{"$f":"'Sheet1 select'!$B$10*'Sheet1 select'!$B$31*$B$9*1000*0.000000001","v":4.0800000000000003E-2},{"$f":"'Sheet1 select'!$B$35*$B$11*$B$9*1000*0.000000001","v":0},{"$f":"IF('Sheet1 select'!$B$17=0,0,(0.00000006*0.7+0.00000003*(0.7+F159*1.1*'Sheet1 select'!$B$26))*F159*$B$9*1000)","v":0},0.47348802634841586,0.87944252836115155,{"$f":"H159+K159+O159+N159+'Sheet1 select'!$B$40*I159+J159+P159","v":0.38558801313856722}]
[null,null,null,null,158,1.0533333333333332,8.8760888888888875E-2,{"$f":"F160*F160*('Sheet1 select'!$B$25)*$B$4","v":1.5497398682892969E-2},{"$f":"F160*(1-$B$4)*'Sheet1 select'!$B$41","v":0.25201000000000001},{"$f":"F160*F160*('Sheet1 select'!$B$26)*(1-$B$4)","v":0},{"$f":"0.0000005*$B$11*F160*$B$9*((('Sheet1 select'!$B$33+0.5*'Sheet1 select'!$B$32)/(('Sheet1 select'!$B$10-'Sheet1 select'!$B$23)/('Sheet1 select'!$B$27+'Sheet1 select'!$B$8)))+(('Sheet1 select'!$B$33+0.5*'Sheet1 select'!$B$32)/(('Sheet1 select'!$B$23)/('Sheet1 select'!$B$27+'Sheet1 select'!$B$9))))","v":5.5421935009939659E-2},{"$f":"(F160*$B$29)*(('Sheet1 select'!$B$12+'Sheet1 select'!$B$13)*(0.000000001))*$B$9*1000","v":0},2.5912432095971015E-4,{"$f":"$B$11*'Sheet1 select'!$B$29*0.001","v":2.4E-2},{"$f":"'Sheet1 select'!$B$10*'Sheet1 select'!$B$31*$B$9*1000*0.000000001","v":4.0800000000000003E-2},{"$f":"'Sheet1 select'!$B$35*$B$11*$B$9*1000*0.000000001","v":0},{"$f":"IF('Sheet1 select'!$B$17=0,0,(0.00000006*0.7+0.00000003*(0.7+F160*1.1*'Sheet1 select'!$B$26))*F160*$B$9*1000)","v":0},0.47674934690268123,0.87938791330741595,{"$f":"H160+K160+O160+N160+'Sheet1 select'!$B$40*I160+J160+P160","v":0.38772933369283263}]
[null,null,null,null,159,1.06,8.988800000000001E-2,{"$f":"F161*F161*('Sheet1 select'!$B$25)*$B$4","v":1.5694189076358646E-2},{"$f":"F161*(1-$B$4)*'Sheet1 select'!$B$41","v":0.25360500000000008},{"$f":"F161*F161*('Sheet1 select'!$B$26)*(1-$B$4)","v":0},{"$f":"0.0000005*$B$11*F161*$B$9*((('Sheet1 select'!$B$33+0.5*'Sheet1 select'!$B$32)/(('Sheet1 select'!$B$10-'Sheet1 select'!$B$23)/('Sheet1 select'!$B$27+'Sheet1 select'!$B$8)))+(('Sheet1 select'!$B$33+0.5*'Sheet1 select'!$B$32)/(('Sheet1 select'!$B$23)/('Sheet1 select'!$B$27+'Sheet1 select'!$B$9))))","v":5.5772706750508903E-2},{"$f":"(F161*$B$29)*(('Sheet1 select'!$B$12+'Sheet1 select'!$B$13)*(0.000000001))*$B$9*1000","v":0},2.5912432095971015E-4,{"$f":"$B$11*'Sheet1 select'!$B$29*0.001","v":2.4E-2},{"$f":"'Sheet1 select'!$B$10*'Sheet1 select'!$B$31*$B$9*1000*0.000000001","v":4.0800000000000003E-2},{"$f":"'Sheet1 select'!$B$35*$B$11*$B$9*1000*0.000000001","v":0},{"$f":"IF('Sheet1 select'!$B$17=0,0,(0.00000006*0.7+0.00000003*(0.7+F161*1.1*'Sheet1 select'!$B$26))*F161*$B$9*1000)","v":0},0.48001902014782732,0.87933214554364059,{"$f":"H161+K161+O161+N161+'Sheet1 select'!$B$40*I161+J161+P161","v":0.38987189582686765}]
[null,null,null,null,160,1.0666666666666667,9.1022222222222227E-2,{"$f":"F162*F162*('Sheet1 select'!$B$25)*$B$4","v":1.5892221049593817E-2},{"$f":"F162*(1-$B$4)*'Sheet1 select'!$B$41","v":0.25520000000000004},{"$f":"F162*F162*('Sheet1 select'!$B$26)*(1-$B$4)","v":0},{"$f":"0.0000005*$B$11*F162*$B$9*((('Sheet1 select'!$B$33+0.5*'Sheet1 select'!$B$32)/(('Sheet1 select'!$B$10-'Sheet1 select'!$B$23)/('Sheet1 select'!$B$27+'Sheet1 select'!$B$8)))+(('Sheet1 select'!$B$33+0.5*'Sheet1 select'!$B$32)/(('Sheet1 select'!$B$23)/('Sheet1 select'!$B$27+'Sheet1 select'!$B$9))))","v":5.6123478491078134E-2},{"$f":"(F162*$B$29)*(('Sheet1 select'!$B$12+'Sheet1 select'!$B$13)*(0.000000001))*$B$9*1000","v":0},2.5912432095971015E-4,{"$f":"$B$11*'Sheet1 select'!$B$29*0.001","v":2.4E-2},{"$f":"'Sheet1 select'!$B$10*'Sheet1 select'!$B$31*$B$9*1000*0.000000001","v":4.0800000000000003E-2},{"$f":"'Sheet1 select'!$B$35*$B$11*$B$9*1000*0.000000001","v":0},{"$f":"IF('Sheet1 select'!$B$17=0,0,(0.00000006*0.7+0.00000003*(0.7+F162*1.1*'Sheet1 select'!$B$26))*F162*$B$9*1000)","v":0},0.48329704608385393,0.87927524724735839,{"$f":"H162+K162+O162+N162+'Sheet1 select'!$B$40*I162+J162+P162","v":0.392015699540672}]
[null,null,null,null,161,1.0733333333333333,9.216355555555554E-2,{"$f":"F163*F163*('Sheet1 select'!$B$25)*$B$4","v":1.6091494602598486E-2},{"$f":"F163*(1-$B$4)*'Sheet1 select'!$B$41","v":0.256795},{"$f":"F163*F163*('Sheet1 select'!$B$26)*(1-$B$4)","v":0},{"$f":"0.0000005*$B$11*F163*$B$9*((('Sheet1 select'!$B$33+0.5*'Sheet1 select'!$B$32)/(('Sheet1 select'!$B$10-'Sheet1 select'!$B$23)/('Sheet1 select'!$B$27+'Sheet1 select'!$B$8)))+(('Sheet1 select'!$B$33+0.5*'Sheet1 select'!$B$32)/(('Sheet1 select'!$B$23)/('Sheet1 select'!$B$27+'Sheet1 select'!$B$9))))","v":5.6474250231647372E-2},{"$f":"(F163*$B$29)*(('Sheet1 select'!$B$12+'Sheet1 select'!$B$13)*(0.000000001))*$B$9*1000","v":0},2.5912432095971015E-4,{"$f":"$B$11*'Sheet1 select'!$B$29*0.001","v":2.4E-2},{"$f":"'Sheet1 select'!$B$10*'Sheet1 select'!$B$31*$B$9*1000*0.000000001","v":4.0800000000000003E-2},{"$f":"'Sheet1 select'!$B$35*$B$11*$B$9*1000*0.000000001","v":0},{"$f":"IF('Sheet1 select'!$B$17=0,0,(0.00000006*0.7+0.00000003*(0.7+F163*1.1*'Sheet1 select'!$B$26))*F163*$B$9*1000)","v":0},0.4865834247107611,0.879217240053631,{"$f":"H163+K163+O163+N163+'Sheet1 select'!$B$40*I163+J163+P163","v":0.39416074483424585}]
[null,null,null,null,162,1.08,9.331200000000002E-2,{"$f":"F164*F164*('Sheet1 select'!$B$25)*$B$4","v":1.6292009735372665E-2},{"$f":"F164*(1-$B$4)*'Sheet1 select'!$B$41","v":0.25839000000000006},{"$f":"F164*F164*('Sheet1 select'!$B$26)*(1-$B$4)","v":0},{"$f":"0.0000005*$B$11*F164*$B$9*((('Sheet1 select'!$B$33+0.5*'Sheet1 select'!$B$32)/(('Sheet1 select'!$B$10-'Sheet1 select'!$B$23)/('Sheet1 select'!$B$27+'Sheet1 select'!$B$8)))+(('Sheet1 select'!$B$33+0.5*'Sheet1 select'!$B$32)/(('Sheet1 select'!$B$23)/('Sheet1 select'!$B$27+'Sheet1 select'!$B$9))))","v":5.6825021972216623E-2},{"$f":"(F164*$B$29)*(('Sheet1 select'!$B$12+'Sheet1 select'!$B$13)*(0.000000001))*$B$9*1000","v":0},2.5912432095971015E-4,{"$f":"$B$11*'Sheet1 select'!$B$29*0.001","v":2.4E-2},{"$f":"'Sheet1 select'!$B$10*'Sheet1 select'!$B$31*$B$9*1000*0.000000001","v":4.0800000000000003E-2},{"$f":"'Sheet1 select'!$B$35*$B$11*$B$9*1000*0.000000001","v":0},{"$f":"IF('Sheet1 select'!$B$17=0,0,(0.00000006*0.7+0.00000003*(0.7+F164*1.1*'Sheet1 select'!$B$26))*F164*$B$9*1000)","v":0},0.48987815602854912,0.87915814507151668,{"$f":"H164+K164+O164+N164+'Sheet1 select'!$B$40*I164+J164+P164","v":0.39630703170758935}]
[null,null,null,null,163,1.0866666666666667,9.4467555555555555E-2,{"$f":"F165*F165*('Sheet1 select'!$B$25)*$B$4","v":1.6493766447916332E-2},{"$f":"F165*(1-$B$4)*'Sheet1 select'!$B$41","v":0.25998500000000002},{"$f":"F165*F165*('Sheet1 select'!$B$26)*(1-$B$4)","v":0},{"$f":"0.0000005*$B$11*F165*$B$9*((('Sheet1 select'!$B$33+0.5*'Sheet1 select'!$B$32)/(('Sheet1 select'!$B$10-'Sheet1 select'!$B$23)/('Sheet1 select'!$B$27+'Sheet1 select'!$B$8)))+(('Sheet1 select'!$B$33+0.5*'Sheet1 select'!$B$32)/(('Sheet1 select'!$B$23)/('Sheet1 select'!$B$27+'Sheet1 select'!$B$9))))","v":5.7175793712785861E-2},{"$f":"(F165*$B$29)*(('Sheet1 select'!$B$12+'Sheet1 select'!$B$13)*(0.000000001))*$B$9*1000","v":0},2.5912432095971015E-4,{"$f":"$B$11*'Sheet1 select'!$B$29*0.001","v":2.4E-2},{"$f":"'Sheet1 select'!$B$10*'Sheet1 select'!$B$31*$B$9*1000*0.000000001","v":4.0800000000000003E-2},{"$f":"'Sheet1 select'!$B$35*$B$11*$B$9*1000*0.000000001","v":0},{"$f":"IF('Sheet1 select'!$B$17=0,0,(0.00000006*0.7+0.00000003*(0.7+F165*1.1*'Sheet1 select'!$B$26))*F165*$B$9*1000)","v":0},0.49318124003721747,0.87909798289994157,{"$f":"H165+K165+O165+N165+'Sheet1 select'!$B$40*I165+J165+P165","v":0.39845456016070224}]
[null,null,null,null,164,1.0933333333333333,9.5630222222222214E-2,{"$f":"F166*F166*('Sheet1 select'!$B$25)*$B$4","v":1.6696764740229502E-2},{"$f":"F166*(1-$B$4)*'Sheet1 select'!$B$41","v":0.26158000000000003},{"$f":"F166*F166*('Sheet1 select'!$B$26)*(1-$B$4)","v":0},{"$f":"0.0000005*$B$11*F166*$B$9*((('Sheet1 select'!$B$33+0.5*'Sheet1 select'!$B$32)/(('Sheet1 select'!$B$10-'Sheet1 select'!$B$23)/('Sheet1 select'!$B$27+'Sheet1 select'!$B$8)))+(('Sheet1 select'!$B$33+0.5*'Sheet1 select'!$B$32)/(('Sheet1 select'!$B$23)/('Sheet1 select'!$B$27+'Sheet1 select'!$B$9))))","v":5.7526565453355091E-2},{"$f":"(F166*$B$29)*(('Sheet1 select'!$B$12+'Sheet1 select'!$B$13)*(0.000000001))*$B$9*1000","v":0},2.5912432095971015E-4,{"$f":"$B$11*'Sheet1 select'!$B$29*0.001","v":2.4E-2},{"$f":"'Sheet1 select'!$B$10*'Sheet1 select'!$B$31*$B$9*1000*0.000000001","v":4.0800000000000003E-2},{"$f":"'Sheet1 select'!$B$35*$B$11*$B$9*1000*0.000000001","v":0},{"$f":"IF('Sheet1 select'!$B$17=0,0,(0.00000006*0.7+0.00000003*(0.7+F166*1.1*'Sheet1 select'!$B$26))*F166*$B$9*1000)","v":0},0.49649267673676656,0.87903677364299793,{"$f":"H166+K166+O166+N166+'Sheet1 select'!$B$40*I166+J166+P166","v":0.40060333019358463}]
[null,null,null,null,165,1.1000000000000001,9.6800000000000011E-2,{"$f":"F167*F167*('Sheet1 select'!$B$25)*$B$4","v":1.6901004612312177E-2},{"$f":"F167*(1-$B$4)*'Sheet1 select'!$B$41","v":0.2631750000000001},{"$f":"F167*F167*('Sheet1 select'!$B$26)*(1-$B$4)","v":0},{"$f":"0.0000005*$B$11*F167*$B$9*((('Sheet1 select'!$B$33+0.5*'Sheet1 select'!$B$32)/(('Sheet1 select'!$B$10-'Sheet1 select'!$B$23)/('Sheet1 select'!$B$27+'Sheet1 select'!$B$8)))+(('Sheet1 select'!$B$33+0.5*'Sheet1 select'!$B$32)/(('Sheet1 select'!$B$23)/('Sheet1 select'!$B$27+'Sheet1 select'!$B$9))))","v":5.7877337193924329E-2},{"$f":"(F167*$B$29)*(('Sheet1 select'!$B$12+'Sheet1 select'!$B$13)*(0.000000001))*$B$9*1000","v":0},2.5912432095971015E-4,{"$f":"$B$11*'Sheet1 select'!$B$29*0.001","v":2.4E-2},{"$f":"'Sheet1 select'!$B$10*'Sheet1 select'!$B$31*$B$9*1000*0.000000001","v":4.0800000000000003E-2},{"$f":"'Sheet1 select'!$B$35*$B$11*$B$9*1000*0.000000001","v":0},{"$f":"IF('Sheet1 select'!$B$17=0,0,(0.00000006*0.7+0.00000003*(0.7+F167*1.1*'Sheet1 select'!$B$26))*F167*$B$9*1000)","v":0},0.49981246612719638,0.87897453692469851,{"$f":"H167+K167+O167+N167+'Sheet1 select'!$B$40*I167+J167+P167","v":0.40275334180623662}]
[null,null,null,null,166,1.1066666666666667,9.7976888888888877E-2,{"$f":"F168*F168*('Sheet1 select'!$B$25)*$B$4","v":1.7106486064164345E-2},{"$f":"F168*(1-$B$4)*'Sheet1 select'!$B$41","v":0.26477000000000006},{"$f":"F168*F168*('Sheet1 select'!$B$26)*(1-$B$4)","v":0},{"$f":"0.0000005*$B$11*F168*$B$9*((('Sheet1 select'!$B$33+0.5*'Sheet1 select'!$B$32)/(('Sheet1 select'!$B$10-'Sheet1 select'!$B$23)/('Sheet1 select'!$B$27+'Sheet1 select'!$B$8)))+(('Sheet1 select'!$B$33+0.5*'Sheet1 select'!$B$32)/(('Sheet1 select'!$B$23)/('Sheet1 select'!$B$27+'Sheet1 select'!$B$9))))","v":5.8228108934493573E-2},{"$f":"(F168*$B$29)*(('Sheet1 select'!$B$12+'Sheet1 select'!$B$13)*(0.000000001))*$B$9*1000","v":0},2.5912432095971015E-4,{"$f":"$B$11*'Sheet1 select'!$B$29*0.001","v":2.4E-2},{"$f":"'Sheet1 select'!$B$10*'Sheet1 select'!$B$31*$B$9*1000*0.000000001","v":4.0800000000000003E-2},{"$f":"'Sheet1 select'!$B$35*$B$11*$B$9*1000*0.000000001","v":0},{"$f":"IF('Sheet1 select'!$B$17=0,0,(0.00000006*0.7+0.00000003*(0.7+F168*1.1*'Sheet1 select'!$B$26))*F168*$B$9*1000)","v":0},0.50314060820850659,0.87891129190320327,{"$f":"H168+K168+O168+N168+'Sheet1 select'!$B$40*I168+J168+P168","v":0.40490459499865794}]
[null,null,null,null,167,1.1133333333333333,9.9160888888888882E-2,{"$f":"F169*F169*('Sheet1 select'!$B$25)*$B$4","v":1.7313209095786011E-2},{"$f":"F169*(1-$B$4)*'Sheet1 select'!$B$41","v":0.26636500000000002},{"$f":"F169*F169*('Sheet1 select'!$B$26)*(1-$B$4)","v":0},{"$f":"0.0000005*$B$11*F169*$B$9*((('Sheet1 select'!$B$33+0.5*'Sheet1 select'!$B$32)/(('Sheet1 select'!$B$10-'Sheet1 select'!$B$23)/('Sheet1 select'!$B$27+'Sheet1 select'!$B$8)))+(('Sheet1 select'!$B$33+0.5*'Sheet1 select'!$B$32)/(('Sheet1 select'!$B$23)/('Sheet1 select'!$B$27+'Sheet1 select'!$B$9))))","v":5.8578880675062804E-2},{"$f":"(F169*$B$29)*(('Sheet1 select'!$B$12+'Sheet1 select'!$B$13)*(0.000000001))*$B$9*1000","v":0},2.5912432095971015E-4,{"$f":"$B$11*'Sheet1 select'!$B$29*0.001","v":2.4E-2},{"$f":"'Sheet1 select'!$B$10*'Sheet1 select'!$B$31*$B$9*1000*0.000000001","v":4.0800000000000003E-2},{"$f":"'Sheet1 select'!$B$35*$B$11*$B$9*1000*0.000000001","v":0},{"$f":"IF('Sheet1 select'!$B$17=0,0,(0.00000006*0.7+0.00000003*(0.7+F169*1.1*'Sheet1 select'!$B$26))*F169*$B$9*1000)","v":0},0.50647710298069737,0.87884705728454371,{"$f":"H169+K169+O169+N169+'Sheet1 select'!$B$40*I169+J169+P169","v":0.40705708977084887}]
[null,null,null,null,168,1.1200000000000001,0.10035200000000002,{"$f":"F170*F170*('Sheet1 select'!$B$25)*$B$4","v":1.7521173707177186E-2},{"$f":"F170*(1-$B$4)*'Sheet1 select'!$B$41","v":0.26796000000000009},{"$f":"F170*F170*('Sheet1 select'!$B$26)*(1-$B$4)","v":0},{"$f":"0.0000005*$B$11*F170*$B$9*((('Sheet1 select'!$B$33+0.5*'Sheet1 select'!$B$32)/(('Sheet1 select'!$B$10-'Sheet1 select'!$B$23)/('Sheet1 select'!$B$27+'Sheet1 select'!$B$8)))+(('Sheet1 select'!$B$33+0.5*'Sheet1 select'!$B$32)/(('Sheet1 select'!$B$23)/('Sheet1 select'!$B$27+'Sheet1 select'!$B$9))))","v":5.8929652415632056E-2},{"$f":"(F170*$B$29)*(('Sheet1 select'!$B$12+'Sheet1 select'!$B$13)*(0.000000001))*$B$9*1000","v":0},2.5912432095971015E-4,{"$f":"$B$11*'Sheet1 select'!$B$29*0.001","v":2.4E-2},{"$f":"'Sheet1 select'!$B$10*'Sheet1 select'!$B$31*$B$9*1000*0.000000001","v":4.0800000000000003E-2},{"$f":"'Sheet1 select'!$B$35*$B$11*$B$9*1000*0.000000001","v":0},{"$f":"IF('Sheet1 select'!$B$17=0,0,(0.00000006*0.7+0.00000003*(0.7+F170*1.1*'Sheet1 select'!$B$26))*F170*$B$9*1000)","v":0},0.5098219504437691,0.87878185133586639,{"$f":"H170+K170+O170+N170+'Sheet1 select'!$B$40*I170+J170+P170","v":0.40921082612280935}]
[null,null,null,null,169,1.1266666666666667,0.10155022222222224,{"$f":"F171*F171*('Sheet1 select'!$B$25)*$B$4","v":1.7730379898337853E-2},{"$f":"F171*(1-$B$4)*'Sheet1 select'!$B$41","v":0.26955500000000004},{"$f":"F171*F171*('Sheet1 select'!$B$26)*(1-$B$4)","v":0},{"$f":"0.0000005*$B$11*F171*$B$9*((('Sheet1 select'!$B$33+0.5*'Sheet1 select'!$B$32)/(('Sheet1 select'!$B$10-'Sheet1 select'!$B$23)/('Sheet1 select'!$B$27+'Sheet1 select'!$B$8)))+(('Sheet1 select'!$B$33+0.5*'Sheet1 select'!$B$32)/(('Sheet1 select'!$B$23)/('Sheet1 select'!$B$27+'Sheet1 select'!$B$9))))","v":5.9280424156201286E-2},{"$f":"(F171*$B$29)*(('Sheet1 select'!$B$12+'Sheet1 select'!$B$13)*(0.000000001))*$B$9*1000","v":0},2.5912432095971015E-4,{"$f":"$B$11*'Sheet1 select'!$B$29*0.001","v":2.4E-2},{"$f":"'Sheet1 select'!$B$10*'Sheet1 select'!$B$31*$B$9*1000*0.000000001","v":4.0800000000000003E-2},{"$f":"'Sheet1 select'!$B$35*$B$11*$B$9*1000*0.000000001","v":0},{"$f":"IF('Sheet1 select'!$B$17=0,0,(0.00000006*0.7+0.00000003*(0.7+F171*1.1*'Sheet1 select'!$B$26))*F171*$B$9*1000)","v":0},0.51317515059772112,0.87871569189821241,{"$f":"H171+K171+O171+N171+'Sheet1 select'!$B$40*I171+J171+P171","v":0.41136580405453915}]
[null,null,null,null,170,1.1333333333333333,0.10275555555555554,{"$f":"F172*F172*('Sheet1 select'!$B$25)*$B$4","v":1.7940827669268015E-2},{"$f":"F172*(1-$B$4)*'Sheet1 select'!$B$41","v":0.27115000000000006},{"$f":"F172*F172*('Sheet1 select'!$B$26)*(1-$B$4)","v":0},{"$f":"0.0000005*$B$11*F172*$B$9*((('Sheet1 select'!$B$33+0.5*'Sheet1 select'!$B$32)/(('Sheet1 select'!$B$10-'Sheet1 select'!$B$23)/('Sheet1 select'!$B$27+'Sheet1 select'!$B$8)))+(('Sheet1 select'!$B$33+0.5*'Sheet1 select'!$B$32)/(('Sheet1 select'!$B$23)/('Sheet1 select'!$B$27+'Sheet1 select'!$B$9))))","v":5.9631195896770531E-2},{"$f":"(F172*$B$29)*(('Sheet1 select'!$B$12+'Sheet1 select'!$B$13)*(0.000000001))*$B$9*1000","v":0},2.5912432095971015E-4,{"$f":"$B$11*'Sheet1 select'!$B$29*0.001","v":2.4E-2},{"$f":"'Sheet1 select'!$B$10*'Sheet1 select'!$B$31*$B$9*1000*0.000000001","v":4.0800000000000003E-2},{"$f":"'Sheet1 select'!$B$35*$B$11*$B$9*1000*0.000000001","v":0},{"$f":"IF('Sheet1 select'!$B$17=0,0,(0.00000006*0.7+0.00000003*(0.7+F172*1.1*'Sheet1 select'!$B$26))*F172*$B$9*1000)","v":0},0.51653670344255387,0.87864859639885284,{"$f":"H172+K172+O172+N172+'Sheet1 select'!$B$40*I172+J172+P172","v":0.41352202356603862}]
[null,null,null,null,171,1.1399999999999999,0.10396799999999999,{"$f":"F173*F173*('Sheet1 select'!$B$25)*$B$4","v":1.8152517019967687E-2},{"$f":"F173*(1-$B$4)*'Sheet1 select'!$B$41","v":0.27274500000000002},{"$f":"F173*F173*('Sheet1 select'!$B$26)*(1-$B$4)","v":0},{"$f":"0.0000005*$B$11*F173*$B$9*((('Sheet1 select'!$B$33+0.5*'Sheet1 select'!$B$32)/(('Sheet1 select'!$B$10-'Sheet1 select'!$B$23)/('Sheet1 select'!$B$27+'Sheet1 select'!$B$8)))+(('Sheet1 select'!$B$33+0.5*'Sheet1 select'!$B$32)/(('Sheet1 select'!$B$23)/('Sheet1 select'!$B$27+'Sheet1 select'!$B$9))))","v":5.9981967637339761E-2},{"$f":"(F173*$B$29)*(('Sheet1 select'!$B$12+'Sheet1 select'!$B$13)*(0.000000001))*$B$9*1000","v":0},2.5912432095971015E-4,{"$f":"$B$11*'Sheet1 select'!$B$29*0.001","v":2.4E-2},{"$f":"'Sheet1 select'!$B$10*'Sheet1 select'!$B$31*$B$9*1000*0.000000001","v":4.0800000000000003E-2},{"$f":"'Sheet1 select'!$B$35*$B$11*$B$9*1000*0.000000001","v":0},{"$f":"IF('Sheet1 select'!$B$17=0,0,(0.00000006*0.7+0.00000003*(0.7+F173*1.1*'Sheet1 select'!$B$26))*F173*$B$9*1000)","v":0},0.51990660897826713,0.87858058186319832,{"$f":"H173+K173+O173+N173+'Sheet1 select'!$B$40*I173+J173+P173","v":0.41567948465730747}]
[null,null,null,null,172,1.1466666666666667,0.10518755555555556,{"$f":"F174*F174*('Sheet1 select'!$B$25)*$B$4","v":1.8365447950436858E-2},{"$f":"F174*(1-$B$4)*'Sheet1 select'!$B$41","v":0.27434000000000008},{"$f":"F174*F174*('Sheet1 select'!$B$26)*(1-$B$4)","v":0},{"$f":"0.0000005*$B$11*F174*$B$9*((('Sheet1 select'!$B$33+0.5*'Sheet1 select'!$B$32)/(('Sheet1 select'!$B$10-'Sheet1 select'!$B$23)/('Sheet1 select'!$B$27+'Sheet1 select'!$B$8)))+(('Sheet1 select'!$B$33+0.5*'Sheet1 select'!$B$32)/(('Sheet1 select'!$B$23)/('Sheet1 select'!$B$27+'Sheet1 select'!$B$9))))","v":6.0332739377908999E-2},{"$f":"(F174*$B$29)*(('Sheet1 select'!$B$12+'Sheet1 select'!$B$13)*(0.000000001))*$B$9*1000","v":0},2.5912432095971015E-4,{"$f":"$B$11*'Sheet1 select'!$B$29*0.001","v":2.4E-2},{"$f":"'Sheet1 select'!$B$10*'Sheet1 select'!$B$31*$B$9*1000*0.000000001","v":4.0800000000000003E-2},{"$f":"'Sheet1 select'!$B$35*$B$11*$B$9*1000*0.000000001","v":0},{"$f":"IF('Sheet1 select'!$B$17=0,0,(0.00000006*0.7+0.00000003*(0.7+F174*1.1*'Sheet1 select'!$B$26))*F174*$B$9*1000)","v":0},0.52328486720486123,0.87851166492630006,{"$f":"H174+K174+O174+N174+'Sheet1 select'!$B$40*I174+J174+P174","v":0.41783818732834593}]
[null,null,null,null,173,1.1533333333333333,0.10641422222222222,{"$f":"F175*F175*('Sheet1 select'!$B$25)*$B$4","v":1.8579620460675524E-2},{"$f":"F175*(1-$B$4)*'Sheet1 select'!$B$41","v":0.27593500000000004},{"$f":"F175*F175*('Sheet1 select'!$B$26)*(1-$B$4)","v":0},{"$f":"0.0000005*$B$11*F175*$B$9*((('Sheet1 select'!$B$33+0.5*'Sheet1 select'!$B$32)/(('Sheet1 select'!$B$10-'Sheet1 select'!$B$23)/('Sheet1 select'!$B$27+'Sheet1 select'!$B$8)))+(('Sheet1 select'!$B$33+0.5*'Sheet1 select'!$B$32)/(('Sheet1 select'!$B$23)/('Sheet1 select'!$B$27+'Sheet1 select'!$B$9))))","v":6.0683511118478237E-2},{"$f":"(F175*$B$29)*(('Sheet1 select'!$B$12+'Sheet1 select'!$B$13)*(0.000000001))*$B$9*1000","v":0},2.5912432095971015E-4,{"$f":"$B$11*'Sheet1 select'!$B$29*0.001","v":2.4E-2},{"$f":"'Sheet1 select'!$B$10*'Sheet1 select'!$B$31*$B$9*1000*0.000000001","v":4.0800000000000003E-2},{"$f":"'Sheet1 select'!$B$35*$B$11*$B$9*1000*0.000000001","v":0},{"$f":"IF('Sheet1 select'!$B$17=0,0,(0.00000006*0.7+0.00000003*(0.7+F175*1.1*'Sheet1 select'!$B$26))*F175*$B$9*1000)","v":0},0.52667147812233572,0.87844186184395845,{"$f":"H175+K175+O175+N175+'Sheet1 select'!$B$40*I175+J175+P175","v":0.41999813157915378}]
[null,null,null,null,174,1.1599999999999999,0.10764799999999999,{"$f":"F176*F176*('Sheet1 select'!$B$25)*$B$4","v":1.8795034550683688E-2},{"$f":"F176*(1-$B$4)*'Sheet1 select'!$B$41","v":0.27753000000000005},{"$f":"F176*F176*('Sheet1 select'!$B$26)*(1-$B$4)","v":0},{"$f":"0.0000005*$B$11*F176*$B$9*((('Sheet1 select'!$B$33+0.5*'Sheet1 select'!$B$32)/(('Sheet1 select'!$B$10-'Sheet1 select'!$B$23)/('Sheet1 select'!$B$27+'Sheet1 select'!$B$8)))+(('Sheet1 select'!$B$33+0.5*'Sheet1 select'!$B$32)/(('Sheet1 select'!$B$23)/('Sheet1 select'!$B$27+'Sheet1 select'!$B$9))))","v":6.1034282859047467E-2},{"$f":"(F176*$B$29)*(('Sheet1 select'!$B$12+'Sheet1 select'!$B$13)*(0.000000001))*$B$9*1000","v":0},2.5912432095971015E-4,{"$f":"$B$11*'Sheet1 select'!$B$29*0.001","v":2.4E-2},{"$f":"'Sheet1 select'!$B$10*'Sheet1 select'!$B$31*$B$9*1000*0.000000001","v":4.0800000000000003E-2},{"$f":"'Sheet1 select'!$B$35*$B$11*$B$9*1000*0.000000001","v":0},{"$f":"IF('Sheet1 select'!$B$17=0,0,(0.00000006*0.7+0.00000003*(0.7+F176*1.1*'Sheet1 select'!$B$26))*F176*$B$9*1000)","v":0},0.53006644173069095,0.87837118850345264,{"$f":"H176+K176+O176+N176+'Sheet1 select'!$B$40*I176+J176+P176","v":0.42215931740973123}]
[null,null,null,null,175,1.1666666666666667,0.10888888888888891,{"$f":"F177*F177*('Sheet1 select'!$B$25)*$B$4","v":1.9011690220461359E-2},{"$f":"F177*(1-$B$4)*'Sheet1 select'!$B$41","v":0.27912500000000007},{"$f":"F177*F177*('Sheet1 select'!$B$26)*(1-$B$4)","v":0},{"$f":"0.0000005*$B$11*F177*$B$9*((('Sheet1 select'!$B$33+0.5*'Sheet1 select'!$B$32)/(('Sheet1 select'!$B$10-'Sheet1 select'!$B$23)/('Sheet1 select'!$B$27+'Sheet1 select'!$B$8)))+(('Sheet1 select'!$B$33+0.5*'Sheet1 select'!$B$32)/(('Sheet1 select'!$B$23)/('Sheet1 select'!$B$27+'Sheet1 select'!$B$9))))","v":6.1385054599616726E-2},{"$f":"(F177*$B$29)*(('Sheet1 select'!$B$12+'Sheet1 select'!$B$13)*(0.000000001))*$B$9*1000","v":0},2.5912432095971015E-4,{"$f":"$B$11*'Sheet1 select'!$B$29*0.001","v":2.4E-2},{"$f":"'Sheet1 select'!$B$10*'Sheet1 select'!$B$31*$B$9*1000*0.000000001","v":4.0800000000000003E-2},{"$f":"'Sheet1 select'!$B$35*$B$11*$B$9*1000*0.000000001","v":0},{"$f":"IF('Sheet1 select'!$B$17=0,0,(0.00000006*0.7+0.00000003*(0.7+F177*1.1*'Sheet1 select'!$B$26))*F177*$B$9*1000)","v":0},0.5334697580299268,0.87829966043391039,{"$f":"H177+K177+O177+N177+'Sheet1 select'!$B$40*I177+J177+P177","v":0.42432174482007812}]
[null,null,null,null,176,1.1733333333333333,0.11013688888888891,{"$f":"F178*F178*('Sheet1 select'!$B$25)*$B$4","v":1.9229587470008521E-2},{"$f":"F178*(1-$B$4)*'Sheet1 select'!$B$41","v":0.28072000000000008},{"$f":"F178*F178*('Sheet1 select'!$B$26)*(1-$B$4)","v":0},{"$f":"0.0000005*$B$11*F178*$B$9*((('Sheet1 select'!$B$33+0.5*'Sheet1 select'!$B$32)/(('Sheet1 select'!$B$10-'Sheet1 select'!$B$23)/('Sheet1 select'!$B$27+'Sheet1 select'!$B$8)))+(('Sheet1 select'!$B$33+0.5*'Sheet1 select'!$B$32)/(('Sheet1 select'!$B$23)/('Sheet1 select'!$B$27+'Sheet1 select'!$B$9))))","v":6.1735826340185956E-2},{"$f":"(F178*$B$29)*(('Sheet1 select'!$B$12+'Sheet1 select'!$B$13)*(0.000000001))*$B$9*1000","v":0},2.5912432095971015E-4,{"$f":"$B$11*'Sheet1 select'!$B$29*0.001","v":2.4E-2},{"$f":"'Sheet1 select'!$B$10*'Sheet1 select'!$B$31*$B$9*1000*0.000000001","v":4.0800000000000003E-2},{"$f":"'Sheet1 select'!$B$35*$B$11*$B$9*1000*0.000000001","v":0},{"$f":"IF('Sheet1 select'!$B$17=0,0,(0.00000006*0.7+0.00000003*(0.7+F178*1.1*'Sheet1 select'!$B$26))*F178*$B$9*1000)","v":0},0.53688142702004316,0.87822729281632761,{"$f":"H178+K178+O178+N178+'Sheet1 select'!$B$40*I178+J178+P178","v":0.42648541381019456}]
[null,null,null,null,177,1.18,0.111392,{"$f":"F179*F179*('Sheet1 select'!$B$25)*$B$4","v":1.9448726299325182E-2},{"$f":"F179*(1-$B$4)*'Sheet1 select'!$B$41","v":0.28231500000000004},{"$f":"F179*F179*('Sheet1 select'!$B$26)*(1-$B$4)","v":0},{"$f":"0.0000005*$B$11*F179*$B$9*((('Sheet1 select'!$B$33+0.5*'Sheet1 select'!$B$32)/(('Sheet1 select'!$B$10-'Sheet1 select'!$B$23)/('Sheet1 select'!$B$27+'Sheet1 select'!$B$8)))+(('Sheet1 select'!$B$33+0.5*'Sheet1 select'!$B$32)/(('Sheet1 select'!$B$23)/('Sheet1 select'!$B$27+'Sheet1 select'!$B$9))))","v":6.2086598080755194E-2},{"$f":"(F179*$B$29)*(('Sheet1 select'!$B$12+'Sheet1 select'!$B$13)*(0.000000001))*$B$9*1000","v":0},2.5912432095971015E-4,{"$f":"$B$11*'Sheet1 select'!$B$29*0.001","v":2.4E-2},{"$f":"'Sheet1 select'!$B$10*'Sheet1 select'!$B$31*$B$9*1000*0.000000001","v":4.0800000000000003E-2},{"$f":"'Sheet1 select'!$B$35*$B$11*$B$9*1000*0.000000001","v":0},{"$f":"IF('Sheet1 select'!$B$17=0,0,(0.00000006*0.7+0.00000003*(0.7+F179*1.1*'Sheet1 select'!$B$26))*F179*$B$9*1000)","v":0},0.54030144870104013,0.87815410049325515,{"$f":"H179+K179+O179+N179+'Sheet1 select'!$B$40*I179+J179+P179","v":0.42865032438008044}]
[null,null,null,null,178,1.1866666666666668,0.11265422222222225,{"$f":"F180*F180*('Sheet1 select'!$B$25)*$B$4","v":1.9669106708411353E-2},{"$f":"F180*(1-$B$4)*'Sheet1 select'!$B$41","v":0.28391000000000005},{"$f":"F180*F180*('Sheet1 select'!$B$26)*(1-$B$4)","v":0},{"$f":"0.0000005*$B$11*F180*$B$9*((('Sheet1 select'!$B$33+0.5*'Sheet1 select'!$B$32)/(('Sheet1 select'!$B$10-'Sheet1 select'!$B$23)/('Sheet1 select'!$B$27+'Sheet1 select'!$B$8)))+(('Sheet1 select'!$B$33+0.5*'Sheet1 select'!$B$32)/(('Sheet1 select'!$B$23)/('Sheet1 select'!$B$27+'Sheet1 select'!$B$9))))","v":6.2437369821324432E-2},{"$f":"(F180*$B$29)*(('Sheet1 select'!$B$12+'Sheet1 select'!$B$13)*(0.000000001))*$B$9*1000","v":0},2.5912432095971015E-4,{"$f":"$B$11*'Sheet1 select'!$B$29*0.001","v":2.4E-2},{"$f":"'Sheet1 select'!$B$10*'Sheet1 select'!$B$31*$B$9*1000*0.000000001","v":4.0800000000000003E-2},{"$f":"'Sheet1 select'!$B$35*$B$11*$B$9*1000*0.000000001","v":0},{"$f":"IF('Sheet1 select'!$B$17=0,0,(0.00000006*0.7+0.00000003*(0.7+F180*1.1*'Sheet1 select'!$B$26))*F180*$B$9*1000)","v":0},0.54372982307291773,0.87808009797816233,{"$f":"H180+K180+O180+N180+'Sheet1 select'!$B$40*I180+J180+P180","v":0.43081647652973587}]
[null,null,null,null,179,1.1933333333333334,0.11392355555555556,{"$f":"F181*F181*('Sheet1 select'!$B$25)*$B$4","v":1.9890728697267011E-2},{"$f":"F181*(1-$B$4)*'Sheet1 select'!$B$41","v":0.28550500000000006},{"$f":"F181*F181*('Sheet1 select'!$B$26)*(1-$B$4)","v":0},{"$f":"0.0000005*$B$11*F181*$B$9*((('Sheet1 select'!$B$33+0.5*'Sheet1 select'!$B$32)/(('Sheet1 select'!$B$10-'Sheet1 select'!$B$23)/('Sheet1 select'!$B$27+'Sheet1 select'!$B$8)))+(('Sheet1 select'!$B$33+0.5*'Sheet1 select'!$B$32)/(('Sheet1 select'!$B$23)/('Sheet1 select'!$B$27+'Sheet1 select'!$B$9))))","v":6.2788141561893662E-2},{"$f":"(F181*$B$29)*(('Sheet1 select'!$B$12+'Sheet1 select'!$B$13)*(0.000000001))*$B$9*1000","v":0},2.5912432095971015E-4,{"$f":"$B$11*'Sheet1 select'!$B$29*0.001","v":2.4E-2},{"$f":"'Sheet1 select'!$B$10*'Sheet1 select'!$B$31*$B$9*1000*0.000000001","v":4.0800000000000003E-2},{"$f":"'Sheet1 select'!$B$35*$B$11*$B$9*1000*0.000000001","v":0},{"$f":"IF('Sheet1 select'!$B$17=0,0,(0.00000006*0.7+0.00000003*(0.7+F181*1.1*'Sheet1 select'!$B$26))*F181*$B$9*1000)","v":0},0.54716655013567594,0.87800529946449279,{"$f":"H181+K181+O181+N181+'Sheet1 select'!$B$40*I181+J181+P181","v":0.43298387025916074}]
[null,null,null,null,180,1.2,0.1152,{"$f":"F182*F182*('Sheet1 select'!$B$25)*$B$4","v":2.0113592265892176E-2},{"$f":"F182*(1-$B$4)*'Sheet1 select'!$B$41","v":0.28710000000000002},{"$f":"F182*F182*('Sheet1 select'!$B$26)*(1-$B$4)","v":0},{"$f":"0.0000005*$B$11*F182*$B$9*((('Sheet1 select'!$B$33+0.5*'Sheet1 select'!$B$32)/(('Sheet1 select'!$B$10-'Sheet1 select'!$B$23)/('Sheet1 select'!$B$27+'Sheet1 select'!$B$8)))+(('Sheet1 select'!$B$33+0.5*'Sheet1 select'!$B$32)/(('Sheet1 select'!$B$23)/('Sheet1 select'!$B$27+'Sheet1 select'!$B$9))))","v":6.3138913302462907E-2},{"$f":"(F182*$B$29)*(('Sheet1 select'!$B$12+'Sheet1 select'!$B$13)*(0.000000001))*$B$9*1000","v":0},2.5912432095971015E-4,{"$f":"$B$11*'Sheet1 select'!$B$29*0.001","v":2.4E-2},{"$f":"'Sheet1 select'!$B$10*'Sheet1 select'!$B$31*$B$9*1000*0.000000001","v":4.0800000000000003E-2},{"$f":"'Sheet1 select'!$B$35*$B$11*$B$9*1000*0.000000001","v":0},{"$f":"IF('Sheet1 select'!$B$17=0,0,(0.00000006*0.7+0.00000003*(0.7+F182*1.1*'Sheet1 select'!$B$26))*F182*$B$9*1000)","v":0},0.55061162988931489,0.87792971883442184,{"$f":"H182+K182+O182+N182+'Sheet1 select'!$B$40*I182+J182+P182","v":0.43515250556835511}]
[null,null,null,null,181,1.2066666666666668,0.11648355555555558,{"$f":"F183*F183*('Sheet1 select'!$B$25)*$B$4","v":2.0337697414286839E-2},{"$f":"F183*(1-$B$4)*'Sheet1 select'!$B$41","v":0.28869500000000009},{"$f":"F183*F183*('Sheet1 select'!$B$26)*(1-$B$4)","v":0},{"$f":"0.0000005*$B$11*F183*$B$9*((('Sheet1 select'!$B$33+0.5*'Sheet1 select'!$B$32)/(('Sheet1 select'!$B$10-'Sheet1 select'!$B$23)/('Sheet1 select'!$B$27+'Sheet1 select'!$B$8)))+(('Sheet1 select'!$B$33+0.5*'Sheet1 select'!$B$32)/(('Sheet1 select'!$B$23)/('Sheet1 select'!$B$27+'Sheet1 select'!$B$9))))","v":6.3489685043032151E-2},{"$f":"(F183*$B$29)*(('Sheet1 select'!$B$12+'Sheet1 select'!$B$13)*(0.000000001))*$B$9*1000","v":0},2.5912432095971015E-4,{"$f":"$B$11*'Sheet1 select'!$B$29*0.001","v":2.4E-2},{"$f":"'Sheet1 select'!$B$10*'Sheet1 select'!$B$31*$B$9*1000*0.000000001","v":4.0800000000000003E-2},{"$f":"'Sheet1 select'!$B$35*$B$11*$B$9*1000*0.000000001","v":0},{"$f":"IF('Sheet1 select'!$B$17=0,0,(0.00000006*0.7+0.00000003*(0.7+F183*1.1*'Sheet1 select'!$B$26))*F183*$B$9*1000)","v":0},0.55406506233383435,0.87785336966732908,{"$f":"H183+K183+O183+N183+'Sheet1 select'!$B$40*I183+J183+P183","v":0.43732238245731908}]
[null,null,null,null,182,1.2133333333333334,0.11777422222222222,{"$f":"F184*F184*('Sheet1 select'!$B$25)*$B$4","v":2.0563044142451001E-2},{"$f":"F184*(1-$B$4)*'Sheet1 select'!$B$41","v":0.29029000000000005},{"$f":"F184*F184*('Sheet1 select'!$B$26)*(1-$B$4)","v":0},{"$f":"0.0000005*$B$11*F184*$B$9*((('Sheet1 select'!$B$33+0.5*'Sheet1 select'!$B$32)/(('Sheet1 select'!$B$10-'Sheet1 select'!$B$23)/('Sheet1 select'!$B$27+'Sheet1 select'!$B$8)))+(('Sheet1 select'!$B$33+0.5*'Sheet1 select'!$B$32)/(('Sheet1 select'!$B$23)/('Sheet1 select'!$B$27+'Sheet1 select'!$B$9))))","v":6.3840456783601396E-2},{"$f":"(F184*$B$29)*(('Sheet1 select'!$B$12+'Sheet1 select'!$B$13)*(0.000000001))*$B$9*1000","v":0},2.5912432095971015E-4,{"$f":"$B$11*'Sheet1 select'!$B$29*0.001","v":2.4E-2},{"$f":"'Sheet1 select'!$B$10*'Sheet1 select'!$B$31*$B$9*1000*0.000000001","v":4.0800000000000003E-2},{"$f":"'Sheet1 select'!$B$35*$B$11*$B$9*1000*0.000000001","v":0},{"$f":"IF('Sheet1 select'!$B$17=0,0,(0.00000006*0.7+0.00000003*(0.7+F184*1.1*'Sheet1 select'!$B$26))*F184*$B$9*1000)","v":0},0.55752684746923431,0.87777626524799379,{"$f":"H184+K184+O184+N184+'Sheet1 select'!$B$40*I184+J184+P184","v":0.43949350092605244}]
[null,null,null,null,183,1.22,0.11907200000000001,{"$f":"F185*F185*('Sheet1 select'!$B$25)*$B$4","v":2.0789632450384662E-2},{"$f":"F185*(1-$B$4)*'Sheet1 select'!$B$41","v":0.29188500000000006},{"$f":"F185*F185*('Sheet1 select'!$B$26)*(1-$B$4)","v":0},{"$f":"0.0000005*$B$11*F185*$B$9*((('Sheet1 select'!$B$33+0.5*'Sheet1 select'!$B$32)/(('Sheet1 select'!$B$10-'Sheet1 select'!$B$23)/('Sheet1 select'!$B$27+'Sheet1 select'!$B$8)))+(('Sheet1 select'!$B$33+0.5*'Sheet1 select'!$B$32)/(('Sheet1 select'!$B$23)/('Sheet1 select'!$B$27+'Sheet1 select'!$B$9))))","v":6.4191228524170627E-2},{"$f":"(F185*$B$29)*(('Sheet1 select'!$B$12+'Sheet1 select'!$B$13)*(0.000000001))*$B$9*1000","v":0},2.5912432095971015E-4,{"$f":"$B$11*'Sheet1 select'!$B$29*0.001","v":2.4E-2},{"$f":"'Sheet1 select'!$B$10*'Sheet1 select'!$B$31*$B$9*1000*0.000000001","v":4.0800000000000003E-2},{"$f":"'Sheet1 select'!$B$35*$B$11*$B$9*1000*0.000000001","v":0},{"$f":"IF('Sheet1 select'!$B$17=0,0,(0.00000006*0.7+0.00000003*(0.7+F185*1.1*'Sheet1 select'!$B$26))*F185*$B$9*1000)","v":0},0.560996985295515,0.87769841857452779,{"$f":"H185+K185+O185+N185+'Sheet1 select'!$B$40*I185+J185+P185","v":0.44166586097455535}]
[null,null,null,null,184,1.2266666666666666,0.12037688888888888,{"$f":"F186*F186*('Sheet1 select'!$B$25)*$B$4","v":2.1017462338087822E-2},{"$f":"F186*(1-$B$4)*'Sheet1 select'!$B$41","v":0.29348000000000002},{"$f":"F186*F186*('Sheet1 select'!$B$26)*(1-$B$4)","v":0},{"$f":"0.0000005*$B$11*F186*$B$9*((('Sheet1 select'!$B$33+0.5*'Sheet1 select'!$B$32)/(('Sheet1 select'!$B$10-'Sheet1 select'!$B$23)/('Sheet1 select'!$B$27+'Sheet1 select'!$B$8)))+(('Sheet1 select'!$B$33+0.5*'Sheet1 select'!$B$32)/(('Sheet1 select'!$B$23)/('Sheet1 select'!$B$27+'Sheet1 select'!$B$9))))","v":6.4542000264739857E-2},{"$f":"(F186*$B$29)*(('Sheet1 select'!$B$12+'Sheet1 select'!$B$13)*(0.000000001))*$B$9*1000","v":0},2.5912432095971015E-4,{"$f":"$B$11*'Sheet1 select'!$B$29*0.001","v":2.4E-2},{"$f":"'Sheet1 select'!$B$10*'Sheet1 select'!$B$31*$B$9*1000*0.000000001","v":4.0800000000000003E-2},{"$f":"'Sheet1 select'!$B$35*$B$11*$B$9*1000*0.000000001","v":0},{"$f":"IF('Sheet1 select'!$B$17=0,0,(0.00000006*0.7+0.00000003*(0.7+F186*1.1*'Sheet1 select'!$B$26))*F186*$B$9*1000)","v":0},0.56447547581267621,0.87761984236605162,{"$f":"H186+K186+O186+N186+'Sheet1 select'!$B$40*I186+J186+P186","v":0.44383946260282769}]
[null,null,null,null,185,1.2333333333333334,0.1216888888888889,{"$f":"F187*F187*('Sheet1 select'!$B$25)*$B$4","v":2.1246533805560488E-2},{"$f":"F187*(1-$B$4)*'Sheet1 select'!$B$41","v":0.29507500000000003},{"$f":"F187*F187*('Sheet1 select'!$B$26)*(1-$B$4)","v":0},{"$f":"0.0000005*$B$11*F187*$B$9*((('Sheet1 select'!$B$33+0.5*'Sheet1 select'!$B$32)/(('Sheet1 select'!$B$10-'Sheet1 select'!$B$23)/('Sheet1 select'!$B$27+'Sheet1 select'!$B$8)))+(('Sheet1 select'!$B$33+0.5*'Sheet1 select'!$B$32)/(('Sheet1 select'!$B$23)/('Sheet1 select'!$B$27+'Sheet1 select'!$B$9))))","v":6.4892772005309102E-2},{"$f":"(F187*$B$29)*(('Sheet1 select'!$B$12+'Sheet1 select'!$B$13)*(0.000000001))*$B$9*1000","v":0},2.5912432095971015E-4,{"$f":"$B$11*'Sheet1 select'!$B$29*0.001","v":2.4E-2},{"$f":"'Sheet1 select'!$B$10*'Sheet1 select'!$B$31*$B$9*1000*0.000000001","v":4.0800000000000003E-2},{"$f":"'Sheet1 select'!$B$35*$B$11*$B$9*1000*0.000000001","v":0},{"$f":"IF('Sheet1 select'!$B$17=0,0,(0.00000006*0.7+0.00000003*(0.7+F187*1.1*'Sheet1 select'!$B$26))*F187*$B$9*1000)","v":0},0.56796231902071836,0.8775405490701268,{"$f":"H187+K187+O187+N187+'Sheet1 select'!$B$40*I187+J187+P187","v":0.44601430581086965}]
[null,null,null,null,186,1.24,0.12300800000000001,{"$f":"F188*F188*('Sheet1 select'!$B$25)*$B$4","v":2.1476846852802649E-2},{"$f":"F188*(1-$B$4)*'Sheet1 select'!$B$41","v":0.29667000000000004},{"$f":"F188*F188*('Sheet1 select'!$B$26)*(1-$B$4)","v":0},{"$f":"0.0000005*$B$11*F188*$B$9*((('Sheet1 select'!$B$33+0.5*'Sheet1 select'!$B$32)/(('Sheet1 select'!$B$10-'Sheet1 select'!$B$23)/('Sheet1 select'!$B$27+'Sheet1 select'!$B$8)))+(('Sheet1 select'!$B$33+0.5*'Sheet1 select'!$B$32)/(('Sheet1 select'!$B$23)/('Sheet1 select'!$B$27+'Sheet1 select'!$B$9))))","v":6.5243543745878332E-2},{"$f":"(F188*$B$29)*(('Sheet1 select'!$B$12+'Sheet1 select'!$B$13)*(0.000000001))*$B$9*1000","v":0},2.5912432095971015E-4,{"$f":"$B$11*'Sheet1 select'!$B$29*0.001","v":2.4E-2},{"$f":"'Sheet1 select'!$B$10*'Sheet1 select'!$B$31*$B$9*1000*0.000000001","v":4.0800000000000003E-2},{"$f":"'Sheet1 select'!$B$35*$B$11*$B$9*1000*0.000000001","v":0},{"$f":"IF('Sheet1 select'!$B$17=0,0,(0.00000006*0.7+0.00000003*(0.7+F188*1.1*'Sheet1 select'!$B$26))*F188*$B$9*1000)","v":0},0.57145751491964081,0.87746055086995078,{"$f":"H188+K188+O188+N188+'Sheet1 select'!$B$40*I188+J188+P188","v":0.44819039059868104}]
[null,null,null,null,187,1.2466666666666666,0.12433422222222221,{"$f":"F189*F189*('Sheet1 select'!$B$25)*$B$4","v":2.1708401479814305E-2},{"$f":"F189*(1-$B$4)*'Sheet1 select'!$B$41","v":0.298265},{"$f":"F189*F189*('Sheet1 select'!$B$26)*(1-$B$4)","v":0},{"$f":"0.0000005*$B$11*F189*$B$9*((('Sheet1 select'!$B$33+0.5*'Sheet1 select'!$B$32)/(('Sheet1 select'!$B$10-'Sheet1 select'!$B$23)/('Sheet1 select'!$B$27+'Sheet1 select'!$B$8)))+(('Sheet1 select'!$B$33+0.5*'Sheet1 select'!$B$32)/(('Sheet1 select'!$B$23)/('Sheet1 select'!$B$27+'Sheet1 select'!$B$9))))","v":6.5594315486447577E-2},{"$f":"(F189*$B$29)*(('Sheet1 select'!$B$12+'Sheet1 select'!$B$13)*(0.000000001))*$B$9*1000","v":0},2.5912432095971015E-4,{"$f":"$B$11*'Sheet1 select'!$B$29*0.001","v":2.4E-2},{"$f":"'Sheet1 select'!$B$10*'Sheet1 select'!$B$31*$B$9*1000*0.000000001","v":4.0800000000000003E-2},{"$f":"'Sheet1 select'!$B$35*$B$11*$B$9*1000*0.000000001","v":0},{"$f":"IF('Sheet1 select'!$B$17=0,0,(0.00000006*0.7+0.00000003*(0.7+F189*1.1*'Sheet1 select'!$B$26))*F189*$B$9*1000)","v":0},0.57496106350944398,0.87737985969132459,{"$f":"H189+K189+O189+N189+'Sheet1 select'!$B$40*I189+J189+P189","v":0.45036771696626188}]
[null,null,null,null,188,1.2533333333333334,0.12566755555555559,{"$f":"F190*F190*('Sheet1 select'!$B$25)*$B$4","v":2.1941197686595467E-2},{"$f":"F190*(1-$B$4)*'Sheet1 select'!$B$41","v":0.29986000000000007},{"$f":"F190*F190*('Sheet1 select'!$B$26)*(1-$B$4)","v":0},{"$f":"0.0000005*$B$11*F190*$B$9*((('Sheet1 select'!$B$33+0.5*'Sheet1 select'!$B$32)/(('Sheet1 select'!$B$10-'Sheet1 select'!$B$23)/('Sheet1 select'!$B$27+'Sheet1 select'!$B$8)))+(('Sheet1 select'!$B$33+0.5*'Sheet1 select'!$B$32)/(('Sheet1 select'!$B$23)/('Sheet1 select'!$B$27+'Sheet1 select'!$B$9))))","v":6.5945087227016821E-2},{"$f":"(F190*$B$29)*(('Sheet1 select'!$B$12+'Sheet1 select'!$B$13)*(0.000000001))*$B$9*1000","v":0},2.5912432095971015E-4,{"$f":"$B$11*'Sheet1 select'!$B$29*0.001","v":2.4E-2},{"$f":"'Sheet1 select'!$B$10*'Sheet1 select'!$B$31*$B$9*1000*0.000000001","v":4.0800000000000003E-2},{"$f":"'Sheet1 select'!$B$35*$B$11*$B$9*1000*0.000000001","v":0},{"$f":"IF('Sheet1 select'!$B$17=0,0,(0.00000006*0.7+0.00000003*(0.7+F190*1.1*'Sheet1 select'!$B$26))*F190*$B$9*1000)","v":0},0.57847296479012766,0.87729848720940129,{"$f":"H190+K190+O190+N190+'Sheet1 select'!$B$40*I190+J190+P190","v":0.45254628491361237}]
[null,null,null,null,189,1.26,0.12700800000000001,{"$f":"F191*F191*('Sheet1 select'!$B$25)*$B$4","v":2.2175235473146124E-2},{"$f":"F191*(1-$B$4)*'Sheet1 select'!$B$41","v":0.30145500000000003},{"$f":"F191*F191*('Sheet1 select'!$B$26)*(1-$B$4)","v":0},{"$f":"0.0000005*$B$11*F191*$B$9*((('Sheet1 select'!$B$33+0.5*'Sheet1 select'!$B$32)/(('Sheet1 select'!$B$10-'Sheet1 select'!$B$23)/('Sheet1 select'!$B$27+'Sheet1 select'!$B$8)))+(('Sheet1 select'!$B$33+0.5*'Sheet1 select'!$B$32)/(('Sheet1 select'!$B$23)/('Sheet1 select'!$B$27+'Sheet1 select'!$B$9))))","v":6.6295858967586066E-2},{"$f":"(F191*$B$29)*(('Sheet1 select'!$B$12+'Sheet1 select'!$B$13)*(0.000000001))*$B$9*1000","v":0},2.5912432095971015E-4,{"$f":"$B$11*'Sheet1 select'!$B$29*0.001","v":2.4E-2},{"$f":"'Sheet1 select'!$B$10*'Sheet1 select'!$B$31*$B$9*1000*0.000000001","v":4.0800000000000003E-2},{"$f":"'Sheet1 select'!$B$35*$B$11*$B$9*1000*0.000000001","v":0},{"$f":"IF('Sheet1 select'!$B$17=0,0,(0.00000006*0.7+0.00000003*(0.7+F191*1.1*'Sheet1 select'!$B$26))*F191*$B$9*1000)","v":0},0.58199321876169208,0.87721644485522365,{"$f":"H191+K191+O191+N191+'Sheet1 select'!$B$40*I191+J191+P191","v":0.4547260944407322}]
[null,null,null,null,190,1.2666666666666666,0.12835555555555556,{"$f":"F192*F192*('Sheet1 select'!$B$25)*$B$4","v":2.2410514839466281E-2},{"$f":"F192*(1-$B$4)*'Sheet1 select'!$B$41","v":0.30305000000000004},{"$f":"F192*F192*('Sheet1 select'!$B$26)*(1-$B$4)","v":0},{"$f":"0.0000005*$B$11*F192*$B$9*((('Sheet1 select'!$B$33+0.5*'Sheet1 select'!$B$32)/(('Sheet1 select'!$B$10-'Sheet1 select'!$B$23)/('Sheet1 select'!$B$27+'Sheet1 select'!$B$8)))+(('Sheet1 select'!$B$33+0.5*'Sheet1 select'!$B$32)/(('Sheet1 select'!$B$23)/('Sheet1 select'!$B$27+'Sheet1 select'!$B$9))))","v":6.6646630708155297E-2},{"$f":"(F192*$B$29)*(('Sheet1 select'!$B$12+'Sheet1 select'!$B$13)*(0.000000001))*$B$9*1000","v":0},2.5912432095971015E-4,{"$f":"$B$11*'Sheet1 select'!$B$29*0.001","v":2.4E-2},{"$f":"'Sheet1 select'!$B$10*'Sheet1 select'!$B$31*$B$9*1000*0.000000001","v":4.0800000000000003E-2},{"$f":"'Sheet1 select'!$B$35*$B$11*$B$9*1000*0.000000001","v":0},{"$f":"IF('Sheet1 select'!$B$17=0,0,(0.00000006*0.7+0.00000003*(0.7+F192*1.1*'Sheet1 select'!$B$26))*F192*$B$9*1000)","v":0},0.585521825424137,0.87713374382205778,{"$f":"H192+K192+O192+N192+'Sheet1 select'!$B$40*I192+J192+P192","v":0.45690714554762157}]
[null,null,null,null,191,1.2733333333333334,0.12971022222222223,{"$f":"F193*F193*('Sheet1 select'!$B$25)*$B$4","v":2.2647035785555946E-2},{"$f":"F193*(1-$B$4)*'Sheet1 select'!$B$41","v":0.30464500000000005},{"$f":"F193*F193*('Sheet1 select'!$B$26)*(1-$B$4)","v":0},{"$f":"0.0000005*$B$11*F193*$B$9*((('Sheet1 select'!$B$33+0.5*'Sheet1 select'!$B$32)/(('Sheet1 select'!$B$10-'Sheet1 select'!$B$23)/('Sheet1 select'!$B$27+'Sheet1 select'!$B$8)))+(('Sheet1 select'!$B$33+0.5*'Sheet1 select'!$B$32)/(('Sheet1 select'!$B$23)/('Sheet1 select'!$B$27+'Sheet1 select'!$B$9))))","v":6.6997402448724541E-2},{"$f":"(F193*$B$29)*(('Sheet1 select'!$B$12+'Sheet1 select'!$B$13)*(0.000000001))*$B$9*1000","v":0},2.5912432095971015E-4,{"$f":"$B$11*'Sheet1 select'!$B$29*0.001","v":2.4E-2},{"$f":"'Sheet1 select'!$B$10*'Sheet1 select'!$B$31*$B$9*1000*0.000000001","v":4.0800000000000003E-2},{"$f":"'Sheet1 select'!$B$35*$B$11*$B$9*1000*0.000000001","v":0},{"$f":"IF('Sheet1 select'!$B$17=0,0,(0.00000006*0.7+0.00000003*(0.7+F193*1.1*'Sheet1 select'!$B$26))*F193*$B$9*1000)","v":0},0.58905878477746243,0.87705039507153049,{"$f":"H193+K193+O193+N193+'Sheet1 select'!$B$40*I193+J193+P193","v":0.4590894382342805}]
[null,null,null,null,192,1.28,0.13107199999999999,{"$f":"F194*F194*('Sheet1 select'!$B$25)*$B$4","v":2.2884798311415096E-2},{"$f":"F194*(1-$B$4)*'Sheet1 select'!$B$41","v":0.30624000000000007},{"$f":"F194*F194*('Sheet1 select'!$B$26)*(1-$B$4)","v":0},{"$f":"0.0000005*$B$11*F194*$B$9*((('Sheet1 select'!$B$33+0.5*'Sheet1 select'!$B$32)/(('Sheet1 select'!$B$10-'Sheet1 select'!$B$23)/('Sheet1 select'!$B$27+'Sheet1 select'!$B$8)))+(('Sheet1 select'!$B$33+0.5*'Sheet1 select'!$B$32)/(('Sheet1 select'!$B$23)/('Sheet1 select'!$B$27+'Sheet1 select'!$B$9))))","v":6.7348174189293772E-2},{"$f":"(F194*$B$29)*(('Sheet1 select'!$B$12+'Sheet1 select'!$B$13)*(0.000000001))*$B$9*1000","v":0},2.5912432095971015E-4,{"$f":"$B$11*'Sheet1 select'!$B$29*0.001","v":2.4E-2},{"$f":"'Sheet1 select'!$B$10*'Sheet1 select'!$B$31*$B$9*1000*0.000000001","v":4.0800000000000003E-2},{"$f":"'Sheet1 select'!$B$35*$B$11*$B$9*1000*0.000000001","v":0},{"$f":"IF('Sheet1 select'!$B$17=0,0,(0.00000006*0.7+0.00000003*(0.7+F194*1.1*'Sheet1 select'!$B$26))*F194*$B$9*1000)","v":0},0.59260409682166859,0.87696640933957803,{"$f":"H194+K194+O194+N194+'Sheet1 select'!$B$40*I194+J194+P194","v":0.46127297250070898}]
[null,null,null,null,193,1.2866666666666666,0.13244088888888889,{"$f":"F195*F195*('Sheet1 select'!$B$25)*$B$4","v":2.3123802417043753E-2},{"$f":"F195*(1-$B$4)*'Sheet1 select'!$B$41","v":0.30783500000000003},{"$f":"F195*F195*('Sheet1 select'!$B$26)*(1-$B$4)","v":0},{"$f":"0.0000005*$B$11*F195*$B$9*((('Sheet1 select'!$B$33+0.5*'Sheet1 select'!$B$32)/(('Sheet1 select'!$B$10-'Sheet1 select'!$B$23)/('Sheet1 select'!$B$27+'Sheet1 select'!$B$8)))+(('Sheet1 select'!$B$33+0.5*'Sheet1 select'!$B$32)/(('Sheet1 select'!$B$23)/('Sheet1 select'!$B$27+'Sheet1 select'!$B$9))))","v":6.7698945929863003E-2},{"$f":"(F195*$B$29)*(('Sheet1 select'!$B$12+'Sheet1 select'!$B$13)*(0.000000001))*$B$9*1000","v":0},2.5912432095971015E-4,{"$f":"$B$11*'Sheet1 select'!$B$29*0.001","v":2.4E-2},{"$f":"'Sheet1 select'!$B$10*'Sheet1 select'!$B$31*$B$9*1000*0.000000001","v":4.0800000000000003E-2},{"$f":"'Sheet1 select'!$B$35*$B$11*$B$9*1000*0.000000001","v":0},{"$f":"IF('Sheet1 select'!$B$17=0,0,(0.00000006*0.7+0.00000003*(0.7+F195*1.1*'Sheet1 select'!$B$26))*F195*$B$9*1000)","v":0},{"$f":"SUM(G195:P195)+Q195","v":0.59615776155675548},0.87688179714221237,{"$f":"H195+K195+O195+N195+'Sheet1 select'!$B$40*I195+J195+P195","v":0.46345774834690678}]
[null,null,null,null,194,{"$f":"$B$13*E196/300","v":1.2933333333333332},{"$f":"F196*F196*$B$15*0.001*2","v":0.13381688888888885},{"$f":"F196*F196*('Sheet1 select'!$B$25)*$B$4","v":2.3364048102441907E-2},{"$f":"F196*(1-$B$4)*'Sheet1 select'!$B$41","v":0.30942999999999998},{"$f":"F196*F196*('Sheet1 select'!$B$26)*(1-$B$4)","v":0},{"$f":"0.0000005*$B$11*F196*$B$9*((('Sheet1 select'!$B$33+0.5*'Sheet1 select'!$B$32)/(('Sheet1 select'!$B$10-'Sheet1 select'!$B$23)/('Sheet1 select'!$B$27+'Sheet1 select'!$B$8)))+(('Sheet1 select'!$B$33+0.5*'Sheet1 select'!$B$32)/(('Sheet1 select'!$B$23)/('Sheet1 select'!$B$27+'Sheet1 select'!$B$9))))","v":6.8049717670432247E-2},{"$f":"(F196*$B$29)*(('Sheet1 select'!$B$12+'Sheet1 select'!$B$13)*(0.000000001))*$B$9*1000","v":0},{"$f":"($B$3^2)*$B$17*0.001","v":2.5912432095971015E-4},{"$f":"$B$11*'Sheet1 select'!$B$29*0.001","v":2.4E-2},{"$f":"'Sheet1 select'!$B$10*'Sheet1 select'!$B$31*$B$9*1000*0.000000001","v":4.0800000000000003E-2},{"$f":"'Sheet1 select'!$B$35*$B$11*$B$9*1000*0.000000001","v":0},{"$f":"IF('Sheet1 select'!$B$17=0,0,(0.00000006*0.7+0.00000003*(0.7+F196*1.1*'Sheet1 select'!$B$26))*F196*$B$9*1000)","v":0},0.59971977898272266,{"$f":"($B$12*F196)/($B$12*F196+R196)","v":0.87679656878111112},{"$f":"H196+K196+O196+N196+'Sheet1 select'!$B$40*I196+J196+P196","v":0.46564376577287414}]
[null,null,null,null,195,1.3,0.13520000000000001,{"$f":"F197*F197*('Sheet1 select'!$B$25)*$B$4","v":2.3605535367609572E-2},{"$f":"F197*(1-$B$4)*'Sheet1 select'!$B$41","v":0.31102500000000005},{"$f":"F197*F197*('Sheet1 select'!$B$26)*(1-$B$4)","v":0},{"$f":"0.0000005*$B$11*F197*$B$9*((('Sheet1 select'!$B$33+0.5*'Sheet1 select'!$B$32)/(('Sheet1 select'!$B$10-'Sheet1 select'!$B$23)/('Sheet1 select'!$B$27+'Sheet1 select'!$B$8)))+(('Sheet1 select'!$B$33+0.5*'Sheet1 select'!$B$32)/(('Sheet1 select'!$B$23)/('Sheet1 select'!$B$27+'Sheet1 select'!$B$9))))","v":6.8400489411001478E-2},{"$f":"(F197*$B$29)*(('Sheet1 select'!$B$12+'Sheet1 select'!$B$13)*(0.000000001))*$B$9*1000","v":0},2.5912432095971015E-4,{"$f":"$B$11*'Sheet1 select'!$B$29*0.001","v":2.4E-2},{"$f":"'Sheet1 select'!$B$10*'Sheet1 select'!$B$31*$B$9*1000*0.000000001","v":4.0800000000000003E-2},{"$f":"'Sheet1 select'!$B$35*$B$11*$B$9*1000*0.000000001","v":0},{"$f":"IF('Sheet1 select'!$B$17=0,0,(0.00000006*0.7+0.00000003*(0.7+F197*1.1*'Sheet1 select'!$B$26))*F197*$B$9*1000)","v":0},0.60329014909957102,0.87671073434903823,{"$f":"H197+K197+O197+N197+'Sheet1 select'!$B$40*I197+J197+P197","v":0.4678310247786111}]
[null,null,null,null,196,1.3066666666666666,0.13659022222222222,{"$f":"F198*F198*('Sheet1 select'!$B$25)*$B$4","v":2.3848264212546721E-2},{"$f":"F198*(1-$B$4)*'Sheet1 select'!$B$41","v":0.31262000000000006},{"$f":"F198*F198*('Sheet1 select'!$B$26)*(1-$B$4)","v":0},{"$f":"0.0000005*$B$11*F198*$B$9*((('Sheet1 select'!$B$33+0.5*'Sheet1 select'!$B$32)/(('Sheet1 select'!$B$10-'Sheet1 select'!$B$23)/('Sheet1 select'!$B$27+'Sheet1 select'!$B$8)))+(('Sheet1 select'!$B$33+0.5*'Sheet1 select'!$B$32)/(('Sheet1 select'!$B$23)/('Sheet1 select'!$B$27+'Sheet1 select'!$B$9))))","v":6.8751261151570722E-2},{"$f":"(F198*$B$29)*(('Sheet1 select'!$B$12+'Sheet1 select'!$B$13)*(0.000000001))*$B$9*1000","v":0},2.5912432095971015E-4,{"$f":"$B$11*'Sheet1 select'!$B$29*0.001","v":2.4E-2},{"$f":"'Sheet1 select'!$B$10*'Sheet1 select'!$B$31*$B$9*1000*0.000000001","v":4.0800000000000003E-2},{"$f":"'Sheet1 select'!$B$35*$B$11*$B$9*1000*0.000000001","v":0},{"$f":"IF('Sheet1 select'!$B$17=0,0,(0.00000006*0.7+0.00000003*(0.7+F198*1.1*'Sheet1 select'!$B$26))*F198*$B$9*1000)","v":0},0.60686887190729943,0.87662430373510136,{"$f":"H198+K198+O198+N198+'Sheet1 select'!$B$40*I198+J198+P198","v":0.47001952536411751}]
[null,null,null,null,197,1.3133333333333332,0.13798755555555553,{"$f":"F199*F199*('Sheet1 select'!$B$25)*$B$4","v":2.4092234637253372E-2},{"$f":"F199*(1-$B$4)*'Sheet1 select'!$B$41","v":0.31421500000000002},{"$f":"F199*F199*('Sheet1 select'!$B$26)*(1-$B$4)","v":0},{"$f":"0.0000005*$B$11*F199*$B$9*((('Sheet1 select'!$B$33+0.5*'Sheet1 select'!$B$32)/(('Sheet1 select'!$B$10-'Sheet1 select'!$B$23)/('Sheet1 select'!$B$27+'Sheet1 select'!$B$8)))+(('Sheet1 select'!$B$33+0.5*'Sheet1 select'!$B$32)/(('Sheet1 select'!$B$23)/('Sheet1 select'!$B$27+'Sheet1 select'!$B$9))))","v":6.9102032892139953E-2},{"$f":"(F199*$B$29)*(('Sheet1 select'!$B$12+'Sheet1 select'!$B$13)*(0.000000001))*$B$9*1000","v":0},2.5912432095971015E-4,{"$f":"$B$11*'Sheet1 select'!$B$29*0.001","v":2.4E-2},{"$f":"'Sheet1 select'!$B$10*'Sheet1 select'!$B$31*$B$9*1000*0.000000001","v":4.0800000000000003E-2},{"$f":"'Sheet1 select'!$B$35*$B$11*$B$9*1000*0.000000001","v":0},{"$f":"IF('Sheet1 select'!$B$17=0,0,(0.00000006*0.7+0.00000003*(0.7+F199*1.1*'Sheet1 select'!$B$26))*F199*$B$9*1000)","v":0},0.61045594740590858,0.8765372866298502,{"$f":"H199+K199+O199+N199+'Sheet1 select'!$B$40*I199+J199+P199","v":0.47220926752939335}]
[null,null,null,null,198,1.32,0.13939200000000002,{"$f":"F200*F200*('Sheet1 select'!$B$25)*$B$4","v":2.4337446641729533E-2},{"$f":"F200*(1-$B$4)*'Sheet1 select'!$B$41","v":0.31581000000000009},{"$f":"F200*F200*('Sheet1 select'!$B$26)*(1-$B$4)","v":0},{"$f":"0.0000005*$B$11*F200*$B$9*((('Sheet1 select'!$B$33+0.5*'Sheet1 select'!$B$32)/(('Sheet1 select'!$B$10-'Sheet1 select'!$B$23)/('Sheet1 select'!$B$27+'Sheet1 select'!$B$8)))+(('Sheet1 select'!$B$33+0.5*'Sheet1 select'!$B$32)/(('Sheet1 select'!$B$23)/('Sheet1 select'!$B$27+'Sheet1 select'!$B$9))))","v":6.9452804632709197E-2},{"$f":"(F200*$B$29)*(('Sheet1 select'!$B$12+'Sheet1 select'!$B$13)*(0.000000001))*$B$9*1000","v":0},2.5912432095971015E-4,{"$f":"$B$11*'Sheet1 select'!$B$29*0.001","v":2.4E-2},{"$f":"'Sheet1 select'!$B$10*'Sheet1 select'!$B$31*$B$9*1000*0.000000001","v":4.0800000000000003E-2},{"$f":"'Sheet1 select'!$B$35*$B$11*$B$9*1000*0.000000001","v":0},{"$f":"IF('Sheet1 select'!$B$17=0,0,(0.00000006*0.7+0.00000003*(0.7+F200*1.1*'Sheet1 select'!$B$26))*F200*$B$9*1000)","v":0},0.61405137559539869,0.87644969253022331,{"$f":"H200+K200+O200+N200+'Sheet1 select'!$B$40*I200+J200+P200","v":0.47440025127443886}]
[null,null,null,null,199,1.3266666666666667,0.14080355555555557,{"$f":"F201*F201*('Sheet1 select'!$B$25)*$B$4","v":2.4583900225975189E-2},{"$f":"F201*(1-$B$4)*'Sheet1 select'!$B$41","v":0.31740500000000005},{"$f":"F201*F201*('Sheet1 select'!$B$26)*(1-$B$4)","v":0},{"$f":"0.0000005*$B$11*F201*$B$9*((('Sheet1 select'!$B$33+0.5*'Sheet1 select'!$B$32)/(('Sheet1 select'!$B$10-'Sheet1 select'!$B$23)/('Sheet1 select'!$B$27+'Sheet1 select'!$B$8)))+(('Sheet1 select'!$B$33+0.5*'Sheet1 select'!$B$32)/(('Sheet1 select'!$B$23)/('Sheet1 select'!$B$27+'Sheet1 select'!$B$9))))","v":6.9803576373278442E-2},{"$f":"(F201*$B$29)*(('Sheet1 select'!$B$12+'Sheet1 select'!$B$13)*(0.000000001))*$B$9*1000","v":0},2.5912432095971015E-4,{"$f":"$B$11*'Sheet1 select'!$B$29*0.001","v":2.4E-2},{"$f":"'Sheet1 select'!$B$10*'Sheet1 select'!$B$31*$B$9*1000*0.000000001","v":4.0800000000000003E-2},{"$f":"'Sheet1 select'!$B$35*$B$11*$B$9*1000*0.000000001","v":0},{"$f":"IF('Sheet1 select'!$B$17=0,0,(0.00000006*0.7+0.00000003*(0.7+F201*1.1*'Sheet1 select'!$B$26))*F201*$B$9*1000)","v":0},0.61765515647576907,0.87636153074434786,{"$f":"H201+K201+O201+N201+'Sheet1 select'!$B$40*I201+J201+P201","v":0.47659247659925363}]
[null,null,null,null,200,1.3333333333333333,0.14222222222222222,{"$f":"F202*F202*('Sheet1 select'!$B$25)*$B$4","v":2.4831595389990337E-2},{"$f":"F202*(1-$B$4)*'Sheet1 select'!$B$41","v":0.31900000000000006},{"$f":"F202*F202*('Sheet1 select'!$B$26)*(1-$B$4)","v":0},{"$f":"0.0000005*$B$11*F202*$B$9*((('Sheet1 select'!$B$33+0.5*'Sheet1 select'!$B$32)/(('Sheet1 select'!$B$10-'Sheet1 select'!$B$23)/('Sheet1 select'!$B$27+'Sheet1 select'!$B$8)))+(('Sheet1 select'!$B$33+0.5*'Sheet1 select'!$B$32)/(('Sheet1 select'!$B$23)/('Sheet1 select'!$B$27+'Sheet1 select'!$B$9))))","v":7.0154348113847673E-2},{"$f":"(F202*$B$29)*(('Sheet1 select'!$B$12+'Sheet1 select'!$B$13)*(0.000000001))*$B$9*1000","v":0},2.5912432095971015E-4,{"$f":"$B$11*'Sheet1 select'!$B$29*0.001","v":2.4E-2},{"$f":"'Sheet1 select'!$B$10*'Sheet1 select'!$B$31*$B$9*1000*0.000000001","v":4.0800000000000003E-2},{"$f":"'Sheet1 select'!$B$35*$B$11*$B$9*1000*0.000000001","v":0},{"$f":"IF('Sheet1 select'!$B$17=0,0,(0.00000006*0.7+0.00000003*(0.7+F202*1.1*'Sheet1 select'!$B$26))*F202*$B$9*1000)","v":0},0.62126729004701997,0.87627281039619742,{"$f":"H202+K202+O202+N202+'Sheet1 select'!$B$40*I202+J202+P202","v":0.47878594350383807}]
[null,null,null,null,201,1.34,0.14364800000000003,{"$f":"F203*F203*('Sheet1 select'!$B$25)*$B$4","v":2.5080532133775001E-2},{"$f":"F203*(1-$B$4)*'Sheet1 select'!$B$41","v":0.32059500000000007},{"$f":"F203*F203*('Sheet1 select'!$B$26)*(1-$B$4)","v":0},{"$f":"0.0000005*$B$11*F203*$B$9*((('Sheet1 select'!$B$33+0.5*'Sheet1 select'!$B$32)/(('Sheet1 select'!$B$10-'Sheet1 select'!$B$23)/('Sheet1 select'!$B$27+'Sheet1 select'!$B$8)))+(('Sheet1 select'!$B$33+0.5*'Sheet1 select'!$B$32)/(('Sheet1 select'!$B$23)/('Sheet1 select'!$B$27+'Sheet1 select'!$B$9))))","v":7.0505119854416917E-2},{"$f":"(F203*$B$29)*(('Sheet1 select'!$B$12+'Sheet1 select'!$B$13)*(0.000000001))*$B$9*1000","v":0},2.5912432095971015E-4,{"$f":"$B$11*'Sheet1 select'!$B$29*0.001","v":2.4E-2},{"$f":"'Sheet1 select'!$B$10*'Sheet1 select'!$B$31*$B$9*1000*0.000000001","v":4.0800000000000003E-2},{"$f":"'Sheet1 select'!$B$35*$B$11*$B$9*1000*0.000000001","v":0},{"$f":"IF('Sheet1 select'!$B$17=0,0,(0.00000006*0.7+0.00000003*(0.7+F203*1.1*'Sheet1 select'!$B$26))*F203*$B$9*1000)","v":0},0.62488777630915182,0.87618354043011037,{"$f":"H203+K203+O203+N203+'Sheet1 select'!$B$40*I203+J203+P203","v":0.48098065198819195}]
[null,null,null,null,202,1.3466666666666667,0.1450808888888889,{"$f":"F204*F204*('Sheet1 select'!$B$25)*$B$4","v":2.5330710457329143E-2},{"$f":"F204*(1-$B$4)*'Sheet1 select'!$B$41","v":0.32219000000000009},{"$f":"F204*F204*('Sheet1 select'!$B$26)*(1-$B$4)","v":0},{"$f":"0.0000005*$B$11*F204*$B$9*((('Sheet1 select'!$B$33+0.5*'Sheet1 select'!$B$32)/(('Sheet1 select'!$B$10-'Sheet1 select'!$B$23)/('Sheet1 select'!$B$27+'Sheet1 select'!$B$8)))+(('Sheet1 select'!$B$33+0.5*'Sheet1 select'!$B$32)/(('Sheet1 select'!$B$23)/('Sheet1 select'!$B$27+'Sheet1 select'!$B$9))))","v":7.0855891594986162E-2},{"$f":"(F204*$B$29)*(('Sheet1 select'!$B$12+'Sheet1 select'!$B$13)*(0.000000001))*$B$9*1000","v":0},2.5912432095971015E-4,{"$f":"$B$11*'Sheet1 select'!$B$29*0.001","v":2.4E-2},{"$f":"'Sheet1 select'!$B$10*'Sheet1 select'!$B$31*$B$9*1000*0.000000001","v":4.0800000000000003E-2},{"$f":"'Sheet1 select'!$B$35*$B$11*$B$9*1000*0.000000001","v":0},{"$f":"IF('Sheet1 select'!$B$17=0,0,(0.00000006*0.7+0.00000003*(0.7+F204*1.1*'Sheet1 select'!$B$26))*F204*$B$9*1000)","v":0},0.62851661526216418,0.87609372961518028,{"$f":"H204+K204+O204+N204+'Sheet1 select'!$B$40*I204+J204+P204","v":0.48317660205231538}]
[null,null,null,null,203,1.3533333333333333,0.14652088888888887,{"$f":"F205*F205*('Sheet1 select'!$B$25)*$B$4","v":2.5582130360652794E-2},{"$f":"F205*(1-$B$4)*'Sheet1 select'!$B$41","v":0.32378500000000004},{"$f":"F205*F205*('Sheet1 select'!$B$26)*(1-$B$4)","v":0},{"$f":"0.0000005*$B$11*F205*$B$9*((('Sheet1 select'!$B$33+0.5*'Sheet1 select'!$B$32)/(('Sheet1 select'!$B$10-'Sheet1 select'!$B$23)/('Sheet1 select'!$B$27+'Sheet1 select'!$B$8)))+(('Sheet1 select'!$B$33+0.5*'Sheet1 select'!$B$32)/(('Sheet1 select'!$B$23)/('Sheet1 select'!$B$27+'Sheet1 select'!$B$9))))","v":7.1206663335555392E-2},{"$f":"(F205*$B$29)*(('Sheet1 select'!$B$12+'Sheet1 select'!$B$13)*(0.000000001))*$B$9*1000","v":0},2.5912432095971015E-4,{"$f":"$B$11*'Sheet1 select'!$B$29*0.001","v":2.4E-2},{"$f":"'Sheet1 select'!$B$10*'Sheet1 select'!$B$31*$B$9*1000*0.000000001","v":4.0800000000000003E-2},{"$f":"'Sheet1 select'!$B$35*$B$11*$B$9*1000*0.000000001","v":0},{"$f":"IF('Sheet1 select'!$B$17=0,0,(0.00000006*0.7+0.00000003*(0.7+F205*1.1*'Sheet1 select'!$B$26))*F205*$B$9*1000)","v":0},0.63215380690605683,0.87600338654951337,{"$f":"H205+K205+O205+N205+'Sheet1 select'!$B$40*I205+J205+P205","v":0.48537379369620826}]
[null,null,null,null,204,1.36,0.14796800000000002,{"$f":"F206*F206*('Sheet1 select'!$B$25)*$B$4","v":2.5834791843745954E-2},{"$f":"F206*(1-$B$4)*'Sheet1 select'!$B$41","v":0.32538000000000006},{"$f":"F206*F206*('Sheet1 select'!$B$26)*(1-$B$4)","v":0},{"$f":"0.0000005*$B$11*F206*$B$9*((('Sheet1 select'!$B$33+0.5*'Sheet1 select'!$B$32)/(('Sheet1 select'!$B$10-'Sheet1 select'!$B$23)/('Sheet1 select'!$B$27+'Sheet1 select'!$B$8)))+(('Sheet1 select'!$B$33+0.5*'Sheet1 select'!$B$32)/(('Sheet1 select'!$B$23)/('Sheet1 select'!$B$27+'Sheet1 select'!$B$9))))","v":7.1557435076124651E-2},{"$f":"(F206*$B$29)*(('Sheet1 select'!$B$12+'Sheet1 select'!$B$13)*(0.000000001))*$B$9*1000","v":0},2.5912432095971015E-4,{"$f":"$B$11*'Sheet1 select'!$B$29*0.001","v":2.4E-2},{"$f":"'Sheet1 select'!$B$10*'Sheet1 select'!$B$31*$B$9*1000*0.000000001","v":4.0800000000000003E-2},{"$f":"'Sheet1 select'!$B$35*$B$11*$B$9*1000*0.000000001","v":0},{"$f":"IF('Sheet1 select'!$B$17=0,0,(0.00000006*0.7+0.00000003*(0.7+F206*1.1*'Sheet1 select'!$B$26))*F206*$B$9*1000)","v":0},0.63579935124083042,0.87591251966436601,{"$f":"H206+K206+O206+N206+'Sheet1 select'!$B$40*I206+J206+P206","v":0.48757222691987068}]
[null,null,null,null,205,1.3666666666666667,0.14942222222222223,{"$f":"F207*F207*('Sheet1 select'!$B$25)*$B$4","v":2.60886949066086E-2},{"$f":"F207*(1-$B$4)*'Sheet1 select'!$B$41","v":0.32697500000000007},{"$f":"F207*F207*('Sheet1 select'!$B$26)*(1-$B$4)","v":0},{"$f":"0.0000005*$B$11*F207*$B$9*((('Sheet1 select'!$B$33+0.5*'Sheet1 select'!$B$32)/(('Sheet1 select'!$B$10-'Sheet1 select'!$B$23)/('Sheet1 select'!$B$27+'Sheet1 select'!$B$8)))+(('Sheet1 select'!$B$33+0.5*'Sheet1 select'!$B$32)/(('Sheet1 select'!$B$23)/('Sheet1 select'!$B$27+'Sheet1 select'!$B$9))))","v":7.1908206816693868E-2},{"$f":"(F207*$B$29)*(('Sheet1 select'!$B$12+'Sheet1 select'!$B$13)*(0.000000001))*$B$9*1000","v":0},2.5912432095971015E-4,{"$f":"$B$11*'Sheet1 select'!$B$29*0.001","v":2.4E-2},{"$f":"'Sheet1 select'!$B$10*'Sheet1 select'!$B$31*$B$9*1000*0.000000001","v":4.0800000000000003E-2},{"$f":"'Sheet1 select'!$B$35*$B$11*$B$9*1000*0.000000001","v":0},{"$f":"IF('Sheet1 select'!$B$17=0,0,(0.00000006*0.7+0.00000003*(0.7+F207*1.1*'Sheet1 select'!$B$26))*F207*$B$9*1000)","v":0},0.63945324826648453,0.87582113722816102,{"$f":"H207+K207+O207+N207+'Sheet1 select'!$B$40*I207+J207+P207","v":0.48977190172330254}]
[null,null,null,null,206,1.3733333333333333,0.15088355555555555,{"$f":"F208*F208*('Sheet1 select'!$B$25)*$B$4","v":2.6343839549240751E-2},{"$f":"F208*(1-$B$4)*'Sheet1 select'!$B$41","v":0.32857000000000008},{"$f":"F208*F208*('Sheet1 select'!$B$26)*(1-$B$4)","v":0},{"$f":"0.0000005*$B$11*F208*$B$9*((('Sheet1 select'!$B$33+0.5*'Sheet1 select'!$B$32)/(('Sheet1 select'!$B$10-'Sheet1 select'!$B$23)/('Sheet1 select'!$B$27+'Sheet1 select'!$B$8)))+(('Sheet1 select'!$B$33+0.5*'Sheet1 select'!$B$32)/(('Sheet1 select'!$B$23)/('Sheet1 select'!$B$27+'Sheet1 select'!$B$9))))","v":7.2258978557263112E-2},{"$f":"(F208*$B$29)*(('Sheet1 select'!$B$12+'Sheet1 select'!$B$13)*(0.000000001))*$B$9*1000","v":0},2.5912432095971015E-4,{"$f":"$B$11*'Sheet1 select'!$B$29*0.001","v":2.4E-2},{"$f":"'Sheet1 select'!$B$10*'Sheet1 select'!$B$31*$B$9*1000*0.000000001","v":4.0800000000000003E-2},{"$f":"'Sheet1 select'!$B$35*$B$11*$B$9*1000*0.000000001","v":0},{"$f":"IF('Sheet1 select'!$B$17=0,0,(0.00000006*0.7+0.00000003*(0.7+F208*1.1*'Sheet1 select'!$B$26))*F208*$B$9*1000)","v":0},0.64311549798301937,0.87572924735038848,{"$f":"H208+K208+O208+N208+'Sheet1 select'!$B$40*I208+J208+P208","v":0.49197281810650395}]
[null,null,null,null,207,1.38,0.15235199999999999,{"$f":"F209*F209*('Sheet1 select'!$B$25)*$B$4","v":2.6600225771642397E-2},{"$f":"F209*(1-$B$4)*'Sheet1 select'!$B$41","v":0.33016499999999999},{"$f":"F209*F209*('Sheet1 select'!$B$26)*(1-$B$4)","v":0},{"$f":"0.0000005*$B$11*F209*$B$9*((('Sheet1 select'!$B$33+0.5*'Sheet1 select'!$B$32)/(('Sheet1 select'!$B$10-'Sheet1 select'!$B$23)/('Sheet1 select'!$B$27+'Sheet1 select'!$B$8)))+(('Sheet1 select'!$B$33+0.5*'Sheet1 select'!$B$32)/(('Sheet1 select'!$B$23)/('Sheet1 select'!$B$27+'Sheet1 select'!$B$9))))","v":7.2609750297832357E-2},{"$f":"(F209*$B$29)*(('Sheet1 select'!$B$12+'Sheet1 select'!$B$13)*(0.000000001))*$B$9*1000","v":0},2.5912432095971015E-4,{"$f":"$B$11*'Sheet1 select'!$B$29*0.001","v":2.4E-2},{"$f":"'Sheet1 select'!$B$10*'Sheet1 select'!$B$31*$B$9*1000*0.000000001","v":4.0800000000000003E-2},{"$f":"'Sheet1 select'!$B$35*$B$11*$B$9*1000*0.000000001","v":0},{"$f":"IF('Sheet1 select'!$B$17=0,0,(0.00000006*0.7+0.00000003*(0.7+F209*1.1*'Sheet1 select'!$B$26))*F209*$B$9*1000)","v":0},0.64678610039043449,0.87563685798539592,{"$f":"H209+K209+O209+N209+'Sheet1 select'!$B$40*I209+J209+P209","v":0.49417497606947469}]
[null,null,null,null,208,1.3866666666666667,0.15382755555555558,{"$f":"F210*F210*('Sheet1 select'!$B$25)*$B$4","v":2.6857853573813553E-2},{"$f":"F210*(1-$B$4)*'Sheet1 select'!$B$41","v":0.33176000000000005},{"$f":"F210*F210*('Sheet1 select'!$B$26)*(1-$B$4)","v":0},{"$f":"0.0000005*$B$11*F210*$B$9*((('Sheet1 select'!$B$33+0.5*'Sheet1 select'!$B$32)/(('Sheet1 select'!$B$10-'Sheet1 select'!$B$23)/('Sheet1 select'!$B$27+'Sheet1 select'!$B$8)))+(('Sheet1 select'!$B$33+0.5*'Sheet1 select'!$B$32)/(('Sheet1 select'!$B$23)/('Sheet1 select'!$B$27+'Sheet1 select'!$B$9))))","v":7.2960522038401573E-2},{"$f":"(F210*$B$29)*(('Sheet1 select'!$B$12+'Sheet1 select'!$B$13)*(0.000000001))*$B$9*1000","v":0},2.5912432095971015E-4,{"$f":"$B$11*'Sheet1 select'!$B$29*0.001","v":2.4E-2},{"$f":"'Sheet1 select'!$B$10*'Sheet1 select'!$B$31*$B$9*1000*0.000000001","v":4.0800000000000003E-2},{"$f":"'Sheet1 select'!$B$35*$B$11*$B$9*1000*0.000000001","v":0},{"$f":"IF('Sheet1 select'!$B$17=0,0,(0.00000006*0.7+0.00000003*(0.7+F210*1.1*'Sheet1 select'!$B$26))*F210*$B$9*1000)","v":0},0.65046505548873057,0.87554397693606978,{"$f":"H210+K210+O210+N210+'Sheet1 select'!$B$40*I210+J210+P210","v":0.49637837561221521}]
[null,null,null,null,209,1.3933333333333333,0.15531022222222224,{"$f":"F211*F211*('Sheet1 select'!$B$25)*$B$4","v":2.7116722955754197E-2},{"$f":"F211*(1-$B$4)*'Sheet1 select'!$B$41","v":0.33335500000000007},{"$f":"F211*F211*('Sheet1 select'!$B$26)*(1-$B$4)","v":0},{"$f":"0.0000005*$B$11*F211*$B$9*((('Sheet1 select'!$B$33+0.5*'Sheet1 select'!$B$32)/(('Sheet1 select'!$B$10-'Sheet1 select'!$B$23)/('Sheet1 select'!$B$27+'Sheet1 select'!$B$8)))+(('Sheet1 select'!$B$33+0.5*'Sheet1 select'!$B$32)/(('Sheet1 select'!$B$23)/('Sheet1 select'!$B$27+'Sheet1 select'!$B$9))))","v":7.3311293778970818E-2},{"$f":"(F211*$B$29)*(('Sheet1 select'!$B$12+'Sheet1 select'!$B$13)*(0.000000001))*$B$9*1000","v":0},2.5912432095971015E-4,{"$f":"$B$11*'Sheet1 select'!$B$29*0.001","v":2.4E-2},{"$f":"'Sheet1 select'!$B$10*'Sheet1 select'!$B$31*$B$9*1000*0.000000001","v":4.0800000000000003E-2},{"$f":"'Sheet1 select'!$B$35*$B$11*$B$9*1000*0.000000001","v":0},{"$f":"IF('Sheet1 select'!$B$17=0,0,(0.00000006*0.7+0.00000003*(0.7+F211*1.1*'Sheet1 select'!$B$26))*F211*$B$9*1000)","v":0},0.65415236327790716,0.87545061185741269,{"$f":"H211+K211+O211+N211+'Sheet1 select'!$B$40*I211+J211+P211","v":0.49858301673472505}]
[null,null,null,null,210,1.4,0.15679999999999999,{"$f":"F212*F212*('Sheet1 select'!$B$25)*$B$4","v":2.7376833917464347E-2},{"$f":"F212*(1-$B$4)*'Sheet1 select'!$B$41","v":0.33495000000000008},{"$f":"F212*F212*('Sheet1 select'!$B$26)*(1-$B$4)","v":0},{"$f":"0.0000005*$B$11*F212*$B$9*((('Sheet1 select'!$B$33+0.5*'Sheet1 select'!$B$32)/(('Sheet1 select'!$B$10-'Sheet1 select'!$B$23)/('Sheet1 select'!$B$27+'Sheet1 select'!$B$8)))+(('Sheet1 select'!$B$33+0.5*'Sheet1 select'!$B$32)/(('Sheet1 select'!$B$23)/('Sheet1 select'!$B$27+'Sheet1 select'!$B$9))))","v":7.3662065519540049E-2},{"$f":"(F212*$B$29)*(('Sheet1 select'!$B$12+'Sheet1 select'!$B$13)*(0.000000001))*$B$9*1000","v":0},2.5912432095971015E-4,{"$f":"$B$11*'Sheet1 select'!$B$29*0.001","v":2.4E-2},{"$f":"'Sheet1 select'!$B$10*'Sheet1 select'!$B$31*$B$9*1000*0.000000001","v":4.0800000000000003E-2},{"$f":"'Sheet1 select'!$B$35*$B$11*$B$9*1000*0.000000001","v":0},{"$f":"IF('Sheet1 select'!$B$17=0,0,(0.00000006*0.7+0.00000003*(0.7+F212*1.1*'Sheet1 select'!$B$26))*F212*$B$9*1000)","v":0},0.65784802375796425,0.8753567702600199,{"$f":"H212+K212+O212+N212+'Sheet1 select'!$B$40*I212+J212+P212","v":0.50078889943700444}]
[null,null,null,null,211,1.4066666666666667,0.1582968888888889,{"$f":"F213*F213*('Sheet1 select'!$B$25)*$B$4","v":2.7638186458943999E-2},{"$f":"F213*(1-$B$4)*'Sheet1 select'!$B$41","v":0.33654500000000009},{"$f":"F213*F213*('Sheet1 select'!$B$26)*(1-$B$4)","v":0},{"$f":"0.0000005*$B$11*F213*$B$9*((('Sheet1 select'!$B$33+0.5*'Sheet1 select'!$B$32)/(('Sheet1 select'!$B$10-'Sheet1 select'!$B$23)/('Sheet1 select'!$B$27+'Sheet1 select'!$B$8)))+(('Sheet1 select'!$B$33+0.5*'Sheet1 select'!$B$32)/(('Sheet1 select'!$B$23)/('Sheet1 select'!$B$27+'Sheet1 select'!$B$9))))","v":7.4012837260109307E-2},{"$f":"(F213*$B$29)*(('Sheet1 select'!$B$12+'Sheet1 select'!$B$13)*(0.000000001))*$B$9*1000","v":0},2.5912432095971015E-4,{"$f":"$B$11*'Sheet1 select'!$B$29*0.001","v":2.4E-2},{"$f":"'Sheet1 select'!$B$10*'Sheet1 select'!$B$31*$B$9*1000*0.000000001","v":4.0800000000000003E-2},{"$f":"'Sheet1 select'!$B$35*$B$11*$B$9*1000*0.000000001","v":0},{"$f":"IF('Sheet1 select'!$B$17=0,0,(0.00000006*0.7+0.00000003*(0.7+F213*1.1*'Sheet1 select'!$B$26))*F213*$B$9*1000)","v":0},0.66155203692890208,0.87526245951345782,{"$f":"H213+K213+O213+N213+'Sheet1 select'!$B$40*I213+J213+P213","v":0.50299602371905339}]
[null,null,null,null,212,1.4133333333333333,0.15980088888888891,{"$f":"F214*F214*('Sheet1 select'!$B$25)*$B$4","v":2.7900780580193144E-2},{"$f":"F214*(1-$B$4)*'Sheet1 select'!$B$41","v":0.33814000000000005},{"$f":"F214*F214*('Sheet1 select'!$B$26)*(1-$B$4)","v":0},{"$f":"0.0000005*$B$11*F214*$B$9*((('Sheet1 select'!$B$33+0.5*'Sheet1 select'!$B$32)/(('Sheet1 select'!$B$10-'Sheet1 select'!$B$23)/('Sheet1 select'!$B$27+'Sheet1 select'!$B$8)))+(('Sheet1 select'!$B$33+0.5*'Sheet1 select'!$B$32)/(('Sheet1 select'!$B$23)/('Sheet1 select'!$B$27+'Sheet1 select'!$B$9))))","v":7.4363609000678538E-2},{"$f":"(F214*$B$29)*(('Sheet1 select'!$B$12+'Sheet1 select'!$B$13)*(0.000000001))*$B$9*1000","v":0},2.5912432095971015E-4,{"$f":"$B$11*'Sheet1 select'!$B$29*0.001","v":2.4E-2},{"$f":"'Sheet1 select'!$B$10*'Sheet1 select'!$B$31*$B$9*1000*0.000000001","v":4.0800000000000003E-2},{"$f":"'Sheet1 select'!$B$35*$B$11*$B$9*1000*0.000000001","v":0},{"$f":"IF('Sheet1 select'!$B$17=0,0,(0.00000006*0.7+0.00000003*(0.7+F214*1.1*'Sheet1 select'!$B$26))*F214*$B$9*1000)","v":0},0.66526440279072041,0.87516768684954938,{"$f":"H214+K214+O214+N214+'Sheet1 select'!$B$40*I214+J214+P214","v":0.50520438958087177}]
[null,null,null,null,213,1.42,0.16131200000000001,{"$f":"F215*F215*('Sheet1 select'!$B$25)*$B$4","v":2.8164616281211793E-2},{"$f":"F215*(1-$B$4)*'Sheet1 select'!$B$41","v":0.33973500000000006},{"$f":"F215*F215*('Sheet1 select'!$B$26)*(1-$B$4)","v":0},{"$f":"0.0000005*$B$11*F215*$B$9*((('Sheet1 select'!$B$33+0.5*'Sheet1 select'!$B$32)/(('Sheet1 select'!$B$10-'Sheet1 select'!$B$23)/('Sheet1 select'!$B$27+'Sheet1 select'!$B$8)))+(('Sheet1 select'!$B$33+0.5*'Sheet1 select'!$B$32)/(('Sheet1 select'!$B$23)/('Sheet1 select'!$B$27+'Sheet1 select'!$B$9))))","v":7.4714380741247768E-2},{"$f":"(F215*$B$29)*(('Sheet1 select'!$B$12+'Sheet1 select'!$B$13)*(0.000000001))*$B$9*1000","v":0},2.5912432095971015E-4,{"$f":"$B$11*'Sheet1 select'!$B$29*0.001","v":2.4E-2},{"$f":"'Sheet1 select'!$B$10*'Sheet1 select'!$B$31*$B$9*1000*0.000000001","v":4.0800000000000003E-2},{"$f":"'Sheet1 select'!$B$35*$B$11*$B$9*1000*0.000000001","v":0},{"$f":"IF('Sheet1 select'!$B$17=0,0,(0.00000006*0.7+0.00000003*(0.7+F215*1.1*'Sheet1 select'!$B$26))*F215*$B$9*1000)","v":0},0.66898512134341948,0.87507245936556588,{"$f":"H215+K215+O215+N215+'Sheet1 select'!$B$40*I215+J215+P215","v":0.5074139970224596}]
[null,null,null,null,214,1.4266666666666667,0.16283022222222227,{"$f":"F216*F216*('Sheet1 select'!$B$25)*$B$4","v":2.8429693561999946E-2},{"$f":"F216*(1-$B$4)*'Sheet1 select'!$B$41","v":0.34133000000000008},{"$f":"F216*F216*('Sheet1 select'!$B$26)*(1-$B$4)","v":0},{"$f":"0.0000005*$B$11*F216*$B$9*((('Sheet1 select'!$B$33+0.5*'Sheet1 select'!$B$32)/(('Sheet1 select'!$B$10-'Sheet1 select'!$B$23)/('Sheet1 select'!$B$27+'Sheet1 select'!$B$8)))+(('Sheet1 select'!$B$33+0.5*'Sheet1 select'!$B$32)/(('Sheet1 select'!$B$23)/('Sheet1 select'!$B$27+'Sheet1 select'!$B$9))))","v":7.5065152481817027E-2},{"$f":"(F216*$B$29)*(('Sheet1 select'!$B$12+'Sheet1 select'!$B$13)*(0.000000001))*$B$9*1000","v":0},2.5912432095971015E-4,{"$f":"$B$11*'Sheet1 select'!$B$29*0.001","v":2.4E-2},{"$f":"'Sheet1 select'!$B$10*'Sheet1 select'!$B$31*$B$9*1000*0.000000001","v":4.0800000000000003E-2},{"$f":"'Sheet1 select'!$B$35*$B$11*$B$9*1000*0.000000001","v":0},{"$f":"IF('Sheet1 select'!$B$17=0,0,(0.00000006*0.7+0.00000003*(0.7+F216*1.1*'Sheet1 select'!$B$26))*F216*$B$9*1000)","v":0},0.67271419258699905,0.87497678402733303,{"$f":"H216+K216+O216+N216+'Sheet1 select'!$B$40*I216+J216+P216","v":0.50962484604381708}]
[null,null,null,null,215,1.4333333333333333,0.16435555555555556,{"$f":"F217*F217*('Sheet1 select'!$B$25)*$B$4","v":2.8696012422557586E-2},{"$f":"F217*(1-$B$4)*'Sheet1 select'!$B$41","v":0.34292500000000004},{"$f":"F217*F217*('Sheet1 select'!$B$26)*(1-$B$4)","v":0},{"$f":"0.0000005*$B$11*F217*$B$9*((('Sheet1 select'!$B$33+0.5*'Sheet1 select'!$B$32)/(('Sheet1 select'!$B$10-'Sheet1 select'!$B$23)/('Sheet1 select'!$B$27+'Sheet1 select'!$B$8)))+(('Sheet1 select'!$B$33+0.5*'Sheet1 select'!$B$32)/(('Sheet1 select'!$B$23)/('Sheet1 select'!$B$27+'Sheet1 select'!$B$9))))","v":7.5415924222386257E-2},{"$f":"(F217*$B$29)*(('Sheet1 select'!$B$12+'Sheet1 select'!$B$13)*(0.000000001))*$B$9*1000","v":0},2.5912432095971015E-4,{"$f":"$B$11*'Sheet1 select'!$B$29*0.001","v":2.4E-2},{"$f":"'Sheet1 select'!$B$10*'Sheet1 select'!$B$31*$B$9*1000*0.000000001","v":4.0800000000000003E-2},{"$f":"'Sheet1 select'!$B$35*$B$11*$B$9*1000*0.000000001","v":0},{"$f":"IF('Sheet1 select'!$B$17=0,0,(0.00000006*0.7+0.00000003*(0.7+F217*1.1*'Sheet1 select'!$B$26))*F217*$B$9*1000)","v":0},0.67645161652145935,0.87488066767224826,{"$f":"H217+K217+O217+N217+'Sheet1 select'!$B$40*I217+J217+P217","v":0.5118369366449439}]
[null,null,null,null,216,1.44,0.16588799999999998,{"$f":"F218*F218*('Sheet1 select'!$B$25)*$B$4","v":2.8963572862884732E-2},{"$f":"F218*(1-$B$4)*'Sheet1 select'!$B$41","v":0.34452000000000005},{"$f":"F218*F218*('Sheet1 select'!$B$26)*(1-$B$4)","v":0},{"$f":"0.0000005*$B$11*F218*$B$9*((('Sheet1 select'!$B$33+0.5*'Sheet1 select'!$B$32)/(('Sheet1 select'!$B$10-'Sheet1 select'!$B$23)/('Sheet1 select'!$B$27+'Sheet1 select'!$B$8)))+(('Sheet1 select'!$B$33+0.5*'Sheet1 select'!$B$32)/(('Sheet1 select'!$B$23)/('Sheet1 select'!$B$27+'Sheet1 select'!$B$9))))","v":7.5766695962955488E-2},{"$f":"(F218*$B$29)*(('Sheet1 select'!$B$12+'Sheet1 select'!$B$13)*(0.000000001))*$B$9*1000","v":0},2.5912432095971015E-4,{"$f":"$B$11*'Sheet1 select'!$B$29*0.001","v":2.4E-2},{"$f":"'Sheet1 select'!$B$10*'Sheet1 select'!$B$31*$B$9*1000*0.000000001","v":4.0800000000000003E-2},{"$f":"'Sheet1 select'!$B$35*$B$11*$B$9*1000*0.000000001","v":0},{"$f":"IF('Sheet1 select'!$B$17=0,0,(0.00000006*0.7+0.00000003*(0.7+F218*1.1*'Sheet1 select'!$B$26))*F218*$B$9*1000)","v":0},0.68019739314679994,0.8747841170122187,{"$f":"H218+K218+O218+N218+'Sheet1 select'!$B$40*I218+J218+P218","v":0.51405026882584026}]
[null,null,null,null,217,1.4466666666666668,0.16742755555555558,{"$f":"F219*F219*('Sheet1 select'!$B$25)*$B$4","v":2.9232374882981384E-2},{"$f":"F219*(1-$B$4)*'Sheet1 select'!$B$41","v":0.34611500000000006},{"$f":"F219*F219*('Sheet1 select'!$B$26)*(1-$B$4)","v":0},{"$f":"0.0000005*$B$11*F219*$B$9*((('Sheet1 select'!$B$33+0.5*'Sheet1 select'!$B$32)/(('Sheet1 select'!$B$10-'Sheet1 select'!$B$23)/('Sheet1 select'!$B$27+'Sheet1 select'!$B$8)))+(('Sheet1 select'!$B$33+0.5*'Sheet1 select'!$B$32)/(('Sheet1 select'!$B$23)/('Sheet1 select'!$B$27+'Sheet1 select'!$B$9))))","v":7.6117467703524747E-2},{"$f":"(F219*$B$29)*(('Sheet1 select'!$B$12+'Sheet1 select'!$B$13)*(0.000000001))*$B$9*1000","v":0},2.5912432095971015E-4,{"$f":"$B$11*'Sheet1 select'!$B$29*0.001","v":2.4E-2},{"$f":"'Sheet1 select'!$B$10*'Sheet1 select'!$B$31*$B$9*1000*0.000000001","v":4.0800000000000003E-2},{"$f":"'Sheet1 select'!$B$35*$B$11*$B$9*1000*0.000000001","v":0},{"$f":"IF('Sheet1 select'!$B$17=0,0,(0.00000006*0.7+0.00000003*(0.7+F219*1.1*'Sheet1 select'!$B$26))*F219*$B$9*1000)","v":0},0.68395152246302149,0.87468713863651659,{"$f":"H219+K219+O219+N219+'Sheet1 select'!$B$40*I219+J219+P219","v":0.51626484258650618}]
[null,null,null,null,218,1.4533333333333334,0.16897422222222222,{"$f":"F220*F220*('Sheet1 select'!$B$25)*$B$4","v":2.9502418482847521E-2},{"$f":"F220*(1-$B$4)*'Sheet1 select'!$B$41","v":0.34771000000000002},{"$f":"F220*F220*('Sheet1 select'!$B$26)*(1-$B$4)","v":0},{"$f":"0.0000005*$B$11*F220*$B$9*((('Sheet1 select'!$B$33+0.5*'Sheet1 select'!$B$32)/(('Sheet1 select'!$B$10-'Sheet1 select'!$B$23)/('Sheet1 select'!$B$27+'Sheet1 select'!$B$8)))+(('Sheet1 select'!$B$33+0.5*'Sheet1 select'!$B$32)/(('Sheet1 select'!$B$23)/('Sheet1 select'!$B$27+'Sheet1 select'!$B$9))))","v":7.6468239444093977E-2},{"$f":"(F220*$B$29)*(('Sheet1 select'!$B$12+'Sheet1 select'!$B$13)*(0.000000001))*$B$9*1000","v":0},2.5912432095971015E-4,{"$f":"$B$11*'Sheet1 select'!$B$29*0.001","v":2.4E-2},{"$f":"'Sheet1 select'!$B$10*'Sheet1 select'!$B$31*$B$9*1000*0.000000001","v":4.0800000000000003E-2},{"$f":"'Sheet1 select'!$B$35*$B$11*$B$9*1000*0.000000001","v":0},{"$f":"IF('Sheet1 select'!$B$17=0,0,(0.00000006*0.7+0.00000003*(0.7+F220*1.1*'Sheet1 select'!$B$26))*F220*$B$9*1000)","v":0},0.68771400447012354,0.87458973901455761,{"$f":"H220+K220+O220+N220+'Sheet1 select'!$B$40*I220+J220+P220","v":0.51848065792694153}]
[null,null,null,null,219,1.46,0.17052799999999996,{"$f":"F221*F221*('Sheet1 select'!$B$25)*$B$4","v":2.9773703662483164E-2},{"$f":"F221*(1-$B$4)*'Sheet1 select'!$B$41","v":0.34930500000000003},{"$f":"F221*F221*('Sheet1 select'!$B$26)*(1-$B$4)","v":0},{"$f":"0.0000005*$B$11*F221*$B$9*((('Sheet1 select'!$B$33+0.5*'Sheet1 select'!$B$32)/(('Sheet1 select'!$B$10-'Sheet1 select'!$B$23)/('Sheet1 select'!$B$27+'Sheet1 select'!$B$8)))+(('Sheet1 select'!$B$33+0.5*'Sheet1 select'!$B$32)/(('Sheet1 select'!$B$23)/('Sheet1 select'!$B$27+'Sheet1 select'!$B$9))))","v":7.6819011184663208E-2},{"$f":"(F221*$B$29)*(('Sheet1 select'!$B$12+'Sheet1 select'!$B$13)*(0.000000001))*$B$9*1000","v":0},2.5912432095971015E-4,{"$f":"$B$11*'Sheet1 select'!$B$29*0.001","v":2.4E-2},{"$f":"'Sheet1 select'!$B$10*'Sheet1 select'!$B$31*$B$9*1000*0.000000001","v":4.0800000000000003E-2},{"$f":"'Sheet1 select'!$B$35*$B$11*$B$9*1000*0.000000001","v":0},{"$f":"IF('Sheet1 select'!$B$17=0,0,(0.00000006*0.7+0.00000003*(0.7+F221*1.1*'Sheet1 select'!$B$26))*F221*$B$9*1000)","v":0},0.6914848391681061,0.87449192449860413,{"$f":"H221+K221+O221+N221+'Sheet1 select'!$B$40*I221+J221+P221","v":0.52069771484714644}]
[null,null,null,null,220,1.4666666666666666,0.17208888888888885,{"$f":"F222*F222*('Sheet1 select'!$B$25)*$B$4","v":3.0046230421888306E-2},{"$f":"F222*(1-$B$4)*'Sheet1 select'!$B$41","v":0.35090000000000005},{"$f":"F222*F222*('Sheet1 select'!$B$26)*(1-$B$4)","v":0},{"$f":"0.0000005*$B$11*F222*$B$9*((('Sheet1 select'!$B$33+0.5*'Sheet1 select'!$B$32)/(('Sheet1 select'!$B$10-'Sheet1 select'!$B$23)/('Sheet1 select'!$B$27+'Sheet1 select'!$B$8)))+(('Sheet1 select'!$B$33+0.5*'Sheet1 select'!$B$32)/(('Sheet1 select'!$B$23)/('Sheet1 select'!$B$27+'Sheet1 select'!$B$9))))","v":7.7169782925232439E-2},{"$f":"(F222*$B$29)*(('Sheet1 select'!$B$12+'Sheet1 select'!$B$13)*(0.000000001))*$B$9*1000","v":0},2.5912432095971015E-4,{"$f":"$B$11*'Sheet1 select'!$B$29*0.001","v":2.4E-2},{"$f":"'Sheet1 select'!$B$10*'Sheet1 select'!$B$31*$B$9*1000*0.000000001","v":4.0800000000000003E-2},{"$f":"'Sheet1 select'!$B$35*$B$11*$B$9*1000*0.000000001","v":0},{"$f":"IF('Sheet1 select'!$B$17=0,0,(0.00000006*0.7+0.00000003*(0.7+F222*1.1*'Sheet1 select'!$B$26))*F222*$B$9*1000)","v":0},0.69526402655696939,0.87439370132639627,{"$f":"H222+K222+O222+N222+'Sheet1 select'!$B$40*I222+J222+P222","v":0.52291601334712079}]
[null,null,null,null,221,1.4733333333333334,0.17365688888888889,{"$f":"F223*F223*('Sheet1 select'!$B$25)*$B$4","v":3.0319998761062956E-2},{"$f":"F223*(1-$B$4)*'Sheet1 select'!$B$41","v":0.35249500000000011},{"$f":"F223*F223*('Sheet1 select'!$B$26)*(1-$B$4)","v":0},{"$f":"0.0000005*$B$11*F223*$B$9*((('Sheet1 select'!$B$33+0.5*'Sheet1 select'!$B$32)/(('Sheet1 select'!$B$10-'Sheet1 select'!$B$23)/('Sheet1 select'!$B$27+'Sheet1 select'!$B$8)))+(('Sheet1 select'!$B$33+0.5*'Sheet1 select'!$B$32)/(('Sheet1 select'!$B$23)/('Sheet1 select'!$B$27+'Sheet1 select'!$B$9))))","v":7.7520554665801683E-2},{"$f":"(F223*$B$29)*(('Sheet1 select'!$B$12+'Sheet1 select'!$B$13)*(0.000000001))*$B$9*1000","v":0},2.5912432095971015E-4,{"$f":"$B$11*'Sheet1 select'!$B$29*0.001","v":2.4E-2},{"$f":"'Sheet1 select'!$B$10*'Sheet1 select'!$B$31*$B$9*1000*0.000000001","v":4.0800000000000003E-2},{"$f":"'Sheet1 select'!$B$35*$B$11*$B$9*1000*0.000000001","v":0},{"$f":"IF('Sheet1 select'!$B$17=0,0,(0.00000006*0.7+0.00000003*(0.7+F223*1.1*'Sheet1 select'!$B$26))*F223*$B$9*1000)","v":0},0.69905156663671342,0.87429507562371067,{"$f":"H223+K223+O223+N223+'Sheet1 select'!$B$40*I223+J223+P223","v":0.52513555342686469}]
[null,null,null,null,222,1.48,0.175232,{"$f":"F224*F224*('Sheet1 select'!$B$25)*$B$4","v":3.0595008680007096E-2},{"$f":"F224*(1-$B$4)*'Sheet1 select'!$B$41","v":0.35409000000000007},{"$f":"F224*F224*('Sheet1 select'!$B$26)*(1-$B$4)","v":0},{"$f":"0.0000005*$B$11*F224*$B$9*((('Sheet1 select'!$B$33+0.5*'Sheet1 select'!$B$32)/(('Sheet1 select'!$B$10-'Sheet1 select'!$B$23)/('Sheet1 select'!$B$27+'Sheet1 select'!$B$8)))+(('Sheet1 select'!$B$33+0.5*'Sheet1 select'!$B$32)/(('Sheet1 select'!$B$23)/('Sheet1 select'!$B$27+'Sheet1 select'!$B$9))))","v":7.7871326406370914E-2},{"$f":"(F224*$B$29)*(('Sheet1 select'!$B$12+'Sheet1 select'!$B$13)*(0.000000001))*$B$9*1000","v":0},2.5912432095971015E-4,{"$f":"$B$11*'Sheet1 select'!$B$29*0.001","v":2.4E-2},{"$f":"'Sheet1 select'!$B$10*'Sheet1 select'!$B$31*$B$9*1000*0.000000001","v":4.0800000000000003E-2},{"$f":"'Sheet1 select'!$B$35*$B$11*$B$9*1000*0.000000001","v":0},{"$f":"IF('Sheet1 select'!$B$17=0,0,(0.00000006*0.7+0.00000003*(0.7+F224*1.1*'Sheet1 select'!$B$26))*F224*$B$9*1000)","v":0},0.70284745940733795,0.87419605340685325,{"$f":"H224+K224+O224+N224+'Sheet1 select'!$B$40*I224+J224+P224","v":0.52735633508637814}]
[null,null,null,null,223,1.4866666666666666,0.17681422222222221,{"$f":"F225*F225*('Sheet1 select'!$B$25)*$B$4","v":3.0871260178720741E-2},{"$f":"F225*(1-$B$4)*'Sheet1 select'!$B$41","v":0.35568500000000003},{"$f":"F225*F225*('Sheet1 select'!$B$26)*(1-$B$4)","v":0},{"$f":"0.0000005*$B$11*F225*$B$9*((('Sheet1 select'!$B$33+0.5*'Sheet1 select'!$B$32)/(('Sheet1 select'!$B$10-'Sheet1 select'!$B$23)/('Sheet1 select'!$B$27+'Sheet1 select'!$B$8)))+(('Sheet1 select'!$B$33+0.5*'Sheet1 select'!$B$32)/(('Sheet1 select'!$B$23)/('Sheet1 select'!$B$27+'Sheet1 select'!$B$9))))","v":7.8222098146940144E-2},{"$f":"(F225*$B$29)*(('Sheet1 select'!$B$12+'Sheet1 select'!$B$13)*(0.000000001))*$B$9*1000","v":0},2.5912432095971015E-4,{"$f":"$B$11*'Sheet1 select'!$B$29*0.001","v":2.4E-2},{"$f":"'Sheet1 select'!$B$10*'Sheet1 select'!$B$31*$B$9*1000*0.000000001","v":4.0800000000000003E-2},{"$f":"'Sheet1 select'!$B$35*$B$11*$B$9*1000*0.000000001","v":0},{"$f":"IF('Sheet1 select'!$B$17=0,0,(0.00000006*0.7+0.00000003*(0.7+F225*1.1*'Sheet1 select'!$B$26))*F225*$B$9*1000)","v":0},0.70665170486884299,0.87409664058508396,{"$f":"H225+K225+O225+N225+'Sheet1 select'!$B$40*I225+J225+P225","v":0.52957835832566091}]
[null,null,null,null,224,1.4933333333333334,0.17840355555555559,{"$f":"F226*F226*('Sheet1 select'!$B$25)*$B$4","v":3.1148753257203888E-2},{"$f":"F226*(1-$B$4)*'Sheet1 select'!$B$41","v":0.3572800000000001},{"$f":"F226*F226*('Sheet1 select'!$B$26)*(1-$B$4)","v":0},{"$f":"0.0000005*$B$11*F226*$B$9*((('Sheet1 select'!$B$33+0.5*'Sheet1 select'!$B$32)/(('Sheet1 select'!$B$10-'Sheet1 select'!$B$23)/('Sheet1 select'!$B$27+'Sheet1 select'!$B$8)))+(('Sheet1 select'!$B$33+0.5*'Sheet1 select'!$B$32)/(('Sheet1 select'!$B$23)/('Sheet1 select'!$B$27+'Sheet1 select'!$B$9))))","v":7.8572869887509403E-2},{"$f":"(F226*$B$29)*(('Sheet1 select'!$B$12+'Sheet1 select'!$B$13)*(0.000000001))*$B$9*1000","v":0},2.5912432095971015E-4,{"$f":"$B$11*'Sheet1 select'!$B$29*0.001","v":2.4E-2},{"$f":"'Sheet1 select'!$B$10*'Sheet1 select'!$B$31*$B$9*1000*0.000000001","v":4.0800000000000003E-2},{"$f":"'Sheet1 select'!$B$35*$B$11*$B$9*1000*0.000000001","v":0},{"$f":"IF('Sheet1 select'!$B$17=0,0,(0.00000006*0.7+0.00000003*(0.7+F226*1.1*'Sheet1 select'!$B$26))*F226*$B$9*1000)","v":0},0.71046430302122876,0.87399684296297764,{"$f":"H226+K226+O226+N226+'Sheet1 select'!$B$40*I226+J226+P226","v":0.53180162314471335}]
[null,null,null,null,225,1.5,0.18,{"$f":"F227*F227*('Sheet1 select'!$B$25)*$B$4","v":3.1427487915456527E-2},{"$f":"F227*(1-$B$4)*'Sheet1 select'!$B$41","v":0.35887500000000006},{"$f":"F227*F227*('Sheet1 select'!$B$26)*(1-$B$4)","v":0},{"$f":"0.0000005*$B$11*F227*$B$9*((('Sheet1 select'!$B$33+0.5*'Sheet1 select'!$B$32)/(('Sheet1 select'!$B$10-'Sheet1 select'!$B$23)/('Sheet1 select'!$B$27+'Sheet1 select'!$B$8)))+(('Sheet1 select'!$B$33+0.5*'Sheet1 select'!$B$32)/(('Sheet1 select'!$B$23)/('Sheet1 select'!$B$27+'Sheet1 select'!$B$9))))","v":7.8923641628078647E-2},{"$f":"(F227*$B$29)*(('Sheet1 select'!$B$12+'Sheet1 select'!$B$13)*(0.000000001))*$B$9*1000","v":0},2.5912432095971015E-4,{"$f":"$B$11*'Sheet1 select'!$B$29*0.001","v":2.4E-2},{"$f":"'Sheet1 select'!$B$10*'Sheet1 select'!$B$31*$B$9*1000*0.000000001","v":4.0800000000000003E-2},{"$f":"'Sheet1 select'!$B$35*$B$11*$B$9*1000*0.000000001","v":0},{"$f":"IF('Sheet1 select'!$B$17=0,0,(0.00000006*0.7+0.00000003*(0.7+F227*1.1*'Sheet1 select'!$B$26))*F227*$B$9*1000)","v":0},0.71428525386449504,0.87389666624272333,{"$f":"H227+K227+O227+N227+'Sheet1 select'!$B$40*I227+J227+P227","v":0.53402612954353523}]
[null,null,null,null,226,1.5066666666666666,0.18160355555555555,{"$f":"F228*F228*('Sheet1 select'!$B$25)*$B$4","v":3.1707464153478665E-2},{"$f":"F228*(1-$B$4)*'Sheet1 select'!$B$41","v":0.36047000000000001},{"$f":"F228*F228*('Sheet1 select'!$B$26)*(1-$B$4)","v":0},{"$f":"0.0000005*$B$11*F228*$B$9*((('Sheet1 select'!$B$33+0.5*'Sheet1 select'!$B$32)/(('Sheet1 select'!$B$10-'Sheet1 select'!$B$23)/('Sheet1 select'!$B$27+'Sheet1 select'!$B$8)))+(('Sheet1 select'!$B$33+0.5*'Sheet1 select'!$B$32)/(('Sheet1 select'!$B$23)/('Sheet1 select'!$B$27+'Sheet1 select'!$B$9))))","v":7.9274413368647864E-2},{"$f":"(F228*$B$29)*(('Sheet1 select'!$B$12+'Sheet1 select'!$B$13)*(0.000000001))*$B$9*1000","v":0},2.5912432095971015E-4,{"$f":"$B$11*'Sheet1 select'!$B$29*0.001","v":2.4E-2},{"$f":"'Sheet1 select'!$B$10*'Sheet1 select'!$B$31*$B$9*1000*0.000000001","v":4.0800000000000003E-2},{"$f":"'Sheet1 select'!$B$35*$B$11*$B$9*1000*0.000000001","v":0},{"$f":"IF('Sheet1 select'!$B$17=0,0,(0.00000006*0.7+0.00000003*(0.7+F228*1.1*'Sheet1 select'!$B$26))*F228*$B$9*1000)","v":0},0.71811455739864183,0.87379611602636287,{"$f":"H228+K228+O228+N228+'Sheet1 select'!$B$40*I228+J228+P228","v":0.53625187752212655}]
[null,null,null,null,227,1.5133333333333334,0.18321422222222225,{"$f":"F229*F229*('Sheet1 select'!$B$25)*$B$4","v":3.1988681971270312E-2},{"$f":"F229*(1-$B$4)*'Sheet1 select'!$B$41","v":0.36206500000000008},{"$f":"F229*F229*('Sheet1 select'!$B$26)*(1-$B$4)","v":0},{"$f":"0.0000005*$B$11*F229*$B$9*((('Sheet1 select'!$B$33+0.5*'Sheet1 select'!$B$32)/(('Sheet1 select'!$B$10-'Sheet1 select'!$B$23)/('Sheet1 select'!$B$27+'Sheet1 select'!$B$8)))+(('Sheet1 select'!$B$33+0.5*'Sheet1 select'!$B$32)/(('Sheet1 select'!$B$23)/('Sheet1 select'!$B$27+'Sheet1 select'!$B$9))))","v":7.9625185109217123E-2},{"$f":"(F229*$B$29)*(('Sheet1 select'!$B$12+'Sheet1 select'!$B$13)*(0.000000001))*$B$9*1000","v":0},2.5912432095971015E-4,{"$f":"$B$11*'Sheet1 select'!$B$29*0.001","v":2.4E-2},{"$f":"'Sheet1 select'!$B$10*'Sheet1 select'!$B$31*$B$9*1000*0.000000001","v":4.0800000000000003E-2},{"$f":"'Sheet1 select'!$B$35*$B$11*$B$9*1000*0.000000001","v":0},{"$f":"IF('Sheet1 select'!$B$17=0,0,(0.00000006*0.7+0.00000003*(0.7+F229*1.1*'Sheet1 select'!$B$26))*F229*$B$9*1000)","v":0},0.72195221362366957,0.87369519781797078,{"$f":"H229+K229+O229+N229+'Sheet1 select'!$B$40*I229+J229+P229","v":0.53847886708048753}]
[null,null,null,null,228,1.52,0.184832,{"$f":"F230*F230*('Sheet1 select'!$B$25)*$B$4","v":3.2271141368831448E-2},{"$f":"F230*(1-$B$4)*'Sheet1 select'!$B$41","v":0.36366000000000004},{"$f":"F230*F230*('Sheet1 select'!$B$26)*(1-$B$4)","v":0},{"$f":"0.0000005*$B$11*F230*$B$9*((('Sheet1 select'!$B$33+0.5*'Sheet1 select'!$B$32)/(('Sheet1 select'!$B$10-'Sheet1 select'!$B$23)/('Sheet1 select'!$B$27+'Sheet1 select'!$B$8)))+(('Sheet1 select'!$B$33+0.5*'Sheet1 select'!$B$32)/(('Sheet1 select'!$B$23)/('Sheet1 select'!$B$27+'Sheet1 select'!$B$9))))","v":7.9975956849786367E-2},{"$f":"(F230*$B$29)*(('Sheet1 select'!$B$12+'Sheet1 select'!$B$13)*(0.000000001))*$B$9*1000","v":0},2.5912432095971015E-4,{"$f":"$B$11*'Sheet1 select'!$B$29*0.001","v":2.4E-2},{"$f":"'Sheet1 select'!$B$10*'Sheet1 select'!$B$31*$B$9*1000*0.000000001","v":4.0800000000000003E-2},{"$f":"'Sheet1 select'!$B$35*$B$11*$B$9*1000*0.000000001","v":0},{"$f":"IF('Sheet1 select'!$B$17=0,0,(0.00000006*0.7+0.00000003*(0.7+F230*1.1*'Sheet1 select'!$B$26))*F230*$B$9*1000)","v":0},0.7257982225395776,0.87359391702577815,{"$f":"H230+K230+O230+N230+'Sheet1 select'!$B$40*I230+J230+P230","v":0.54070709821861784}]
[null,null,null,null,229,1.5266666666666666,0.18645688888888887,{"$f":"F231*F231*('Sheet1 select'!$B$25)*$B$4","v":3.2554842346162086E-2},{"$f":"F231*(1-$B$4)*'Sheet1 select'!$B$41","v":0.365255},{"$f":"F231*F231*('Sheet1 select'!$B$26)*(1-$B$4)","v":0},{"$f":"0.0000005*$B$11*F231*$B$9*((('Sheet1 select'!$B$33+0.5*'Sheet1 select'!$B$32)/(('Sheet1 select'!$B$10-'Sheet1 select'!$B$23)/('Sheet1 select'!$B$27+'Sheet1 select'!$B$8)))+(('Sheet1 select'!$B$33+0.5*'Sheet1 select'!$B$32)/(('Sheet1 select'!$B$23)/('Sheet1 select'!$B$27+'Sheet1 select'!$B$9))))","v":8.0326728590355584E-2},{"$f":"(F231*$B$29)*(('Sheet1 select'!$B$12+'Sheet1 select'!$B$13)*(0.000000001))*$B$9*1000","v":0},2.5912432095971015E-4,{"$f":"$B$11*'Sheet1 select'!$B$29*0.001","v":2.4E-2},{"$f":"'Sheet1 select'!$B$10*'Sheet1 select'!$B$31*$B$9*1000*0.000000001","v":4.0800000000000003E-2},{"$f":"'Sheet1 select'!$B$35*$B$11*$B$9*1000*0.000000001","v":0},{"$f":"IF('Sheet1 select'!$B$17=0,0,(0.00000006*0.7+0.00000003*(0.7+F231*1.1*'Sheet1 select'!$B$26))*F231*$B$9*1000)","v":0},0.72965258414636636,0.87349227896424042,{"$f":"H231+K231+O231+N231+'Sheet1 select'!$B$40*I231+J231+P231","v":0.5429365709365177}]
[null,null,null,null,230,1.5333333333333334,0.18808888888888892,{"$f":"F232*F232*('Sheet1 select'!$B$25)*$B$4","v":3.2839784903262226E-2},{"$f":"F232*(1-$B$4)*'Sheet1 select'!$B$41","v":0.36685000000000006},{"$f":"F232*F232*('Sheet1 select'!$B$26)*(1-$B$4)","v":0},{"$f":"0.0000005*$B$11*F232*$B$9*((('Sheet1 select'!$B$33+0.5*'Sheet1 select'!$B$32)/(('Sheet1 select'!$B$10-'Sheet1 select'!$B$23)/('Sheet1 select'!$B$27+'Sheet1 select'!$B$8)))+(('Sheet1 select'!$B$33+0.5*'Sheet1 select'!$B$32)/(('Sheet1 select'!$B$23)/('Sheet1 select'!$B$27+'Sheet1 select'!$B$9))))","v":8.0677500330924842E-2},{"$f":"(F232*$B$29)*(('Sheet1 select'!$B$12+'Sheet1 select'!$B$13)*(0.000000001))*$B$9*1000","v":0},2.5912432095971015E-4,{"$f":"$B$11*'Sheet1 select'!$B$29*0.001","v":2.4E-2},{"$f":"'Sheet1 select'!$B$10*'Sheet1 select'!$B$31*$B$9*1000*0.000000001","v":4.0800000000000003E-2},{"$f":"'Sheet1 select'!$B$35*$B$11*$B$9*1000*0.000000001","v":0},{"$f":"IF('Sheet1 select'!$B$17=0,0,(0.00000006*0.7+0.00000003*(0.7+F232*1.1*'Sheet1 select'!$B$26))*F232*$B$9*1000)","v":0},0.73351529844403585,0.87339028885605319,{"$f":"H232+K232+O232+N232+'Sheet1 select'!$B$40*I232+J232+P232","v":0.54516728523418712}]
[null,null,null,null,231,1.54,0.18972800000000001,{"$f":"F233*F233*('Sheet1 select'!$B$25)*$B$4","v":3.3125969040131861E-2},{"$f":"F233*(1-$B$4)*'Sheet1 select'!$B$41","v":0.36844500000000013},{"$f":"F233*F233*('Sheet1 select'!$B$26)*(1-$B$4)","v":0},{"$f":"0.0000005*$B$11*F233*$B$9*((('Sheet1 select'!$B$33+0.5*'Sheet1 select'!$B$32)/(('Sheet1 select'!$B$10-'Sheet1 select'!$B$23)/('Sheet1 select'!$B$27+'Sheet1 select'!$B$8)))+(('Sheet1 select'!$B$33+0.5*'Sheet1 select'!$B$32)/(('Sheet1 select'!$B$23)/('Sheet1 select'!$B$27+'Sheet1 select'!$B$9))))","v":8.1028272071494059E-2},{"$f":"(F233*$B$29)*(('Sheet1 select'!$B$12+'Sheet1 select'!$B$13)*(0.000000001))*$B$9*1000","v":0},2.5912432095971015E-4,{"$f":"$B$11*'Sheet1 select'!$B$29*0.001","v":2.4E-2},{"$f":"'Sheet1 select'!$B$10*'Sheet1 select'!$B$31*$B$9*1000*0.000000001","v":4.0800000000000003E-2},{"$f":"'Sheet1 select'!$B$35*$B$11*$B$9*1000*0.000000001","v":0},{"$f":"IF('Sheet1 select'!$B$17=0,0,(0.00000006*0.7+0.00000003*(0.7+F233*1.1*'Sheet1 select'!$B$26))*F233*$B$9*1000)","v":0},0.73738636543258584,0.87328795183411545,{"$f":"H233+K233+O233+N233+'Sheet1 select'!$B$40*I233+J233+P233","v":0.54739924111162608}]
[null,null,null,null,232,1.5466666666666666,0.19137422222222222,{"$f":"F234*F234*('Sheet1 select'!$B$25)*$B$4","v":3.3413394756770999E-2},{"$f":"F234*(1-$B$4)*'Sheet1 select'!$B$41","v":0.37004000000000009},{"$f":"F234*F234*('Sheet1 select'!$B$26)*(1-$B$4)","v":0},{"$f":"0.0000005*$B$11*F234*$B$9*((('Sheet1 select'!$B$33+0.5*'Sheet1 select'!$B$32)/(('Sheet1 select'!$B$10-'Sheet1 select'!$B$23)/('Sheet1 select'!$B$27+'Sheet1 select'!$B$8)))+(('Sheet1 select'!$B$33+0.5*'Sheet1 select'!$B$32)/(('Sheet1 select'!$B$23)/('Sheet1 select'!$B$27+'Sheet1 select'!$B$9))))","v":8.1379043812063304E-2},{"$f":"(F234*$B$29)*(('Sheet1 select'!$B$12+'Sheet1 select'!$B$13)*(0.000000001))*$B$9*1000","v":0},2.5912432095971015E-4,{"$f":"$B$11*'Sheet1 select'!$B$29*0.001","v":2.4E-2},{"$f":"'Sheet1 select'!$B$10*'Sheet1 select'!$B$31*$B$9*1000*0.000000001","v":4.0800000000000003E-2},{"$f":"'Sheet1 select'!$B$35*$B$11*$B$9*1000*0.000000001","v":0},{"$f":"IF('Sheet1 select'!$B$17=0,0,(0.00000006*0.7+0.00000003*(0.7+F234*1.1*'Sheet1 select'!$B$26))*F234*$B$9*1000)","v":0},0.74126578511201635,0.87318527294344217,{"$f":"H234+K234+O234+N234+'Sheet1 select'!$B$40*I234+J234+P234","v":0.54963243856883437}]
[null,null,null,null,233,1.5533333333333332,0.19302755555555554,{"$f":"F235*F235*('Sheet1 select'!$B$25)*$B$4","v":3.3702062053179632E-2},{"$f":"F235*(1-$B$4)*'Sheet1 select'!$B$41","v":0.37163500000000005},{"$f":"F235*F235*('Sheet1 select'!$B$26)*(1-$B$4)","v":0},{"$f":"0.0000005*$B$11*F235*$B$9*((('Sheet1 select'!$B$33+0.5*'Sheet1 select'!$B$32)/(('Sheet1 select'!$B$10-'Sheet1 select'!$B$23)/('Sheet1 select'!$B$27+'Sheet1 select'!$B$8)))+(('Sheet1 select'!$B$33+0.5*'Sheet1 select'!$B$32)/(('Sheet1 select'!$B$23)/('Sheet1 select'!$B$27+'Sheet1 select'!$B$9))))","v":8.1729815552632534E-2},{"$f":"(F235*$B$29)*(('Sheet1 select'!$B$12+'Sheet1 select'!$B$13)*(0.000000001))*$B$9*1000","v":0},2.5912432095971015E-4,{"$f":"$B$11*'Sheet1 select'!$B$29*0.001","v":2.4E-2},{"$f":"'Sheet1 select'!$B$10*'Sheet1 select'!$B$31*$B$9*1000*0.000000001","v":4.0800000000000003E-2},{"$f":"'Sheet1 select'!$B$35*$B$11*$B$9*1000*0.000000001","v":0},{"$f":"IF('Sheet1 select'!$B$17=0,0,(0.00000006*0.7+0.00000003*(0.7+F235*1.1*'Sheet1 select'!$B$26))*F235*$B$9*1000)","v":0},0.74515355748232737,0.87308225714302989,{"$f":"H235+K235+O235+N235+'Sheet1 select'!$B$40*I235+J235+P235","v":0.55186687760581221}]
[null,null,null,null,234,1.56,0.19468800000000003,{"$f":"F236*F236*('Sheet1 select'!$B$25)*$B$4","v":3.3991970929357782E-2},{"$f":"F236*(1-$B$4)*'Sheet1 select'!$B$41","v":0.37323000000000012},{"$f":"F236*F236*('Sheet1 select'!$B$26)*(1-$B$4)","v":0},{"$f":"0.0000005*$B$11*F236*$B$9*((('Sheet1 select'!$B$33+0.5*'Sheet1 select'!$B$32)/(('Sheet1 select'!$B$10-'Sheet1 select'!$B$23)/('Sheet1 select'!$B$27+'Sheet1 select'!$B$8)))+(('Sheet1 select'!$B$33+0.5*'Sheet1 select'!$B$32)/(('Sheet1 select'!$B$23)/('Sheet1 select'!$B$27+'Sheet1 select'!$B$9))))","v":8.2080587293201779E-2},{"$f":"(F236*$B$29)*(('Sheet1 select'!$B$12+'Sheet1 select'!$B$13)*(0.000000001))*$B$9*1000","v":0},2.5912432095971015E-4,{"$f":"$B$11*'Sheet1 select'!$B$29*0.001","v":2.4E-2},{"$f":"'Sheet1 select'!$B$10*'Sheet1 select'!$B$31*$B$9*1000*0.000000001","v":4.0800000000000003E-2},{"$f":"'Sheet1 select'!$B$35*$B$11*$B$9*1000*0.000000001","v":0},{"$f":"IF('Sheet1 select'!$B$17=0,0,(0.00000006*0.7+0.00000003*(0.7+F236*1.1*'Sheet1 select'!$B$26))*F236*$B$9*1000)","v":0},0.74904968254351956,0.87297890930767275,{"$f":"H236+K236+O236+N236+'Sheet1 select'!$B$40*I236+J236+P236","v":0.55410255822255972}]
[null,null,null,null,235,1.5666666666666667,0.19635555555555556,{"$f":"F237*F237*('Sheet1 select'!$B$25)*$B$4","v":3.4283121385305412E-2},{"$f":"F237*(1-$B$4)*'Sheet1 select'!$B$41","v":0.37482500000000007},{"$f":"F237*F237*('Sheet1 select'!$B$26)*(1-$B$4)","v":0},{"$f":"0.0000005*$B$11*F237*$B$9*((('Sheet1 select'!$B$33+0.5*'Sheet1 select'!$B$32)/(('Sheet1 select'!$B$10-'Sheet1 select'!$B$23)/('Sheet1 select'!$B$27+'Sheet1 select'!$B$8)))+(('Sheet1 select'!$B$33+0.5*'Sheet1 select'!$B$32)/(('Sheet1 select'!$B$23)/('Sheet1 select'!$B$27+'Sheet1 select'!$B$9))))","v":8.2431359033771023E-2},{"$f":"(F237*$B$29)*(('Sheet1 select'!$B$12+'Sheet1 select'!$B$13)*(0.000000001))*$B$9*1000","v":0},2.5912432095971015E-4,{"$f":"$B$11*'Sheet1 select'!$B$29*0.001","v":2.4E-2},{"$f":"'Sheet1 select'!$B$10*'Sheet1 select'!$B$31*$B$9*1000*0.000000001","v":4.0800000000000003E-2},{"$f":"'Sheet1 select'!$B$35*$B$11*$B$9*1000*0.000000001","v":0},{"$f":"IF('Sheet1 select'!$B$17=0,0,(0.00000006*0.7+0.00000003*(0.7+F237*1.1*'Sheet1 select'!$B$26))*F237*$B$9*1000)","v":0},0.75295416029559181,0.87287523422973534,{"$f":"H237+K237+O237+N237+'Sheet1 select'!$B$40*I237+J237+P237","v":0.55633948041907655}]
[null,null,null,null,236,1.5733333333333333,0.19803022222222222,{"$f":"F238*F238*('Sheet1 select'!$B$25)*$B$4","v":3.4575513421022545E-2},{"$f":"F238*(1-$B$4)*'Sheet1 select'!$B$41","v":0.37642000000000003},{"$f":"F238*F238*('Sheet1 select'!$B$26)*(1-$B$4)","v":0},{"$f":"0.0000005*$B$11*F238*$B$9*((('Sheet1 select'!$B$33+0.5*'Sheet1 select'!$B$32)/(('Sheet1 select'!$B$10-'Sheet1 select'!$B$23)/('Sheet1 select'!$B$27+'Sheet1 select'!$B$8)))+(('Sheet1 select'!$B$33+0.5*'Sheet1 select'!$B$32)/(('Sheet1 select'!$B$23)/('Sheet1 select'!$B$27+'Sheet1 select'!$B$9))))","v":8.278213077434024E-2},{"$f":"(F238*$B$29)*(('Sheet1 select'!$B$12+'Sheet1 select'!$B$13)*(0.000000001))*$B$9*1000","v":0},2.5912432095971015E-4,{"$f":"$B$11*'Sheet1 select'!$B$29*0.001","v":2.4E-2},{"$f":"'Sheet1 select'!$B$10*'Sheet1 select'!$B$31*$B$9*1000*0.000000001","v":4.0800000000000003E-2},{"$f":"'Sheet1 select'!$B$35*$B$11*$B$9*1000*0.000000001","v":0},{"$f":"IF('Sheet1 select'!$B$17=0,0,(0.00000006*0.7+0.00000003*(0.7+F238*1.1*'Sheet1 select'!$B$26))*F238*$B$9*1000)","v":0},0.7568669907385448,0.87277123662087774,{"$f":"H238+K238+O238+N238+'Sheet1 select'!$B$40*I238+J238+P238","v":0.55857764419536282}]
[null,null,null,null,237,1.58,0.19971200000000006,{"$f":"F239*F239*('Sheet1 select'!$B$25)*$B$4","v":3.4869147036509188E-2},{"$f":"F239*(1-$B$4)*'Sheet1 select'!$B$41","v":0.3780150000000001},{"$f":"F239*F239*('Sheet1 select'!$B$26)*(1-$B$4)","v":0},{"$f":"0.0000005*$B$11*F239*$B$9*((('Sheet1 select'!$B$33+0.5*'Sheet1 select'!$B$32)/(('Sheet1 select'!$B$10-'Sheet1 select'!$B$23)/('Sheet1 select'!$B$27+'Sheet1 select'!$B$8)))+(('Sheet1 select'!$B$33+0.5*'Sheet1 select'!$B$32)/(('Sheet1 select'!$B$23)/('Sheet1 select'!$B$27+'Sheet1 select'!$B$9))))","v":8.3132902514909499E-2},{"$f":"(F239*$B$29)*(('Sheet1 select'!$B$12+'Sheet1 select'!$B$13)*(0.000000001))*$B$9*1000","v":0},2.5912432095971015E-4,{"$f":"$B$11*'Sheet1 select'!$B$29*0.001","v":2.4E-2},{"$f":"'Sheet1 select'!$B$10*'Sheet1 select'!$B$31*$B$9*1000*0.000000001","v":4.0800000000000003E-2},{"$f":"'Sheet1 select'!$B$35*$B$11*$B$9*1000*0.000000001","v":0},{"$f":"IF('Sheet1 select'!$B$17=0,0,(0.00000006*0.7+0.00000003*(0.7+F239*1.1*'Sheet1 select'!$B$26))*F239*$B$9*1000)","v":0},0.76078817387237851,0.87266692111374111,{"$f":"H239+K239+O239+N239+'Sheet1 select'!$B$40*I239+J239+P239","v":0.56081704955141876}]
[null,null,null,null,238,1.5866666666666667,0.20140088888888891,{"$f":"F240*F240*('Sheet1 select'!$B$25)*$B$4","v":3.5164022231765325E-2},{"$f":"F240*(1-$B$4)*'Sheet1 select'!$B$41","v":0.37961000000000006},{"$f":"F240*F240*('Sheet1 select'!$B$26)*(1-$B$4)","v":0},{"$f":"0.0000005*$B$11*F240*$B$9*((('Sheet1 select'!$B$33+0.5*'Sheet1 select'!$B$32)/(('Sheet1 select'!$B$10-'Sheet1 select'!$B$23)/('Sheet1 select'!$B$27+'Sheet1 select'!$B$8)))+(('Sheet1 select'!$B$33+0.5*'Sheet1 select'!$B$32)/(('Sheet1 select'!$B$23)/('Sheet1 select'!$B$27+'Sheet1 select'!$B$9))))","v":8.3483674255478743E-2},{"$f":"(F240*$B$29)*(('Sheet1 select'!$B$12+'Sheet1 select'!$B$13)*(0.000000001))*$B$9*1000","v":0},2.5912432095971015E-4,{"$f":"$B$11*'Sheet1 select'!$B$29*0.001","v":2.4E-2},{"$f":"'Sheet1 select'!$B$10*'Sheet1 select'!$B$31*$B$9*1000*0.000000001","v":4.0800000000000003E-2},{"$f":"'Sheet1 select'!$B$35*$B$11*$B$9*1000*0.000000001","v":0},{"$f":"IF('Sheet1 select'!$B$17=0,0,(0.00000006*0.7+0.00000003*(0.7+F240*1.1*'Sheet1 select'!$B$26))*F240*$B$9*1000)","v":0},0.76471770969709274,0.8725622922635875,{"$f":"H240+K240+O240+N240+'Sheet1 select'!$B$40*I240+J240+P240","v":0.56305769648724413}]
[null,null,null,null,239,1.5933333333333333,0.20309688888888885,{"$f":"F241*F241*('Sheet1 select'!$B$25)*$B$4","v":3.5460139006790951E-2},{"$f":"F241*(1-$B$4)*'Sheet1 select'!$B$41","v":0.38120500000000002},{"$f":"F241*F241*('Sheet1 select'!$B$26)*(1-$B$4)","v":0},{"$f":"0.0000005*$B$11*F241*$B$9*((('Sheet1 select'!$B$33+0.5*'Sheet1 select'!$B$32)/(('Sheet1 select'!$B$10-'Sheet1 select'!$B$23)/('Sheet1 select'!$B$27+'Sheet1 select'!$B$8)))+(('Sheet1 select'!$B$33+0.5*'Sheet1 select'!$B$32)/(('Sheet1 select'!$B$23)/('Sheet1 select'!$B$27+'Sheet1 select'!$B$9))))","v":8.3834445996047974E-2},{"$f":"(F241*$B$29)*(('Sheet1 select'!$B$12+'Sheet1 select'!$B$13)*(0.000000001))*$B$9*1000","v":0},2.5912432095971015E-4,{"$f":"$B$11*'Sheet1 select'!$B$29*0.001","v":2.4E-2},{"$f":"'Sheet1 select'!$B$10*'Sheet1 select'!$B$31*$B$9*1000*0.000000001","v":4.0800000000000003E-2},{"$f":"'Sheet1 select'!$B$35*$B$11*$B$9*1000*0.000000001","v":0},{"$f":"IF('Sheet1 select'!$B$17=0,0,(0.00000006*0.7+0.00000003*(0.7+F241*1.1*'Sheet1 select'!$B$26))*F241*$B$9*1000)","v":0},0.76865559821268747,0.87245735454990225,{"$f":"H241+K241+O241+N241+'Sheet1 select'!$B$40*I241+J241+P241","v":0.56529958500283894}]
[null,null,null,null,240,1.6,0.20480000000000004,{"$f":"F242*F242*('Sheet1 select'!$B$25)*$B$4","v":3.5757497361586094E-2},{"$f":"F242*(1-$B$4)*'Sheet1 select'!$B$41","v":0.38280000000000008},{"$f":"F242*F242*('Sheet1 select'!$B$26)*(1-$B$4)","v":0},{"$f":"0.0000005*$B$11*F242*$B$9*((('Sheet1 select'!$B$33+0.5*'Sheet1 select'!$B$32)/(('Sheet1 select'!$B$10-'Sheet1 select'!$B$23)/('Sheet1 select'!$B$27+'Sheet1 select'!$B$8)))+(('Sheet1 select'!$B$33+0.5*'Sheet1 select'!$B$32)/(('Sheet1 select'!$B$23)/('Sheet1 select'!$B$27+'Sheet1 select'!$B$9))))","v":8.4185217736617218E-2},{"$f":"(F242*$B$29)*(('Sheet1 select'!$B$12+'Sheet1 select'!$B$13)*(0.000000001))*$B$9*1000","v":0},2.5912432095971015E-4,{"$f":"$B$11*'Sheet1 select'!$B$29*0.001","v":2.4E-2},{"$f":"'Sheet1 select'!$B$10*'Sheet1 select'!$B$31*$B$9*1000*0.000000001","v":4.0800000000000003E-2},{"$f":"'Sheet1 select'!$B$35*$B$11*$B$9*1000*0.000000001","v":0},{"$f":"IF('Sheet1 select'!$B$17=0,0,(0.00000006*0.7+0.00000003*(0.7+F242*1.1*'Sheet1 select'!$B$26))*F242*$B$9*1000)","v":0},0.77260183941916316,0.87235211237795451,{"$f":"H242+K242+O242+N242+'Sheet1 select'!$B$40*I242+J242+P242","v":0.56754271509820342}]
[null,null,null,null,241,1.6066666666666667,0.20651022222222223,{"$f":"F243*F243*('Sheet1 select'!$B$25)*$B$4","v":3.6056097296150724E-2},{"$f":"F243*(1-$B$4)*'Sheet1 select'!$B$41","v":0.38439500000000004},{"$f":"F243*F243*('Sheet1 select'!$B$26)*(1-$B$4)","v":0},{"$f":"0.0000005*$B$11*F243*$B$9*((('Sheet1 select'!$B$33+0.5*'Sheet1 select'!$B$32)/(('Sheet1 select'!$B$10-'Sheet1 select'!$B$23)/('Sheet1 select'!$B$27+'Sheet1 select'!$B$8)))+(('Sheet1 select'!$B$33+0.5*'Sheet1 select'!$B$32)/(('Sheet1 select'!$B$23)/('Sheet1 select'!$B$27+'Sheet1 select'!$B$9))))","v":8.4535989477186463E-2},{"$f":"(F243*$B$29)*(('Sheet1 select'!$B$12+'Sheet1 select'!$B$13)*(0.000000001))*$B$9*1000","v":0},2.5912432095971015E-4,{"$f":"$B$11*'Sheet1 select'!$B$29*0.001","v":2.4E-2},{"$f":"'Sheet1 select'!$B$10*'Sheet1 select'!$B$31*$B$9*1000*0.000000001","v":4.0800000000000003E-2},{"$f":"'Sheet1 select'!$B$35*$B$11*$B$9*1000*0.000000001","v":0},{"$f":"IF('Sheet1 select'!$B$17=0,0,(0.00000006*0.7+0.00000003*(0.7+F243*1.1*'Sheet1 select'!$B$26))*F243*$B$9*1000)","v":0},0.77655643331651913,0.87224657008032047,{"$f":"H243+K243+O243+N243+'Sheet1 select'!$B$40*I243+J243+P243","v":0.56978708677333723}]
[null,null,null,null,242,1.6133333333333333,0.20822755555555553,{"$f":"F244*F244*('Sheet1 select'!$B$25)*$B$4","v":3.635593881048485E-2},{"$f":"F244*(1-$B$4)*'Sheet1 select'!$B$41","v":0.38599000000000006},{"$f":"F244*F244*('Sheet1 select'!$B$26)*(1-$B$4)","v":0},{"$f":"0.0000005*$B$11*F244*$B$9*((('Sheet1 select'!$B$33+0.5*'Sheet1 select'!$B$32)/(('Sheet1 select'!$B$10-'Sheet1 select'!$B$23)/('Sheet1 select'!$B$27+'Sheet1 select'!$B$8)))+(('Sheet1 select'!$B$33+0.5*'Sheet1 select'!$B$32)/(('Sheet1 select'!$B$23)/('Sheet1 select'!$B$27+'Sheet1 select'!$B$9))))","v":8.4886761217755693E-2},{"$f":"(F244*$B$29)*(('Sheet1 select'!$B$12+'Sheet1 select'!$B$13)*(0.000000001))*$B$9*1000","v":0},2.5912432095971015E-4,{"$f":"$B$11*'Sheet1 select'!$B$29*0.001","v":2.4E-2},{"$f":"'Sheet1 select'!$B$10*'Sheet1 select'!$B$31*$B$9*1000*0.000000001","v":4.0800000000000003E-2},{"$f":"'Sheet1 select'!$B$35*$B$11*$B$9*1000*0.000000001","v":0},{"$f":"IF('Sheet1 select'!$B$17=0,0,(0.00000006*0.7+0.00000003*(0.7+F244*1.1*'Sheet1 select'!$B$26))*F244*$B$9*1000)","v":0},0.78051937990475584,0.87214073191836872,{"$f":"H244+K244+O244+N244+'Sheet1 select'!$B$40*I244+J244+P244","v":0.57203270002824058}]
[null,null,null,null,243,1.62,0.20995200000000006,{"$f":"F245*F245*('Sheet1 select'!$B$25)*$B$4","v":3.6657021904588499E-2},{"$f":"F245*(1-$B$4)*'Sheet1 select'!$B$41","v":0.38758500000000012},{"$f":"F245*F245*('Sheet1 select'!$B$26)*(1-$B$4)","v":0},{"$f":"0.0000005*$B$11*F245*$B$9*((('Sheet1 select'!$B$33+0.5*'Sheet1 select'!$B$32)/(('Sheet1 select'!$B$10-'Sheet1 select'!$B$23)/('Sheet1 select'!$B$27+'Sheet1 select'!$B$8)))+(('Sheet1 select'!$B$33+0.5*'Sheet1 select'!$B$32)/(('Sheet1 select'!$B$23)/('Sheet1 select'!$B$27+'Sheet1 select'!$B$9))))","v":8.5237532958324924E-2},{"$f":"(F245*$B$29)*(('Sheet1 select'!$B$12+'Sheet1 select'!$B$13)*(0.000000001))*$B$9*1000","v":0},2.5912432095971015E-4,{"$f":"$B$11*'Sheet1 select'!$B$29*0.001","v":2.4E-2},{"$f":"'Sheet1 select'!$B$10*'Sheet1 select'!$B$31*$B$9*1000*0.000000001","v":4.0800000000000003E-2},{"$f":"'Sheet1 select'!$B$35*$B$11*$B$9*1000*0.000000001","v":0},{"$f":"IF('Sheet1 select'!$B$17=0,0,(0.00000006*0.7+0.00000003*(0.7+F245*1.1*'Sheet1 select'!$B$26))*F245*$B$9*1000)","v":0},0.7844906791838735,0.87203460208370964,{"$f":"H245+K245+O245+N245+'Sheet1 select'!$B$40*I245+J245+P245","v":0.5742795548629136}]
[null,null,null,null,244,1.6266666666666667,0.2116835555555556,{"$f":"F246*F246*('Sheet1 select'!$B$25)*$B$4","v":3.6959346578461623E-2},{"$f":"F246*(1-$B$4)*'Sheet1 select'!$B$41","v":0.38918000000000008},{"$f":"F246*F246*('Sheet1 select'!$B$26)*(1-$B$4)","v":0},{"$f":"0.0000005*$B$11*F246*$B$9*((('Sheet1 select'!$B$33+0.5*'Sheet1 select'!$B$32)/(('Sheet1 select'!$B$10-'Sheet1 select'!$B$23)/('Sheet1 select'!$B$27+'Sheet1 select'!$B$8)))+(('Sheet1 select'!$B$33+0.5*'Sheet1 select'!$B$32)/(('Sheet1 select'!$B$23)/('Sheet1 select'!$B$27+'Sheet1 select'!$B$9))))","v":8.5588304698894155E-2},{"$f":"(F246*$B$29)*(('Sheet1 select'!$B$12+'Sheet1 select'!$B$13)*(0.000000001))*$B$9*1000","v":0},2.5912432095971015E-4,{"$f":"$B$11*'Sheet1 select'!$B$29*0.001","v":2.4E-2},{"$f":"'Sheet1 select'!$B$10*'Sheet1 select'!$B$31*$B$9*1000*0.000000001","v":4.0800000000000003E-2},{"$f":"'Sheet1 select'!$B$35*$B$11*$B$9*1000*0.000000001","v":0},{"$f":"IF('Sheet1 select'!$B$17=0,0,(0.00000006*0.7+0.00000003*(0.7+F246*1.1*'Sheet1 select'!$B$26))*F246*$B$9*1000)","v":0},0.78847033115387122,0.87192818469960964,{"$f":"H246+K246+O246+N246+'Sheet1 select'!$B$40*I246+J246+P246","v":0.57652765127735583}]
[null,null,null,null,245,1.6333333333333333,0.21342222222222224,{"$f":"F247*F247*('Sheet1 select'!$B$25)*$B$4","v":3.7262912832104256E-2},{"$f":"F247*(1-$B$4)*'Sheet1 select'!$B$41","v":0.39077500000000004},{"$f":"F247*F247*('Sheet1 select'!$B$26)*(1-$B$4)","v":0},{"$f":"0.0000005*$B$11*F247*$B$9*((('Sheet1 select'!$B$33+0.5*'Sheet1 select'!$B$32)/(('Sheet1 select'!$B$10-'Sheet1 select'!$B$23)/('Sheet1 select'!$B$27+'Sheet1 select'!$B$8)))+(('Sheet1 select'!$B$33+0.5*'Sheet1 select'!$B$32)/(('Sheet1 select'!$B$23)/('Sheet1 select'!$B$27+'Sheet1 select'!$B$9))))","v":8.5939076439463399E-2},{"$f":"(F247*$B$29)*(('Sheet1 select'!$B$12+'Sheet1 select'!$B$13)*(0.000000001))*$B$9*1000","v":0},2.5912432095971015E-4,{"$f":"$B$11*'Sheet1 select'!$B$29*0.001","v":2.4E-2},{"$f":"'Sheet1 select'!$B$10*'Sheet1 select'!$B$31*$B$9*1000*0.000000001","v":4.0800000000000003E-2},{"$f":"'Sheet1 select'!$B$35*$B$11*$B$9*1000*0.000000001","v":0},{"$f":"IF('Sheet1 select'!$B$17=0,0,(0.00000006*0.7+0.00000003*(0.7+F247*1.1*'Sheet1 select'!$B$26))*F247*$B$9*1000)","v":0},0.79245833581474967,0.87182148382237079,{"$f":"H247+K247+O247+N247+'Sheet1 select'!$B$40*I247+J247+P247","v":0.57877698927156773}]
[null,null,null,null,246,1.64,0.21516799999999994,{"$f":"F248*F248*('Sheet1 select'!$B$25)*$B$4","v":3.7567720665516384E-2},{"$f":"F248*(1-$B$4)*'Sheet1 select'!$B$41","v":0.39237000000000005},{"$f":"F248*F248*('Sheet1 select'!$B$26)*(1-$B$4)","v":0},{"$f":"0.0000005*$B$11*F248*$B$9*((('Sheet1 select'!$B$33+0.5*'Sheet1 select'!$B$32)/(('Sheet1 select'!$B$10-'Sheet1 select'!$B$23)/('Sheet1 select'!$B$27+'Sheet1 select'!$B$8)))+(('Sheet1 select'!$B$33+0.5*'Sheet1 select'!$B$32)/(('Sheet1 select'!$B$23)/('Sheet1 select'!$B$27+'Sheet1 select'!$B$9))))","v":8.6289848180032644E-2},{"$f":"(F248*$B$29)*(('Sheet1 select'!$B$12+'Sheet1 select'!$B$13)*(0.000000001))*$B$9*1000","v":0},2.5912432095971015E-4,{"$f":"$B$11*'Sheet1 select'!$B$29*0.001","v":2.4E-2},{"$f":"'Sheet1 select'!$B$10*'Sheet1 select'!$B$31*$B$9*1000*0.000000001","v":4.0800000000000003E-2},{"$f":"'Sheet1 select'!$B$35*$B$11*$B$9*1000*0.000000001","v":0},{"$f":"IF('Sheet1 select'!$B$17=0,0,(0.00000006*0.7+0.00000003*(0.7+F248*1.1*'Sheet1 select'!$B$26))*F248*$B$9*1000)","v":0},0.79645469316650885,0.87171450344267687,{"$f":"H248+K248+O248+N248+'Sheet1 select'!$B$40*I248+J248+P248","v":0.58102756884554907}]
[null,null,null,null,247,1.6466666666666667,0.21692088888888891,{"$f":"F249*F249*('Sheet1 select'!$B$25)*$B$4","v":3.7873770078698014E-2},{"$f":"F249*(1-$B$4)*'Sheet1 select'!$B$41","v":0.39396500000000007},{"$f":"F249*F249*('Sheet1 select'!$B$26)*(1-$B$4)","v":0},{"$f":"0.0000005*$B$11*F249*$B$9*((('Sheet1 select'!$B$33+0.5*'Sheet1 select'!$B$32)/(('Sheet1 select'!$B$10-'Sheet1 select'!$B$23)/('Sheet1 select'!$B$27+'Sheet1 select'!$B$8)))+(('Sheet1 select'!$B$33+0.5*'Sheet1 select'!$B$32)/(('Sheet1 select'!$B$23)/('Sheet1 select'!$B$27+'Sheet1 select'!$B$9))))","v":8.6640619920601875E-2},{"$f":"(F249*$B$29)*(('Sheet1 select'!$B$12+'Sheet1 select'!$B$13)*(0.000000001))*$B$9*1000","v":0},2.5912432095971015E-4,{"$f":"$B$11*'Sheet1 select'!$B$29*0.001","v":2.4E-2},{"$f":"'Sheet1 select'!$B$10*'Sheet1 select'!$B$31*$B$9*1000*0.000000001","v":4.0800000000000003E-2},{"$f":"'Sheet1 select'!$B$35*$B$11*$B$9*1000*0.000000001","v":0},{"$f":"IF('Sheet1 select'!$B$17=0,0,(0.00000006*0.7+0.00000003*(0.7+F249*1.1*'Sheet1 select'!$B$26))*F249*$B$9*1000)","v":0},0.80045940320914877,0.87160724748690843,{"$f":"H249+K249+O249+N249+'Sheet1 select'!$B$40*I249+J249+P249","v":0.58327938999929996}]
[null,null,null,null,248,1.6533333333333333,0.2186808888888889,{"$f":"F250*F250*('Sheet1 select'!$B$25)*$B$4","v":3.8181061071649147E-2},{"$f":"F250*(1-$B$4)*'Sheet1 select'!$B$41","v":0.39556000000000008},{"$f":"F250*F250*('Sheet1 select'!$B$26)*(1-$B$4)","v":0},{"$f":"0.0000005*$B$11*F250*$B$9*((('Sheet1 select'!$B$33+0.5*'Sheet1 select'!$B$32)/(('Sheet1 select'!$B$10-'Sheet1 select'!$B$23)/('Sheet1 select'!$B$27+'Sheet1 select'!$B$8)))+(('Sheet1 select'!$B$33+0.5*'Sheet1 select'!$B$32)/(('Sheet1 select'!$B$23)/('Sheet1 select'!$B$27+'Sheet1 select'!$B$9))))","v":8.6991391661171119E-2},{"$f":"(F250*$B$29)*(('Sheet1 select'!$B$12+'Sheet1 select'!$B$13)*(0.000000001))*$B$9*1000","v":0},2.5912432095971015E-4,{"$f":"$B$11*'Sheet1 select'!$B$29*0.001","v":2.4E-2},{"$f":"'Sheet1 select'!$B$10*'Sheet1 select'!$B$31*$B$9*1000*0.000000001","v":4.0800000000000003E-2},{"$f":"'Sheet1 select'!$B$35*$B$11*$B$9*1000*0.000000001","v":0},{"$f":"IF('Sheet1 select'!$B$17=0,0,(0.00000006*0.7+0.00000003*(0.7+F250*1.1*'Sheet1 select'!$B$26))*F250*$B$9*1000)","v":0},0.80447246594266897,0.871499719818425,{"$f":"H250+K250+O250+N250+'Sheet1 select'!$B$40*I250+J250+P250","v":0.58553245273282029}]
[null,null,null,null,249,1.66,0.22044799999999998,{"$f":"F251*F251*('Sheet1 select'!$B$25)*$B$4","v":3.8489593644369775E-2},{"$f":"F251*(1-$B$4)*'Sheet1 select'!$B$41","v":0.39715500000000004},{"$f":"F251*F251*('Sheet1 select'!$B$26)*(1-$B$4)","v":0},{"$f":"0.0000005*$B$11*F251*$B$9*((('Sheet1 select'!$B$33+0.5*'Sheet1 select'!$B$32)/(('Sheet1 select'!$B$10-'Sheet1 select'!$B$23)/('Sheet1 select'!$B$27+'Sheet1 select'!$B$8)))+(('Sheet1 select'!$B$33+0.5*'Sheet1 select'!$B$32)/(('Sheet1 select'!$B$23)/('Sheet1 select'!$B$27+'Sheet1 select'!$B$9))))","v":8.734216340174035E-2},{"$f":"(F251*$B$29)*(('Sheet1 select'!$B$12+'Sheet1 select'!$B$13)*(0.000000001))*$B$9*1000","v":0},2.5912432095971015E-4,{"$f":"$B$11*'Sheet1 select'!$B$29*0.001","v":2.4E-2},{"$f":"'Sheet1 select'!$B$10*'Sheet1 select'!$B$31*$B$9*1000*0.000000001","v":4.0800000000000003E-2},{"$f":"'Sheet1 select'!$B$35*$B$11*$B$9*1000*0.000000001","v":0},{"$f":"IF('Sheet1 select'!$B$17=0,0,(0.00000006*0.7+0.00000003*(0.7+F251*1.1*'Sheet1 select'!$B$26))*F251*$B$9*1000)","v":0},0.8084938813670699,0.87139192423881684,{"$f":"H251+K251+O251+N251+'Sheet1 select'!$B$40*I251+J251+P251","v":0.58778675704611016}]
[null,null,null,null,250,1.6666666666666667,0.22222222222222227,{"$f":"F252*F252*('Sheet1 select'!$B$25)*$B$4","v":3.8799367796859913E-2},{"$f":"F252*(1-$B$4)*'Sheet1 select'!$B$41","v":0.39875000000000005},{"$f":"F252*F252*('Sheet1 select'!$B$26)*(1-$B$4)","v":0},{"$f":"0.0000005*$B$11*F252*$B$9*((('Sheet1 select'!$B$33+0.5*'Sheet1 select'!$B$32)/(('Sheet1 select'!$B$10-'Sheet1 select'!$B$23)/('Sheet1 select'!$B$27+'Sheet1 select'!$B$8)))+(('Sheet1 select'!$B$33+0.5*'Sheet1 select'!$B$32)/(('Sheet1 select'!$B$23)/('Sheet1 select'!$B$27+'Sheet1 select'!$B$9))))","v":8.7692935142309594E-2},{"$f":"(F252*$B$29)*(('Sheet1 select'!$B$12+'Sheet1 select'!$B$13)*(0.000000001))*$B$9*1000","v":0},2.5912432095971015E-4,{"$f":"$B$11*'Sheet1 select'!$B$29*0.001","v":2.4E-2},{"$f":"'Sheet1 select'!$B$10*'Sheet1 select'!$B$31*$B$9*1000*0.000000001","v":4.0800000000000003E-2},{"$f":"'Sheet1 select'!$B$35*$B$11*$B$9*1000*0.000000001","v":0},{"$f":"IF('Sheet1 select'!$B$17=0,0,(0.00000006*0.7+0.00000003*(0.7+F252*1.1*'Sheet1 select'!$B$26))*F252*$B$9*1000)","v":0},0.81252364948235156,0.87128386448912853,{"$f":"H252+K252+O252+N252+'Sheet1 select'!$B$40*I252+J252+P252","v":0.59004230293916959}]
[null,null,null,null,251,1.6733333333333333,0.22400355555555559,{"$f":"F253*F253*('Sheet1 select'!$B$25)*$B$4","v":3.9110383529119538E-2},{"$f":"F253*(1-$B$4)*'Sheet1 select'!$B$41","v":0.40034500000000006},{"$f":"F253*F253*('Sheet1 select'!$B$26)*(1-$B$4)","v":0},{"$f":"0.0000005*$B$11*F253*$B$9*((('Sheet1 select'!$B$33+0.5*'Sheet1 select'!$B$32)/(('Sheet1 select'!$B$10-'Sheet1 select'!$B$23)/('Sheet1 select'!$B$27+'Sheet1 select'!$B$8)))+(('Sheet1 select'!$B$33+0.5*'Sheet1 select'!$B$32)/(('Sheet1 select'!$B$23)/('Sheet1 select'!$B$27+'Sheet1 select'!$B$9))))","v":8.8043706882878839E-2},{"$f":"(F253*$B$29)*(('Sheet1 select'!$B$12+'Sheet1 select'!$B$13)*(0.000000001))*$B$9*1000","v":0},2.5912432095971015E-4,{"$f":"$B$11*'Sheet1 select'!$B$29*0.001","v":2.4E-2},{"$f":"'Sheet1 select'!$B$10*'Sheet1 select'!$B$31*$B$9*1000*0.000000001","v":4.0800000000000003E-2},{"$f":"'Sheet1 select'!$B$35*$B$11*$B$9*1000*0.000000001","v":0},{"$f":"IF('Sheet1 select'!$B$17=0,0,(0.00000006*0.7+0.00000003*(0.7+F253*1.1*'Sheet1 select'!$B$26))*F253*$B$9*1000)","v":0},0.81656177028851396,0.8711755442510507,{"$f":"H253+K253+O253+N253+'Sheet1 select'!$B$40*I253+J253+P253","v":0.59229909041199846}]
[null,null,null,null,252,1.68,0.22579199999999996,{"$f":"F254*F254*('Sheet1 select'!$B$25)*$B$4","v":3.942264084114866E-2},{"$f":"F254*(1-$B$4)*'Sheet1 select'!$B$41","v":0.40194000000000007},{"$f":"F254*F254*('Sheet1 select'!$B$26)*(1-$B$4)","v":0},{"$f":"0.0000005*$B$11*F254*$B$9*((('Sheet1 select'!$B$33+0.5*'Sheet1 select'!$B$32)/(('Sheet1 select'!$B$10-'Sheet1 select'!$B$23)/('Sheet1 select'!$B$27+'Sheet1 select'!$B$8)))+(('Sheet1 select'!$B$33+0.5*'Sheet1 select'!$B$32)/(('Sheet1 select'!$B$23)/('Sheet1 select'!$B$27+'Sheet1 select'!$B$9))))","v":8.8394478623448069E-2},{"$f":"(F254*$B$29)*(('Sheet1 select'!$B$12+'Sheet1 select'!$B$13)*(0.000000001))*$B$9*1000","v":0},2.5912432095971015E-4,{"$f":"$B$11*'Sheet1 select'!$B$29*0.001","v":2.4E-2},{"$f":"'Sheet1 select'!$B$10*'Sheet1 select'!$B$31*$B$9*1000*0.000000001","v":4.0800000000000003E-2},{"$f":"'Sheet1 select'!$B$35*$B$11*$B$9*1000*0.000000001","v":0},{"$f":"IF('Sheet1 select'!$B$17=0,0,(0.00000006*0.7+0.00000003*(0.7+F254*1.1*'Sheet1 select'!$B$26))*F254*$B$9*1000)","v":0},0.82060824378555663,0.87106696714808751,{"$f":"H254+K254+O254+N254+'Sheet1 select'!$B$40*I254+J254+P254","v":0.59455711946459677}]
[null,null,null,null,253,1.6866666666666668,0.2275875555555556,{"$f":"F255*F255*('Sheet1 select'!$B$25)*$B$4","v":3.9736139732947297E-2},{"$f":"F255*(1-$B$4)*'Sheet1 select'!$B$41","v":0.40353500000000003},{"$f":"F255*F255*('Sheet1 select'!$B$26)*(1-$B$4)","v":0},{"$f":"0.0000005*$B$11*F255*$B$9*((('Sheet1 select'!$B$33+0.5*'Sheet1 select'!$B$32)/(('Sheet1 select'!$B$10-'Sheet1 select'!$B$23)/('Sheet1 select'!$B$27+'Sheet1 select'!$B$8)))+(('Sheet1 select'!$B$33+0.5*'Sheet1 select'!$B$32)/(('Sheet1 select'!$B$23)/('Sheet1 select'!$B$27+'Sheet1 select'!$B$9))))","v":8.8745250364017314E-2},{"$f":"(F255*$B$29)*(('Sheet1 select'!$B$12+'Sheet1 select'!$B$13)*(0.000000001))*$B$9*1000","v":0},2.5912432095971015E-4,{"$f":"$B$11*'Sheet1 select'!$B$29*0.001","v":2.4E-2},{"$f":"'Sheet1 select'!$B$10*'Sheet1 select'!$B$31*$B$9*1000*0.000000001","v":4.0800000000000003E-2},{"$f":"'Sheet1 select'!$B$35*$B$11*$B$9*1000*0.000000001","v":0},{"$f":"IF('Sheet1 select'!$B$17=0,0,(0.00000006*0.7+0.00000003*(0.7+F255*1.1*'Sheet1 select'!$B$26))*F255*$B$9*1000)","v":0},0.82466306997348005,0.87095813674669254,{"$f":"H255+K255+O255+N255+'Sheet1 select'!$B$40*I255+J255+P255","v":0.59681639009696463}]
[null,null,null,null,254,1.6933333333333334,0.22939022222222225,{"$f":"F256*F256*('Sheet1 select'!$B$25)*$B$4","v":4.0050880204515422E-2},{"$f":"F256*(1-$B$4)*'Sheet1 select'!$B$41","v":0.4051300000000001},{"$f":"F256*F256*('Sheet1 select'!$B$26)*(1-$B$4)","v":0},{"$f":"0.0000005*$B$11*F256*$B$9*((('Sheet1 select'!$B$33+0.5*'Sheet1 select'!$B$32)/(('Sheet1 select'!$B$10-'Sheet1 select'!$B$23)/('Sheet1 select'!$B$27+'Sheet1 select'!$B$8)))+(('Sheet1 select'!$B$33+0.5*'Sheet1 select'!$B$32)/(('Sheet1 select'!$B$23)/('Sheet1 select'!$B$27+'Sheet1 select'!$B$9))))","v":8.9096022104586559E-2},{"$f":"(F256*$B$29)*(('Sheet1 select'!$B$12+'Sheet1 select'!$B$13)*(0.000000001))*$B$9*1000","v":0},2.5912432095971015E-4,{"$f":"$B$11*'Sheet1 select'!$B$29*0.001","v":2.4E-2},{"$f":"'Sheet1 select'!$B$10*'Sheet1 select'!$B$31*$B$9*1000*0.000000001","v":4.0800000000000003E-2},{"$f":"'Sheet1 select'!$B$35*$B$11*$B$9*1000*0.000000001","v":0},{"$f":"IF('Sheet1 select'!$B$17=0,0,(0.00000006*0.7+0.00000003*(0.7+F256*1.1*'Sheet1 select'!$B$26))*F256*$B$9*1000)","v":0},0.82872624885228419,0.87084905655738187,{"$f":"H256+K256+O256+N256+'Sheet1 select'!$B$40*I256+J256+P256","v":0.59907690230910204}]
[null,null,null,null,255,1.7,0.23119999999999999,{"$f":"F257*F257*('Sheet1 select'!$B$25)*$B$4","v":4.0366862255853043E-2},{"$f":"F257*(1-$B$4)*'Sheet1 select'!$B$41","v":0.40672500000000006},{"$f":"F257*F257*('Sheet1 select'!$B$26)*(1-$B$4)","v":0},{"$f":"0.0000005*$B$11*F257*$B$9*((('Sheet1 select'!$B$33+0.5*'Sheet1 select'!$B$32)/(('Sheet1 select'!$B$10-'Sheet1 select'!$B$23)/('Sheet1 select'!$B$27+'Sheet1 select'!$B$8)))+(('Sheet1 select'!$B$33+0.5*'Sheet1 select'!$B$32)/(('Sheet1 select'!$B$23)/('Sheet1 select'!$B$27+'Sheet1 select'!$B$9))))","v":8.9446793845155789E-2},{"$f":"(F257*$B$29)*(('Sheet1 select'!$B$12+'Sheet1 select'!$B$13)*(0.000000001))*$B$9*1000","v":0},2.5912432095971015E-4,{"$f":"$B$11*'Sheet1 select'!$B$29*0.001","v":2.4E-2},{"$f":"'Sheet1 select'!$B$10*'Sheet1 select'!$B$31*$B$9*1000*0.000000001","v":4.0800000000000003E-2},{"$f":"'Sheet1 select'!$B$35*$B$11*$B$9*1000*0.000000001","v":0},{"$f":"IF('Sheet1 select'!$B$17=0,0,(0.00000006*0.7+0.00000003*(0.7+F257*1.1*'Sheet1 select'!$B$26))*F257*$B$9*1000)","v":0},0.83279778042196861,0.87073973003581928,{"$f":"H257+K257+O257+N257+'Sheet1 select'!$B$40*I257+J257+P257","v":0.60133865610100889}]
[null,null,null,null,256,1.7066666666666668,0.23301688888888894,{"$f":"F258*F258*('Sheet1 select'!$B$25)*$B$4","v":4.0684085886960181E-2},{"$f":"F258*(1-$B$4)*'Sheet1 select'!$B$41","v":0.40832000000000013},{"$f":"F258*F258*('Sheet1 select'!$B$26)*(1-$B$4)","v":0},{"$f":"0.0000005*$B$11*F258*$B$9*((('Sheet1 select'!$B$33+0.5*'Sheet1 select'!$B$32)/(('Sheet1 select'!$B$10-'Sheet1 select'!$B$23)/('Sheet1 select'!$B$27+'Sheet1 select'!$B$8)))+(('Sheet1 select'!$B$33+0.5*'Sheet1 select'!$B$32)/(('Sheet1 select'!$B$23)/('Sheet1 select'!$B$27+'Sheet1 select'!$B$9))))","v":8.9797565585725034E-2},{"$f":"(F258*$B$29)*(('Sheet1 select'!$B$12+'Sheet1 select'!$B$13)*(0.000000001))*$B$9*1000","v":0},2.5912432095971015E-4,{"$f":"$B$11*'Sheet1 select'!$B$29*0.001","v":2.4E-2},{"$f":"'Sheet1 select'!$B$10*'Sheet1 select'!$B$31*$B$9*1000*0.000000001","v":4.0800000000000003E-2},{"$f":"'Sheet1 select'!$B$35*$B$11*$B$9*1000*0.000000001","v":0},{"$f":"IF('Sheet1 select'!$B$17=0,0,(0.00000006*0.7+0.00000003*(0.7+F258*1.1*'Sheet1 select'!$B$26))*F258*$B$9*1000)","v":0},0.83687766468253399,0.87063016058387543,{"$f":"H258+K258+O258+N258+'Sheet1 select'!$B$40*I258+J258+P258","v":0.6036016514726853}]
[null,null,null,null,257,1.7133333333333334,0.2348408888888889,{"$f":"F259*F259*('Sheet1 select'!$B$25)*$B$4","v":4.1002551097836806E-2},{"$f":"F259*(1-$B$4)*'Sheet1 select'!$B$41","v":0.40991500000000008},{"$f":"F259*F259*('Sheet1 select'!$B$26)*(1-$B$4)","v":0},{"$f":"0.0000005*$B$11*F259*$B$9*((('Sheet1 select'!$B$33+0.5*'Sheet1 select'!$B$32)/(('Sheet1 select'!$B$10-'Sheet1 select'!$B$23)/('Sheet1 select'!$B$27+'Sheet1 select'!$B$8)))+(('Sheet1 select'!$B$33+0.5*'Sheet1 select'!$B$32)/(('Sheet1 select'!$B$23)/('Sheet1 select'!$B$27+'Sheet1 select'!$B$9))))","v":9.0148337326294251E-2},{"$f":"(F259*$B$29)*(('Sheet1 select'!$B$12+'Sheet1 select'!$B$13)*(0.000000001))*$B$9*1000","v":0},2.5912432095971015E-4,{"$f":"$B$11*'Sheet1 select'!$B$29*0.001","v":2.4E-2},{"$f":"'Sheet1 select'!$B$10*'Sheet1 select'!$B$31*$B$9*1000*0.000000001","v":4.0800000000000003E-2},{"$f":"'Sheet1 select'!$B$35*$B$11*$B$9*1000*0.000000001","v":0},{"$f":"IF('Sheet1 select'!$B$17=0,0,(0.00000006*0.7+0.00000003*(0.7+F259*1.1*'Sheet1 select'!$B$26))*F259*$B$9*1000)","v":0},{"$f":"SUM(G259:P259)+Q259","v":0.84096590163397988},0.87052035155066598,{"$f":"H259+K259+O259+N259+'Sheet1 select'!$B$40*I259+J259+P259","v":0.60586588842413114}]
[null,null,null,null,258,{"$f":"$B$13*E260/300","v":1.72},{"$f":"F260*F260*$B$15*0.001*2","v":0.23667199999999997},{"$f":"F260*F260*('Sheet1 select'!$B$25)*$B$4","v":4.132225788848292E-2},{"$f":"F260*(1-$B$4)*'Sheet1 select'!$B$41","v":0.41151000000000004},{"$f":"F260*F260*('Sheet1 select'!$B$26)*(1-$B$4)","v":0},{"$f":"0.0000005*$B$11*F260*$B$9*((('Sheet1 select'!$B$33+0.5*'Sheet1 select'!$B$32)/(('Sheet1 select'!$B$10-'Sheet1 select'!$B$23)/('Sheet1 select'!$B$27+'Sheet1 select'!$B$8)))+(('Sheet1 select'!$B$33+0.5*'Sheet1 select'!$B$32)/(('Sheet1 select'!$B$23)/('Sheet1 select'!$B$27+'Sheet1 select'!$B$9))))","v":9.0499109066863495E-2},{"$f":"(F260*$B$29)*(('Sheet1 select'!$B$12+'Sheet1 select'!$B$13)*(0.000000001))*$B$9*1000","v":0},{"$f":"($B$3^2)*$B$17*0.001","v":2.5912432095971015E-4},{"$f":"$B$11*'Sheet1 select'!$B$29*0.001","v":2.4E-2},{"$f":"'Sheet1 select'!$B$10*'Sheet1 select'!$B$31*$B$9*1000*0.000000001","v":4.0800000000000003E-2},{"$f":"'Sheet1 select'!$B$35*$B$11*$B$9*1000*0.000000001","v":0},{"$f":"IF('Sheet1 select'!$B$17=0,0,(0.00000006*0.7+0.00000003*(0.7+F260*1.1*'Sheet1 select'!$B$26))*F260*$B$9*1000)","v":0},0.84506249127630628,{"$f":"($B$12*F260)/($B$12*F260+R260)","v":0.8704103062335613},{"$f":"H260+K260+O260+N260+'Sheet1 select'!$B$40*I260+J260+P260","v":0.60813136695534642}]
[null,null,null,null,259,1.7266666666666666,0.23851022222222218,{"$f":"F261*F261*('Sheet1 select'!$B$25)*$B$4","v":4.164320625889855E-2},{"$f":"F261*(1-$B$4)*'Sheet1 select'!$B$41","v":0.413105},{"$f":"F261*F261*('Sheet1 select'!$B$26)*(1-$B$4)","v":0},{"$f":"0.0000005*$B$11*F261*$B$9*((('Sheet1 select'!$B$33+0.5*'Sheet1 select'!$B$32)/(('Sheet1 select'!$B$10-'Sheet1 select'!$B$23)/('Sheet1 select'!$B$27+'Sheet1 select'!$B$8)))+(('Sheet1 select'!$B$33+0.5*'Sheet1 select'!$B$32)/(('Sheet1 select'!$B$23)/('Sheet1 select'!$B$27+'Sheet1 select'!$B$9))))","v":9.084988080743274E-2},{"$f":"(F261*$B$29)*(('Sheet1 select'!$B$12+'Sheet1 select'!$B$13)*(0.000000001))*$B$9*1000","v":0},2.5912432095971015E-4,{"$f":"$B$11*'Sheet1 select'!$B$29*0.001","v":2.4E-2},{"$f":"'Sheet1 select'!$B$10*'Sheet1 select'!$B$31*$B$9*1000*0.000000001","v":4.0800000000000003E-2},{"$f":"'Sheet1 select'!$B$35*$B$11*$B$9*1000*0.000000001","v":0},{"$f":"IF('Sheet1 select'!$B$17=0,0,(0.00000006*0.7+0.00000003*(0.7+F261*1.1*'Sheet1 select'!$B$26))*F261*$B$9*1000)","v":0},0.84916743360951319,0.87030002787917715,{"$f":"H261+K261+O261+N261+'Sheet1 select'!$B$40*I261+J261+P261","v":0.61039808706633125}]
[null,null,null,null,260,1.7333333333333334,0.2403555555555556,{"$f":"F262*F262*('Sheet1 select'!$B$25)*$B$4","v":4.1965396209083676E-2},{"$f":"F262*(1-$B$4)*'Sheet1 select'!$B$41","v":0.41470000000000007},{"$f":"F262*F262*('Sheet1 select'!$B$26)*(1-$B$4)","v":0},{"$f":"0.0000005*$B$11*F262*$B$9*((('Sheet1 select'!$B$33+0.5*'Sheet1 select'!$B$32)/(('Sheet1 select'!$B$10-'Sheet1 select'!$B$23)/('Sheet1 select'!$B$27+'Sheet1 select'!$B$8)))+(('Sheet1 select'!$B$33+0.5*'Sheet1 select'!$B$32)/(('Sheet1 select'!$B$23)/('Sheet1 select'!$B$27+'Sheet1 select'!$B$9))))","v":9.120065254800197E-2},{"$f":"(F262*$B$29)*(('Sheet1 select'!$B$12+'Sheet1 select'!$B$13)*(0.000000001))*$B$9*1000","v":0},2.5912432095971015E-4,{"$f":"$B$11*'Sheet1 select'!$B$29*0.001","v":2.4E-2},{"$f":"'Sheet1 select'!$B$10*'Sheet1 select'!$B$31*$B$9*1000*0.000000001","v":4.0800000000000003E-2},{"$f":"'Sheet1 select'!$B$35*$B$11*$B$9*1000*0.000000001","v":0},{"$f":"IF('Sheet1 select'!$B$17=0,0,(0.00000006*0.7+0.00000003*(0.7+F262*1.1*'Sheet1 select'!$B$26))*F262*$B$9*1000)","v":0},0.85328072863360105,0.87018951968433966,{"$f":"H262+K262+O262+N262+'Sheet1 select'!$B$40*I262+J262+P262","v":0.61266604875708575}]
[null,null,null,null,261,1.74,0.24220800000000001,{"$f":"F263*F263*('Sheet1 select'!$B$25)*$B$4","v":4.2288827739038297E-2},{"$f":"F263*(1-$B$4)*'Sheet1 select'!$B$41","v":0.41629500000000003},{"$f":"F263*F263*('Sheet1 select'!$B$26)*(1-$B$4)","v":0},{"$f":"0.0000005*$B$11*F263*$B$9*((('Sheet1 select'!$B$33+0.5*'Sheet1 select'!$B$32)/(('Sheet1 select'!$B$10-'Sheet1 select'!$B$23)/('Sheet1 select'!$B$27+'Sheet1 select'!$B$8)))+(('Sheet1 select'!$B$33+0.5*'Sheet1 select'!$B$32)/(('Sheet1 select'!$B$23)/('Sheet1 select'!$B$27+'Sheet1 select'!$B$9))))","v":9.1551424288571215E-2},{"$f":"(F263*$B$29)*(('Sheet1 select'!$B$12+'Sheet1 select'!$B$13)*(0.000000001))*$B$9*1000","v":0},2.5912432095971015E-4,{"$f":"$B$11*'Sheet1 select'!$B$29*0.001","v":2.4E-2},{"$f":"'Sheet1 select'!$B$10*'Sheet1 select'!$B$31*$B$9*1000*0.000000001","v":4.0800000000000003E-2},{"$f":"'Sheet1 select'!$B$35*$B$11*$B$9*1000*0.000000001","v":0},{"$f":"IF('Sheet1 select'!$B$17=0,0,(0.00000006*0.7+0.00000003*(0.7+F263*1.1*'Sheet1 select'!$B$26))*F263*$B$9*1000)","v":0},0.85740237634856942,0.87007878479703071,{"$f":"H263+K263+O263+N263+'Sheet1 select'!$B$40*I263+J263+P263","v":0.61493525202760957}]
[null,null,null,null,262,1.7466666666666666,0.24406755555555551,{"$f":"F264*F264*('Sheet1 select'!$B$25)*$B$4","v":4.2613500848762413E-2},{"$f":"F264*(1-$B$4)*'Sheet1 select'!$B$41","v":0.41789000000000009},{"$f":"F264*F264*('Sheet1 select'!$B$26)*(1-$B$4)","v":0},{"$f":"0.0000005*$B$11*F264*$B$9*((('Sheet1 select'!$B$33+0.5*'Sheet1 select'!$B$32)/(('Sheet1 select'!$B$10-'Sheet1 select'!$B$23)/('Sheet1 select'!$B$27+'Sheet1 select'!$B$8)))+(('Sheet1 select'!$B$33+0.5*'Sheet1 select'!$B$32)/(('Sheet1 select'!$B$23)/('Sheet1 select'!$B$27+'Sheet1 select'!$B$9))))","v":9.1902196029140445E-2},{"$f":"(F264*$B$29)*(('Sheet1 select'!$B$12+'Sheet1 select'!$B$13)*(0.000000001))*$B$9*1000","v":0},2.5912432095971015E-4,{"$f":"$B$11*'Sheet1 select'!$B$29*0.001","v":2.4E-2},{"$f":"'Sheet1 select'!$B$10*'Sheet1 select'!$B$31*$B$9*1000*0.000000001","v":4.0800000000000003E-2},{"$f":"'Sheet1 select'!$B$35*$B$11*$B$9*1000*0.000000001","v":0},{"$f":"IF('Sheet1 select'!$B$17=0,0,(0.00000006*0.7+0.00000003*(0.7+F264*1.1*'Sheet1 select'!$B$26))*F264*$B$9*1000)","v":0},0.86153237675441807,0.86996782631730973,{"$f":"H264+K264+O264+N264+'Sheet1 select'!$B$40*I264+J264+P264","v":0.61720569687790294}]
[null,null,null,null,263,1.7533333333333334,0.24593422222222222,{"$f":"F265*F265*('Sheet1 select'!$B$25)*$B$4","v":4.2939415538256046E-2},{"$f":"F265*(1-$B$4)*'Sheet1 select'!$B$41","v":0.41948500000000005},{"$f":"F265*F265*('Sheet1 select'!$B$26)*(1-$B$4)","v":0},{"$f":"0.0000005*$B$11*F265*$B$9*((('Sheet1 select'!$B$33+0.5*'Sheet1 select'!$B$32)/(('Sheet1 select'!$B$10-'Sheet1 select'!$B$23)/('Sheet1 select'!$B$27+'Sheet1 select'!$B$8)))+(('Sheet1 select'!$B$33+0.5*'Sheet1 select'!$B$32)/(('Sheet1 select'!$B$23)/('Sheet1 select'!$B$27+'Sheet1 select'!$B$9))))","v":9.2252967769709704E-2},{"$f":"(F265*$B$29)*(('Sheet1 select'!$B$12+'Sheet1 select'!$B$13)*(0.000000001))*$B$9*1000","v":0},2.5912432095971015E-4,{"$f":"$B$11*'Sheet1 select'!$B$29*0.001","v":2.4E-2},{"$f":"'Sheet1 select'!$B$10*'Sheet1 select'!$B$31*$B$9*1000*0.000000001","v":4.0800000000000003E-2},{"$f":"'Sheet1 select'!$B$35*$B$11*$B$9*1000*0.000000001","v":0},{"$f":"IF('Sheet1 select'!$B$17=0,0,(0.00000006*0.7+0.00000003*(0.7+F265*1.1*'Sheet1 select'!$B$26))*F265*$B$9*1000)","v":0},0.86567072985114768,0.86985664729821643,{"$f":"H265+K265+O265+N265+'Sheet1 select'!$B$40*I265+J265+P265","v":0.61947738330796576}]
[null,null,null,null,264,1.76,0.247808,{"$f":"F266*F266*('Sheet1 select'!$B$25)*$B$4","v":4.3266571807519166E-2},{"$f":"F266*(1-$B$4)*'Sheet1 select'!$B$41","v":0.42108000000000012},{"$f":"F266*F266*('Sheet1 select'!$B$26)*(1-$B$4)","v":0},{"$f":"0.0000005*$B$11*F266*$B$9*((('Sheet1 select'!$B$33+0.5*'Sheet1 select'!$B$32)/(('Sheet1 select'!$B$10-'Sheet1 select'!$B$23)/('Sheet1 select'!$B$27+'Sheet1 select'!$B$8)))+(('Sheet1 select'!$B$33+0.5*'Sheet1 select'!$B$32)/(('Sheet1 select'!$B$23)/('Sheet1 select'!$B$27+'Sheet1 select'!$B$9))))","v":9.2603739510278935E-2},{"$f":"(F266*$B$29)*(('Sheet1 select'!$B$12+'Sheet1 select'!$B$13)*(0.000000001))*$B$9*1000","v":0},2.5912432095971015E-4,{"$f":"$B$11*'Sheet1 select'!$B$29*0.001","v":2.4E-2},{"$f":"'Sheet1 select'!$B$10*'Sheet1 select'!$B$31*$B$9*1000*0.000000001","v":4.0800000000000003E-2},{"$f":"'Sheet1 select'!$B$35*$B$11*$B$9*1000*0.000000001","v":0},{"$f":"IF('Sheet1 select'!$B$17=0,0,(0.00000006*0.7+0.00000003*(0.7+F266*1.1*'Sheet1 select'!$B$26))*F266*$B$9*1000)","v":0},0.86981743563875802,0.86974525074665254,{"$f":"H266+K266+O266+N266+'Sheet1 select'!$B$40*I266+J266+P266","v":0.62175031131779823}]
[null,null,null,null,265,1.7666666666666666,0.24968888888888888,{"$f":"F267*F267*('Sheet1 select'!$B$25)*$B$4","v":4.3594969656551789E-2},{"$f":"F267*(1-$B$4)*'Sheet1 select'!$B$41","v":0.42267500000000008},{"$f":"F267*F267*('Sheet1 select'!$B$26)*(1-$B$4)","v":0},{"$f":"0.0000005*$B$11*F267*$B$9*((('Sheet1 select'!$B$33+0.5*'Sheet1 select'!$B$32)/(('Sheet1 select'!$B$10-'Sheet1 select'!$B$23)/('Sheet1 select'!$B$27+'Sheet1 select'!$B$8)))+(('Sheet1 select'!$B$33+0.5*'Sheet1 select'!$B$32)/(('Sheet1 select'!$B$23)/('Sheet1 select'!$B$27+'Sheet1 select'!$B$9))))","v":9.2954511250848165E-2},{"$f":"(F267*$B$29)*(('Sheet1 select'!$B$12+'Sheet1 select'!$B$13)*(0.000000001))*$B$9*1000","v":0},2.5912432095971015E-4,{"$f":"$B$11*'Sheet1 select'!$B$29*0.001","v":2.4E-2},{"$f":"'Sheet1 select'!$B$10*'Sheet1 select'!$B$31*$B$9*1000*0.000000001","v":4.0800000000000003E-2},{"$f":"'Sheet1 select'!$B$35*$B$11*$B$9*1000*0.000000001","v":0},{"$f":"IF('Sheet1 select'!$B$17=0,0,(0.00000006*0.7+0.00000003*(0.7+F267*1.1*'Sheet1 select'!$B$26))*F267*$B$9*1000)","v":0},0.87397249411724864,0.86963363962424345,{"$f":"H267+K267+O267+N267+'Sheet1 select'!$B$40*I267+J267+P267","v":0.62402448090740004}]
[null,null,null,null,266,1.7733333333333334,0.25157688888888891,{"$f":"F268*F268*('Sheet1 select'!$B$25)*$B$4","v":4.3924609085353915E-2},{"$f":"F268*(1-$B$4)*'Sheet1 select'!$B$41","v":0.42427000000000009},{"$f":"F268*F268*('Sheet1 select'!$B$26)*(1-$B$4)","v":0},{"$f":"0.0000005*$B$11*F268*$B$9*((('Sheet1 select'!$B$33+0.5*'Sheet1 select'!$B$32)/(('Sheet1 select'!$B$10-'Sheet1 select'!$B$23)/('Sheet1 select'!$B$27+'Sheet1 select'!$B$8)))+(('Sheet1 select'!$B$33+0.5*'Sheet1 select'!$B$32)/(('Sheet1 select'!$B$23)/('Sheet1 select'!$B$27+'Sheet1 select'!$B$9))))","v":9.3305282991417424E-2},{"$f":"(F268*$B$29)*(('Sheet1 select'!$B$12+'Sheet1 select'!$B$13)*(0.000000001))*$B$9*1000","v":0},2.5912432095971015E-4,{"$f":"$B$11*'Sheet1 select'!$B$29*0.001","v":2.4E-2},{"$f":"'Sheet1 select'!$B$10*'Sheet1 select'!$B$31*$B$9*1000*0.000000001","v":4.0800000000000003E-2},{"$f":"'Sheet1 select'!$B$35*$B$11*$B$9*1000*0.000000001","v":0},{"$f":"IF('Sheet1 select'!$B$17=0,0,(0.00000006*0.7+0.00000003*(0.7+F268*1.1*'Sheet1 select'!$B$26))*F268*$B$9*1000)","v":0},0.87813590528662,0.86952181684818108,{"$f":"H268+K268+O268+N268+'Sheet1 select'!$B$40*I268+J268+P268","v":0.62629989207677139}]
[null,null,null,null,267,1.78,0.25347200000000003,{"$f":"F269*F269*('Sheet1 select'!$B$25)*$B$4","v":4.4255490093925536E-2},{"$f":"F269*(1-$B$4)*'Sheet1 select'!$B$41","v":0.4258650000000001},{"$f":"F269*F269*('Sheet1 select'!$B$26)*(1-$B$4)","v":0},{"$f":"0.0000005*$B$11*F269*$B$9*((('Sheet1 select'!$B$33+0.5*'Sheet1 select'!$B$32)/(('Sheet1 select'!$B$10-'Sheet1 select'!$B$23)/('Sheet1 select'!$B$27+'Sheet1 select'!$B$8)))+(('Sheet1 select'!$B$33+0.5*'Sheet1 select'!$B$32)/(('Sheet1 select'!$B$23)/('Sheet1 select'!$B$27+'Sheet1 select'!$B$9))))","v":9.3656054731986654E-2},{"$f":"(F269*$B$29)*(('Sheet1 select'!$B$12+'Sheet1 select'!$B$13)*(0.000000001))*$B$9*1000","v":0},2.5912432095971015E-4,{"$f":"$B$11*'Sheet1 select'!$B$29*0.001","v":2.4E-2},{"$f":"'Sheet1 select'!$B$10*'Sheet1 select'!$B$31*$B$9*1000*0.000000001","v":4.0800000000000003E-2},{"$f":"'Sheet1 select'!$B$35*$B$11*$B$9*1000*0.000000001","v":0},{"$f":"IF('Sheet1 select'!$B$17=0,0,(0.00000006*0.7+0.00000003*(0.7+F269*1.1*'Sheet1 select'!$B$26))*F269*$B$9*1000)","v":0},0.88230766914687209,0.86940978529204804,{"$f":"H269+K269+O269+N269+'Sheet1 select'!$B$40*I269+J269+P269","v":0.6285765448259123}]
[null,null,null,null,268,1.7866666666666666,0.25537422222222222,{"$f":"F270*F270*('Sheet1 select'!$B$25)*$B$4","v":4.4587612682266652E-2},{"$f":"F270*(1-$B$4)*'Sheet1 select'!$B$41","v":0.42746000000000006},{"$f":"F270*F270*('Sheet1 select'!$B$26)*(1-$B$4)","v":0},{"$f":"0.0000005*$B$11*F270*$B$9*((('Sheet1 select'!$B$33+0.5*'Sheet1 select'!$B$32)/(('Sheet1 select'!$B$10-'Sheet1 select'!$B$23)/('Sheet1 select'!$B$27+'Sheet1 select'!$B$8)))+(('Sheet1 select'!$B$33+0.5*'Sheet1 select'!$B$32)/(('Sheet1 select'!$B$23)/('Sheet1 select'!$B$27+'Sheet1 select'!$B$9))))","v":9.4006826472555885E-2},{"$f":"(F270*$B$29)*(('Sheet1 select'!$B$12+'Sheet1 select'!$B$13)*(0.000000001))*$B$9*1000","v":0},2.5912432095971015E-4,{"$f":"$B$11*'Sheet1 select'!$B$29*0.001","v":2.4E-2},{"$f":"'Sheet1 select'!$B$10*'Sheet1 select'!$B$31*$B$9*1000*0.000000001","v":4.0800000000000003E-2},{"$f":"'Sheet1 select'!$B$35*$B$11*$B$9*1000*0.000000001","v":0},{"$f":"IF('Sheet1 select'!$B$17=0,0,(0.00000006*0.7+0.00000003*(0.7+F270*1.1*'Sheet1 select'!$B$26))*F270*$B$9*1000)","v":0},0.88648778569800468,0.86929754778662338,{"$f":"H270+K270+O270+N270+'Sheet1 select'!$B$40*I270+J270+P270","v":0.63085443915482253}]
[null,null,null,null,269,1.7933333333333332,0.25728355555555549,{"$f":"F271*F271*('Sheet1 select'!$B$25)*$B$4","v":4.492097685037727E-2},{"$f":"F271*(1-$B$4)*'Sheet1 select'!$B$41","v":0.42905500000000002},{"$f":"F271*F271*('Sheet1 select'!$B$26)*(1-$B$4)","v":0},{"$f":"0.0000005*$B$11*F271*$B$9*((('Sheet1 select'!$B$33+0.5*'Sheet1 select'!$B$32)/(('Sheet1 select'!$B$10-'Sheet1 select'!$B$23)/('Sheet1 select'!$B$27+'Sheet1 select'!$B$8)))+(('Sheet1 select'!$B$33+0.5*'Sheet1 select'!$B$32)/(('Sheet1 select'!$B$23)/('Sheet1 select'!$B$27+'Sheet1 select'!$B$9))))","v":9.435759821312513E-2},{"$f":"(F271*$B$29)*(('Sheet1 select'!$B$12+'Sheet1 select'!$B$13)*(0.000000001))*$B$9*1000","v":0},2.5912432095971015E-4,{"$f":"$B$11*'Sheet1 select'!$B$29*0.001","v":2.4E-2},{"$f":"'Sheet1 select'!$B$10*'Sheet1 select'!$B$31*$B$9*1000*0.000000001","v":4.0800000000000003E-2},{"$f":"'Sheet1 select'!$B$35*$B$11*$B$9*1000*0.000000001","v":0},{"$f":"IF('Sheet1 select'!$B$17=0,0,(0.00000006*0.7+0.00000003*(0.7+F271*1.1*'Sheet1 select'!$B$26))*F271*$B$9*1000)","v":0},0.89067625494001779,0.86918510712066976,{"$f":"H271+K271+O271+N271+'Sheet1 select'!$B$40*I271+J271+P271","v":0.63313357506350243}]
[null,null,null,null,270,1.8,0.25920000000000004,{"$f":"F272*F272*('Sheet1 select'!$B$25)*$B$4","v":4.5255582598257398E-2},{"$f":"F272*(1-$B$4)*'Sheet1 select'!$B$41","v":0.43065000000000009},{"$f":"F272*F272*('Sheet1 select'!$B$26)*(1-$B$4)","v":0},{"$f":"0.0000005*$B$11*F272*$B$9*((('Sheet1 select'!$B$33+0.5*'Sheet1 select'!$B$32)/(('Sheet1 select'!$B$10-'Sheet1 select'!$B$23)/('Sheet1 select'!$B$27+'Sheet1 select'!$B$8)))+(('Sheet1 select'!$B$33+0.5*'Sheet1 select'!$B$32)/(('Sheet1 select'!$B$23)/('Sheet1 select'!$B$27+'Sheet1 select'!$B$9))))","v":9.470836995369436E-2},{"$f":"(F272*$B$29)*(('Sheet1 select'!$B$12+'Sheet1 select'!$B$13)*(0.000000001))*$B$9*1000","v":0},2.5912432095971015E-4,{"$f":"$B$11*'Sheet1 select'!$B$29*0.001","v":2.4E-2},{"$f":"'Sheet1 select'!$B$10*'Sheet1 select'!$B$31*$B$9*1000*0.000000001","v":4.0800000000000003E-2},{"$f":"'Sheet1 select'!$B$35*$B$11*$B$9*1000*0.000000001","v":0},{"$f":"IF('Sheet1 select'!$B$17=0,0,(0.00000006*0.7+0.00000003*(0.7+F272*1.1*'Sheet1 select'!$B$26))*F272*$B$9*1000)","v":0},0.89487307687291162,0.86907246604170529,{"$f":"H272+K272+O272+N272+'Sheet1 select'!$B$40*I272+J272+P272","v":0.63541395255195188}]
[null,null,null,null,271,1.8066666666666666,0.26112355555555561,{"$f":"F273*F273*('Sheet1 select'!$B$25)*$B$4","v":4.559142992590702E-2},{"$f":"F273*(1-$B$4)*'Sheet1 select'!$B$41","v":0.43224500000000005},{"$f":"F273*F273*('Sheet1 select'!$B$26)*(1-$B$4)","v":0},{"$f":"0.0000005*$B$11*F273*$B$9*((('Sheet1 select'!$B$33+0.5*'Sheet1 select'!$B$32)/(('Sheet1 select'!$B$10-'Sheet1 select'!$B$23)/('Sheet1 select'!$B$27+'Sheet1 select'!$B$8)))+(('Sheet1 select'!$B$33+0.5*'Sheet1 select'!$B$32)/(('Sheet1 select'!$B$23)/('Sheet1 select'!$B$27+'Sheet1 select'!$B$9))))","v":9.5059141694263591E-2},{"$f":"(F273*$B$29)*(('Sheet1 select'!$B$12+'Sheet1 select'!$B$13)*(0.000000001))*$B$9*1000","v":0},2.5912432095971015E-4,{"$f":"$B$11*'Sheet1 select'!$B$29*0.001","v":2.4E-2},{"$f":"'Sheet1 select'!$B$10*'Sheet1 select'!$B$31*$B$9*1000*0.000000001","v":4.0800000000000003E-2},{"$f":"'Sheet1 select'!$B$35*$B$11*$B$9*1000*0.000000001","v":0},{"$f":"IF('Sheet1 select'!$B$17=0,0,(0.00000006*0.7+0.00000003*(0.7+F273*1.1*'Sheet1 select'!$B$26))*F273*$B$9*1000)","v":0},0.89907825149668597,0.86895962725675668,{"$f":"H273+K273+O273+N273+'Sheet1 select'!$B$40*I273+J273+P273","v":0.63769557162017065}]
[null,null,null,null,272,1.8133333333333332,0.26305422222222219,{"$f":"F274*F274*('Sheet1 select'!$B$25)*$B$4","v":4.5928518833326125E-2},{"$f":"F274*(1-$B$4)*'Sheet1 select'!$B$41","v":0.43384000000000011},{"$f":"F274*F274*('Sheet1 select'!$B$26)*(1-$B$4)","v":0},{"$f":"0.0000005*$B$11*F274*$B$9*((('Sheet1 select'!$B$33+0.5*'Sheet1 select'!$B$32)/(('Sheet1 select'!$B$10-'Sheet1 select'!$B$23)/('Sheet1 select'!$B$27+'Sheet1 select'!$B$8)))+(('Sheet1 select'!$B$33+0.5*'Sheet1 select'!$B$32)/(('Sheet1 select'!$B$23)/('Sheet1 select'!$B$27+'Sheet1 select'!$B$9))))","v":9.5409913434832835E-2},{"$f":"(F274*$B$29)*(('Sheet1 select'!$B$12+'Sheet1 select'!$B$13)*(0.000000001))*$B$9*1000","v":0},2.5912432095971015E-4,{"$f":"$B$11*'Sheet1 select'!$B$29*0.001","v":2.4E-2},{"$f":"'Sheet1 select'!$B$10*'Sheet1 select'!$B$31*$B$9*1000*0.000000001","v":4.0800000000000003E-2},{"$f":"'Sheet1 select'!$B$35*$B$11*$B$9*1000*0.000000001","v":0},{"$f":"IF('Sheet1 select'!$B$17=0,0,(0.00000006*0.7+0.00000003*(0.7+F274*1.1*'Sheet1 select'!$B$26))*F274*$B$9*1000)","v":0},0.90329177881134104,0.86884659343309567,{"$f":"H274+K274+O274+N274+'Sheet1 select'!$B$40*I274+J274+P274","v":0.63997843226815909}]
[null,null,null,null,273,1.82,0.26499200000000001,{"$f":"F275*F275*('Sheet1 select'!$B$25)*$B$4","v":4.6266849320514752E-2},{"$f":"F275*(1-$B$4)*'Sheet1 select'!$B$41","v":0.43543500000000007},{"$f":"F275*F275*('Sheet1 select'!$B$26)*(1-$B$4)","v":0},{"$f":"0.0000005*$B$11*F275*$B$9*((('Sheet1 select'!$B$33+0.5*'Sheet1 select'!$B$32)/(('Sheet1 select'!$B$10-'Sheet1 select'!$B$23)/('Sheet1 select'!$B$27+'Sheet1 select'!$B$8)))+(('Sheet1 select'!$B$33+0.5*'Sheet1 select'!$B$32)/(('Sheet1 select'!$B$23)/('Sheet1 select'!$B$27+'Sheet1 select'!$B$9))))","v":9.576068517540208E-2},{"$f":"(F275*$B$29)*(('Sheet1 select'!$B$12+'Sheet1 select'!$B$13)*(0.000000001))*$B$9*1000","v":0},2.5912432095971015E-4,{"$f":"$B$11*'Sheet1 select'!$B$29*0.001","v":2.4E-2},{"$f":"'Sheet1 select'!$B$10*'Sheet1 select'!$B$31*$B$9*1000*0.000000001","v":4.0800000000000003E-2},{"$f":"'Sheet1 select'!$B$35*$B$11*$B$9*1000*0.000000001","v":0},{"$f":"IF('Sheet1 select'!$B$17=0,0,(0.00000006*0.7+0.00000003*(0.7+F275*1.1*'Sheet1 select'!$B$26))*F275*$B$9*1000)","v":0},0.90751365881687662,0.86873336719896188,{"$f":"H275+K275+O275+N275+'Sheet1 select'!$B$40*I275+J275+P275","v":0.64226253449591686}]
[null,null,null,null,274,1.8266666666666667,0.26693688888888895,{"$f":"F276*F276*('Sheet1 select'!$B$25)*$B$4","v":4.6606421387472868E-2},{"$f":"F276*(1-$B$4)*'Sheet1 select'!$B$41","v":0.43703000000000009},{"$f":"F276*F276*('Sheet1 select'!$B$26)*(1-$B$4)","v":0},{"$f":"0.0000005*$B$11*F276*$B$9*((('Sheet1 select'!$B$33+0.5*'Sheet1 select'!$B$32)/(('Sheet1 select'!$B$10-'Sheet1 select'!$B$23)/('Sheet1 select'!$B$27+'Sheet1 select'!$B$8)))+(('Sheet1 select'!$B$33+0.5*'Sheet1 select'!$B$32)/(('Sheet1 select'!$B$23)/('Sheet1 select'!$B$27+'Sheet1 select'!$B$9))))","v":9.6111456915971311E-2},{"$f":"(F276*$B$29)*(('Sheet1 select'!$B$12+'Sheet1 select'!$B$13)*(0.000000001))*$B$9*1000","v":0},2.5912432095971015E-4,{"$f":"$B$11*'Sheet1 select'!$B$29*0.001","v":2.4E-2},{"$f":"'Sheet1 select'!$B$10*'Sheet1 select'!$B$31*$B$9*1000*0.000000001","v":4.0800000000000003E-2},{"$f":"'Sheet1 select'!$B$35*$B$11*$B$9*1000*0.000000001","v":0},{"$f":"IF('Sheet1 select'!$B$17=0,0,(0.00000006*0.7+0.00000003*(0.7+F276*1.1*'Sheet1 select'!$B$26))*F276*$B$9*1000)","v":0},0.91174389151329294,0.86861995114426671,{"$f":"H276+K276+O276+N276+'Sheet1 select'!$B$40*I276+J276+P276","v":0.64454787830344429}]
[null,null,null,null,275,1.8333333333333333,0.26888888888888884,{"$f":"F277*F277*('Sheet1 select'!$B$25)*$B$4","v":4.694723503420048E-2},{"$f":"F277*(1-$B$4)*'Sheet1 select'!$B$41","v":0.4386250000000001},{"$f":"F277*F277*('Sheet1 select'!$B$26)*(1-$B$4)","v":0},{"$f":"0.0000005*$B$11*F277*$B$9*((('Sheet1 select'!$B$33+0.5*'Sheet1 select'!$B$32)/(('Sheet1 select'!$B$10-'Sheet1 select'!$B$23)/('Sheet1 select'!$B$27+'Sheet1 select'!$B$8)))+(('Sheet1 select'!$B$33+0.5*'Sheet1 select'!$B$32)/(('Sheet1 select'!$B$23)/('Sheet1 select'!$B$27+'Sheet1 select'!$B$9))))","v":9.6462228656540541E-2},{"$f":"(F277*$B$29)*(('Sheet1 select'!$B$12+'Sheet1 select'!$B$13)*(0.000000001))*$B$9*1000","v":0},2.5912432095971015E-4,{"$f":"$B$11*'Sheet1 select'!$B$29*0.001","v":2.4E-2},{"$f":"'Sheet1 select'!$B$10*'Sheet1 select'!$B$31*$B$9*1000*0.000000001","v":4.0800000000000003E-2},{"$f":"'Sheet1 select'!$B$35*$B$11*$B$9*1000*0.000000001","v":0},{"$f":"IF('Sheet1 select'!$B$17=0,0,(0.00000006*0.7+0.00000003*(0.7+F277*1.1*'Sheet1 select'!$B$26))*F277*$B$9*1000)","v":0},0.91598247690058976,0.868506347821285,{"$f":"H277+K277+O277+N277+'Sheet1 select'!$B$40*I277+J277+P277","v":0.64683446369074116}]
[null,null,null,null,276,1.84,0.27084800000000003,{"$f":"F278*F278*('Sheet1 select'!$B$25)*$B$4","v":4.7289290260697607E-2},{"$f":"F278*(1-$B$4)*'Sheet1 select'!$B$41","v":0.44022000000000011},{"$f":"F278*F278*('Sheet1 select'!$B$26)*(1-$B$4)","v":0},{"$f":"0.0000005*$B$11*F278*$B$9*((('Sheet1 select'!$B$33+0.5*'Sheet1 select'!$B$32)/(('Sheet1 select'!$B$10-'Sheet1 select'!$B$23)/('Sheet1 select'!$B$27+'Sheet1 select'!$B$8)))+(('Sheet1 select'!$B$33+0.5*'Sheet1 select'!$B$32)/(('Sheet1 select'!$B$23)/('Sheet1 select'!$B$27+'Sheet1 select'!$B$9))))","v":9.68130003971098E-2},{"$f":"(F278*$B$29)*(('Sheet1 select'!$B$12+'Sheet1 select'!$B$13)*(0.000000001))*$B$9*1000","v":0},2.5912432095971015E-4,{"$f":"$B$11*'Sheet1 select'!$B$29*0.001","v":2.4E-2},{"$f":"'Sheet1 select'!$B$10*'Sheet1 select'!$B$31*$B$9*1000*0.000000001","v":4.0800000000000003E-2},{"$f":"'Sheet1 select'!$B$35*$B$11*$B$9*1000*0.000000001","v":0},{"$f":"IF('Sheet1 select'!$B$17=0,0,(0.00000006*0.7+0.00000003*(0.7+F278*1.1*'Sheet1 select'!$B$26))*F278*$B$9*1000)","v":0},0.92022941497876731,0.86839255974532947,{"$f":"H278+K278+O278+N278+'Sheet1 select'!$B$40*I278+J278+P278","v":0.64912229065780758}]
[null,null,null,null,277,1.8466666666666667,0.27281422222222224,{"$f":"F279*F279*('Sheet1 select'!$B$25)*$B$4","v":4.7632587066964216E-2},{"$f":"F279*(1-$B$4)*'Sheet1 select'!$B$41","v":0.44181500000000007},{"$f":"F279*F279*('Sheet1 select'!$B$26)*(1-$B$4)","v":0},{"$f":"0.0000005*$B$11*F279*$B$9*((('Sheet1 select'!$B$33+0.5*'Sheet1 select'!$B$32)/(('Sheet1 select'!$B$10-'Sheet1 select'!$B$23)/('Sheet1 select'!$B$27+'Sheet1 select'!$B$8)))+(('Sheet1 select'!$B$33+0.5*'Sheet1 select'!$B$32)/(('Sheet1 select'!$B$23)/('Sheet1 select'!$B$27+'Sheet1 select'!$B$9))))","v":9.7163772137679044E-2},{"$f":"(F279*$B$29)*(('Sheet1 select'!$B$12+'Sheet1 select'!$B$13)*(0.000000001))*$B$9*1000","v":0},2.5912432095971015E-4,{"$f":"$B$11*'Sheet1 select'!$B$29*0.001","v":2.4E-2},{"$f":"'Sheet1 select'!$B$10*'Sheet1 select'!$B$31*$B$9*1000*0.000000001","v":4.0800000000000003E-2},{"$f":"'Sheet1 select'!$B$35*$B$11*$B$9*1000*0.000000001","v":0},{"$f":"IF('Sheet1 select'!$B$17=0,0,(0.00000006*0.7+0.00000003*(0.7+F279*1.1*'Sheet1 select'!$B$26))*F279*$B$9*1000)","v":0},0.92448470574782537,0.86827858939541269,{"$f":"H279+K279+O279+N279+'Sheet1 select'!$B$40*I279+J279+P279","v":0.65141135920464333}]
[null,null,null,null,278,1.8533333333333333,0.27478755555555556,{"$f":"F280*F280*('Sheet1 select'!$B$25)*$B$4","v":4.7977125453000334E-2},{"$f":"F280*(1-$B$4)*'Sheet1 select'!$B$41","v":0.44341000000000008},{"$f":"F280*F280*('Sheet1 select'!$B$26)*(1-$B$4)","v":0},{"$f":"0.0000005*$B$11*F280*$B$9*((('Sheet1 select'!$B$33+0.5*'Sheet1 select'!$B$32)/(('Sheet1 select'!$B$10-'Sheet1 select'!$B$23)/('Sheet1 select'!$B$27+'Sheet1 select'!$B$8)))+(('Sheet1 select'!$B$33+0.5*'Sheet1 select'!$B$32)/(('Sheet1 select'!$B$23)/('Sheet1 select'!$B$27+'Sheet1 select'!$B$9))))","v":9.7514543878248261E-2},{"$f":"(F280*$B$29)*(('Sheet1 select'!$B$12+'Sheet1 select'!$B$13)*(0.000000001))*$B$9*1000","v":0},2.5912432095971015E-4,{"$f":"$B$11*'Sheet1 select'!$B$29*0.001","v":2.4E-2},{"$f":"'Sheet1 select'!$B$10*'Sheet1 select'!$B$31*$B$9*1000*0.000000001","v":4.0800000000000003E-2},{"$f":"'Sheet1 select'!$B$35*$B$11*$B$9*1000*0.000000001","v":0},{"$f":"IF('Sheet1 select'!$B$17=0,0,(0.00000006*0.7+0.00000003*(0.7+F280*1.1*'Sheet1 select'!$B$26))*F280*$B$9*1000)","v":0},0.92874834920776395,0.86816443921489284,{"$f":"H280+K280+O280+N280+'Sheet1 select'!$B$40*I280+J280+P280","v":0.65370166933124874}]
[null,null,null,null,279,1.86,0.27676800000000001,{"$f":"F281*F281*('Sheet1 select'!$B$25)*$B$4","v":4.8322905418805961E-2},{"$f":"F281*(1-$B$4)*'Sheet1 select'!$B$41","v":0.44500500000000009},{"$f":"F281*F281*('Sheet1 select'!$B$26)*(1-$B$4)","v":0},{"$f":"0.0000005*$B$11*F281*$B$9*((('Sheet1 select'!$B$33+0.5*'Sheet1 select'!$B$32)/(('Sheet1 select'!$B$10-'Sheet1 select'!$B$23)/('Sheet1 select'!$B$27+'Sheet1 select'!$B$8)))+(('Sheet1 select'!$B$33+0.5*'Sheet1 select'!$B$32)/(('Sheet1 select'!$B$23)/('Sheet1 select'!$B$27+'Sheet1 select'!$B$9))))","v":9.7865315618817519E-2},{"$f":"(F281*$B$29)*(('Sheet1 select'!$B$12+'Sheet1 select'!$B$13)*(0.000000001))*$B$9*1000","v":0},2.5912432095971015E-4,{"$f":"$B$11*'Sheet1 select'!$B$29*0.001","v":2.4E-2},{"$f":"'Sheet1 select'!$B$10*'Sheet1 select'!$B$31*$B$9*1000*0.000000001","v":4.0800000000000003E-2},{"$f":"'Sheet1 select'!$B$35*$B$11*$B$9*1000*0.000000001","v":0},{"$f":"IF('Sheet1 select'!$B$17=0,0,(0.00000006*0.7+0.00000003*(0.7+F281*1.1*'Sheet1 select'!$B$26))*F281*$B$9*1000)","v":0},0.93302034535858347,0.86805011161210732,{"$f":"H281+K281+O281+N281+'Sheet1 select'!$B$40*I281+J281+P281","v":0.65599322103762359}]
[null,null,null,null,280,1.8666666666666667,0.27875555555555559,{"$f":"F282*F282*('Sheet1 select'!$B$25)*$B$4","v":4.866992696438107E-2},{"$f":"F282*(1-$B$4)*'Sheet1 select'!$B$41","v":0.44660000000000005},{"$f":"F282*F282*('Sheet1 select'!$B$26)*(1-$B$4)","v":0},{"$f":"0.0000005*$B$11*F282*$B$9*((('Sheet1 select'!$B$33+0.5*'Sheet1 select'!$B$32)/(('Sheet1 select'!$B$10-'Sheet1 select'!$B$23)/('Sheet1 select'!$B$27+'Sheet1 select'!$B$8)))+(('Sheet1 select'!$B$33+0.5*'Sheet1 select'!$B$32)/(('Sheet1 select'!$B$23)/('Sheet1 select'!$B$27+'Sheet1 select'!$B$9))))","v":9.8216087359386764E-2},{"$f":"(F282*$B$29)*(('Sheet1 select'!$B$12+'Sheet1 select'!$B$13)*(0.000000001))*$B$9*1000","v":0},2.5912432095971015E-4,{"$f":"$B$11*'Sheet1 select'!$B$29*0.001","v":2.4E-2},{"$f":"'Sheet1 select'!$B$10*'Sheet1 select'!$B$31*$B$9*1000*0.000000001","v":4.0800000000000003E-2},{"$f":"'Sheet1 select'!$B$35*$B$11*$B$9*1000*0.000000001","v":0},{"$f":"IF('Sheet1 select'!$B$17=0,0,(0.00000006*0.7+0.00000003*(0.7+F282*1.1*'Sheet1 select'!$B$26))*F282*$B$9*1000)","v":0},0.93730069420028328,0.86793560896099275,{"$f":"H282+K282+O282+N282+'Sheet1 select'!$B$40*I282+J282+P282","v":0.65828601432376788}]
[null,null,null,null,281,1.8733333333333333,0.28075022222222218,{"$f":"F283*F283*('Sheet1 select'!$B$25)*$B$4","v":4.9018190089725674E-2},{"$f":"F283*(1-$B$4)*'Sheet1 select'!$B$41","v":0.44819500000000007},{"$f":"F283*F283*('Sheet1 select'!$B$26)*(1-$B$4)","v":0},{"$f":"0.0000005*$B$11*F283*$B$9*((('Sheet1 select'!$B$33+0.5*'Sheet1 select'!$B$32)/(('Sheet1 select'!$B$10-'Sheet1 select'!$B$23)/('Sheet1 select'!$B$27+'Sheet1 select'!$B$8)))+(('Sheet1 select'!$B$33+0.5*'Sheet1 select'!$B$32)/(('Sheet1 select'!$B$23)/('Sheet1 select'!$B$27+'Sheet1 select'!$B$9))))","v":9.8566859099955981E-2},{"$f":"(F283*$B$29)*(('Sheet1 select'!$B$12+'Sheet1 select'!$B$13)*(0.000000001))*$B$9*1000","v":0},2.5912432095971015E-4,{"$f":"$B$11*'Sheet1 select'!$B$29*0.001","v":2.4E-2},{"$f":"'Sheet1 select'!$B$10*'Sheet1 select'!$B$31*$B$9*1000*0.000000001","v":4.0800000000000003E-2},{"$f":"'Sheet1 select'!$B$35*$B$11*$B$9*1000*0.000000001","v":0},{"$f":"IF('Sheet1 select'!$B$17=0,0,(0.00000006*0.7+0.00000003*(0.7+F283*1.1*'Sheet1 select'!$B$26))*F283*$B$9*1000)","v":0},0.9415893957328636,0.86782093360169099,{"$f":"H283+K283+O283+N283+'Sheet1 select'!$B$40*I283+J283+P283","v":0.66058004918968172}]
[null,null,null,null,282,1.88,0.28275199999999995,{"$f":"F284*F284*('Sheet1 select'!$B$25)*$B$4","v":4.9367694794839788E-2},{"$f":"F284*(1-$B$4)*'Sheet1 select'!$B$41","v":0.44979000000000002},{"$f":"F284*F284*('Sheet1 select'!$B$26)*(1-$B$4)","v":0},{"$f":"0.0000005*$B$11*F284*$B$9*((('Sheet1 select'!$B$33+0.5*'Sheet1 select'!$B$32)/(('Sheet1 select'!$B$10-'Sheet1 select'!$B$23)/('Sheet1 select'!$B$27+'Sheet1 select'!$B$8)))+(('Sheet1 select'!$B$33+0.5*'Sheet1 select'!$B$32)/(('Sheet1 select'!$B$23)/('Sheet1 select'!$B$27+'Sheet1 select'!$B$9))))","v":9.8917630840525225E-2},{"$f":"(F284*$B$29)*(('Sheet1 select'!$B$12+'Sheet1 select'!$B$13)*(0.000000001))*$B$9*1000","v":0},2.5912432095971015E-4,{"$f":"$B$11*'Sheet1 select'!$B$29*0.001","v":2.4E-2},{"$f":"'Sheet1 select'!$B$10*'Sheet1 select'!$B$31*$B$9*1000*0.000000001","v":4.0800000000000003E-2},{"$f":"'Sheet1 select'!$B$35*$B$11*$B$9*1000*0.000000001","v":0},{"$f":"IF('Sheet1 select'!$B$17=0,0,(0.00000006*0.7+0.00000003*(0.7+F284*1.1*'Sheet1 select'!$B$26))*F284*$B$9*1000)","v":0},0.94588644995632465,0.86770608784114289,{"$f":"H284+K284+O284+N284+'Sheet1 select'!$B$40*I284+J284+P284","v":0.662875325635365}]
[null,null,null,null,283,1.8866666666666667,0.2847608888888889,{"$f":"F285*F285*('Sheet1 select'!$B$25)*$B$4","v":4.9718441079723411E-2},{"$f":"F285*(1-$B$4)*'Sheet1 select'!$B$41","v":0.45138500000000004},{"$f":"F285*F285*('Sheet1 select'!$B$26)*(1-$B$4)","v":0},{"$f":"0.0000005*$B$11*F285*$B$9*((('Sheet1 select'!$B$33+0.5*'Sheet1 select'!$B$32)/(('Sheet1 select'!$B$10-'Sheet1 select'!$B$23)/('Sheet1 select'!$B$27+'Sheet1 select'!$B$8)))+(('Sheet1 select'!$B$33+0.5*'Sheet1 select'!$B$32)/(('Sheet1 select'!$B$23)/('Sheet1 select'!$B$27+'Sheet1 select'!$B$9))))","v":9.9268402581094456E-2},{"$f":"(F285*$B$29)*(('Sheet1 select'!$B$12+'Sheet1 select'!$B$13)*(0.000000001))*$B$9*1000","v":0},2.5912432095971015E-4,{"$f":"$B$11*'Sheet1 select'!$B$29*0.001","v":2.4E-2},{"$f":"'Sheet1 select'!$B$10*'Sheet1 select'!$B$31*$B$9*1000*0.000000001","v":4.0800000000000003E-2},{"$f":"'Sheet1 select'!$B$35*$B$11*$B$9*1000*0.000000001","v":0},{"$f":"IF('Sheet1 select'!$B$17=0,0,(0.00000006*0.7+0.00000003*(0.7+F285*1.1*'Sheet1 select'!$B$26))*F285*$B$9*1000)","v":0},0.95019185687066665,0.86759107395366963,{"$f":"H285+K285+O285+N285+'Sheet1 select'!$B$40*I285+J285+P285","v":0.66517184366081794}]
[null,null,null,null,284,1.8933333333333333,0.28677688888888891,{"$f":"F286*F286*('Sheet1 select'!$B$25)*$B$4","v":5.0070428944376515E-2},{"$f":"F286*(1-$B$4)*'Sheet1 select'!$B$41","v":0.4529800000000001},{"$f":"F286*F286*('Sheet1 select'!$B$26)*(1-$B$4)","v":0},{"$f":"0.0000005*$B$11*F286*$B$9*((('Sheet1 select'!$B$33+0.5*'Sheet1 select'!$B$32)/(('Sheet1 select'!$B$10-'Sheet1 select'!$B$23)/('Sheet1 select'!$B$27+'Sheet1 select'!$B$8)))+(('Sheet1 select'!$B$33+0.5*'Sheet1 select'!$B$32)/(('Sheet1 select'!$B$23)/('Sheet1 select'!$B$27+'Sheet1 select'!$B$9))))","v":9.96191743216637E-2},{"$f":"(F286*$B$29)*(('Sheet1 select'!$B$12+'Sheet1 select'!$B$13)*(0.000000001))*$B$9*1000","v":0},2.5912432095971015E-4,{"$f":"$B$11*'Sheet1 select'!$B$29*0.001","v":2.4E-2},{"$f":"'Sheet1 select'!$B$10*'Sheet1 select'!$B$31*$B$9*1000*0.000000001","v":4.0800000000000003E-2},{"$f":"'Sheet1 select'!$B$35*$B$11*$B$9*1000*0.000000001","v":0},{"$f":"IF('Sheet1 select'!$B$17=0,0,(0.00000006*0.7+0.00000003*(0.7+F286*1.1*'Sheet1 select'!$B$26))*F286*$B$9*1000)","v":0},0.95450561647588894,0.86747589418154192,{"$f":"H286+K286+O286+N286+'Sheet1 select'!$B$40*I286+J286+P286","v":0.66746960326604032}]
[null,null,null,null,285,1.9,0.2888,{"$f":"F287*F287*('Sheet1 select'!$B$25)*$B$4","v":5.0423658388799135E-2},{"$f":"F287*(1-$B$4)*'Sheet1 select'!$B$41","v":0.45457500000000006},{"$f":"F287*F287*('Sheet1 select'!$B$26)*(1-$B$4)","v":0},{"$f":"0.0000005*$B$11*F287*$B$9*((('Sheet1 select'!$B$33+0.5*'Sheet1 select'!$B$32)/(('Sheet1 select'!$B$10-'Sheet1 select'!$B$23)/('Sheet1 select'!$B$27+'Sheet1 select'!$B$8)))+(('Sheet1 select'!$B$33+0.5*'Sheet1 select'!$B$32)/(('Sheet1 select'!$B$23)/('Sheet1 select'!$B$27+'Sheet1 select'!$B$9))))","v":9.9969946062232931E-2},{"$f":"(F287*$B$29)*(('Sheet1 select'!$B$12+'Sheet1 select'!$B$13)*(0.000000001))*$B$9*1000","v":0},2.5912432095971015E-4,{"$f":"$B$11*'Sheet1 select'!$B$29*0.001","v":2.4E-2},{"$f":"'Sheet1 select'!$B$10*'Sheet1 select'!$B$31*$B$9*1000*0.000000001","v":4.0800000000000003E-2},{"$f":"'Sheet1 select'!$B$35*$B$11*$B$9*1000*0.000000001","v":0},{"$f":"IF('Sheet1 select'!$B$17=0,0,(0.00000006*0.7+0.00000003*(0.7+F287*1.1*'Sheet1 select'!$B$26))*F287*$B$9*1000)","v":0},0.95882772877199196,0.86736055073553764,{"$f":"H287+K287+O287+N287+'Sheet1 select'!$B$40*I287+J287+P287","v":0.66976860445103215}]
[null,null,null,null,286,1.9066666666666667,0.29083022222222221,{"$f":"F288*F288*('Sheet1 select'!$B$25)*$B$4","v":5.0778129412991251E-2},{"$f":"F288*(1-$B$4)*'Sheet1 select'!$B$41","v":0.45617000000000013},{"$f":"F288*F288*('Sheet1 select'!$B$26)*(1-$B$4)","v":0},{"$f":"0.0000005*$B$11*F288*$B$9*((('Sheet1 select'!$B$33+0.5*'Sheet1 select'!$B$32)/(('Sheet1 select'!$B$10-'Sheet1 select'!$B$23)/('Sheet1 select'!$B$27+'Sheet1 select'!$B$8)))+(('Sheet1 select'!$B$33+0.5*'Sheet1 select'!$B$32)/(('Sheet1 select'!$B$23)/('Sheet1 select'!$B$27+'Sheet1 select'!$B$9))))","v":0.10032071780280218},{"$f":"(F288*$B$29)*(('Sheet1 select'!$B$12+'Sheet1 select'!$B$13)*(0.000000001))*$B$9*1000","v":0},2.5912432095971015E-4,{"$f":"$B$11*'Sheet1 select'!$B$29*0.001","v":2.4E-2},{"$f":"'Sheet1 select'!$B$10*'Sheet1 select'!$B$31*$B$9*1000*0.000000001","v":4.0800000000000003E-2},{"$f":"'Sheet1 select'!$B$35*$B$11*$B$9*1000*0.000000001","v":0},{"$f":"IF('Sheet1 select'!$B$17=0,0,(0.00000006*0.7+0.00000003*(0.7+F288*1.1*'Sheet1 select'!$B$26))*F288*$B$9*1000)","v":0},0.96315819375897549,0.86724504579548634,{"$f":"H288+K288+O288+N288+'Sheet1 select'!$B$40*I288+J288+P288","v":0.67206884721579352}]
[null,null,null,null,287,1.9133333333333333,0.29286755555555555,{"$f":"F289*F289*('Sheet1 select'!$B$25)*$B$4","v":5.1133842016952855E-2},{"$f":"F289*(1-$B$4)*'Sheet1 select'!$B$41","v":0.45776500000000009},{"$f":"F289*F289*('Sheet1 select'!$B$26)*(1-$B$4)","v":0},{"$f":"0.0000005*$B$11*F289*$B$9*((('Sheet1 select'!$B$33+0.5*'Sheet1 select'!$B$32)/(('Sheet1 select'!$B$10-'Sheet1 select'!$B$23)/('Sheet1 select'!$B$27+'Sheet1 select'!$B$8)))+(('Sheet1 select'!$B$33+0.5*'Sheet1 select'!$B$32)/(('Sheet1 select'!$B$23)/('Sheet1 select'!$B$27+'Sheet1 select'!$B$9))))","v":0.10067148954337142},{"$f":"(F289*$B$29)*(('Sheet1 select'!$B$12+'Sheet1 select'!$B$13)*(0.000000001))*$B$9*1000","v":0},2.5912432095971015E-4,{"$f":"$B$11*'Sheet1 select'!$B$29*0.001","v":2.4E-2},{"$f":"'Sheet1 select'!$B$10*'Sheet1 select'!$B$31*$B$9*1000*0.000000001","v":4.0800000000000003E-2},{"$f":"'Sheet1 select'!$B$35*$B$11*$B$9*1000*0.000000001","v":0},{"$f":"IF('Sheet1 select'!$B$17=0,0,(0.00000006*0.7+0.00000003*(0.7+F289*1.1*'Sheet1 select'!$B$26))*F289*$B$9*1000)","v":0},0.96749701143683975,0.86712938151080476,{"$f":"H289+K289+O289+N289+'Sheet1 select'!$B$40*I289+J289+P289","v":0.67437033156032433}]
[null,null,null,null,288,1.92,0.29491200000000001,{"$f":"F290*F290*('Sheet1 select'!$B$25)*$B$4","v":5.1490796200683968E-2},{"$f":"F290*(1-$B$4)*'Sheet1 select'!$B$41","v":0.45936000000000005},{"$f":"F290*F290*('Sheet1 select'!$B$26)*(1-$B$4)","v":0},{"$f":"0.0000005*$B$11*F290*$B$9*((('Sheet1 select'!$B$33+0.5*'Sheet1 select'!$B$32)/(('Sheet1 select'!$B$10-'Sheet1 select'!$B$23)/('Sheet1 select'!$B$27+'Sheet1 select'!$B$8)))+(('Sheet1 select'!$B$33+0.5*'Sheet1 select'!$B$32)/(('Sheet1 select'!$B$23)/('Sheet1 select'!$B$27+'Sheet1 select'!$B$9))))","v":0.10102226128394064},{"$f":"(F290*$B$29)*(('Sheet1 select'!$B$12+'Sheet1 select'!$B$13)*(0.000000001))*$B$9*1000","v":0},2.5912432095971015E-4,{"$f":"$B$11*'Sheet1 select'!$B$29*0.001","v":2.4E-2},{"$f":"'Sheet1 select'!$B$10*'Sheet1 select'!$B$31*$B$9*1000*0.000000001","v":4.0800000000000003E-2},{"$f":"'Sheet1 select'!$B$35*$B$11*$B$9*1000*0.000000001","v":0},{"$f":"IF('Sheet1 select'!$B$17=0,0,(0.00000006*0.7+0.00000003*(0.7+F290*1.1*'Sheet1 select'!$B$26))*F290*$B$9*1000)","v":0},0.97184418180558452,0.86701356000101981,{"$f":"H290+K290+O290+N290+'Sheet1 select'!$B$40*I290+J290+P290","v":0.6766730574846247}]
[null,null,null,null,289,1.9266666666666667,0.29696355555555565,{"$f":"F291*F291*('Sheet1 select'!$B$25)*$B$4","v":5.184899196418459E-2},{"$f":"F291*(1-$B$4)*'Sheet1 select'!$B$41","v":0.46095500000000011},{"$f":"F291*F291*('Sheet1 select'!$B$26)*(1-$B$4)","v":0},{"$f":"0.0000005*$B$11*F291*$B$9*((('Sheet1 select'!$B$33+0.5*'Sheet1 select'!$B$32)/(('Sheet1 select'!$B$10-'Sheet1 select'!$B$23)/('Sheet1 select'!$B$27+'Sheet1 select'!$B$8)))+(('Sheet1 select'!$B$33+0.5*'Sheet1 select'!$B$32)/(('Sheet1 select'!$B$23)/('Sheet1 select'!$B$27+'Sheet1 select'!$B$9))))","v":0.1013730330245099},{"$f":"(F291*$B$29)*(('Sheet1 select'!$B$12+'Sheet1 select'!$B$13)*(0.000000001))*$B$9*1000","v":0},2.5912432095971015E-4,{"$f":"$B$11*'Sheet1 select'!$B$29*0.001","v":2.4E-2},{"$f":"'Sheet1 select'!$B$10*'Sheet1 select'!$B$31*$B$9*1000*0.000000001","v":4.0800000000000003E-2},{"$f":"'Sheet1 select'!$B$35*$B$11*$B$9*1000*0.000000001","v":0},{"$f":"IF('Sheet1 select'!$B$17=0,0,(0.00000006*0.7+0.00000003*(0.7+F291*1.1*'Sheet1 select'!$B$26))*F291*$B$9*1000)","v":0},0.97619970486521002,0.86689758335628098,{"$f":"H291+K291+O291+N291+'Sheet1 select'!$B$40*I291+J291+P291","v":0.67897702498869461}]
[null,null,null,null,290,1.9333333333333333,0.29902222222222224,{"$f":"F292*F292*('Sheet1 select'!$B$25)*$B$4","v":5.2208429307454687E-2},{"$f":"F292*(1-$B$4)*'Sheet1 select'!$B$41","v":0.46255000000000007},{"$f":"F292*F292*('Sheet1 select'!$B$26)*(1-$B$4)","v":0},{"$f":"0.0000005*$B$11*F292*$B$9*((('Sheet1 select'!$B$33+0.5*'Sheet1 select'!$B$32)/(('Sheet1 select'!$B$10-'Sheet1 select'!$B$23)/('Sheet1 select'!$B$27+'Sheet1 select'!$B$8)))+(('Sheet1 select'!$B$33+0.5*'Sheet1 select'!$B$32)/(('Sheet1 select'!$B$23)/('Sheet1 select'!$B$27+'Sheet1 select'!$B$9))))","v":0.10172380476507914},{"$f":"(F292*$B$29)*(('Sheet1 select'!$B$12+'Sheet1 select'!$B$13)*(0.000000001))*$B$9*1000","v":0},2.5912432095971015E-4,{"$f":"$B$11*'Sheet1 select'!$B$29*0.001","v":2.4E-2},{"$f":"'Sheet1 select'!$B$10*'Sheet1 select'!$B$31*$B$9*1000*0.000000001","v":4.0800000000000003E-2},{"$f":"'Sheet1 select'!$B$35*$B$11*$B$9*1000*0.000000001","v":0},{"$f":"IF('Sheet1 select'!$B$17=0,0,(0.00000006*0.7+0.00000003*(0.7+F292*1.1*'Sheet1 select'!$B$26))*F292*$B$9*1000)","v":0},0.98056358061571602,0.86678145363786241,{"$f":"H292+K292+O292+N292+'Sheet1 select'!$B$40*I292+J292+P292","v":0.68128223407253385}]
[null,null,null,null,291,1.94,0.30108799999999997,{"$f":"F293*F293*('Sheet1 select'!$B$25)*$B$4","v":5.2569108230494294E-2},{"$f":"F293*(1-$B$4)*'Sheet1 select'!$B$41","v":0.46414500000000003},{"$f":"F293*F293*('Sheet1 select'!$B$26)*(1-$B$4)","v":0},{"$f":"0.0000005*$B$11*F293*$B$9*((('Sheet1 select'!$B$33+0.5*'Sheet1 select'!$B$32)/(('Sheet1 select'!$B$10-'Sheet1 select'!$B$23)/('Sheet1 select'!$B$27+'Sheet1 select'!$B$8)))+(('Sheet1 select'!$B$33+0.5*'Sheet1 select'!$B$32)/(('Sheet1 select'!$B$23)/('Sheet1 select'!$B$27+'Sheet1 select'!$B$9))))","v":0.10207457650564837},{"$f":"(F293*$B$29)*(('Sheet1 select'!$B$12+'Sheet1 select'!$B$13)*(0.000000001))*$B$9*1000","v":0},2.5912432095971015E-4,{"$f":"$B$11*'Sheet1 select'!$B$29*0.001","v":2.4E-2},{"$f":"'Sheet1 select'!$B$10*'Sheet1 select'!$B$31*$B$9*1000*0.000000001","v":4.0800000000000003E-2},{"$f":"'Sheet1 select'!$B$35*$B$11*$B$9*1000*0.000000001","v":0},{"$f":"IF('Sheet1 select'!$B$17=0,0,(0.00000006*0.7+0.00000003*(0.7+F293*1.1*'Sheet1 select'!$B$26))*F293*$B$9*1000)","v":0},0.98493580905710232,0.86666517287865485,{"$f":"H293+K293+O293+N293+'Sheet1 select'!$B$40*I293+J293+P293","v":0.68358868473614265}]
[null,null,null,null,292,1.9466666666666668,0.30316088888888892,{"$f":"F294*F294*('Sheet1 select'!$B$25)*$B$4","v":5.2931028733303416E-2},{"$f":"F294*(1-$B$4)*'Sheet1 select'!$B$41","v":0.4657400000000001},{"$f":"F294*F294*('Sheet1 select'!$B$26)*(1-$B$4)","v":0},{"$f":"0.0000005*$B$11*F294*$B$9*((('Sheet1 select'!$B$33+0.5*'Sheet1 select'!$B$32)/(('Sheet1 select'!$B$10-'Sheet1 select'!$B$23)/('Sheet1 select'!$B$27+'Sheet1 select'!$B$8)))+(('Sheet1 select'!$B$33+0.5*'Sheet1 select'!$B$32)/(('Sheet1 select'!$B$23)/('Sheet1 select'!$B$27+'Sheet1 select'!$B$9))))","v":0.10242534824621762},{"$f":"(F294*$B$29)*(('Sheet1 select'!$B$12+'Sheet1 select'!$B$13)*(0.000000001))*$B$9*1000","v":0},2.5912432095971015E-4,{"$f":"$B$11*'Sheet1 select'!$B$29*0.001","v":2.4E-2},{"$f":"'Sheet1 select'!$B$10*'Sheet1 select'!$B$31*$B$9*1000*0.000000001","v":4.0800000000000003E-2},{"$f":"'Sheet1 select'!$B$35*$B$11*$B$9*1000*0.000000001","v":0},{"$f":"IF('Sheet1 select'!$B$17=0,0,(0.00000006*0.7+0.00000003*(0.7+F294*1.1*'Sheet1 select'!$B$26))*F294*$B$9*1000)","v":0},0.98931639018936979,0.86654874308364727,{"$f":"H294+K294+O294+N294+'Sheet1 select'!$B$40*I294+J294+P294","v":0.68589637697952111}]
[null,null,null,null,293,1.9533333333333334,0.30524088888888889,{"$f":"F295*F295*('Sheet1 select'!$B$25)*$B$4","v":5.329419081588202E-2},{"$f":"F295*(1-$B$4)*'Sheet1 select'!$B$41","v":0.46733500000000006},{"$f":"F295*F295*('Sheet1 select'!$B$26)*(1-$B$4)","v":0},{"$f":"0.0000005*$B$11*F295*$B$9*((('Sheet1 select'!$B$33+0.5*'Sheet1 select'!$B$32)/(('Sheet1 select'!$B$10-'Sheet1 select'!$B$23)/('Sheet1 select'!$B$27+'Sheet1 select'!$B$8)))+(('Sheet1 select'!$B$33+0.5*'Sheet1 select'!$B$32)/(('Sheet1 select'!$B$23)/('Sheet1 select'!$B$27+'Sheet1 select'!$B$9))))","v":0.10277611998678686},{"$f":"(F295*$B$29)*(('Sheet1 select'!$B$12+'Sheet1 select'!$B$13)*(0.000000001))*$B$9*1000","v":0},2.5912432095971015E-4,{"$f":"$B$11*'Sheet1 select'!$B$29*0.001","v":2.4E-2},{"$f":"'Sheet1 select'!$B$10*'Sheet1 select'!$B$31*$B$9*1000*0.000000001","v":4.0800000000000003E-2},{"$f":"'Sheet1 select'!$B$35*$B$11*$B$9*1000*0.000000001","v":0},{"$f":"IF('Sheet1 select'!$B$17=0,0,(0.00000006*0.7+0.00000003*(0.7+F295*1.1*'Sheet1 select'!$B$26))*F295*$B$9*1000)","v":0},0.99370532401251754,0.8664321662303992,{"$f":"H295+K295+O295+N295+'Sheet1 select'!$B$40*I295+J295+P295","v":0.68820531080266889}]
[null,null,null,null,294,1.96,0.30732799999999999,{"$f":"F296*F296*('Sheet1 select'!$B$25)*$B$4","v":5.3658594478230119E-2},{"$f":"F296*(1-$B$4)*'Sheet1 select'!$B$41","v":0.46893000000000001},{"$f":"F296*F296*('Sheet1 select'!$B$26)*(1-$B$4)","v":0},{"$f":"0.0000005*$B$11*F296*$B$9*((('Sheet1 select'!$B$33+0.5*'Sheet1 select'!$B$32)/(('Sheet1 select'!$B$10-'Sheet1 select'!$B$23)/('Sheet1 select'!$B$27+'Sheet1 select'!$B$8)))+(('Sheet1 select'!$B$33+0.5*'Sheet1 select'!$B$32)/(('Sheet1 select'!$B$23)/('Sheet1 select'!$B$27+'Sheet1 select'!$B$9))))","v":0.10312689172735609},{"$f":"(F296*$B$29)*(('Sheet1 select'!$B$12+'Sheet1 select'!$B$13)*(0.000000001))*$B$9*1000","v":0},2.5912432095971015E-4,{"$f":"$B$11*'Sheet1 select'!$B$29*0.001","v":2.4E-2},{"$f":"'Sheet1 select'!$B$10*'Sheet1 select'!$B$31*$B$9*1000*0.000000001","v":4.0800000000000003E-2},{"$f":"'Sheet1 select'!$B$35*$B$11*$B$9*1000*0.000000001","v":0},{"$f":"IF('Sheet1 select'!$B$17=0,0,(0.00000006*0.7+0.00000003*(0.7+F296*1.1*'Sheet1 select'!$B$26))*F296*$B$9*1000)","v":0},0.99810261052654603,0.86631544426950291,{"$f":"H296+K296+O296+N296+'Sheet1 select'!$B$40*I296+J296+P296","v":0.69051548620558623}]
[null,null,null,null,295,1.9666666666666666,0.30942222222222221,{"$f":"F297*F297*('Sheet1 select'!$B$25)*$B$4","v":5.4024239720347728E-2},{"$f":"F297*(1-$B$4)*'Sheet1 select'!$B$41","v":0.47052500000000008},{"$f":"F297*F297*('Sheet1 select'!$B$26)*(1-$B$4)","v":0},{"$f":"0.0000005*$B$11*F297*$B$9*((('Sheet1 select'!$B$33+0.5*'Sheet1 select'!$B$32)/(('Sheet1 select'!$B$10-'Sheet1 select'!$B$23)/('Sheet1 select'!$B$27+'Sheet1 select'!$B$8)))+(('Sheet1 select'!$B$33+0.5*'Sheet1 select'!$B$32)/(('Sheet1 select'!$B$23)/('Sheet1 select'!$B$27+'Sheet1 select'!$B$9))))","v":0.10347766346792531},{"$f":"(F297*$B$29)*(('Sheet1 select'!$B$12+'Sheet1 select'!$B$13)*(0.000000001))*$B$9*1000","v":0},2.5912432095971015E-4,{"$f":"$B$11*'Sheet1 select'!$B$29*0.001","v":2.4E-2},{"$f":"'Sheet1 select'!$B$10*'Sheet1 select'!$B$31*$B$9*1000*0.000000001","v":4.0800000000000003E-2},{"$f":"'Sheet1 select'!$B$35*$B$11*$B$9*1000*0.000000001","v":0},{"$f":"IF('Sheet1 select'!$B$17=0,0,(0.00000006*0.7+0.00000003*(0.7+F297*1.1*'Sheet1 select'!$B$26))*F297*$B$9*1000)","v":0},1.002508249731455,0.86619857912503639,{"$f":"H297+K297+O297+N297+'Sheet1 select'!$B$40*I297+J297+P297","v":0.69282690318827311}]
[null,null,null,null,296,1.9733333333333334,0.31152355555555561,{"$f":"F298*F298*('Sheet1 select'!$B$25)*$B$4","v":5.4391126542234845E-2},{"$f":"F298*(1-$B$4)*'Sheet1 select'!$B$41","v":0.47212000000000015},{"$f":"F298*F298*('Sheet1 select'!$B$26)*(1-$B$4)","v":0},{"$f":"0.0000005*$B$11*F298*$B$9*((('Sheet1 select'!$B$33+0.5*'Sheet1 select'!$B$32)/(('Sheet1 select'!$B$10-'Sheet1 select'!$B$23)/('Sheet1 select'!$B$27+'Sheet1 select'!$B$8)))+(('Sheet1 select'!$B$33+0.5*'Sheet1 select'!$B$32)/(('Sheet1 select'!$B$23)/('Sheet1 select'!$B$27+'Sheet1 select'!$B$9))))","v":0.10382843520849455},{"$f":"(F298*$B$29)*(('Sheet1 select'!$B$12+'Sheet1 select'!$B$13)*(0.000000001))*$B$9*1000","v":0},2.5912432095971015E-4,{"$f":"$B$11*'Sheet1 select'!$B$29*0.001","v":2.4E-2},{"$f":"'Sheet1 select'!$B$10*'Sheet1 select'!$B$31*$B$9*1000*0.000000001","v":4.0800000000000003E-2},{"$f":"'Sheet1 select'!$B$35*$B$11*$B$9*1000*0.000000001","v":0},{"$f":"IF('Sheet1 select'!$B$17=0,0,(0.00000006*0.7+0.00000003*(0.7+F298*1.1*'Sheet1 select'!$B$26))*F298*$B$9*1000)","v":0},1.006922241627245,0.86608157269500807,{"$f":"H298+K298+O298+N298+'Sheet1 select'!$B$40*I298+J298+P298","v":0.69513956175072955}]
[null,null,null,null,297,1.98,0.31363200000000002,{"$f":"F299*F299*('Sheet1 select'!$B$25)*$B$4","v":5.4759254943891451E-2},{"$f":"F299*(1-$B$4)*'Sheet1 select'!$B$41","v":0.47371500000000011},{"$f":"F299*F299*('Sheet1 select'!$B$26)*(1-$B$4)","v":0},{"$f":"0.0000005*$B$11*F299*$B$9*((('Sheet1 select'!$B$33+0.5*'Sheet1 select'!$B$32)/(('Sheet1 select'!$B$10-'Sheet1 select'!$B$23)/('Sheet1 select'!$B$27+'Sheet1 select'!$B$8)))+(('Sheet1 select'!$B$33+0.5*'Sheet1 select'!$B$32)/(('Sheet1 select'!$B$23)/('Sheet1 select'!$B$27+'Sheet1 select'!$B$9))))","v":0.1041792069490638},{"$f":"(F299*$B$29)*(('Sheet1 select'!$B$12+'Sheet1 select'!$B$13)*(0.000000001))*$B$9*1000","v":0},2.5912432095971015E-4,{"$f":"$B$11*'Sheet1 select'!$B$29*0.001","v":2.4E-2},{"$f":"'Sheet1 select'!$B$10*'Sheet1 select'!$B$31*$B$9*1000*0.000000001","v":4.0800000000000003E-2},{"$f":"'Sheet1 select'!$B$35*$B$11*$B$9*1000*0.000000001","v":0},{"$f":"IF('Sheet1 select'!$B$17=0,0,(0.00000006*0.7+0.00000003*(0.7+F299*1.1*'Sheet1 select'!$B$26))*F299*$B$9*1000)","v":0},1.0113445862139152,0.86596442685179142,{"$f":"H299+K299+O299+N299+'Sheet1 select'!$B$40*I299+J299+P299","v":0.69745346189295532}]
[null,null,null,null,298,1.9866666666666666,0.3157475555555555,{"$f":"F300*F300*('Sheet1 select'!$B$25)*$B$4","v":5.5128624925317553E-2},{"$f":"F300*(1-$B$4)*'Sheet1 select'!$B$41","v":0.47531000000000007},{"$f":"F300*F300*('Sheet1 select'!$B$26)*(1-$B$4)","v":0},{"$f":"0.0000005*$B$11*F300*$B$9*((('Sheet1 select'!$B$33+0.5*'Sheet1 select'!$B$32)/(('Sheet1 select'!$B$10-'Sheet1 select'!$B$23)/('Sheet1 select'!$B$27+'Sheet1 select'!$B$8)))+(('Sheet1 select'!$B$33+0.5*'Sheet1 select'!$B$32)/(('Sheet1 select'!$B$23)/('Sheet1 select'!$B$27+'Sheet1 select'!$B$9))))","v":0.10452997868963304},{"$f":"(F300*$B$29)*(('Sheet1 select'!$B$12+'Sheet1 select'!$B$13)*(0.000000001))*$B$9*1000","v":0},2.5912432095971015E-4,{"$f":"$B$11*'Sheet1 select'!$B$29*0.001","v":2.4E-2},{"$f":"'Sheet1 select'!$B$10*'Sheet1 select'!$B$31*$B$9*1000*0.000000001","v":4.0800000000000003E-2},{"$f":"'Sheet1 select'!$B$35*$B$11*$B$9*1000*0.000000001","v":0},{"$f":"IF('Sheet1 select'!$B$17=0,0,(0.00000006*0.7+0.00000003*(0.7+F300*1.1*'Sheet1 select'!$B$26))*F300*$B$9*1000)","v":0},1.015775283491466,0.8658471434425512,{"$f":"H300+K300+O300+N300+'Sheet1 select'!$B$40*I300+J300+P300","v":0.69976860361495064}]
[null,null,null,null,299,1.9933333333333334,0.31787022222222228,{"$f":"F301*F301*('Sheet1 select'!$B$25)*$B$4","v":5.5499236486513163E-2},{"$f":"F301*(1-$B$4)*'Sheet1 select'!$B$41","v":0.47690500000000013},{"$f":"F301*F301*('Sheet1 select'!$B$26)*(1-$B$4)","v":0},{"$f":"0.0000005*$B$11*F301*$B$9*((('Sheet1 select'!$B$33+0.5*'Sheet1 select'!$B$32)/(('Sheet1 select'!$B$10-'Sheet1 select'!$B$23)/('Sheet1 select'!$B$27+'Sheet1 select'!$B$8)))+(('Sheet1 select'!$B$33+0.5*'Sheet1 select'!$B$32)/(('Sheet1 select'!$B$23)/('Sheet1 select'!$B$27+'Sheet1 select'!$B$9))))","v":0.10488075043020227},{"$f":"(F301*$B$29)*(('Sheet1 select'!$B$12+'Sheet1 select'!$B$13)*(0.000000001))*$B$9*1000","v":0},2.5912432095971015E-4,{"$f":"$B$11*'Sheet1 select'!$B$29*0.001","v":2.4E-2},{"$f":"'Sheet1 select'!$B$10*'Sheet1 select'!$B$31*$B$9*1000*0.000000001","v":4.0800000000000003E-2},{"$f":"'Sheet1 select'!$B$35*$B$11*$B$9*1000*0.000000001","v":0},{"$f":"IF('Sheet1 select'!$B$17=0,0,(0.00000006*0.7+0.00000003*(0.7+F301*1.1*'Sheet1 select'!$B$26))*F301*$B$9*1000)","v":0},1.0202143334598976,0.86572972428966255,{"$f":"H301+K301+O301+N301+'Sheet1 select'!$B$40*I301+J301+P301","v":0.70208498691671561}]
[null,null,null,null,300,2,0.32,{"$f":"F302*F302*('Sheet1 select'!$B$25)*$B$4","v":5.5871089627478263E-2},{"$f":"F302*(1-$B$4)*'Sheet1 select'!$B$41","v":0.47850000000000009},{"$f":"F302*F302*('Sheet1 select'!$B$26)*(1-$B$4)","v":0},{"$f":"0.0000005*$B$11*F302*$B$9*((('Sheet1 select'!$B$33+0.5*'Sheet1 select'!$B$32)/(('Sheet1 select'!$B$10-'Sheet1 select'!$B$23)/('Sheet1 select'!$B$27+'Sheet1 select'!$B$8)))+(('Sheet1 select'!$B$33+0.5*'Sheet1 select'!$B$32)/(('Sheet1 select'!$B$23)/('Sheet1 select'!$B$27+'Sheet1 select'!$B$9))))","v":0.10523152217077152},{"$f":"(F302*$B$29)*(('Sheet1 select'!$B$12+'Sheet1 select'!$B$13)*(0.000000001))*$B$9*1000","v":0},2.5912432095971015E-4,{"$f":"$B$11*'Sheet1 select'!$B$29*0.001","v":2.4E-2},{"$f":"'Sheet1 select'!$B$10*'Sheet1 select'!$B$31*$B$9*1000*0.000000001","v":4.0800000000000003E-2},{"$f":"'Sheet1 select'!$B$35*$B$11*$B$9*1000*0.000000001","v":0},{"$f":"IF('Sheet1 select'!$B$17=0,0,(0.00000006*0.7+0.00000003*(0.7+F302*1.1*'Sheet1 select'!$B$26))*F302*$B$9*1000)","v":0},1.0246617361192096,0.86561217119111944,{"$f":"H302+K302+O302+N302+'Sheet1 select'!$B$40*I302+J302+P302","v":0.70440261179824981}]

{"sheet":"Bode Plot Calculations","index":6,"n_rows":621,"n_cols":25,"rows_kept":621,"cut":false,"hidden":true,"merged":[[8,23,8,24],[8,20,8,21],[1,0,1,2],[1,6,1,8],[1,3,1,5],[8,0,10,0],[8,13,8,15],[9,7,9,8],[8,5,8,8],[9,1,9,2],[9,3,9,4],[8,1,8,4],[9,5,9,6],[1,9,1,11],[9,9,9,10],[9,11,9,12],[8,11,8,12]]}
[]
["Divider and EA",null,null,"Modulator",null,null,"Power Stage ",null,null,"Complex Pole pair",null,null,"Total System"]
["Afb",{"$f":"'Sheet1 select'!B18/'EZBuck design calculator'!N16","v":0.24242424242424246},"V/V","Acs",{"$f":"('EZBuck design calculator'!N16/'EZBuck design calculator'!N17)/('Sheet1 select'!B25*'Sheet1 select'!B5)","v":17.84917304999691},"V/V","z1",{"$f":"1000000000/(2*3.14159265*'EZBuck design calculator'!N33*'EZBuck design calculator'!N34)","v":1205719.2672254271},"Hz","p3",{"$f":"'Sheet1 select'!B3*1000/2","v":250000},"Hz","Adc",{"$f":"E3*E4*B3*B6","v":592.42799556158434},"V/V","Q"]
["z2",{"$f":"1000000/(2*3.14159265*'EZBuck design calculator'!N51*'EZBuck design calculator'!N50)","v":7957.747163687819},"Hz","Am",{"$f":"1/(1+(1000*('EZBuck design calculator'!N16/'EZBuck design calculator'!N17)*(E7*(1-'Efficiency calculations'!B4)-0.5)/('Sheet1 select'!B3*'EZBuck design calculator'!N25)))","v":0.57046655019776915},"V/V","p1",{"$f":"(1000000/(2*3.14159265*'EZBuck design calculator'!N33*('EZBuck design calculator'!N16/'EZBuck design calculator'!N17)))+(1000000000*(E7*(1-'Efficiency calculations'!B4)-0.5)/(2*3.14159265*'Sheet1 select'!B3*'EZBuck design calculator'!N25*'EZBuck design calculator'!N33))","v":3842.8490658054875},"Hz","pterm1",{"$f":"K6*Pole3","v":74206.066743660325},null,"Crossover",{"$f":"MIN(R12:R612)/1000","v":29.344000000000001},"Khz",{"$f":"K6","v":0.29682426697464132}]
["p2",{"$f":"1000/(2*3.14159265*'Sheet1 select'!B7*'EZBuck design calculator'!N50)","v":106.10329551583757},"Hz","Se",{"$f":"'Sheet1 select'!B4*'Sheet1 select'!B3*1000","v":200000},null,null,null,null,"pterm2",{"$f":"Pole3^2","v":62500000000},null,"Phase Margin",{"$f":"P616","v":59.92843462037375},"Deg"]
["Aea",{"$f":"'Sheet1 select'!B6*'Sheet1 select'!B7","v":240},"V/V","Sn",{"$f":"1000000*(1-'Efficiency calculations'!B4)*'EZBuck design calculator'!N15*'Sheet1 select'!B25*'Sheet1 select'!B5/'EZBuck design calculator'!N25","v":171114.667922919},null,null,null,null,"Q",{"$f":"1/(3.14159265*(E7*(1-'Efficiency calculations'!B4)-0.5))","v":0.29682426697464132},null,"radconv",{"$f":"180/3.14159265","v":57.295779578552292}]
["p4",{"$f":"IF('EZBuck design calculator'!N52=0,1/(2*3.14159265*'EZBuck design calculator'!N51*1000*10*0.000000000001),1/(2*3.14159265*'EZBuck design calculator'!N51*1000*('EZBuck design calculator'!N52+10)*0.000000000001))","v":795774.71636878198},null,"mc",{"$f":"1+E5/E6","v":2.1688068733540296}]
[]
["Frequency(Hz)","Power Stage",null,null,null,"Error Amplifier",null,null,null,null,null,"Sampling Double Pole",null,"System Response",null,null,null,null,null,null,"ERROR AMP Response",null,null,"PLANT Response"]
[null,"p1",null,"z1",null,"p2",null,"z2",null,"p4",null,"P3",null,"Gain (dB)",null,"Phase Margin"]
[null,"Gain(V/V)","Phase(rad)","Gain(V/V)","Phase(rad)","Gain(V/V)","Phase(rad)","Gain(V/V)","Phase(rad)","Gain(V/V)","Phase(rad)","Gain(V/V)","Phase(rad)","Gain (dB)","Phase (Deg)","Phase Margin",null,null,"Fsquare",null,"Gain(dB)","Phase(Deg)",null,"Gain(dB)","Phase(Deg)"]
[1,{"$f":"SQRT(1+(A12/Pole1)^2)","v":1.0000000338581592},{"$f":"ATAN(A12/Pole1)","v":2.6022358940040432E-4},{"$f":"SQRT(1+(A12/Zero1)^2)","v":1.0000000000003439},{"$f":"ATAN(A12/Zero1)","v":8.2938045959980987E-7},{"$f":"SQRT(1+(A12/Pole2)^2)","v":1.0000444122334802},{"$f":"ATAN(A12/Pole2)","v":9.4244989083824473E-3},{"$f":"SQRT(1+(A12/Zero2)^2)","v":1.0000000078956834},{"$f":"ATAN(A12/Zero2)","v":1.2566370533853279E-4},{"$f":"SQRT(1+(A12/pole4)^2)","v":1.0000000000007896},{"$f":"ATAN(A12/pole4)","v":1.2566370599993384E-6},{"$f":"SQRT((1-(S12/pterm2))^2+(A12/pterm1)^2)","v":1.0000000000748011},{"$f":"IF((ATAN((A12/pterm1)/(1-A12^2/pterm2))>0),ATAN((A12/pterm1)/(1-A12^2/pterm2)),PI()+ATAN((A12/pterm1)/(1-A12^2/pterm2)))","v":1.3475987123935513E-5},{"$f":"20*LOG10(((D12*H12)/(B12*F12*L12*J12))*Adc)","v":55.452325486565705},{"$f":"((E12+I12)-(C12+G12+M12+K12))*radconv","v":-0.54849032273816833},{"$f":"IF(O12>0,O12,O12+180)","v":179.45150967726184},null,{"$f":"IF(N12<0,A12,1000000000)","v":1000000000},{"$f":"A12^2","v":1},null,{"$f":"20*LOG10((H12/(F12*J12))*Aea)","v":47.603839151613684},{"$f":"(I12-(G12+K12))*radconv","v":-0.53285601213088674},null,{"$f":"20*LOG10((D12/(B12*L12))*Acs*Am)","v":20.156965392670898},{"$f":"(E12-(C12+M12))*radconv","v":-1.5634310607281692E-2}]
[1.0965,1.0000000407080794,2.8533516447452791E-4,1.0000000000004134,9.0941567395114931E-7,1.0000533971324845,1.0333901155703682E-2,1.000000009493077,1.3779025275696436E-4,1.0000000000009495,1.377902536289128E-6,1.0000000000899343,{"$f":"IF((ATAN((A13/pterm1)/(1-A13^2/pterm2))>0),ATAN((A13/pterm1)/(1-A13^2/pterm2)),PI()+ATAN((A13/pterm1)/(1-A13^2/pterm2)))","v":1.4776419881262159E-5},55.452247402785872,-0.60141609235992832,179.39858390764007,null,{"$f":"IF(N13<0,A13,1000000000)","v":1000000000},{"$f":"A13^2","v":1.2023122500000001},null,47.603761127462334,-0.58427307085370883,null,20.156965333042407,-1.7143021506219467E-2]
[1.2022999999999999,1.0000000489428251,3.1286681838977855E-4,1.0000000000004972,9.9716412657674945E-7,1.0000641983715761,1.1330925579008971E-2,1.0000000114134102,1.5108547257419971E-4,1.0000000000011413,1.5108547372368501E-6,1.0000000001081268,1.6202179318786201E-5,55.452153534925905,-0.65944135152459016,179.34055864847542,null,1000000000,1.4455252899999997,null,47.603667331285763,-0.64064422006174526,null,20.15696526135903,-1.8797131462845076E-2]
[1.3183,1.0000000588425983,3.4305275219256609E-4,1.0000000000005977,1.0933722598902444E-6,1.0000771834171955,1.2424045486272304E-2,1.000000013722026,1.6566246210431696E-4,1.0000000000013722,1.6566246361964843E-6,1.000000000129998,1.7765393824900375E-5,55.452040690098087,-0.72305924068835481,179.27694075931166,null,1000000000,1.7379148900000001,null,47.60355457263536,-0.70244852934219615,null,20.156965175181597,-2.0610711346158678E-2]
[1.4454,1.000000070735827,3.761271668722161E-4,1.0000000000007185,1.1987865163052659E-6,1.0000927829575206,1.3621731475180495E-2,1.000000016495513,1.8163431865496585E-4,1.0000000000016496,1.8163432065220024E-6,1.000000000156273,1.9478191787991591E-5,55.451905126283663,-0.79276274501650346,179.20723725498348,null,1000000000,2.0891811599999999,null,47.603419112351375,-0.77016491299461409,null,20.156965071651165,-2.2597832021889416E-2]
[1.5849,1.0000000850485791,4.1242835276578078E-4,1.000000000000864,1.314485090419283E-6,1.0001115556999858,1.4936219763451336E-2,1.0000000198332304,1.9916440500601765E-4,1.0000000000019833,1.9916440763913664E-6,1.0000000001878935,2.1358091991287327E-5,55.451741989367996,-0.86926400632937062,179.13073599367064,null,1000000000,2.51190801,null,47.603256100028084,-0.84448518825440566,null,20.156964947058796,-2.4778818074964869E-2]
[1.7378,1.000000102249905,4.5221653304143767E-4,1.0000000000010387,1.4412973626918822E-6,1.0001341166576851,1.6376914850000219E-2,1.0000000238445599,2.1837838481537569E-4,1.0000000000023843,2.1837838828645283E-6,1.0000000002258957,2.3418570421868481E-5,55.451545936548669,-0.95311036901308588,179.04688963098693,null,1000000000,3.0199488400000001,null,47.603060196946117,-0.9259410652212301,null,20.156964797321425,-2.7169303791855559E-2]
[1.9055,1.0000001229366089,4.9585602015574744E-4,1.0000000000012488,1.5803844657664844E-6,1.0001612483024134,1.7956984038637481E-2,1.0000000286686757,2.3945218720648195E-4,1.0000000000028668,2.3945219178254233E-6,1.0000000002715976,2.5678493461650475E-5,55.451310170694924,-1.0450681728103997,178.9549318271896,null,1000000000,3.63093025,null,47.602824611169922,-1.0152769956355698,null,20.156964617243883,-2.9791177174829986E-2]
[2.0893000000000002,1.0000001477967644,5.4368510403645092E-4,1.0000000000015015,1.7328245942405459E-6,1.0001938526642404,1.968864412329523E-2,1.0000000344660356,2.6254917491311388E-4,1.0000000000034466,2.6254918094519674E-6,1.0000000003265199,2.8155379893818969E-5,55.451026857022143,-1.1458484466198913,178.85415155338012,null,1000000000,4.3651744900000002,null,47.602541513904526,-1.1131836838345297,null,20.156964400836493,-3.2664762785361519E-2]
[2.2909000000000002,1.0000001776951506,5.9614616379214086E-4,1.000000000001805,1.900027694895354E-6,1.0002330633134588,2.1587869604761549E-2,1.0000000414383055,2.8788297612247825E-4,1.0000000000041438,2.8788298407460473E-6,1.0000000003925729,3.0872138896383149E-5,55.450686150623405,-1.2563809225951745,178.74361907740482,null,1000000000,5.2482228100000006,null,47.60220106777092,-1.220564283700615,null,20.156964140571358,-3.5816638894559785E-2]
[2.5118999999999998,1.000000213632831,6.5365555587440255E-4,1.0000000000021703,2.083320776466226E-6,1.0002801922452276,2.366967840033414E-2,1.0000000498189319,3.1565465261768153E-4,1.0000000000049818,3.1565466310035157E-6,1.0000000004719682,3.3850332048609369E-5,55.450276658897373,-1.3775396740468313,178.62246032595317,null,1000000000,6.309641609999999,null,47.601791888882005,-1.3382678537214374,null,20.156963827734245,-3.927182032539394E-2]
[2.7542,1.000000256835021,7.1670770338710726E-4,1.000000000002609,2.2842796618263472E-6,1.0003368449705643,2.5951895651624639E-2,1.0000000598936343,3.4610296524562376E-4,1.0000000000059894,3.4610297906381799E-6,1.0000000005674126,3.7115563725857775E-5,55.449784442770493,-1.5103621682625663,178.48963783173744,null,1000000000,7.5856176399999997,null,47.6013000488297,-1.4673021560928776,null,20.156963451659671,-4.306001216968882E-2]
[3.02,1.0000003087999128,7.8587509594264132E-4,1.0000000000031368,2.5047289879867622E-6,1.0004049843228322,2.8455146920407896E-2,1.0000000720117892,3.7950437390080741E-4,1.0000000000072011,3.7950439211817805E-6,1.0000000006822161,4.0697481099567641E-5,55.44919246421388,-1.6560488766507804,178.34395112334923,null,1000000000,9.1204000000000001,null,47.60070852262686,-1.6088332668708936,null,20.156962999305897,-4.7215609779886633E-2]
[3.3113000000000001,1.0000003712447558,8.6167817776912055E-4,1.0000000000037712,2.7463275158665755E-6,1.0004868594555549,3.1198141316709373E-2,1.0000000865738579,4.161102056616229E-4,1.0000000000086575,4.1611022967539835E-6,1.0000000008201724,4.4623036143685344E-5,55.448481205716547,-1.8156887647268527,178.18431123527316,null,1000000000,10.964707690000001,null,47.599997807711119,-1.7639188831187296,null,20.156962455724305,-5.1769881608122889E-2]
[3.6307999999999998,1.0000004463421557,9.4481954857970234E-4,1.0000000000045342,3.0113145727065777E-6,1.0005853152381503,3.420613645922347E-2,1.0000001040864896,4.5625975208448278E-4,1.0000000000104086,4.5625978374163394E-6,1.0000000009860812,4.8928614023039062E-5,55.447625986233106,-1.9907519542806282,178.00924804571937,null,1000000000,13.182708639999998,null,47.599143241949577,-1.9339869142155497,null,20.156961802002403,-5.6765040065078529E-2]
[3.9811000000000001,1.000000536623153,1.0359757845270579E-3,1.0000000000054512,3.3018465477015612E-6,1.0007036645293965,3.750339070533338E-2,1.0000001251399213,5.002797382199555E-4,1.000000000012514,5.0027977995242634E-6,1.0000000011855346,5.3649252303621776E-5,55.446598076392846,-2.1826504629539625,177.81734953704603,null,1000000000,15.849157210000001,null,47.598116118004185,-2.1204087288924391,null,20.156961016107545,-6.2241734061523231E-2]
[4.3651999999999997,1.0000006451660457,1.1359275495163527E-3,1.0000000000065536,3.620411582230102E-6,1.0008459348123881,4.1117852678794871E-2,1.0000001504520093,5.4854715441118591E-4,1.0000000000150453,5.4854720942569797E-6,1.000000001425333,5.8825378946104083E-5,55.44536256409836,-2.3930111475160438,177.60698885248397,null,1000000000,19.054971039999998,null,47.596881550574011,-2.3247642813800282,null,20.15696007124323,-6.8246866136015688E-2]
[4.7862999999999998,1.00000077564503,1.245507550013087E-3,1.000000000007879,3.9696636937626284E-6,1.001016930617288,4.5079254088127713E-2,1.0000001808795731,6.0146412349941785E-4,1.000000000018088,6.0146419602054713E-6,1.0000000017135937,6.4500117108360927E-5,55.443877823975001,-2.6235647291200888,177.37643527087991,null,1000000000,22.908667689999998,null,47.595397946268186,-2.5487342635544841,null,20.156958935425688,-7.4830465565605173E-2]
[5.2481,1.0000009325397456,1.3656786013254985E-3,1.0000000000094729,4.3526715899992727E-6,1.0012225062239399,4.9421899745888558E-2,1.0000002174672626,6.5949559984613225E-4,1.0000000000217466,6.5949569544903871E-6,1.0000000020602138,7.0723327941527592E-5,55.442093166076837,-2.8763082014854184,177.12369179851459,null,1000000000,27.542553609999999,null,47.593614654135905,-2.7942578228719257,null,20.156957569659806,-8.2050378613492361E-2]
[5.7544000000000004,1.0000011211486572,1.4974295374184812E-3,1.0000000000113887,4.7725869166860046E-6,1.0014695804119071,5.4180862743126834E-2,1.0000002614506762,7.2311910376641542E-4,1.0000000000261451,7.23119229793796E-6,1.0000000024768982,7.7546220195073498E-5,55.439948731901978,-3.1532834278893347,176.84671657211067,null,1000000000,33.113119360000006,null,47.591471861798183,-3.0633174131275434,null,20.156955927822665,-8.996601476179171E-2]
[6.3095999999999997,1.0000013479280561,1.6419053212953186E-3,1.0000000000136926,5.2330589478443904E-6,1.0017665766097466,5.9396630601450812E-2,1.0000003143354184,7.9288755322250788E-4,1.0000000000314335,7.9288771936098427E-6,1.000000002977911,8.5028088210219754E-5,55.437371708256066,-3.4568475991552647,176.54315240084475,null,1000000000,39.811052159999996,null,47.588896812262405,-3.3582014353693954,null,20.156953953712534,-9.864616378586985E-2]
[6.9183000000000003,1.0000016205475519,1.8003029542012312E-3,1.0000000000164617,5.7379028335877097E-6,1.0021234897737166,6.5111272391347161E-2,1.0000003779100402,8.6937899818843466E-4,1.0000000000377911,8.6937921719789687E-6,1.0000000035801964,9.3230921524950627E-5,55.434275796979016,-3.7894502231153986,176.21054977688459,null,1000000000,47.862874890000008,null,47.585803274132033,-3.6812874811632645,null,20.156951580565867,-0.10816274195213275]
[7.5857999999999999,1.0000019483442921,1.9740015850080359E-3,1.0000000000197917,6.291514290350668E-6,1.0025524728174675,7.137303905840621E-2,1.0000004543519636,9.5325945223126841E-4,1.0000000000454352,9.5325974094592564E-6,1.0000000043043822,1.0222614286732918E-4,55.430556199215303,-4.1539009569208449,175.84609904307916,null,1000000000,57.544361639999998,null,47.582086529830818,-4.0353023478856151,null,20.156948727103362,-0.11859860903523012]
[8.3176000000000005,1.0000023423883708,2.1644323960920901E-3,1.0000000000237943,6.8984549106595323E-6,1.0030679101926001,7.8231544499618152E-2,1.0000005462427359,1.0452200603963634E-3,1.0000000000546243,1.0452204409875371E-5,1.0000000051749258,1.1208787016169759E-4,55.426089080952352,-4.5530892497776438,175.44691075022234,null,1000000000,69.182469760000004,null,47.577622841710578,-4.4230494987482531,null,20.156945296960643,-0.13003975102939047]
[9.1201000000000008,1.0000028161899162,2.3732607555586333E-3,1.0000000000286073,7.5640327294537034E-6,1.0036873257255525,8.5744165438075629E-2,1.000000656732924,1.1460650633181709E-3,1.0000000000656732,1.1460655650404229E-5,1.0000000062216743,1.2290234971922565E-4,55.420723852007825,-4.9903569829564383,175.00964301704357,null,1000000000,83.176224010000013,null,47.572261737193514,-4.8477707590363162,null,20.156941172533188,-0.1425862239201231]
[10,1.0000033858102451,2.6022300789711431E-3,1.0000000000343936,8.2938045958098321E-6,1.0044315028615345,9.3970200894956821E-2,1.0000007895680385,1.2566363985333933E-3,1.0000000000789568,1.2566370599338533E-5,1.0000000074801114,1.3475987064521592E-4,55.414282339709821,-5.4691587281908731,174.53084127180912,null,1000000000,100,null,47.565825183419868,-5.3128159553289303,null,20.156936214008834,-0.15634277286194273]
[10.965,1.0000040707997395,2.8533439785880235E-3,1.0000000000413518,9.0941567392632934E-6,1.0053256744071886,0.10297713971937027,1.0000009493072493,1.3779016642553354E-3,1.0000000000949307,1.3779025362027963E-5,1.0000000089934296,1.4776419802934682E-4,55.406548794828794,-5.9934268047335513,174.00657319526644,null,1000000000,120.23122499999999,null,47.558097601343889,-5.8219970289546765,null,20.156930251203782,-0.17142977577887419]
[12.023,1.000004894270645,3.128658077650432E-3,1.0000000000497167,9.971641265440295E-6,1.0063995660066229,0.11283282009704548,1.0000011413403671,1.5108535876392514E-3,1.000000000114134,1.5108547371230398E-5,1.0000000108126903,1.6202179215527474E-4,55.397269955625276,-6.5671152468978393,173.43288475310217,null,1000000000,144.55252899999999,null,47.548825930414949,-6.3791445113738536,null,20.1569230829292,-0.18797073552398585]
[13.183,1.0000058842426889,3.4305141991836713E-3,1.0000000000597731,1.0933722598471105E-5,1.0076890786185375,0.12361336060955171,1.0000013722016512,1.6566231207174151E-3,1.0000000001372202,1.6566246360464513E-5,1.000000012999797,1.7765393688777542E-4,55.386141125725615,-7.1946618753262577,172.80533812467374,null,1000000000,173.79148899999998,null,47.537705718166485,-6.9885555252795282,null,20.156914465278007,-0.20610635004673047]
[14.454000000000001,1.0000070735579325,3.7612541091315583E-3,1.0000000000718545,1.1987865162484147E-5,1.0092360736576245,0.13539233298166534,1.0000016495499615,1.8163412090937291E-3,1.0000000001649552,1.8163432063242564E-5,1.0000000156273077,1.9478191608579223E-4,55.372808908447325,-7.8803585836133614,172.11964141638663,null,1000000000,208.91811600000003,null,47.524383853799542,-7.6543812695876614,null,20.156904112366654,-0.22597731402569834]
[15.849,1.0000085048221066,4.1242603774401835E-3,1.0000000000863936,1.3144850903443314E-5,1.0110946466402508,0.1482769874014187,1.0000019833210967,1.9916414430178465E-3,1.0000000001983325,1.9916440761306617E-5,1.0000000187893516,2.1358091754753196E-4,55.356818435573778,-8.6304609198090514,171.36953908019095,null,1000000000,251.19080099999999,null,47.508405839970713,-8.3826740656046503,null,20.156891653321946,-0.2477868542044013]
[17.378,1.000010224938757,4.5221348129845232E-3,1.0000000001038669,1.4412973625930782E-5,1.0133238032656646,0.16234241296906862,1.0000023844531807,2.1837804114535103E-3,1.0000000002384457,2.1837838825208574E-5,1.0000000225895536,2.3418570110060236E-4,55.337678275922464,-9.4493562138432896,170.55064378615671,null,1000000000,301.99488400000001,null,47.489280653779232,-9.1776649246232651,null,20.156876679862116,-0.27169128922002506]
[19.055,1.0000122935860851,4.9585199693051116E-3,1.0000000001248808,1.580384465636227E-5,1.0159981597346506,0.17769494755500304,1.0000028668634982,2.3945173413275301E-3,1.0000000002866867,2.394521917372348E-5,1.0000000271597624,2.5678493050581143E-4,55.314770921431645,-10.343256235922464,169.65674376407753,null,1000000000,363.09302500000001,null,47.466391306642294,-10.045346769547878,null,20.156858672508221,-0.29790946637458582]
[20.893000000000001,1.0000147795683123,5.4367980070718618E-3,1.0000000001501341,1.7328245940688426E-5,1.0192027721379158,0.19442446348354731,1.0000034465976813,2.6254857767965666E-3,1.0000000003446603,2.6254918088547311E-5,1.0000000326519911,2.8155379351954557E-4,55.287400817903205,-11.317420835036712,168.6825791649633,null,1000000000,436.51744900000006,null,47.439042843274379,-10.99077624607731,null,20.156837032347703,-0.32664458895940224]
[22.909000000000002,1.0000177693587651,5.9613917241062584E-3,1.0000000001805054,1.9000276946689971E-5,1.0230435447929811,0.21264792932804921,1.0000041438220404,2.8788218878713729E-3,1.000000000414383,2.8788298399587079E-5,1.0000000392572908,3.0872138182040459E-4,55.254710384249151,-12.378696373051524,167.62130362694847,null,1000000000,524.82228100000009,null,47.406378435296716,-12.020533990281628,null,20.156811006671312,-0.35816238276989698]
[25.119,1.0000213630571815,6.5364633971980099E-3,1.0000000002170113,2.0833207761678374E-5,1.0276411337694364,0.23246120202043985,1.0000049818809074,3.1565361473576306E-3,1.0000000004981893,3.1565466299656277E-5,1.0000000471968213,3.3850331106946943E-4,55.21573917617323,-13.532711082444051,166.46728891755595,null,1000000000,630.96416099999999,null,47.367438509722689,-13.139998160197099,null,20.156779724169414,-0.39271292224695142]
[27.542000000000002,1.0000256831755872,7.1669555476951982E-3,1.0000000002608966,2.284279661433013E-5,1.0331410071070968,0.25397202145038855,1.0000059893456696,3.4610159711740795E-3,1.0000000005989362,3.4610297892700418E-5,1.0000000567412639,3.7115562484563868E-4,55.169347917075157,-14.785799536278537,165.21420046372145,null,1000000000,758.56176400000004,null,47.321084856334437,-14.355206375937785,null,20.156742118459597,-0.43059316034074979]
[30.2,1.0000308795192632,7.8585907977767079E-3,1.0000000003136833,2.5047289874682054E-5,1.0397178779825726,0.27729534124609118,1.0000072011532537,3.7950257021632516E-3,1.000000000720118,3.7950439193780805E-5,1.0000000682216064,4.069747946309396E-4,55.114194969186343,-16.144735114343305,163.85526488565671,null,1000000000,912.04,null,47.265977141295359,-15.67258819406835,null,20.156696885609861,-0.4721469202749547]
[33.113,1.0000371237933905,8.6165706573858823E-3,1.0000000003771157,2.7463275151830246E-5,1.0475665106922389,0.30250462427665725,1.0000086573486873,4.1610782808478696E-3,1.0000000008657386,4.1611022943763817E-5,1.0000000820172323,4.4623033986518308E-4,55.048831373379542,-17.613896904601372,162.38610309539862,null,1000000000,1096.470769,null,47.200667899996716,-17.096210186058194,null,20.156642531101696,-0.5176867185431766]
[36.308,1.0000446332294692,9.4479171702638049E-3,1.0000000004534007,3.0113145718054584E-5,1.0569282411889911,0.32970459480267666,1.0000104085953438,4.5625661775222709E-3,1.0000000010408649,4.5625978342819672E-5,1.0000000986081252,4.8928611179264525E-4,54.971503290467652,-19.199514632544872,160.80048536745514,null,1000000000,1318.2708640000001,null,47.123405183995672,-18.631880179828375,null,20.156577164190864,-0.56763445271649426]
[39.811,1.000053660889956,1.0359390956031915E-2,1.0000000005451095,3.3018465465136481E-5,1.0680741642115967,0.35895462248118565,1.0000125139146128,5.0027560635419379E-3,1.0000000012513992,5.0027977953923342E-5,1.0000001185534557,5.3649248554777252E-4,54.880324842057519,-20.905210828943144,159.09478917105685,null,1000000000,1584.9157210000001,null,47.032305317440965,-20.282814511680108,null,20.156498582335431,-0.62239631726303513]
[43.652000000000001,1.0000645145443228,1.1358791843773294E-2,1.0000000006553689,3.6204115806641167E-5,1.0813225804764741,0.39030406995064632,1.0000150450888714,5.4854170752813292E-3,1.0000000015045201,5.4854720888099974E-5,1.0000001425332972,5.8825374004128493E-4,54.77317510653161,-22.734068604205255,157.26593139579475,null,1000000000,1905.497104,null,46.925250057317498,-22.051627656859189,null,20.156404106932982,-0.68244094734606298]
[47.863,1.0000775615251785,1.2454437952138632E-2,1.0000000007879115,3.9696636916983178E-5,1.0970367077931551,0.42376677072248076,1.000018087795371,6.0145694334542898E-3,1.0000000018087958,6.0146419530251599E-5,1.0000001713593734,6.4500110593758886E-4,54.647770215388356,-24.687152302622319,155.31284769737769,null,1000000000,2290.8667689999997,null,46.799958731989115,-23.93888417950691,null,20.156290541118121,-0.74826812311540858]
[52.481000000000002,1.0000932496703061,1.3655945564609411E-2,1.0000000009472874,4.3526715872779393E-5,1.1156391427942718,0.45933577693330607,1.0000217464921615,6.5948613445882811E-3,1.0000000021746729,6.5949569450247497E-5,1.0000002060213504,7.0723319353480259E-4,54.501613764476971,-26.7643779648132,153.23562203518679,null,1000000000,2754.255361,null,46.653938834623823,-25.943922337757648,null,20.156153987572026,-0.8204556270555502]
[57.544000000000004,1.0001121086443989,1.4973187488139012E-2,1.0000000011388792,4.7725869130986407E-5,1.1375992479955928,0.49694275084661615,1.0000261447292524,7.2310662619940874E-3,1.0000000026145071,7.2311922854599982E-5,1.000000247689794,7.7546208873983458E-4,54.332176752276247,-28.962152568933593,151.03784743106641,null,1000000000,3311.3119360000005,null,46.484665972836211,-28.062555904994809,null,20.155989837158927,-0.89959666393878734]
[63.095999999999997,1.0001347838131212,1.6417592756878648E-2,1.0000000013692452,5.2330589431152659E-5,1.1634549416462781,0.5364880549186577,1.0000314330527587,7.9287110448883601E-3,1.0000000031433547,7.9288771771604839E-5,1.0000002977910647,8.5028073285933856E-4,54.136819871923208,-31.275140524107279,148.72485947589271,null,1000000000,3981.1052159999995,null,46.289506455359046,-30.288762572766196,null,20.155792474283043,-0.98637795134109119]
[69.183000000000007,1.0001620417577359,1.8001104381960426E-2,1.0000000016461763,5.7379028273536135E-5,1.1937959941402103,0.57780405860885919,1.0000377902971134,8.6935731506656618E-3,1.000000003779101,8.6937921502948544E-5,1.0000003580195773,9.3230901851242833E-4,53.913026863924415,-33.694127211349702,146.3058727886503,null,1000000000,4786.2874890000012,null,46.065950692458671,-32.612610106642997,null,20.155555229184618,-1.0815171047067087]
[75.858000000000004,1.0001948156424523,1.9737478060641835E-2,1.0000000019791575,6.2915142821324147E-5,1.2292868156951333,0.62068577536611569,1.0000454341745562,9.5323086818008759E-3,1.0000000045435207,9.5325973808736312E-5,1.00000043043815,1.0222611693197566E-3,53.658345872482002,-36.207816762668926,143.79218323733107,null,1000000000,5754.4361640000006,null,45.811554946704888,-35.021976091796063,null,20.155269983495991,-1.1858406708728604]
[83.176000000000002,1.0002342116838765,2.1640978740188142E-2,1.000000002379434,6.8984548998260144E-5,1.2706389124432576,0.66485597731571155,1.000054622796692,1.0451823805717762E-2,1.0000000054624287,1.0452204372193051E-4,1.0000005174924562,1.1208783597303946E-3,53.370704254785757,-38.800790630457598,141.19920936954242,null,1000000000,6918.2469760000004,null,45.52425619795504,-37.50058480677589,null,20.154927114549594,-1.3002058236817078]
[91.201000000000008,1.0002815797445725,2.3728197901131374E-2,1.0000000028607294,7.5640327151721933E-5,1.3186450554304296,0.71001179463804287,1.0000656711576239,1.1460153917621384E-2,1.0000000065673313,1.1460655600728719E-4,1.0000006221672408,1.2290230464931384E-3,53.048272782559287,-41.456236861721159,138.54376313827885,null,1000000000,8317.6224010000005,null,45.202236958409202,-40.030627302924572,null,20.154514881868955,-1.4256095587965874]
[100,1.0003385242983369,2.6016488118067126E-2,1.0000000034393597,8.2938045769830821E-5,1.374141329728519,0.75579401558897552,1.0000789537181833,1.2565709195432184E-2,1.0000000078956834,1.2566370533853279E-4,1.0000007480108779,1.3475981123134582E-3,52.689822757482005,-44.154139872662569,135.84586012733743,null,1000000000,10000,null,44.84428248217025,-42.591045219627283,null,20.154019333030632,-1.5630946530352798]
[109.65,1.0004069979788464,2.8525777370964886E-2,1.0000000041351842,9.0941567144433246E-5,1.4380442142809304,0.80183538652769037,1.0000949262644778,1.3778153426568008E-2,1.000000009493077,1.3779025275696433E-4,1.0000008993425769,1.4776411970195385E-3,52.294548882940688,-46.874107011884384,133.12589298811562,null,1000000000,12023.122500000001,null,44.449604449247808,-45.160248322995749,null,20.153423491411758,-1.7138586888886431]
[120.23,1.0004893085507565,3.1276480459943919E-2,1.0000000049716815,9.9716412327202511E-5,1.5112936993952928,0.84773279592583162,1.0001141275892984,1.5107397929481568E-2,1.0000000114134102,1.5108547257419968E-4,1.0000010812684694,1.6202168889667995E-3,51.862466783217023,-49.593706425621853,130.40629357437814,null,1000000000,14455.252900000001,null,44.018238542729726,-47.714577835037382,null,20.152707298206177,-1.8791285905844706]
[131.83000000000001,1.0005882529793166,3.4291828648331503E-2,1.0000000059773144,1.0933722555337271E-4,1.5949068677222862,0.89310542432915774,1.0001372108458548,1.6564731128396536E-2,1.000000013722026,1.6566246210431696E-4,1.0000012999789003,1.7765380076515157E-3,51.394077260763559,-52.29187473327999,127.70812526672,null,1000000000,17379.148900000004,null,43.55070986883149,-50.231574109175419,null,20.151846449650943,-2.0603006241045714]
[144.54,1.0007071082939409,3.7594996389260046E-2,1.0000000071854456,1.1987865105632965E-4,1.6898950373280026,0.93756493748720815,1.0001649415293403,1.8161435026306336E-2,1.000000016495513,1.8163431865496579E-4,1.0000015627296261,1.9478173667375805E-3,50.89079604949697,-54.947115100746629,125.05288489925337,null,1000000000,20891.811599999997,null,43.048462625229213,-52.688347300634348,null,20.150812481986641,-2.2587678001122877]
[158.49,1.0008501244714605,4.1219477152422655E-2,1.0000000086393552,1.314485082849171E-4,1.7975645875621167,0.98085984196217779,1.0001983126423997,1.9913808008083563E-2,1.0000000198332304,1.9916440500601765E-4,1.0000018789335021,2.1358068101392687E-3,50.353346371153933,-57.54610677689481,122.45389322310518,null,1000000000,25119.080100000003,null,42.512256937038948,-55.06956342816693,null,20.149568491833861,-2.4765433487278692]
[173.78,1.0010219768848041,4.5190868086408598E-2,1.0000000103866904,1.4412973527126738E-4,1.9189875003446863,1.0226475320313302,1.0002384171809777,2.1834368397214435E-2,1.0000000238445599,2.1837838481537567E-4,1.0000022589529547,2.3418538929318939E-3,49.784447181079976,-60.070048918449061,119.92995108155094,null,1000000000,30199.488400000002,null,41.944852327760174,-57.354882582694984,null,20.148073911038679,-2.7151663357540827]
[190.55,1.0012286114221223,4.9545026682761499E-2,1.0000000124880752,1.5803844526104935E-4,2.0555354675654831,1.062727129239375,1.0002866456778761,2.3940644233873671E-2,1.0000000286686757,2.3945218720648192E-4,1.0000027159727738,2.5678451943780285E-3,49.186012620055557,-62.508593758145409,117.49140624185459,null,1000000000,36309.302500000005,null,41.348214505476967,-59.531801073792103,null,20.146277172297467,-2.9767926843533088]
[208.93,1.0014768771699198,5.4315040628024398E-2,1.0000000150134052,1.7328245768985485E-4,2.2084902248733664,1.1008953249527864,1.0003446009871564,2.6248887902041093E-2,1.0000000344660356,2.6254917491311388E-4,1.0000032651940811,2.8155325165723165E-3,48.560947428832179,-64.851160714378977,115.14883928562102,null,1000000000,43651.744900000005,null,40.725307558548458,-61.58774834179043,null,20.144118928002595,-3.2634123725885447]
[229.09,1.0017753756846171,5.9544152113199772E-2,1.000000018050526,1.9000276720333075E-4,2.3794557054626662,1.1370598878217428,1.0004142972414987,2.8780349437693819E-2,1.0000000414383055,2.878829761224782E-4,1.0000039257217996,3.0872066748103212E-3,47.911315419860252,-67.093860793370538,112.90613920662946,null,1000000000,52482.2281,null,40.078269776367506,-63.516234622216487,null,20.141524701211623,-3.5776261711540536]
[251.19,1.0021340514493529,6.527270794739036E-2,1.0000000217011271,2.083320746328968E-4,2.5699474666796758,1.1711278018058962,1.0004980652971682,3.1554988854091644E-2,1.0000000498189319,3.1565465261768153E-4,1.0000047196716166,3.3850236941230186E-3,47.239993986811335,-69.232660093864965,110.76733990613504,null,1000000000,63096.416100000002,null,39.410064548012542,-65.310798383996726,null,20.138408496517663,-3.9218617098682369]
[275.42,1.0025650607716141,7.1548442316148306E-2,1.0000000260896675,2.2842796220995897E-4,2.7817322043335886,1.2030769190733499,1.0005987571055532,3.459648825324154E-2,1.0000000598936343,3.4610296524562376E-4,1.0000056741111745,3.7115438356007495E-3,46.549303390468559,-71.267819064792107,108.73218093520789,null,1000000000,75856.176400000011,null,38.723117127715177,-66.968827445328955,null,20.134665320472259,-4.2989916194631528]
[302,1.0030832463993662,7.8426337154057515E-2,1.0000000313683359,2.5047289356125473E-4,3.016840496224213,1.2329323232953875,1.0007198588198316,3.7932235745596968E-2,1.0000000720117892,3.7950437390080736E-4,1.00000682213864,4.0697315817048475E-3,45.841115699973841,-73.202531142241057,106.79746885775894,null,1000000000,91204,null,38.019427590778207,-68.490205611559603,null,20.130167166914514,-4.7123255306814515]
[331.13,1.0037055825767363,8.5955521735379292E-2,1.0000000377115734,2.7463274468279272E-4,3.2771267037438871,1.2607052636943452,1.0008653641886232,4.1587031707416067E-2,1.0000000865738579,4.1611020566162285E-4,1.0000082016914578,4.4622818271910034E-3,45.118161557327419,-75.038994104434934,104.96100589556507,null,1000000000,109647.0769,null,37.301872632533303,-69.874170858741451,null,20.124767982512985,-5.1648232456934693]
[363.08,{"$f":"SQRT(1+(A76/Pole1)^2)","v":1.0044535056966803},{"$f":"ATAN(A76/Pole1)","v":9.4202337254297955E-2},{"$f":"SQRT(1+(A76/Zero1)^2)","v":1.0000000453400761},{"$f":"ATAN(A76/Zero1)","v":3.0113144816935281E-4},{"$f":"SQRT(1+(A76/Pole2)^2)","v":3.5650709252812076},{"$f":"ATAN(A76/Pole2)","v":1.2864820444235612},{"$f":"SQRT(1+(A76/Zero2)^2)","v":1.0010403238144947},{"$f":"ATAN(A76/Zero2)","v":4.5594357539543134E-2},{"$f":"SQRT(1+(A76/pole4)^2)","v":1.0000001040864896},{"$f":"ATAN(A76/pole4)","v":4.5625975208448273E-4},{"$f":"SQRT((1-(S76/pterm2))^2+(A76/pterm1)^2)","v":1.0000098607665897},{"$f":"IF((ATAN((A76/pterm1)/(1-A76^2/pterm2))>0),ATAN((A76/pterm1)/(1-A76^2/pterm2)),PI()+ATAN((A76/pterm1)/(1-A76^2/pterm2)))","v":4.8928326805133086E-3},{"$f":"20*LOG10(((D76*H76)/(B76*F76*L76*J76))*Adc)","v":44.381696481383877},{"$f":"((E76+I76)-(C76+G76+M76+K76))*radconv","v":-76.784250600437957},{"$f":"IF(O76>0,O76,O76+180)","v":103.21574939956204},null,1000000000,131827.0864,null,{"$f":"20*LOG10((H76/(F76*J76))*Aea)","v":36.571891884137941},{"$f":"(I76-(G76+K76))*radconv","v":-71.123769147632302},null,{"$f":"20*LOG10((D76/(B76*L76))*Acs*Am)","v":20.118283654964813},{"$f":"(E76-(C76+M76))*radconv","v":-5.6604814528056462}]
[398.11,1.0053519114918483,0.10322936467228254,1.0000000545109515,3.3018464277223666E-4,3.8830712104763299,1.3103331718298281,1.0012506172693898,4.9986303908089377E-2,1.0000001251399213,5.002797382199555E-4,1.0000118552791719,5.3648873675589117E-3,43.633594553939815,-78.444294396431374,101.55570560356863,null,{"$f":"IF(N77<0,A77,1000000000)","v":1000000000},{"$f":"A77^2","v":158491.57210000002},null,35.831572583663032,-72.24122025457136,null,20.11050102799566,-6.2030741418600073]
[436.52,1.0064309837625287,0.11310797687979374,1.0000000655368979,3.6204114240655645E-4,4.2338932798111566,1.3323540823611144,1.0015033901139565,5.479980004060829E-2,1.0000001504520093,5.4854715441118591E-4,1.0000142532337739,5.8824879814912221E-3,42.875157293284147,-80.026806013466825,99.973193986533175,null,1000000000,190549.71039999998,null,35.082473863508952,-73.229897996318869,null,20.101162487494069,-6.7969080171479623]
[478.63,1.007726603109558,0.12391270000065842,1.0000000787911461,3.9696634852672572E-4,4.620492811872392,1.3526429569779654,1.0018071629765051,6.00740482260749E-2,1.0000001808795731,6.0146412349941774E-4,1.0000171357986467,6.4499459146778043E-3,42.107623937548709,-81.539689571019295,98.460310428980705,null,1000000000,229086.67689999999,null,34.326139936088332,-74.09320464178262,null,20.089963059179262,-7.4464849292366742]
[524.80999999999995,1.0092823210634949,0.13572828739608872,1.0000000947287453,4.3526713151446987E-4,5.0462926682341536,1.3713106025288164,1.0021723133889122,6.5854205791642584E-2,1.0000002174672626,6.5949559984613204E-4,1.0000206019345494,7.072246056970456E-3,41.33167745101764,-82.991857190187162,97.008142809812838,null,1000000000,275425.53609999997,null,33.563622264178768,-74.834928271386033,null,20.076534244557742,-8.1569289188011194]
[575.44000000000005,1.0111493389774966,0.14863865761951109,1.0000001138879229,4.7725865543622628E-4,5.514816851357244,1.3884579444829868,1.0026110981857113,7.218627692454245E-2,1.0000002614506762,7.2311910376641531E-4,1.0000247686896147,7.7545076798193986E-3,40.548217274336416,-84.391566422559222,95.608433577440778,null,1000000000,331131.19360000006,null,32.796250836503376,-75.458243002700527,null,20.060445495551917,-8.9333234198587022]
[630.96,1.0133896483050724,0.16273864599859458,1.0000001369245204,5.2330584702028156E-4,6.0301525788419674,1.4041933924664507,1.0031384298068728,7.9123240723790636E-2,1.0000003143354184,7.9288755322250788E-4,1.0000297786876078,8.5026580909986146E-3,39.75757334426747,-85.747777248244446,94.252222751755554,null,1000000000,398110.52160000004,null,32.024873449684385,-75.966356450846305,null,20.041178952301966,-9.7814207973981357]
[691.83,1.016076265494039,0.17812247112199386,1.0000001646176311,5.7379022039441053E-4,6.5965815057892927,1.4186159490379413,1.0037719871730517,8.6719878216573773E-2,1.0000003779100402,8.6937899818843455E-4,1.0000358013522994,9.3228934563891665E-3,38.960195285520669,-87.068787976683723,92.931212023316277,null,1000000000,478628.74890000006,null,31.250544323138186,-76.36183544277138,null,20.018130020101363,-10.706952533912361]
[758.58,1.0192972695950464,0.19489471378270709,1.0000001979157407,6.2915134603073217E-4,7.2190447792064605,1.4318269693849466,1.0045332455113833,9.5038794557263648E-2,1.0000004543519636,9.5325945223126841E-4,1.000043042939871,1.0222352352884798E-2,38.156009736868768,-88.363232843858839,91.636767156141161,null,1000000000,575443.61640000006,null,30.473912463551972,-76.646938351598351,null,19.990576331035676,-11.716294492260479]
[831.76,1.0231558152532623,0.21315554645280307,1.0000002379433726,6.8984538164747254E-4,7.9026783169694088,1.443916795985672,1.0054475907293117,0.10414389030447758,1.0000005462427359,1.0452200603963632E-3,1.0000517479807491,1.1208441731678283E-2,37.345126454915381,-89.638804170870586,90.361195829129414,null,1000000000,691824.69759999996,null,29.695922763479338,-76.823219787417798,null,19.95768274915492,-12.815584383452798]
[912.01,1.027776180707541,0.23301557818165544,1.0000002860729147,7.5640312870216557E-4,8.6534662546930896,1.4549769357176376,1.0065459069485427,0.11410870133002346,1.000000656732924,1.1460650633181707E-3,1.0000622148957579,1.2289779799024837E-2,36.527066555035546,-90.903378505970167,89.096621494029833,null,1000000000,831762.24009999994,null,28.917088784386166,-76.891755492605881,null,19.918456828368264,-14.011623013364273]
[1000,1.0333035950471816,0.2545774844581018,1.0000003439359142,8.2938026943089481E-4,9.4776811197046626,1.465088530294518,1.0078647563069434,0.12500843621459273,1.0000007895680385,1.2566363985333931E-3,1.0000747984450866,1.347538703707031E-2,35.701502442170778,-92.163711901591029,87.836288098408971,null,1000000000,1000000,null,28.138221299431009,-76.852933650109776,null,19.871760200458652,-15.310778251481269]
[1096.5,1.0399116118713005,0.27794912275885386,1.0000004135183485,9.0941542324476086E-4,10.382539006557398,1.4743312324825917,1.0094484404837842,0.13692801917201827,1.0000009493072493,1.3779016642553352E-3,1.0000899304375546,1.4775628779695894E-2,34.867608566643838,-93.426294843229925,86.573705156770075,null,1000000000,1202312.25,null,27.35982798904935,-76.706507667526267,null,19.816259635313362,-16.719787175703665]
[1202.3,1.0478003876870232,0.303219026066602,1.0000004971680241,9.9716379607178262E-4,11.375450082664466,1.4827740964858382,1.0113490101692615,0.14995136618638596,1.0000011413403671,1.5108535876392512E-3,1.0001081213250671,1.6201136435951054E-2,34.024844987948519,-94.695976853282701,85.304023146717299,null,1000000000,1445525.2899999998,null,26.582864215072355,-76.451682906654511,null,19.750459830595037,-18.244293946628193]
[1318.3,1.0572063185679972,0.33047239028402742,1.0000005977312707,1.0933718241956688E-3,12.464862280457467,1.4904845042411057,1.0136291490740494,0.16417145616730733,1.0000013722016512,1.6566231207174149E-3,1.0001299899085778,1.7764019059845291E-2,33.172212862549877,-95.976888527720064,84.023111472279936,null,1000000000,1737914.89,null,25.8080450476597,-76.087057567763537,null,19.672646872609057,-19.889830959956527]
[1445.4,1.0683967704004627,0.35975852051414631,1.0000007185442976,1.1987859420519854E-3,13.659228518425966,1.4975201927735602,1.0163616612401605,0.17967551642641647,1.0000016495499615,1.8163412090937288E-3,1.0001562614290018,1.9476379879065659E-2,32.309136954831501,-97.270880666636231,82.729119333363769,null,1000000000,2089181.1600000001,null,25.036652578358385,-75.611006780310205,null,19.580963434191986,-21.659873886326029]
[1584.9,1.0817102964536254,0.39117436879027906,1.0000008639351532,1.3144843333339127E-3,14.970766334618153,1.503949706443249,1.0196403587885059,0.19659197670148859,1.0000019833210967,1.9916414430178465E-3,1.0001878766774615,2.1355703291636566E-2,31.432910449938131,-98.581110637626679,81.418889362373321,null,1000000000,2511908.0100000002,null,24.26826731176449,-75.020192962719108,null,19.473122195892522,-23.560917674907564]
[1737.8,1.0974970709009346,0.4246956926895224,1.0000010386685045,1.4412963646734884E-3,16.408878774855847,1.5098159239917515,1.0235668617490215,0.21500303063774104,1.0000023844531807,2.1837804114535103E-3,1.0002258711974086,2.3415421689244518E-2,30.543416916986743,-99.904730971509082,80.095269028490918,null,1000000000,3019948.84,null,23.504950332932701,-74.312435534181517,null,19.346945641772916,-25.592295437327564]
[1905.5,1.11618691670666,0.4603269656040902,1.00000124880675,1.5803831500390913E-3,17.986734162764645,1.5151711159490162,1.0282691049281227,0.23502694339444388,1.0000028668634982,2.3945173413275297E-3,1.0002715624437639,2.5674342585635366E-2,29.638689841648514,-101.23932862155299,78.760671378447014,null,1000000000,3630930.25,null,22.7472893594365,-73.484054077240714,null,19.19987953993089,-27.755274544312279]
[2089.3000000000002,1.1382414289602527,0.49798203910814343,1.0000015013394101,1.7328228598722001E-3,19.716564288336883,1.5200557811912923,1.0338917121320348,0.25675434041019762,1.0000034465976813,2.6254857767965662E-3,1.0003264690647795,2.8149908637359694E-2,28.718047877305516,-102.57812681724791,77.421873182752094,null,1000000000,4365174.4900000012,null,21.997071193125283,-72.53227014661509,null,19.029455741899106,-30.045856670632823]
[2290.9,1.1642123229057442,0.5375810307748814,1.0000018050509916,1.9000254084692793E-3,21.614368957383036,1.52451428655812,1.0406135750220429,0.28030353138870584,1.0000041438220404,2.8788218878713725E-3,1.0003924994129989,3.0864926674265707E-2,27.779577303573362,-103.91366036511238,76.086339634887622,null,1000000000,5248222.8100000005,null,21.255127370634352,-71.45296952178424,null,18.832928990657884,-32.460690843328145]
[2511.9,1.1946822621222031,0.57894080560183869,1.0000021701103741,2.0833177624497989E-3,23.695210447458116,1.5285811675782743,1.0486361935092925,0.30575628071423661,1.0000049818809074,3.1565361473576302E-3,1.000471861993474,3.3840825630395706E-2,26.822826615061402,-105.2339973378192,74.766002662180796,null,1000000000,6309641.6100000003,null,20.523467022871298,-70.243561380260772,null,18.607838649908985,-34.990435957558404]
[2754.2,1.2303130122042136,0.62185148017551273,1.0000026089633833,2.2842756887695792E-3,25.976978378222906,1.5322911882910306,1.0582000151756785,0.33319887615448668,1.0000059893456696,3.4610159711740787E-3,1.0005672591274348,3.710303383644651E-2,25.847026614547055,-106.52566364947515,73.474336350524851,null,1000000000,7585617.6399999987,null,19.803755422460434,-68.901230418714292,null,18.351750249805498,-37.624433230760879]
[3020,1.2718490164752956,0.66606875803372623,1.0000031368287317,2.5047237500662651E-3,28.480390762168899,1.5356772304165263,1.0695903812387109,0.36271386644447046,1.0000072011532537,3.7950257021632512E-3,1.0006819941738281,4.068096442387488E-2,24.851474184980759,-107.77355552723097,72.226444472769032,null,1000000000,9120400,null,19.097593185849242,-67.423289311986196,null,18.062360056850395,-40.350266215244758]
[3311.3,1.3200339577338744,0.7112350216495904,1.0000037711503014,2.7463206113491475E-3,31.22428451124425,1.5387644950811519,1.0831194408939908,0.39431690222805177,1.0000086573486873,4.1610782808478687E-3,1.0008198516656721,4.4601267743559547E-2,23.83752583964278,-108.95930609744543,71.040693902554565,null,1000000000,10964707.690000001,null,18.407826748347553,-65.81042924330454,null,17.738178149014107,-43.148876854140887]
[3630.8,1.3757487091162686,0.75703287756784865,1.0000045339974493,3.0113054705495075E-3,34.23409222147626,1.5415815236541361,1.0991692273089033,0.42804735489158985,1.0000104085953438,4.56256617752227E-3,1.0009856178213556,4.8899922561340417E-2,22.805436306792007,-110.06623704946831,69.933762950531687,null,1000000000,13182708.640000001,null,17.736249326442717,-64.062224072625185,null,17.377666038068163,-46.004012976843164]
[3981.1,1.4398772843653456,0.8030665488529326,1.0000054510804552,3.3018345486718905E-3,37.534307007896267,1.5441508810816029,1.1181591381522686,0.46387140791656895,1.0000125139146128,5.002756063541937E-3,1.0011848648237753,5.3611438312188051E-2,21.757359308281959,-111.07694332430539,68.92305667569461,null,1000000000,15849157.209999999,null,17.085620449945203,-62.182091386400351,null,16.980217916055629,-48.894851937905045]
[4365.2,1.5133844546978521,0.84895132704182363,1.0000065536685372,3.6203957643335003E-3,41.153192227128713,1.5464944833025243,1.1405718043923219,0.50172714049044964,1.0000150450888714,5.4854170752813283E-3,1.0014243651381154,5.8775544160594675E-2,20.695671312028381,-111.97653596451443,68.023464035485574,null,1000000000,19054971.039999999,null,16.458476206482931,-60.175050632272161,null,16.545674163264323,-51.801485332242315]
[4786.3,1.5972760129272707,0.89429863724319114,1.0000078790838809,3.9696428423563355E-3,45.12089740304868,1.5486318322984995,1.1669443770391834,0.54149541957113911,1.000018087795371,6.0145694334542898E-3,1.0017121952437273,6.4434446357953978E-2,19.623612717834245,-112.75319100505553,67.246808994944473,null,1000000000,22908667.690000001,null,15.857516267121399,-58.049275353679818,null,16.074575508431721,-54.703915651375731]
[5248.1,1.6926548263398407,0.93876128608374132,1.0000094728301181,4.3526441021300112E-3,49.472284860792286,1.5505816123979215,1.1978875457773248,0.5830216406872536,1.0000217464921615,6.5948613445882811E-3,1.0020581927270957,7.0636791156471659E-2,18.544459539180288,-113.3998221936256,66.600177806374404,null,1000000000,27542553.610000003,null,15.285117570331357,-55.814960590115362,null,15.56782102656781,-57.584861603510213]
[5370.3,1.7184140720283145,0.94969405845801735,1.0000099191062692,4.4539924291168006E-3,50.6237627731511,1.5510414727391184,1.2064099437633427,0.59364784800533588,1.0000227709883616,6.7484155580010046E-3,1.002155057602073,7.2277380626835475E-2,18.274154691772196,-113.54072516389211,66.459274836107895,null,1000000000,28840122.090000004,null,15.146836766958813,-55.24126982297372,null,15.43579698253226,-58.299455340918399]
[5432.85,1.7316770333295346,0.9551639842565115,1.000010151514211,4.5058691356851368E-3,51.213168930311035,1.5512688580326917,1.2108244149713001,0.59902885052942345,1.0000233045166442,6.8270145846533806E-3,1.0022054985573594,7.3117031873711949E-2,18.138114052436244,-113.60848785880714,66.391512141192862,null,1000000000,29515859.122500002,null,15.078012812880328,-54.950492698608102,null,15.368580297274789,-58.657995160199036]
[5495.4,1.7449910180616932,0.96055059997594117,1.0000103866133714,4.5577458180009953E-3,51.802577675144327,1.551491068966435,1.215273690530609,0.60437060568114742,1.0000238442228713,6.9056135269525793E-3,1.0022565211525198,7.3956607243896147E-2,18.003607351305103,-113.67342512675336,66.326574873246642,null,1000000000,30199421.159999996,null,15.010472235637097,-54.661667809225101,null,15.301614173386881,-59.011757317528264]
[5559.4,1.7586652429459726,0.96597750726231035,1.0000106299479918,4.6108250518914831E-3,52.405652359454905,1.5517132574793648,1.2198617334559805,0.60979569963666569,1.0000244028346883,6.98603441876108E-3,1.0023093284583287,7.481556576203266E-2,17.867542304393641,-113.73704074654749,66.262959253452507,null,1000000000,30906928.359999996,null,14.942662402916989,-54.368171063509088,null,15.233358959195531,-59.368869683038398]
[5623.4,1.7723904627553433,0.97132051899898908,1.0000108761000461,4.6639042598006775E-3,53.008729572046342,1.5519303903514075,1.2244854092569182,0.61517998059109147,1.0000249679141757,7.0664552202035803E-3,1.0023627445026015,7.5674443027757873E-2,17.73302701909785,-113.79789359213834,66.202106407861663,null,1000000000,31622627.559999995,null,14.876132341165793,-54.076723058444095,null,15.165373735650935,-59.721170533694206]
[5688.9,1.7864889425979003,0.97670359279257046,1.0000111309385447,4.7182274844313182E-3,53.625943935656707,1.5521475554775954,1.2292539282374271,0.62064835331834489,1.0000255529345281,7.1487607895267848E-3,1.0024180426951648,7.655336514010054E-2,17.596935148443428,-113.85741076630767,66.142589233692334,null,1000000000,32363583.209999997,null,14.809335987112515,-53.780566786970269,null,15.096078219049788,-60.076843979337397]
[5754.4,1.8006383788708991,0.98200221761896256,1.0000113887280873,4.7725506812146684E-3,54.243160770749547,1.5523597784985061,1.23405892100653,0.62607430339831749,1.0000261447292524,7.2310662619940857E-3,1.0024739782973415,7.7432200201538348E-2,17.462409238415468,-113.91423185633707,66.085768143662932,null,1000000000,33113119.359999996,null,14.743815902487995,-53.486557986820117,null,15.02707239364635,-60.427673869516944]
[5821.4,1.8151633259205113,0.98733656537033687,1.0000116554743945,4.8281178915270439E-3,54.874514812611302,1.552571922253368,1.2390112456431268,0.63158080432830299,1.0000267570853707,7.3152564912387511E-3,1.0025318542339159,7.8331070168064787E-2,17.326393611444303,-113.96966458123462,66.030335418765375,null,1000000000,33888697.959999993,null,14.678083525131619,-53.18803740992157,null,14.956789144031561,-60.781627171313062]
[5888.4,1.8297391030383572,0.99258607325588222,1.000011925308451,4.8836850720234996E-3,55.5058712679173,1.5527792399214766,1.2440008392430615,0.63704329746745825,1.0000273765296648,7.3994466167806965E-3,1.002590396892092,7.9229846971317505E-2,17.191958045685478,-114.02247594406472,65.977524055935277,null,1000000000,34673254.559999995,null,14.613622032795492,-52.891761773361608,null,14.886815070608863,-61.130714170703094]
[5957,1.8447143654075531,0.99787484122581127,1.0000122047855389,4.9405791987138488E-3,56.152307307870934,1.5529866781119985,1.2491477354845726,0.64259085389619042,1.0000280181107459,7.4856471440901224E-3,1.0026510282618344,8.01499894770797E-2,17.055919423629639,-114.07393320567311,65.926066794326886,null,1000000000,35485849,null,14.548905451388762,-52.590734462273986,null,14.815493029959752,-61.483198743399107]
[6025.6,1.8597403945918236,1.0030782901296575,1.0000124874996059,4.9974732934192235E-3,56.798745709092252,1.5531893945162376,1.2543327585525212,0.64809271472641339,1.0000286671225569,7.5718475601529505E-3,1.0027123583391278,8.1070032088778318E-2,16.921477480911086,-114.12284394334155,65.87715605665845,null,1000000000,36307855.360000007,null,14.485456224959162,-52.292054771326214,null,14.744500313670802,-61.830789172015336]
[6095.8,1.8751681685359716,1.008316624597756,1.0000127801586911,5.0556943305974707E-3,57.460263752183096,1.5533921169827549,1.2596776949659567,0.65367583556869302,1.0000293389643722,7.6600583650415456E-3,1.0027758420701396,8.2011428829490932E-2,16.785522425334875,-114.17036062827418,65.829639371725818,null,1000000000,37158777.640000001,null,14.421806488083115,-51.988834758777074,null,14.67219499497064,-62.181525869497072]
[6166,1.8906465568072774,1.0134693279049407,1.0000130762075068,5.1139153335009822E-3,58.121784102930597,1.5535902248350759,1.2650615645841239,0.65921160627660369,1.0000300185875517,7.7482690507199052E-3,1.0028400572210077,8.2952718577215298E-2,16.651178369052992,-114.21541343891687,65.784586561083131,null,1000000000,38019556,null,14.359418583662716,-51.688063304341696,null,14.600238843109157,-62.527350134575173]
[6237.8,1.9065288018014315,1.0186527830321708,1.0000133825103701,5.1734632749628525E-3,58.798384146556884,1.553788236714464,1.2706079019812049,0.66482484322747948,1.0000307217501159,7.8384901116094041E-3,1.0029064924410209,8.3915350287915816E-2,16.515407807100203,-114.2590461738791,65.740953826120901,null,1000000000,38910148.840000004,null,14.296881205137119,-51.382963048295544,null,14.527005659681961,-62.87608312558352]
[6309.6,1.9224614246293352,1.0237504562663915,1.0000136923592358,5.2330111797346569E-3,59.474986443137951,1.5539817433361296,1.2761939255222194,0.67038911487122643,1.0000314330527587,7.9287110448883601E-3,1.0029736925167523,8.4877867524499911E-2,16.381260281286249,-114.30030477750536,65.69969522249464,null,1000000000,39811052.160000004,null,14.235598242579162,-51.0804101581287,null,14.454141096425968,-63.219894619376632]
[6383.05,1.9388110198351427,1.0288784473652444,1.0000140129977526,5.2939274868102314E-3,60.167139651700168,1.5541751935492147,1.2819488423744834,0.67603090075608441,1.000032169124297,8.0210051668759847E-3,1.003043228153869,8.5862384097506891E-2,16.245677749258569,-114.34015684639141,65.659843153608591,null,1000000000,40743327.302500002,null,14.174171999440585,-50.77353158207864,null,14.379984807536863,-63.566625264312783]
[6456.5,1.9552107451534848,1.0339205450841409,1.0000143373471155,5.3548437545960885E-3,60.859295060680601,1.5543642435338716,1.2877441978752686,0.68162208276654268,1.0000329137143018,8.1132991522117493E-3,1.0031135638920043,8.684677815106906E-2,16.111730235723762,-114.37772783560203,65.62227216439797,null,1000000000,41686392.25,null,14.113992638113348,-50.469300272114303,null,14.306216655329294,-63.908427563487741]
[6531.7,1.9720518358273782,1.0389957604507678,1.0000146732688555,5.4172113558627905E-3,61.567943780979107,1.5545533939944218,1.2937189597894592,0.68729439969820427,1.0000336848700107,8.2077919660719836E-3,1.0031864041855592,8.7854497744044649E-2,15.97625292441802,-114.41393267781645,65.586067322183553,null,1000000000,42663104.890000001,null,14.053638124824818,-50.160552014027687,null,14.23109385731208,-64.253380663788775]
[6606.9,1.9889428612727649,1.0439849003498003,1.0000150130803676,5.4795789149862644E-3,62.276594653918188,1.5547382397418552,1.2997349638676976,0.6929143858499236,1.0000344649548984,8.3022846333561801E-3,1.0032600828178784,8.8862085992997095E-2,15.842424614016135,-114.44794991850954,65.552050081490464,null,1000000000,43651127.609999992,null,13.994524381754012,-49.854555438481754,null,14.156379289981,-64.593394480027825]
[6683.85,2.0062773380726528,1.0490030527349867,1.0000153648263284,5.5433978026968702E-3,63.00173888991872,1.5549230824659419,1.3059330663912125,0.69861137138228935,1.0000352724366224,8.3989761121448011E-3,1.0033363436918596,8.9892984605063009E-2,15.707155962169386,-114.4805959524915,65.519404047508502,null,1000000000,44673850.822500005,null,13.935286106584279,-49.544272932788886,null,14.080348913303984,-64.936323019702598]
[6760.8,2.0236614703907918,1.0539351113249797,1.0000157206451996,5.6072166452521832E-3,63.726885229501171,1.5551037185563181,1.3121731526020499,0.70425435418119242,1.000036089267903,8.4956674338818594E-3,1.0034134820017691,9.0923742568321364E-2,15.573547763469426,-114.51115421672195,65.488845783278052,null,1000000000,45708416.640000001,null,13.877280486314017,-49.236843524452908,null,14.004746334874289,-65.274310692269026]
[6839.55,2.0415023368587817,1.0588954493401823,1.000016089004248,5.6725282789354256E-3,64.468996160460264,1.5552843727683483,1.3186020520696193,0.70997385200119845,1.0000369348864933,8.594620376431503E-3,1.0034933329784352,9.1978464562098697E-2,15.438499734022294,-114.54036691168309,65.459633088316906,null,1000000000,46779444.202500001,null,13.819160815099361,-48.925160747955225,null,13.927817976641812,-65.615206163727876]
[6918.3,2.0593925633621373,1.0637697232809629,1.0000164616289717,5.737839864224604E-3,65.211109147538139,1.5554609152376293,1.3250736671346663,0.71563766593023515,1.0000377902971134,8.6935731506656601E-3,1.0035741025095222,9.3033035911659206E-2,15.305123222449271,-114.56759472669452,65.432405273305477,null,1000000000,47862874.890000001,null,13.762265326853022,-48.616432828250588,null,13.851336953315126,-65.951161898443928]
[6998.9,2.0777528505454974,1.0686714650340039,1.0000168474245801,5.8046857027279943E-3,65.970657956750983,1.555637492089009,1.3317408964707564,0.72137734394202091,1.0000386759428523,8.7948503534398936E-3,1.0036577204388357,9.4112223564489256E-2,15.170309963173603,-114.59350729360624,65.406492706393763,null,1000000000,48984601.209999993,null,13.705267329446318,-48.303493366677252,null,13.773521691446165,-66.290013926928978]
[7079.5,2.0961621848148551,1.0734872226987024,1.0000172376886265,5.8715314893559205E-3,66.730208776062895,1.5558100492042461,1.3384515606258145,0.72705965295071251,1.0000395718460415,8.8961273757909749E-3,1.0037423001361645,9.5191249839893535E-2,15.037178799329787,-114.61754076937426,65.382459230625741,null,1000000000,50119320.25,null,13.64948462063146,-47.993610582606379,null,13.696173236417202,-66.623930186767907]
[7161.95,2.115043479192837,1.0783266597638501,1.0000176415338011,5.9399115232400259E-3,67.50719546322523,1.555982549259898,1.3453605176843926,0.73281354332393389,1.0000404989260456,8.9997288059607827E-3,1.003829816071524,9.6294873990385069E-2,14.902697365575186,-114.64028102278812,65.359718977211884,null,1000000000,51293527.802499995,null,13.593645319516948,-47.679756397936082,null,13.617531103777118,-66.960524624852027]
[7244.4,2.1339734309788176,1.0830803476184914,1.0000180500548836,6.0082915015755006E-3,68.284184113435515,1.5561511236505039,1.3523135599597904,0.73850845233837692,1.0000414367397208,9.1033300429329417E-3,1.0039183379387011,9.7398325453140033E-2,14.769905994727065,-114.66125276506514,65.338747234934857,null,1000000000,52481331.359999992,null,13.53901049022662,-47.369056661089004,null,13.539374562219324,-67.292196103976124]
[7328.75,2.1533886237848123,1.0878569818749748,1.0000184728288084,6.0782471883930817E-3,69.079079861659508,1.5563196584338739,1.3594717454157474,0.74427412215513045,1.0000424072721408,9.2093184924593331E-3,1.0040099404333858,9.8527024436078275E-2,14.635767872723735,-114.68097574677455,65.31902425322545,null,1000000000,53710576.5625,null,13.484329332294148,-47.05443713678681,null,13.459917598148465,-67.626538609987762]
[7413.1,2.1728520701371226,1.0925481476281369,1.0000189004966173,6.1482028157185519E-3,69.873977527361134,1.5564843586639443,1.3666746494397213,0.74997920534777107,1.0000433890385667,9.3153067350735738E-3,1.0041025952157516,9.9655538602281726E-2,14.503327228973571,-114.69904280043131,65.300957199568685,null,1000000000,54954051.610000007,null,13.430841427246028,-46.74306925476936,null,13.380964859446422,-67.955973545661948]
[7499.45,2.1928256508050157,1.0972641754843033,1.0000193433740521,6.2198170796333987E-3,70.687724714958406,1.5566491270933736,1.3740939269450083,0.75575741191057766,1.0000444057200695,9.4238078193819193E-3,1.0041985366298107,0.1008106170705805,14.369468389327535,-114.7159195594429,65.284080440557105,null,1000000000,56241750.302499995,null,13.377287485416364,-46.427659595012102,null,13.300659961630046,-68.288259964430793]
[7585.8,2.2128471208810767,1.1018949651275309,1.000019791380184,6.291431279749537E-3,71.501473777949542,1.5568101451105483,1.381558588610466,0.76147336746394667,1.0000454341745562,9.5323086818008742E-3,1.0042955802317977,0.10196549748962175,14.237315766161053,-114.73125300947116,65.26874699052884,null,1000000000,57544361.640000001,null,13.324916477574662,-46.115601759862926,null,13.22087834630527,-68.615651249608234]
[7674.15,2.2333805419806767,1.1065469752836479,1.0000202550710819,6.3647041090746032E-3,72.334072407071702,1.5569711428479125,1.3892423534505092,0.76725794327628549,1.0000464986347695,9.6433223602460545E-3,1.0043960119725985,0.10314691944955344,14.103831338136688,-114.74543915172451,65.254560848275489,null,1000000000,58892578.222499996,null,13.272522931606934,-45.799755085286805,null,13.139787464248629,-68.945684066437693]
[7762.5,2.2539614148876184,1.1111141279731573,1.0000207241309913,6.4379768700557945E-3,73.166672868441452,1.5571284764404201,1.39697209189574,0.772978694222762,1.0000475754195666,9.7543358009950579E-3,1.0044975969005572,0.10432812941462867,13.972059126631489,-114.75819811857177,65.241801881428231,null,1000000000,60256406.25,null,13.221300076882759,-45.487355352501716,null,13.05923810746761,-69.270842766070075]
[7852.9,2.2750676021204441,1.1157016255036269,1.000021209631893,6.5129497197472181E-3,74.018594131221263,1.5572857969775149,1.4049279793110765,0.77876683289407933,1.000048689945997,9.8679248565082672E-3,1.0046027322068274,0.1055365253075923,13.838964153336997,-114.76986878157317,65.230131218426834,null,1000000000,61668038.409999996,null,13.170066519631609,-45.171241411323614,null,12.977376691424265,-69.598627370249602]
[7943.3,{"$f":"SQRT(1+(A140/Pole1)^2)","v":2.2962207876921772},{"$f":"ATAN(A140/Pole1)","v":1.1202046947020792},{"$f":"SQRT(1+(A140/Zero1)^2)","v":1.0000217007538363},{"$f":"ATAN(A140/Zero1)","v":6.5879224962200316E-3},{"$f":"SQRT(1+(A140/Pole2)^2)","v":74.870517184253032},{"$f":"ATAN(A140/Pole2)","v":1.5574395373375909},{"$f":"SQRT(1+(A140/Zero2)^2)","v":1.4129304044156694},{"$f":"ATAN(A140/Zero2)","v":0.78448959683804176},{"$f":"SQRT(1+(A140/pole4)^2)","v":1.0000498173755006},{"$f":"ATAN(A140/pole4)","v":9.9815136573725063E-3},{"$f":"SQRT((1-(S140/pterm2))^2+(A140/pterm1)^2)","v":1.0047090741258171},{"$f":"IF((ATAN((A140/pterm1)/(1-A140^2/pterm2))>0),ATAN((A140/pterm1)/(1-A140^2/pterm2)),PI()+ATAN((A140/pterm1)/(1-A140^2/pterm2)))","v":0.10674469426844149},{"$f":"20*LOG10(((D140*H140)/(B140*F140*L140*J140))*Adc)","v":13.707586627050217},{"$f":"((E140+I140)-(C140+G140+M140+K140))*radconv","v":-114.78022961176075},{"$f":"IF(O140>0,O140,O140+180)","v":65.219770388239255},null,1000000000,63096014.890000001,null,{"$f":"20*LOG10((H140/(F140*J140))*Aea)","v":13.11999088793902},{"$f":"(I140-(G140+K140))*radconv","v":-44.858668022490399},null,{"$f":"20*LOG10((D140/(B140*L140))*Acs*Am)","v":12.89607479683008},{"$f":"(E140-(C140+M140))*radconv","v":-69.921561589270368}]
[8035.8,2.317912670091419,1.1247272009165106,1.000022209103002,6.6646368202563219E-3,75.742232275300807,1.5575932692138765,1.4211660783421238,0.7902783951471466,1.0000509843514094,1.0097740869485314E-2,1.0048191349788278,0.10798069157537153,13.574896855763106,-114.78956595770342,65.210434042296583,null,{"$f":"IF(N141<0,A141,1000000000)","v":1000000000},{"$f":"A141^2","v":64574081.640000001},null,13.06991664730589,-44.542461826971341,null,12.813459266176094,-70.247104130732112]
[8128.3,2.3396510812574314,1.1291657565469599,1.00002272333738,6.7413510658475883E-3,76.613949115667296,1.5577435027577158,1.4294488261236642,0.79600029853872989,1.0000521648367402,1.0213967808773474E-2,1.0049304583770662,0.10921644595727105,13.443928934465703,-114.79771071653914,65.202289283460857,null,1000000000,66069260.890000001,null,13.02098701686705,-44.229887972585068,null,12.73142097531753,-70.567822743954082]
[8222.9500000000007,2.3619415869997895,1.1336228165565962,1.0000232556162121,6.8198483171663903E-3,77.505929231803208,1.5578937300952949,1.4379719710502958,0.80178677075522786,1.0000533867444041,1.0332895953397944E-2,1.0050456757795962,0.11048066901379104,13.311660581000131,-114.80489956532186,65.195100434678139,null,1000000000,67616906.702500015,null,12.972071003202624,-43.913769009111881,null,12.648068635516388,-70.891130556209987]
[8270.2750000000015,2.3731041871970056,1.135819925977861,1.000023524066362,6.859096911368788E-3,77.95191993455262,1.5579675545089455,1.442251438795632,0.80465431204216409,1.0000540030024734,1.0392359916306132E-2,1.0051037799080809,0.11111268320628202,13.246175793719635,-114.8080864774289,65.191913522571099,null,1000000000,68397448.575625017,null,12.948039076235228,-43.757107857046883,null,12.606615775203284,-71.050978620382025]
[8317.6,2.3842781357586511,1.1379964522637762,1.0000237940569994,6.8983454844386439E-3,78.397911057309713,1.5580405389762955,1.4465426956497862,0.80750486318184189,1.000054622796692,1.0451823805717761E-2,1.0051622142486742,0.11174463202920691,13.181117602543242,-114.81101565270366,65.188984347296341,null,1000000000,69182469.760000005,null,12.924285714878856,-43.601372039125074,null,12.565310945383263,-71.209643613578592]
[8366.0499999999993,2.3957292995137998,1.1402036749249718,1.0000240720616496,6.9385270443587466E-3,78.854504615401055,1.5581144031612593,1.4509480669557822,0.8104056855066164,1.0000552609877618,1.0512701181692148E-2,1.0052223797008724,0.11239153531356566,13.11494991726348,-114.81375803622805,65.186241963771948,null,1000000000,69990792.602499992,null,12.9002520667275,-43.442887285383826,null,12.523176908254857,-71.370870750844205]
[8414.5,2.4071920237813518,1.1423898871585139,1.0000243516808953,6.9787085818731982E-3,79.311098598762527,1.558187416874413,{"$f":"SQRT(1+(A147/Zero2)^2)","v":1.4553655736812203},{"$f":"ATAN(A147/Zero2)","v":0.81328892209680848},1.0000559028850866,1.0573578479742472E-2,{"$f":"SQRT((1-(S147/pterm2))^2+(A147/pterm1)^2)","v":1.005282891134474},0.11303836932235543,13.04921952125631,-114.81625149846899,{"$f":"IF(O147>0,O147,O147+180)","v":65.183748501531014},null,1000000000,70803810.25,null,12.876501919749492,-43.285361387104864,null,12.481196659225695,-71.530890111364144]
[8462.9500000000007,2.4186661441959676,1.1445553669361441,1.0000246329147355,7.0188900968522656E-3,79.767693000091299,1.5582595947194053,1.4597951056566085,0.81615468488150522,1.0000565484886592,1.063445569941765E-2,1.0053437484899213,0.11368513367094071,12.983921544360912,-114.81850636764096,65.181493632359036,null,1000000000,71621522.702500015,null,12.853031102962593,-43.128788767925457,null,12.439369499117198,-71.689717599715507]
[8511.4,2.4301514993346731,1.1467003877602293,1.0000249157631689,7.0590715891662159E-3,80.224287812250822,1.5583309509674548,1.464236553747476,0.81900308558530333,1.0000571977984725,1.0695332840266608E-2,1.0054049517073302,0.11433182797496687,12.919051183898247,-114.82053270856761,65.179467291432388,null,1000000000,72443929.959999993,null,12.829835518446149,-42.973163844152495,null,12.397694723170975,-71.847368864415103]
[8560.9500000000007,2.4419090709100466,1.1488732282034562,1.0000252067033355,7.1001653312054453E-3,80.691249487753836,1.5584030920201415,1.4687910520118952,0.82189831422668858,1.0000578656835049,1.0757592042663158E-2,1.0054679021384048,0.11499313186072606,12.853145372509591,-114.82237890467329,65.177621095326714,null,1000000000,73289864.902500018,null,12.806393786404699,-42.814980029476736,null,12.355230643823766,-72.007398875196557]
[8610.5,2.4536780607938384,1.1510252348036696,1.0000254993322391,7.1412590492642486E-3,81.158211578368352,1.5584744029135329,1.4733577860172444,0.82477561909812036,1.0000585374449646,1.0819851161659264E-2,1.0055312141867636,0.11565436167303025,12.787676865950017,-114.82400655374951,65.175993446250487,null,1000000000,74140710.25,null,12.78323148406924,-42.657775601770943,null,12.312924439599655,-72.166230951978577]
[8660.0499999999993,2.4654583054684367,1.1531566861240787,1.0000257936498786,7.1823527432038582E-3,81.625174076970083,1.55854489789446,1.4779366423404499,0.82763511892784947,1.0000592130828441,1.0882110196772444E-2,1.0055948877872953,0.11631551700166796,12.722640738992686,-114.82542560642503,65.174574393574972,null,1000000000,74996466.002499983,null,12.760344455404685,-42.501544574663086,null,12.270775341306878,-72.323881031761928]
[8709.6,2.4772496443716805,1.1552678561789089,1.0000260896562525,7.2234464128855067E-3,82.092136976596805,1.558614590885627,1.4825275086604606,0.83047693214401541,1.0000598925971351,1.094436914752021E-2,1.0056589228745341,0.11697659743674127,12.658032135608488,-114.82664575133296,65.173354248667039,null,1000000000,75857132.160000011,null,12.737728617865763,-42.346280960405132,null,12.228782575461603,-72.480364790927808]
[8760.3250000000007,2.4893319236316138,1.1574083623133942,1.000026394431226,7.2655145287754833E-3,82.57017357225314,1.5586851199989993,1.4872395645775436,0.83336793708104728,1.0000605922404124,1.1008104383071067E-2,1.0057248508304921,0.11765327634413153,12.592329293684903,-114.82769863793739,65.172301362062612,null,1000000000,76743294.105625018,null,12.714853208366019,-42.188331359313601,null,12.185955143037763,-72.639367278623794]
[8811.0499999999993,2.5014254982177913,1.1595281807874263,1.0000267009759713,7.3075826189490751E-3,83.048210573914403,1.5587548371620261,1.4919639721315421,0.83624065676570236,1.0000612959461104,1.1071839529184628E-2,1.0057911574806222,0.11832987589556763,12.527064410403222,-114.82856280495803,65.171437195041975,null,1000000000,77634602.102499992,null,12.692253575245289,-42.031382899559404,null,12.143289892876808,-72.797179905398622]
[8861.7749999999996,2.5135302050915524,1.1616275912951235,1.000027009290487,7.3496506832574126E-3,83.526247974609689,1.5588237563148861,1.4967006143568511,0.83909521716202984,1.0000620037142205,1.113557458534328E-2,1.0058578427535343,0.11900639565232646,12.462232494132198,-114.82924783403431,65.170752165965695,null,1000000000,78531056.15062499,null,12.669925568039755,-41.875429162617849,null,12.100785983811322,-72.953818671416428]
[8912.5,2.525645884191178,1.1637068688907741,1.0000273193747717,7.391718721551619E-3,84.004285767526738,1.5588918910804745,{"$f":"SQRT(1+(A157/Zero2)^2)","v":1.5014493754628362},{"$f":"ATAN(A157/Zero2)","v":0.84193174383042424},1.0000627155447341,1.1199309551029407E-2,{"$f":"SQRT((1-(S157/pterm2))^2+(A157/pterm1)^2)","v":1.0059249065774516},0.1196828351760363,12.397828624421564,-114.82976304593177,65.17023695406823,null,1000000000,79432656.25,null,12.647865110461524,-41.720463734913032,null,12.058442571678915,-73.109299311018759]
[8964.4,2.5380534048610901,1.1658137553740477,1.0000276384736204,7.434761201863543E-3,84.493397284377593,1.5589608061611691,1.5063205611116361,0.84481544149328403,1.0000634480688126,1.1264520786944976E-2,1.0059939156063469,0.12037486032699919,12.332370871498332,-114.83012388373214,65.169876116267858,null,1000000000,80360467.359999999,null,12.625566384111549,-41.562924901122813,null,12.015283545105664,-73.267198982609344]
[9016.2999999999993,2.5504720822296898,1.1679001334746923,1.0000279594251742,7.4778036546268804E-3,84.982509197892867,1.5590289279686667,1.5112041920752364,0.84768052484893464,1.00006418484566,1.1329731927051764E-2,1.006063320773704,0.12106680055747852,12.267351027243498,-114.83032587830219,65.16967412169781,null,1000000000,81293665.689999983,null,12.603539343698349,-41.406407131879767,null,11.972290741264027,-73.423918746422416]
[9068.2000000000007,2.5629017541158432,1.1699662832830227,1.0000282822294315,7.5208460796821735E-3,85.471621501262788,1.5590962701208737,1.5161001480878571,0.85052712696649979,1.000064925875267,1.1394942970795369E-2,1.0061331220013809,0.12175865539908255,12.202764045136194,-114.83037820672472,65.169621793275283,null,1000000000,82232251.24000001,null,12.5817798541492,-41.25090358310154,null,11.929463248705872,-73.579474623623199]
[9120.1,2.5753422613272239,1.1720124801753413,1.0000286068863902,7.5638884768699614E-3,85.960734187832571,1.5591628459257842,1.5210083101306304,0.85335538040201864,1.0000656711576239,1.1460153917621382E-2,1.0062033192108122,0.12245042438381271,12.138604951654298,-114.83028978765302,65.169710212346985,null,1000000000,83176224.010000005,null,12.560283855056584,-41.096407422346637,null,11.886800154316589,-73.733882365306357]
[9173.2000000000007,2.5880814613777372,1.1740856200668786,1.0000289409673186,7.6079260449849698E-3,86.461156228063672,1.5592301814884073,1.5260424654812859,0.8562301747144575,1.000066438073314,1.152687253112107E-2,1.0062755492157971,0.12315809868195768,12.073400142275998,-114.8300626949856,65.1699373050144,null,1000000000,84147598.24000001,null,12.53855937988784,-40.939374579614174,null,11.843319820107034,-73.890688115371404]
[9226.2999999999993,2.6008316757721341,1.1761384421512369,1.0000292769876094,7.6519635835912122E-3,86.961578655804615,1.5592967420832058,1.531089149726629,0.8590860410504364,1.000067209440666,1.1593591041995543E-2,1.0063481935577825,0.12386568211723109,12.00863293311218,-114.82970635824968,65.17029364175032,null,1000000000,85124611.689999983,null,12.517102354197526,-40.783381821783188,null,11.800009636633529,-74.046324536466486]
[9279.4,2.6135927433124921,1.1781712266090061,1.0000296149472605,7.696001092517917E-3,87.462001464403883,1.559362541011758,1.5361482393837087,0.86192311960510792,1.0000679852596703,1.1660309449651065E-2,1.006421252151251,0.1245731741897067,11.944298227039717,-114.82922953147644,65.170770468523557,null,1000000000,86107264.359999999,null,12.495908661889457,-40.628421878353379,null,11.756868622869138,-74.200807653123022]
[9332.5,2.6263645057979308,1.1801842488401779,1.0000299548462699,7.7400385715943086E-3,87.962424647361274,1.559427591272976,1.5412196122893618,0.86474154994494379,1.0000687655303162,1.1727027753493902E-2,1.0064947249102227,0.12528057439989787,11.88039100171536,-114.82864071349331,65.171359286506686,null,1000000000,87095556.25,null,12.474974261967455,-40.474487497503759,null,11.713895797466783,-74.354153215989555]
[9386.85,2.6394478353410471,1.1822244755967939,1.0000303047550421,7.785112683399909E-3,88.474628418124581,1.5594934107968432,1.5464229620485948,0.86760716064271493,1.00006956877897,1.1795316530750463E-2,1.00657035606844,0.12600453150509064,11.815416898161729,-114.82793066714277,65.172069332857234,null,1000000000,88112952.922499999,null,12.453811435575457,-40.317983938267162,null,11.670084520305149,-74.509946728875619]
[9441.2000000000007,2.6525420432441145,1.184244567635671,1.0000306566955499,7.8301867635712456E-3,88.986832567766129,1.5595584726126348,1.5516389253771432,0.87045352860593861,1.0000703766912979,1.1863605197990552E-2,1.006646420937237,0.1267283913146694,11.750880226013498,-114.82712052132601,65.172879478673991,null,1000000000,89136257.440000013,null,12.432911920531325,-40.162539486729322,null,11.626447363201052,-74.664581034596708]
[9495.5499999999993,2.6656469691968936,1.1862448053077572,1.0000310106677912,7.8752608119252009E-3,89.499037089780927,1.5596227897289241,1.556867375497518,0.87328080135027397,1.0000711892672884,1.193189375457753E-2,1.0067229194229161,0.12745215329448156,11.686775835066381,-114.82621860165014,65.17378139834986,null,1000000000,90165469.80249998,null,12.412271617821183,-40.008146436165418,null,11.582983274964079,-74.818072165484722]
[9549.9,2.6787624558962495,1.188225464115741,1.0000313666717642,7.9203348282786568E-3,90.011241977812091,1.5596863748582106,1.5621081870280724,0.87608912563992414,1.0000720065069304,1.2000182199874764E-2,1.0067998514312746,0.12817581691086699,11.623098651768352,-114.82523298205714,65.174767017942855,null,1000000000,91200590.00999999,null,12.391886504041803,-39.854797105942112,null,11.539691205445424,-74.970435876115033]
[9605.5249999999996,2.6921963938073046,1.190232596632232,1.000031733131038,7.9664662054335523E-3,90.535463084396469,1.5597507066532663,1.5674846134793221,0.87894386249835277,1.0000728477472776,1.2070072512118505E-2,1.0068790369905449,0.12891635458848311,11.558364804061556,-114.82414574111525,65.175854258884755,null,1000000000,92266110.52562499,null,12.371283292506385,-39.698923092421218,null,11.495560569274046,-75.12522264869402]
[9661.15,2.7056410697225379,1.1922197896926794,1.0000321017184821,8.0125975486808176E-3,91.059684561354999,1.559814297745191,1.5728737267908894,0.88177906004776418,1.000073693872628,1.2139962706440419E-2,1.0069586764498628,0.12965678810400511,11.494067929761908,-114.8229871614121,65.177012838587899,null,1000000000,93337819.32249999,null,12.350939091336953,-39.544126152923134,null,11.451607896143832,-75.278861008489002]
[9716.7749999999996,2.7190963243585347,1.1941873234920104,1.0000324724340934,8.0587288578241462E-3,91.583906402327685,1.5598771608527116,1.5782753970027081,0.88459487309419449,1.0000745448829693,1.2209852782158031E-2,1.0070387697065983,0.1303971168869453,11.430202830747454,-114.82176512321712,65.178234876782881,null,1000000000,94415716.40062499,null,12.330849822855827,-39.390398146405623,null,11.407832065610501,-75.431366976811475]
[9772.4,2.7325620014450505,1.1961354733174778,1.0000328452778702,8.1048601326672333E-3,92.108128601099295,1.5599393084050313,1.5836894956270322,0.88739145556370391,1.0000754007782893,1.2279742738588872E-2,1.0071193166575712,0.1311373403673671,11.366764387358529,-114.82048725947227,65.179512740527727,null,1000000000,95499801.75999999,null,12.311011485430365,-39.237730965656823,null,11.364231959647043,-75.582756293815478]
[9829.2999999999993,2.746346953708124,1.198108503796363,1.0000332288696212,8.152048762835977E-3,92.644367043345795,1.5600021527807528,1.5892404192562306,0.8902324021995025,1.0000762813460879,1.2351234542923827E-2,1.0072021791574592,0.13189442122371331,11.302308029638446,-114.81913005133065,65.180869948669354,null,1000000000,96615138.48999998,null,12.290973957159153,-39.082653609579623,null,11.31981313019817,-75.736476441751051]
[9886.2000000000007,2.7601424902727398,1.2000618189109766,1.0000336146882114,8.1992373566985195E-3,93.180605847272119,1.5600642738389721,1.5948040802592334,0.89305354952184701,1.0000771670253457,1.2422726220996338E-2,1.0072855161683478,0.13265139069024562,11.238287519386091,-114.81772982276237,65.182270177237626,null,1000000000,97736950.440000013,null,12.271190761386544,-38.928669220327414,null,11.275575815718424,-75.889060602434952]
[9943.1,2.7739484532237979,1.2019956980141977,1.0000340027336383,8.2464259140447495E-3,93.716845006669786,1.5601256839954738,1.6003803457930681,0.89585505935207266,1.0000780578160486,1.2494217772075938E-2,1.0073693275780096,0.13340824815873864,11.174697622798391,-114.81629398432237,65.183706015677629,null,1000000000,98865237.610000014,null,12.251657851361566,-38.775769237550854,null,11.231518829155704,-76.04052474677151]
[10000,2.7877646876562236,1.2039104155087839,1.000034393005899,8.2936144346645538E-3,94.253084515471556,1.5601863953835129,1.6059690845609214,0.89863709249959889,1.0000789537181833,1.2565709195432184E-2,1.0074536132736163,0.1341649930215825,11.111533186131224,-114.81482970477046,65.18517029522954,null,1000000000,100000000,null,12.232371256597386,-38.623945142691326,null,11.187640987252717,-76.190884562079134]
[10058.25,2.8019192050643729,1.2058509937363633,1.0000347948444031,8.3419225040657578E-3,94.802047110018208,1.560247835746061,1.6117032059973826,0.90146512321208849,1.0000798761711098,1.2638896679420994E-2,1.0075403898979642,0.13493957500945566,11.047305543497124,-114.81330846057537,65.186691539424629,null,1000000000,101168393.0625,null,12.21287815482235,-38.469624525767472,null,11.142906446393646,-76.343683934807899]
[10116.5,2.8160841679685382,1.2077720568388324,1.0000351990166558,8.3902305345315113E-3,95.351010058314117,1.56030856864947,1.6174501259913583,0.90427307984445993,1.000080803980862,1.2712084028004672E-2,1.0076276633396772,0.13571403769827872,10.98351310951967,-114.81177186686088,65.18822813313912,null,1000000000,102343572.25,null,12.193635011800039,-38.316413526732255,null,11.098357155438507,-76.495358340128618]
[10174.75,2.830259419534976,1.2096738837518797,1.0000356055226549,8.4385385258363907E-3,95.899973354284356,1.5603686062424811,1.6232097086042523,0.90706113156611312,1.0000817371474247,1.2785271240399562E-2,1.0077154334757525,0.13648838043818354,10.920150606446875,-114.81022687157704,65.189773128422956,null,1000000000,103525537.5625,null,12.174637805323876,-38.16430314891975,null,11.053991858841879,-76.645923722657301]
[10233,2.8444448059434713,1.2115567484096148,1.0000360143623972,8.4868464777549703E-3,96.448936991992269,1.5604279603972655,1.6289818195226009,0.9098294463944252,1.0000826756707835,1.2858458315822007E-2,1.0078037001825297,0.13726260257999123,10.857212838379404,-114.80868018630372,65.191319813696282,null,1000000000,104714289,null,12.155882589850517,-38.013284445823743,null,11.009809306247767,-76.795395740479961]
[10292.5,2.8589449063247772,1.2134607206124068,1.0000364343849224,8.5361910401047184E-3,97.009681312057396,1.5604878947155105,1.6348905919638477,0.9126369638670363,1.0000836398645712,1.2933215787115846E-2,1.007894373564451,0.13805331374877819,10.793357660272346,-114.80710530443872,65.192894695561279,null,1000000000,105935556.25,null,12.136970713855446,-37.860142814634543,null,10.964866004135779,-76.94696248980415]
[10352,2.8734552660764483,1.215345470252011,1.0000368568424203,8.5855355608841916E-3,97.570425976587799,1.560547140139789,1.640812157994546,0.91542423894436187,1.0000846096474949,1.3007973113842705E-2,1.0079855647948848,0.13884389772104799,10.729934937694249,-114.80554209020704,65.194457909792959,null,1000000000,107163904,null,12.118303241843684,-37.708121508263822,null,10.920110753569446,-77.097420581943183]
[10411.5,2.8879757305567928,1.2172112737838812,1.0000372817348875,8.6348800398531461E-3,98.13117097967843,1.5606057084791962,1.6467463796005817,0.91819144692060561,1.0000855850195387,1.3082730295167424E-2,1.008077273739922,0.13963435380717545,10.666939388115765,-114.80399697678598,65.196003023214018,null,1000000000,108399332.25,null,12.099876205726867,-37.557211159657008,null,10.875542240107777,-77.246785817128952]
[10471,2.9025061481120229,1.2190584026609887,1.0000377090623211,8.6842244767713385E-3,98.691916315558402,1.5606636112744601,1.6526931204572159,0.92093876180435641,1.0000865659806859,1.3157487330254848E-2,1.0081695002649436,0.1404246813183006,10.604365811863943,-114.8024761690596,65.197523830940398,null,1000000000,109641841,null,12.081685713741486,-37.407402460043485,null,10.831159155841338,-77.395073709016103]
[10532,2.9174130556439923,1.2209329900529433,1.0000381496905306,8.7348128471850528E-3,99.266798428053036,1.5607222946875865,1.6588026348426794,0.92373486585477504,1.0000875774741611,1.3234128843790905E-2,1.0082645890035467,0.14123479885412757,10.540647457272428,-114.80094851653278,65.199051483467215,null,1000000000,110923024,null,12.063278206666793,-37.254951045861539,null,10.785848308324512,-77.545997470671253]
[10593,2.9323301109366828,1.2227885114847004,1.0000385928780187,8.7854011728896973E-3,99.841680878460323,1.5607803023097173,1.6649250228369674,0.92651042738257461,1.0000885948420604,1.3310770201845725E-2,1.0083602214587117,0.14204477978663319,10.477361812759192,-114.79945891168855,65.200541088311454,null,1000000000,112211649,null,12.045111275424814,-37.103637902647215,null,10.74072959505326,-77.695821009041339]
[10654,2.9472571599064534,1.2246252437729732,1.0000390386247819,8.8359894536264028E-3,100.41656366097662,1.560837645747128,1.6710601429420768,0.92926562964655191,1.0000896180843659,1.3387411403519426E-2,1.0084563974830594,0.14285462337606358,10.414503536819051,-114.79801333756971,65.201986662430286,null,1000000000,113507716,null,12.027180965288739,-36.953453195383936,null,10.695801629249186,-77.844560142185799]
[10715,2.9621940514732943,1.2264434586637907,1.0000394869308169,8.886577689136298E-3,100.99144676993045,1.5608943363418413,1.6772078554382484,0.93200065446336589,1.0000906472010598,1.3464052447912125E-2,1.0085531169284292,0.1436643288835267,10.352067372958182,-114.79661755422758,65.203382445772419,null,1000000000,114811225,null,12.009483398574325,-36.804387156542951,null,10.651063032102737,-77.992230397684608]
[10777.5,2.9775082973750737,1.2282874566839166,1.0000399489152121,8.9384098504711584E-3,101.58046668155804,1.5609517554373433,1.683519657608527,0.93478219479372471,1.0000917077167251,1.3542577944079655E-2,1.0086527781946042,0.1444938011935146,10.288528294125294,-114.79524488658275,65.204755113417249,null,1000000000,116154506.25,null,11.991588068761562,-36.652805686245053,null,10.605419283082608,-78.142439200337691]
[10840,2.9928325641501288,1.2301125771295169,1.000040413586285,8.9902419637774046E-3,102.16948692423003,1.5610085124760782,1.6898443877527978,0.93754293491658625,1.0000927743991963,1.3621103273223394E-2,1.0087530096186146,0.14532312697948588,10.225421437018195,-114.79393604260862,65.206063957391379,null,1000000000,117505600,null,11.973929068484752,-36.502378037422751,null,10.559971426252321,-78.291558005185848]
[10902.5,3.0081666986528268,1.2319190964330298,1.000040880944032,9.0420740287765998E-3,102.75850749225374,1.5610646188425754,1.6961819012534167,0.94028306566266495,1.000093847248454,1.3699628434375466E-2,1.0088538110385574,0.14615230544953101,10.162741415230656,-114.79269653379556,65.207303466204436,null,1000000000,118864506.25,null,11.956502467373509,-36.353093928511534,null,10.514718005576027,-78.439602605284023]
[10965,3.0235105507467051,1.2337072859065572,1.0000413509884492,9.0939060451903173E-3,103.34752838006619,1.5611200856618406,1.7025320553559087,0.94300277626215845,1.0000949262644778,1.3778153426568004E-2,1.008955182291674,0.14698133581270859,10.100482929255364,-114.79153165514906,65.208468344850942,null,1000000000,120231225,null,11.939304412555353,-36.204943154780111,null,10.469657574418889,-78.586588500368933]
[11028.75,3.0391711383051176,1.2355126319276728,1.0000418332015588,9.1467746515907934E-3,103.94833000944355,1.5611760142305229,1.7090220887592571,0.94575603881410231,1.0000960332138042,1.3858248743538564E-2,1.0090591678423078,0.14782679338420857,10.037408132669137,-114.79042563575035,65.209574364249647,null,1000000000,121633326.5625,null,11.921993928276803,-36.054986425051837,null,10.423893262111211,-78.735439210698516]
[11092.5,3.0548415297764206,1.2372994619903379,1.0000423182098719,9.199643206857783E-3,104.54913196023476,1.5612313000012479,1.7155249792482288,0.94848844884533479,1.0000971465789923,1.3938343882689601E-2,1.0091637459026113,0.14867209520617011,9.9747610336113635,-114.78940773084805,65.210592269151945,null,1000000000,123043556.25,null,11.904913365105131,-35.906187616955521,null,10.378326726225113,-78.883220113892563]
[11156.25,3.070521575057958,1.2390680482594958,1.0000428060133848,9.2525117106958196E-3,105.14993422693036,1.5612859539920694,1.7220405811673429,0.95120020201913735,1.0000982663600206,1.4018438842994058E-2,1.0092689162971233,0.14951724044238271,9.9125362771941852,-114.78848290699928,65.211517093000722,null,1000000000,124461914.0625,null,11.888058872346217,-35.75853615104004,null,10.332956462566845,-79.02994675595923]
[11220,3.0862111270060257,1.2408186578272509,1.0000432966120933,9.3053801628094346E-3,105.75073680414613,1.5613399869706674,1.7285687507746483,0.95389149226686709,1.0000993925568675,1.4098533623424883E-2,1.0093746788494631,0.15036222825770384,9.850728595680204,-114.78765592505657,65.212344074943431,null,1000000000,125888400,null,11.87142667580982,-35.612021532740897,null,10.287780977589264,-79.175634392315672]
[11285.5,3.1023411226327453,1.2425988751383632,1.0000438035895582,9.3596998515810843E-3,106.36803231902132,1.5613948674504925,1.7352890658674638,0.95663554985056898,1.0001005563513161,1.4180826895675363E-2,1.0094839612651008,0.15123024697806497,9.7876531920694454,-114.78691294266946,65.21308705733054,null,1000000000,127362510.25,null,11.854565554641951,-35.46265809133714,null,10.241566695146371,-79.324254851332327]
[11351,3.1184808483908308,1.2443606709233623,1.0000443135177779,9.4140194851171817E-3,106.98532815056592,1.5614491146195009,1.7420223465582505,0.95935841509239206,1.0001017269186123,1.4263119975843118E-2,1.0095938684149335,0.1520980977322339,9.7250070769883692,-114.78628279870004,65.213717201299957,null,1000000000,128845201,null,11.837931264514358,-35.314472584639944,null,10.19555487019289,-79.471810214060127]
[11416.5,3.1346301539834616,1.246104318877679,1.0000448263967476,9.4683390630972575E-3,107.6026242933299,1.5615027393769279,1.7487684430827442,0.96206029263998716,1.0001029042587328,1.4345412862814218E-2,1.0097044001046298,0.1529657796179428,9.6627848134495906,-114.78577002203332,65.214229977966681,null,1000000000,130336472.25,null,11.821519952723067,-35.167453911618956,null,10.149743918445402,-79.618316110414384]
[11482,3.1507888921068883,1.2478300875285964,1.0000453422264635,9.5226585852008442E-3,108.21992074198759,1.5615557523733423,1.7555272076958441,0.96474138522412511,1.0001040883716534,1.4427705555474755E-2,1.00981555613884,0.15383329173413665,9.6009810543410055,-114.78537894109229,65.21462105890771,null,1000000000,131836324,null,11.805327844240125,-35.021591066825458,null,10.104132267819761,-79.763787874266825]
[11548.75,3.1672655578861892,1.2495706690889667,1.0000458709360041,9.578014681587671E-3,108.84899796654037,1.5616091584592764,1.7624278385010657,0.96745246786852412,1.0001053020500352,1.4511568518307727E-2,1.0099294755987638,0.15471718383318059,9.5384229504417135,-114.78510987824328,65.214890121756724,null,1000000000,133373626.5625,null,11.789048414626038,-34.87412241037385,null,10.057853593534553,-79.910987467869433]
[11615.5,3.1837517199536793,1.2512932295998271,1.0000464027099794,9.6333707192729923E-3,109.47807549798544,1.5616619507865124,1.7693413219986744,0.9701423837116101,1.0001065227621371,1.4595431277007246E-2,1.0100440430476865,0.15560089773558672,9.4762885419996472,-114.7849756696652,65.215024330334799,null,1000000000,134919840.25,null,11.772988957438656,-34.727831344825603,null,10.011778642279868,-80.057144324839598]
[11682.25,{"$f":"SQRT(1+(A204/Pole1)^2)","v":3.2002472315481887},{"$f":"ATAN(A204/Pole1)","v":1.2529980374247704},{"$f":"SQRT(1+(A204/Zero1)^2)","v":1.0000469375483845},{"$f":"ATAN(A204/Zero1)","v":9.6887266979176507E-3},{"$f":"SQRT(1+(A204/Pole2)^2)","v":110.10715333106272},{"$f":"ATAN(A204/Pole2)","v":1.5617141398745602},1.7762675081152062,0.97281134120516244,{"$f":"SQRT(1+(A204/pole4)^2)","v":1.0001077505079332},{"$f":"ATAN(A204/pole4)","v":1.4679293830394451E-2},1.0101592582756074,{"$f":"IF((ATAN((A204/pterm1)/(1-A204^2/pterm2))>0),ATAN((A204/pterm1)/(1-A204^2/pterm2)),PI()+ATAN((A204/pterm1)/(1-A204^2/pterm2)))","v":0.15648443249164612},{"$f":"20*LOG10(((D204*H204)/(B204*F204*L204*J204))*Adc)","v":9.4145724468900625},{"$f":"((E204+I204)-(C204+G204+M204+K204))*radconv","v":-114.78498029631319},65.215019703686806,null,1000000000,136474965.0625,null,{"$f":"20*LOG10((H204/(F204*J204))*Aea)","v":11.757145714940664},{"$f":"(I204-(G204+K204))*radconv","v":-34.582706529429451},null,{"$f":"20*LOG10((D204/(B204*L204))*Acs*Am)","v":9.9659057896682715},{"$f":"(E204-(C204+M204))*radconv","v":-80.202273766883735}]
[11749,3.2167519488365306,1.2546853558371054,1.0000474754512145,9.7440826171824868E-3,110.73623146063154,1.5617657360039034,1.7832062488351985,0.97545954675975877,1.0001089852873979,1.4763156177290505E-2,1.0102751210714369,0.15736778715298233,9.3532693725859666,-114.78512755082399,65.214872449176013,null,{"$f":"IF(N205<0,A205,1000000000)","v":1000000000},{"$f":"A205^2","v":138039001},null,11.741515005648882,-34.438736726691261,null,9.9202334246559616,-80.346390824132769]
[11817.5,3.2336987971181808,1.2563989987099549,1.00004803064235,9.8008897531384649E-3,111.38180257822989,1.561818078896219,1.7903398036537099,0.9781558200942565,1.0001102597520208,1.4849216946575842E-2,1.0103946945027373,0.15827411269309516,9.2907830488736032,-114.78543073740667,65.214569262593329,null,1000000000,139653306.25,null,11.725691684412919,-34.292181589722304,null,9.8735704221795633,-80.493249147684381]
[11886,3.2506550423605733,1.2580947689233524,1.0000485890606874,9.8576968258365545E-3,112.02737399747262,1.5618698185240609,1.7974862706825812,0.98083067299570492,1.0001115416238977,1.493527749588543E-2,1.0105149494479673,0.15918024655216817,9.2287206750250856,-114.78589164044118,65.214108359558821,null,1000000000,141276996,null,11.710084569677905,-34.146819176051821,null,9.8271151630660576,-80.639072464389386]
[11954.5,3.2676205382763723,1.2597729350325242,1.0000491507062217,9.9145038349102189E-3,112.67294571317485,1.5619209652565547,1.8046454965232388,0.98348432189097457,1.0001128309029996,1.5021337823945314E-2,1.0106358856754272,0.1600861877096787,9.1670768140665473,-114.78651378224582,65.213486217754181,null,1000000000,142910070.25,null,11.694689921636861,-34.002637679367673,null,9.7808659501485629,-80.783876102878153]
[12023,3.2845951415216486,1.261433760442358,1.0000497155789472,9.9713107799929302E-3,113.3185177202698,1.5619715292265488,1.8118173299299536,0.98611698098383882,1.0001141275892984,1.5107397929481564E-2,1.0107575029522176,0.1609919351466095,9.1058461207698169,-114.78730050396885,65.212699496031149,null,1000000000,144552529,null,11.679504077386904,-33.859625407194173,null,9.734821101101792,-80.927675096774692]
[12093,3.3019507139030928,1.2631133086907325,1.0000502961551103,1.0029361606288581E-2,113.97822663654019,1.5620226086970328,1.8191590803181814,0.98878582585756236,1.000115460322432,1.5195342331664448E-2,1.0108824867202897,0.16191731528007533,9.043695978980363,-114.78827777255519,65.21172222744481,null,1000000000,146240649,null,11.664197675616613,-33.714677340744437,null,9.6879773610826305,-81.073600431810732]
[12163,3.319315503279876,1.264775288685444,1.0000508801013377,1.0087412364986182E-2,114.63793584676986,1.5620731002715573,1.8265136838716354,0.99143319682653031,1.0001168007906562,1.528328649878169E-2,1.0110081811956708,0.16284249096922332,8.9819662971540222,-114.78943341111653,{"$f":"IF(O211>0,O211,O211+180)","v":65.210566588883466},null,1000000000,147938569,null,11.649101826445403,-33.570925940982697,null,9.6413435284274982,-81.218507470133844]
[12233,3.3366893657508179,1.2664199656020392,1.0000514674176229,1.0145463055694607E-2,115.29764534591291,1.5621230140413229,1.8338809859511682,0.99405931536099601,1.0001181489939392,1.5371230429473887E-2,1.0111345861259551,0.16376746113153362,8.9206516563512785,-114.79077043988566,65.209229560114338,null,1000000000,149646289,null,11.63421285829115,-33.428359096703431,null,9.594917855779002,-81.362411343182274]
[12303,3.3540721603219161,1.2680475994976304,1.0000520581039603,1.0203513678022724E-2,115.95735512903825,1.5621723598678972,1.8412608341277397,0.99666440056228978,1.0001195049322502,1.5459174122381661E-2,1.0112617012574372,0.16469222468615805,8.8597467298941961,-114.79229170849882,65.207708291501177,null,1000000000,151363809,null,11.619527175751347,-33.286964819273443,null,9.5486986118617239,-81.505326889225358]
[12374.5,3.3718365209684387,1.2696927816838326,1.000052664927005,1.0262808171257258E-2,116.63120183853842,1.5622221867964456,{"$f":"SQRT(1+(A214/Zero2)^2)","v":1.8488116179404126},{"$f":"ATAN(A214/Zero2)","v":0.99930382013386265},1.000120897911779,1.5549002076099123E-2,{"$f":"SQRT((1-(S214/pterm2))^2+(A214/pterm1)^2)","v":1.0113922732116007},0.16563659018453186,8.7979542317678483,-114.79403857099111,65.205961429008894,null,1000000000,153128250.25,null,11.60473300590218,-33.143738852636659,null,9.5017002835845474,-81.650299718354404]
[12446,3.3896099122370527,1.2713207152397132,1.0000532752660674,1.0322102592324627E-2,117.3050488342748,1.5622714412736063,1.8563751767361201,1.0019217498774615,1.0001222989613221,1.5638829778865361E-2,1.0115235855910771,0.16658073785160118,8.7365782477815799,-114.79598314610264,65.204016853897357,null,1000000000,154902916,null,11.590143579874091,-33.001711349019686,null,9.4549137256263691,-81.794271797082956]
[12517.5,3.4073921928131377,1.2729316615166553,1.0000538891211412,1.0381396940808023E-2,117.97889611134281,1.5623201331079637,1.863951354999541,1.0045184157306177,1.0001237080808456,1.572865722923179E-2,1.0116556381213209,0.16752466654098588,8.6756133876164405,-114.7981279591464,65.201872040853601,null,1000000000,156687806.25,null,11.575755300685806,-32.860869925063007,null,9.4083371446495114,-81.937258034083428]
[12589,3.4251832242467373,1.2745258767927741,1.0000545064922199,1.0440691216290647E-2,118.65274366494927,1.5623682718852954,1.871539999476137,1.007094041122538,1.0001251252703154,1.5818484425749853E-2,1.0117884305263845,0.16846837510815829,8.6150543534705619,-114.80047537581513,65.199524624184875,null,1000000000,158482921,null,11.561564646614142,-32.721202328357656,null,9.3619687645752983,-82.079273047457477]
[12662.25,3.443418633450082,1.2761420237815966,1.0000551426199149,1.0501436674125612E-2,119.34308427272344,1.5624170251511864,1.8793271497463064,1.0097111180396787,1.0001265855148425,1.5910509925256444E-2,1.0119252400649081,0.1694349519732942,8.5534285085949993,-114.80309266102826,65.196907338971741,null,1000000000,160332575.0625,null,11.54722800400306,-32.57932089528461,null,9.3146795623108147,-82.223771765743635]
[12735.5,3.4616629418547791,1.2777411394657321,1.0000557824378193,1.0562182054457003E-2,120.03342516089907,1.5624652176338454,1.8871270654201513,1.0123065786898411,1.0001280542291093,1.6002535155258648E-2,1.0120628255482942,0.1704012953832573,8.4922176313148441,-114.80592712772076,65.194072872279236,null,1000000000,162192960.25,null,11.533091530319082,-32.43864583712574,null,9.2676051587146393,-82.367281290595002]
[12808.75,3.4799160094921304,1.2793234836027187,1.0000564259459261,1.0622927356836663E-2,120.72376632466586,1.5625128589533166,1.8949395888635148,1.0148806552486642,1.0001295314130787,1.6094560114198998E-2,1.0122011866752747,0.17136740411351048,8.4314163150587476,-114.80898083718263,65.191019162817369,null,1000000000,164064076.5625,null,11.519151672894321,-32.299164402295517,null,9.2207436998833057,-82.509816434887142]
[12882,3.4981776992482918,1.2808893108658603,1.000057073144228,1.068367258081645E-2,121.4141077593229,1.562559958510862,1.9027645647784275,1.0174335772153265,1.0001310170667128,1.618658480052006E-2,1.0123403231430499,0.17233327694159395,8.3710192470386495,-114.8122557003324,65.1877442996676,null,1000000000,165945924,null,11.5054049542246,-32.160863980023002,null,9.1740933505329263,-82.651391720309377]
[12957.25,3.5169468390162,1.282480953962313,1.0000577418561709,1.0746076295353693E-2,122.12329838413002,1.5626077895650967,1.9108159982685351,1.0200344130105727,1.0001325521039319,1.6281121820740114E-2,1.0124840656233245,0.17332527479004309,8.3093885819237627,-114.8158521283171,65.184147871682896,null,1000000000,167890327.5625,null,11.491480442790497,-32.020004155391547,null,9.1263871968521446,-82.795847972925571]
[13032.5,3.5357247937583192,1.2840556948316639,1.0000584144625568,1.0808479926192582E-2,122.83248928510579,1.5626550683006073,1.9188802486624268,1.0226134056809755,1.0001340960795559,1.6375658549918494E-2,1.0126286257090384,0.17431702106972644,8.248173470336404,-114.81968557764945,65.180314422350548,null,1000000000,169846056.25,null,11.477752556599828,-31.880364187419087,null,9.0788999714554528,-82.93932139023039]
[13107.75,3.5545114237700632,1.2856137936008993,1.0000590909633784,1.0870883472847257E-2,123.54168045749412,1.5627018042289398,1.9269571550451861,1.0251707953717555,1.0001356489935442,1.6470194986366767E-2,1.0127740030668806,0.1753085144622005,8.1873684487797522,-114.82375766256158,65.176242337438424,null,1000000000,171813110.0625,null,11.464217761306138,-31.741930861672721,null,9.0316297451924932,-83.081826800888848]
[13183,3.5733065922209573,1.2871555052510728,1.0000597713586272,1.0933286934831867E-2,124.2508718966476,1.5627480066444921,1.9350465589380934,1.0277068193522108,1.0001372108458548,1.6564731128396532E-2,1.0129201973618496,0.17629975365137582,8.1269681497526829,-114.82806985491673,65.171930145083266,null,1000000000,173791489,null,11.450872598367173,-31.604691116056056,null,8.9845746091043885,-83.223378738860674]
[13259.75,3.5924850716646217,1.2887113275060491,1.0000604693282098,1.0996934231924384E-2,124.97420031231466,1.5627945898853619,1.9433099252427852,1.0302716295751573,1.0001388130387474,1.6661151406764701E-2,1.0130701470057981,0.177310488544454,8.0657752944597068,-114.8327167229649,65.167283277035096,null,1000000000,175820970.0625,null,11.437453249720114,-31.465931812978514,null,8.936801102458471,-83.366784909986379]
[13336.5,3.6116721546510266,1.2902506227783164,1.00006117134901,1.1060581439916747E-2,125.69752899605434,1.5628406369981414,1.9515859668240845,1.03281470335657,1.0001404245297709,1.6757571375312075E-2,1.0132209457711243,0.17832095624094427,8.0049924754475033,-114.83761603125755,65.162383968742446,null,1000000000,177862232.25,null,11.424224134430334,-31.328387180635595,null,8.8892473987360479,-83.509228850621952]
[13413.25,3.630867704785596,1.2917736458378701,1.0000618774210195,1.1124228558293479E-2,126.42085794326525,1.5628861571851571,1.9598745231087851,1.0353362833720816,1.0001420453188803,1.6853991032247367E-2,1.0133725932969826,0.17933115535210892,7.9446142935135144,-114.8427689203632,65.157231079636801,null,1000000000,179915275.5625,null,11.411181814785794,-31.192043841889593,null,8.8419115364466006,-83.650725078473599]
[13490,3.6500715884833639,1.2932806463986068,1.0000625875442295,1.1187875586539109E-2,127.14418714945069,1.5629311594393345,1.9681754359877817,1.0378366093059248,1.00014367540603,1.6950410375779313E-2,1.0135250892207166,0.18034108449180208,7.8846354448219946,-114.84817640070253,65.151823599297472,null,1000000000,181980100,null,11.398322927275032,-31.056888578999576,null,8.7947915752658403,-83.791287821702966]
[13568.5,3.6697218301366443,1.2948056889808059,1.0000633180499776,1.1252973756181985E-2,127.88400946730451,1.5629766611820239,1.9766782406601515,1.0403722061165184,1.0001453522797124,1.7049027879900733E-2,1.0136819395055852,0.18137376061446142,7.8236966647807709,-114.85397146609967,65.146028533900335,null,1000000000,184104192.25,null,11.385357163902421,-30.919867007638025,null,8.7468185585972265,-83.934104458461647]
[13647,3.6893805157356105,1.2963144828097524,1.0000640527937597,1.1318071830445905E-2,128.62383204688467,1.5630216394881127,1.985193644981665,1.0428860663031572,1.0001470388801876,1.7147645052373494E-2,1.013839676545365,0.18240615138901534,7.7631647095387404,-114.8600346098394,65.139965390160597,null,1000000000,186240609,null,11.372576405241928,-30.784060843381212,null,8.6990673620156898,-84.075973766458191]
[13725.5,3.7090475110165171,1.297807279434898,1.0000647917755663,1.1383169808779342E-2,129.36365488370069,1.5630661033379225,1.9937214875088565,1.0453784368137953,1.0001487352074068,1.7246261891281103E-2,1.0139982999461696,0.1834382553408081,7.7030342006826018,-114.86636652553292,65.133633474467075,null,1000000000,188389350.25,null,11.359977281468579,-30.649456451578313,null,8.6515359769329017,-84.216910073954608]
[13804,3.7287226844921326,1.2992843253849056,1.0000655349953878,1.1448267690630775E-2,130.10347797336439,1.5631100615075206,2.0022616093148584,1.0478495614603844,1.0001504412613202,1.7344878394707108E-2,1.0141578093121484,0.18447007099806889,7.6432998555274025,-114.87296778726345,65.127032212736552,null,1000000000,190550416,null,11.347556496146208,-30.516040365555273,null,8.6042224171000736,-84.356927421708178]
[13884.25,3.748844796093445,1.3007782694240619,1.0000662991645795,1.151481669884106E-2,130.85979419135347,1.5631544858520665,2.0110046460326854,1.0503540639298692,1.000152195402598,1.7445693006436867E-2,1.014321790016681,0.18552458937898933,7.5826379595094808,-114.87999510882227,65.120004891177729,null,1000000000,192772398.0625,null,11.335039802757931,-30.380864523334729,null,8.5560772144704256,-84.499130585487535]
[13964.5,3.7689751852735478,1.3022562581903201,1.0000670677628285,1.1581365605054033E-2,131.61611066462919,1.5631983996381742,2.0197601875903284,1.052836868118926,1.0001539597089728,1.7546507263510293E-2,1.0144866957854533,0.18657880336694727,7.522379220006413,-114.88730477272249,65.112695227277513,null,1000000000,195007260.25,null,11.322702747782143,-30.246902627842772,null,8.5081555299431493,-84.640402144879715]
[14044.75,3.7891137201037957,1.3037185395737014,1.0000678407901247,1.1647914408680468E-2,132.37242738881582,1.5632418116169791,2.0285280720674645,1.0552982245772817,1.0001557341803908,1.7647321163880014E-2,1.0146525261892168,0.18763271139895862,7.4625182901238869,-114.89489703834145,65.105102961658545,null,1000000000,197255002.5625,null,11.310542035409956,-30.114140824923286,null,8.4604553124328064,-84.780756213418144]
[14125,3.8092602713926045,1.3051653564919146,1.0000686182464578,1.1714463109131157E-2,133.12874435963698,1.5632847303407604,2.0373081401048601,1.0577383805841689,1.0001575188167982,1.77481347054987E-2,1.0148192807966008,0.18868631191524296,7.4030499187776559,-114.90277205633932,65.097227943660684,null,1000000000,199515625,null,11.29855444220463,-29.982565436412074,null,8.4129745342919051,-84.920206619927228]
[14207.25,3.8299171036798159,1.3066324328346441,1.0000694196746225,1.1782670236491183E-2,133.90391060309622,1.5633282155873598,2.0463195047500164,1.0602176062020459,1.0001593584782138,1.7851460359720118E-2,1.0149911498687787,0.18976584965254256,7.3425014295646376,-114.91113679529116,65.088863204708844,null,1000000000,201845952.5625,null,11.286444438988909,-29.848927916897861,null,8.3645360482946014,-85.062208878393307]
[14289.5,3.8505820906943664,1.3080837655041047,1.0000702257553149,1.1850877254215349E-2,134.6790770968486,1.5633712002617628,2.0553433368838139,1.0626750771030906,1.0001612088174823,1.7954785632731257E-2,1.0151639888604502,0.19084506104777871,7.2823544395807893,-114.91979854741282,65.080201452587175,null,1000000000,204189810.25,null,11.274509660141128,-29.716508148328085,null,8.3163238371585422,-85.20329039908475]
[14371.75,3.8712551018450196,1.3095196005566163,1.0000710364885239,1.1919084161669294E-2,135.45424383659696,1.5634136929577132,2.0643794730122984,1.0651110490814653,1.0001630698345443,1.8058110522328013E-2,1.0153377973002802,0.19192394443218402,7.2226035950923064,-114.92875715144905,65.071242848550952,null,1000000000,206547198.0625,null,11.262746859972763,-29.585291967035786,null,8.2683357928384176,-85.343465184413262]
[14454,3.8919360092650375,1.3109401790771971,1.000071851874238,1.1987290958218664E-2,136.22941081814204,1.5634557020733626,2.0734277522705935,1.0675257744959894,1.0001649415293403,1.8161435026306332E-2,1.0155125747146176,0.19300249814058457,7.1632436391504921,-114.93801234713976,65.061987652860239,null,1000000000,208918116,null,11.251152864825196,-29.455265394978028,null,8.2205698320441751,-85.482746952161776]
[14622.5,3.9343277158774455,1.3138037698096692,1.0000735368283058,1.2127021250171871E-2,137.81744360939959,1.5635402875818516,2.0920016045470811,1.072407356318767,1.0001688092873837,1.8373107720669173E-2,1.0158736532261947,0.19521102151896119,7.0428359200391197,-114.95789743180046,65.042102568199539,null,1000000000,213817506.25,null,11.2279151674809,-29.19254570355443,null,8.1233998102770979,-85.765351728246017]
[14706.75,3.9555354729518304,1.3152125424548011,1.0000743866275676,1.2196886218900225E-2,138.61146036844025,1.5635818535315364,2.101306977223532,1.0748157566433156,1.0001707599711425,1.8478943451560349E-2,1.0160557154514853,0.19631475728691827,6.9832256118018883,-114.96830491224509,65.031695087754912,null,1000000000,216288495.5625,null,11.21654902694573,-29.063000023621971,null,8.0751556425750373,-85.905304888623121]
[14791,3.9767509966020977,1.3166062865511605,1.0000752413082981,1.2266751068554094E-2,139.40547736423579,1.5636229459838205,2.1106244307903217,1.077202906713348,1.0001727218579723,1.8584778768433268E-2,1.0162387922985019,0.19741814007433864,6.9240039715455479,-114.97902149957383,65.020978500426168,null,1000000000,218773681,null,11.205347179680668,-28.934644740464051,null,8.0271358495837557,-86.044376759109767]
[14877.25,3.9984780691035513,1.3180177927958561,1.0000761213348373,1.2338274306899537E-2,140.21834366923341,1.5636645318316607,2.120175418375386,1.0796249764100863,1.0001747419228644,1.8693126065038892E-2,1.0164272656753945,0.19854734842818297,6.863773711900806,-114.99031190841222,65.009688091587776,null,1000000000,221332567.5625,null,11.194046422398326,-28.804460905391533,null,7.9782063472213558,-86.18585100302073]
[14963.5,4.020213021855306,1.3194140394113227,1.0000770064773303,1.2409797419004092E-2,141.03121021392693,1.5637056382999446,2.1297387322039643,1.0820253081073019,1.0001767737288969,1.8801472922712847E-2,1.016616801308714,0.19967618309470545,6.8039399602113049,-115.00192460547943,64.998075394520569,null,1000000000,223906332.25,null,11.18291146324893,-28.675495074373814,null,7.929507554681253,-86.326429531105603]
[15049.75,4.0419557277331091,1.3207952671654724,1.0000778967357637,1.2481320404136341E-2,141.84407699419543,1.5637462736300831,2.1393142069711235,1.0844041658537482,1.0001788172759982,1.8909819338914037E-2,1.0168073986333603,0.20080464218397526,6.7444973866739364,-115.01385862069061,64.986141379309387,null,1000000000,226494975.0625,null,11.171939179495634,-28.547732590584211,null,7.8810372648971807,-86.466126030106423]
[15136,4.0637060622885395,1.3221617119035203,1.0000787921101242,1.2552843261564863E-2,142.656944006012,1.563786445875653,2.148901680109971,1.086761809967046,1.0001808725640968,1.9018165311101426E-2,1.0169990570814986,0.20193272381054678,6.6854407592613496,-115.02611290518452,64.973887094815481,null,1000000000,229098496,null,11.161126519014058,-28.421159000212047,null,7.8327932979661652,-86.60495390497249]
[15224,4.0859054439943163,1.3235408853399984,1.0000797109241681,1.2625817175029412E-2,143.48630420625105,1.5638269641026603,2.1586958818187245,1.0891456929779002,1.0001829816543661,1.9128709147106997E-2,1.0171956972967127,0.20308330306977776,6.6255783240549562,-115.03894474389939,64.961055256100607,null,1000000000,231770176,null,11.150255890238135,-28.293227783346158,null,7.7838014915356997,-86.745716960553239]
[15312,4.1081125135761738,1.3249051506560132,1.0000806350638187,1.2698790954017261E-2,144.31566463934789,1.5638670166254118,2.1685022403204872,1.0915080286142873,1.0001851029667597,1.9239252515554167E-2,1.017393440929466,0.2042334854426367,6.5661069535349759,-115.05210754196153,64.947892458038467,null,1000000000,234457344,null,11.13954522568736,-28.166504430420719,null,7.7350407855664924,-86.885603111540846]
[15400,4.1303271470304743,1.3262547432781793,1.0000815645290613,1.2771764597751589E-2,145.14502530131085,1.5639066114268994,2.1783205914329979,1.0938490816919291,1.0001872365011992,1.9349795413744288E-2,1.0175922873679049,0.20538326894111625,6.5070213914240576,-115.06559995887645,64.934400041123553,null,1000000000,237160000,null,11.128991499208849,-28.04097422584962,null,7.6865089499340851,-87.024625733026795]
[15488,4.1525492229652921,1.3275898938100164,1.0000824993198811,1.284473810545558E-2,145.97438618823901,1.5639457563086976,2.1881507737217798,1.0961691132097013,1.0001893822576073,1.9460337838978763E-2,1.017792235997248,0.20653265158214484,6.4483164781727513,-115.0794205863839,64.920579413616096,null,1000000000,239878144,null,11.118591753451311,-27.916622662341503,null,7.6382037824403168,-87.162797924042437]
[15578.25,4.1753470828473978,1.328944417622377,1.0000834635431526,1.2919577270966858E-2,146.8249525547902,1.5639854427183248,2.1982444184279375,1.0985268984993397,1.000191595571726,1.9573706138964309E-2,1.0179984411251211,0.20771100341313922,6.388500653926469,-115.09393394527129,64.906066054728711,null,1000000000,242681873.0625,null,11.10808301436488,-27.790300904998258,null,7.5888966972804681,-87.303633040273013]
[15668.5,4.1981525201741672,1.3302842276317355,1.0000844333677816,1.2994416291747826E-2,147.6755191499285,1.564024671964436,2.2083501717577265,1.1008631174942825,1.0001938217406217,1.9687073935750737E-2,1.0182058042072912,0.20888892941736836,6.3290745028880462,-115.10878931085695,64.891210689143051,null,1000000000,245501892.25,null,11.097730144394278,-27.665188582950986,null,7.5398234162126467,-87.44360072790596]
[15758.75,4.220965412125163,1.3316095575579399,1.0000854087937516,1.3069255166960576E-2,148.52608596972667,1.5640634519010468,2.21846786823646,1.1031780395874102,1.0001960607642082,1.9800441226427361E-2,1.0184143245710753,0.21006642747202722,6.2700327623600804,-115.12398496748226,64.876015032517742,null,1000000000,248338201.5625,null,11.087530167253421,-27.541270710959775,null,7.4909816528255373,-87.582714256522436]
[15849,4.2437856384811656,1.3329206362996331,1.0000863898210461,1.3144093895767211E-2,149.37665301034704,1.5641017902032928,2.2285973452006331,1.1054719301955034,1.0001983126423997,1.991380800808356E-2,1.0186240015405945,0.21124349545985374,6.2113702672535638,-115.13951914113582,64.860480858864179,null,1000000000,251190801,null,11.077480175025995,-27.418532521349363,null,7.4423691499464475,-87.720986619786459]
[15941.25,4.2671190337229721,1.3342462744014119,1.0000873983774343,1.3220590948377391E-2,150.24606940637369,1.5641405294934287,2.2389633066147123,1.1077951914198825,1.0002006277086795,2.0029686543893779E-2,1.0188395197206166,0.21244620139004286,6.1517944396591409,-115.15574551108436,64.844254488915638,null,1000000000,254123451.5625,null,11.067359517852926,-27.294278407208267,null,7.3929139795250931,-87.86146710387608]
[16033.5,4.2904598460731238,1.3355574914047936,1.0000884127861214,1.3297087846250387E-2,151.11548602528504,1.5641788230241096,2.2493412415058813,1.1100970270043662,1.0002029562054264,2.0145564541723896E-2,1.0190562448985347,0.21364845352556153,6.0926042422184867,-115.1723216490855,64.827678350914496,null,1000000000,257073122.25,null,11.057389633803892,-27.171226320848472,null,7.3436936661334729,-88.001095328237042]
[16125.75,4.3138079551359052,1.3368545169228843,1.0000894330470891,1.3373584588491383E-2,151.98490286325605,1.5642166784450104,2.259730984907653,1.1123777079184536,1.000205298132546,2.0261441998465725E-2,1.019274176342255,0.21485024962333413,6.0337944606888616,-115.18924549524105,64.810754504758947,null,1000000000,260039813.0625,null,11.047567627162136,-27.0493611749773,null,7.2947058912455995,-88.139884320263747]
[16218,4.3371632430708535,1.3381375758163143,1.0000904591603199,1.345008117420558E-2,152.8543199165488,1.5642541032317696,2.270132374687555,1.1146375010542566,1.0002076534899442,2.0377318911011178E-2,1.0194933133162449,0.2160515874464253,5.9753599779395792,-115.20651494135325,64.793485058646752,null,1000000000,263023524,null,11.03789066918354,-26.928668105947583,null,7.2459483664749147,-88.277846835405626]
[16312.5,4.3610954952610488,1.3394376772541656,1.0000915163687945,1.3528443367067763E-2,153.74494248326928,1.5642920019376161,2.2807993662723218,1.1169310276833166,1.00021008022061,2.0496021522199558E-2,1.0197190443156234,0.21728174868307612,5.9158841555296409,-115.22456168924421,64.775438310755789,null,1000000000,266097656.25,null,11.028125197921915,-26.806231304293963,null,7.1962380153266059,-88.418330384950224]
[16407,4.3850350383836876,1.3407235853677066,1.0000925797184514,1.3606805393773744E-2,154.63556526827176,1.5643294640886922,2.2914782437287724,1.1192031893250165,1.000212521044477,2.0614723555719271E-2,1.0199460387952413,0.21851142428538592,5.8567915946749505,-115.24296648203848,64.757033517961517,null,1000000000,269189649,null,11.018506135669435,-26.684993580402949,null,7.1467645167243958,-88.557972901635523]
[16501.5,4.4089817536755742,1.3419955271359434,1.0000936492092709,1.3685167253361672E-2,155.52618826780628,1.5643664971847042,2.3021688416549244,1.121454259992072,1.0002149759614423,2.0733425008229493E-2,1.0201742959532782,0.21974061186890392,5.7980770971666749,-115.26172691784926,64.738273082150741,null,1000000000,272299502.25,null,11.009030648641465,-26.564939664012478,null,7.0975255062440858,-88.696787253836803]
[16596,4.432935524904547,1.3432537248148495,1.0000947248412335,1.3763528944869713E-2,156.41681147820822,1.5644031085545518,2.3128709975270252,1.123684509488889,1.0002174449714023,2.0852125876389498E-2,1.0204038149841814,0.22096930905603793,5.7397355621860626,-115.28084055590482,64.719159444095183,null,1000000000,275427216,null,10.999695969168009,-26.446054516192412,null,7.0485186507369306,-88.834786039712426]
[16692.5,4.4574034175507045,1.3445245936991275,1.0000958295753481,1.3843548910422297E-2,157.32628407097144,1.5644400670026439,2.3238114155491285,1.1259407492803228,1.0002199807789802,2.0973338325731793E-2,1.0206394929345866,0.22222350187837087,5.6805389702142026,-115.30072063566971,64.699279364330295,null,1000000000,278639556.25,null,10.990306230407743,-26.325844023301208,null,6.9987117975253401,-88.974876612368462]
[16789,4.4818784307718431,1.3457815844628644,1.0000969407132572,1.3923568698678068E-2,158.23575687616059,1.5644766006074491,2.3347635523080332,1.1281758327812939,1.0002225312821735,2.1094550158687067E-2,1.0208764850260452,0.22347717833804456,5.6217208448435132,-115.32096377156765,64.679036228432352,null,1000000000,281870521,null,10.981057692329612,-26.206821319521357,null,6.949142210232778,-89.114142452046266]
[16885.5,4.5063604485478379,1.3470249192910919,1.0000980582549392,1.4003588308612855E-2,159.14522989013381,1.5645127166524704,2.3457272436603551,1.1303900341501321,1.0002250964808697,2.1215761371698279E-2,1.0211147903888129,0.22473033592558836,5.5632760544676829,-115.34156725913485,64.658432740865152,null,1000000000,285120110.25,null,10.971947609830631,-26.088971113847808,null,6.8998075023559311,-89.252596145287029]
[16982,{"$f":"SQRT(1+(A268/Pole1)^2)","v":4.5308493573333344},{"$f":"ATAN(A268/Pole1)","v":1.3482548157362193},{"$f":"SQRT(1+(A268/Zero1)^2)","v":1.0000991822003729},{"$f":"ATAN(A268/Zero1)","v":1.4083607739202504E-2},{"$f":"SQRT(1+(A268/Pole2)^2)","v":160.05470310933197},{"$f":"ATAN(A268/Pole2)","v":1.5645484222556691},2.3567023283456021,1.1325836232653013,{"$f":"SQRT(1+(A268/pole4)^2)","v":1.0002276763749556},{"$f":"ATAN(A268/pole4)","v":2.1336971961208512E-2},1.0213544081491506,{"$f":"IF((ATAN((A268/pterm1)/(1-A268^2/pterm2))>0),ATAN((A268/pterm1)/(1-A268^2/pterm2)),PI()+ATAN((A268/pterm1)/(1-A268^2/pterm2)))","v":0.22598297213909335},{"$f":"20*LOG10(((D268*H268)/(B268*F268*L268*J268))*Adc)","v":5.5051995638597004},{"$f":"((E268+I268)-(C268+G268+M268+K268))*radconv","v":-115.36252836464448},64.637471635355524,null,1000000000,288388324,null,{"$f":"20*LOG10((H268/(F268*J268))*Aea)","v":10.9629733021996},{"$f":"(I268-(G268+K268))*radconv","v":-25.972278351008914},null,{"$f":"20*LOG10((D268/(B268*L268))*Acs*Am)","v":6.8507053193789762},{"$f":"(E268-(C268+M268))*radconv","v":-89.390250013635523}]
[17081,4.5559797384421987,1.3495028329433794,1.0001003419182921,1.4165700024587245E-2,160.98773802051602,1.5645846336362734,2.3679734155025112,1.1348128993887907,1.0002303383769424,2.1461322069763766E-2,1.0216015965413492,0.22726751564390335,5.4459960580083457,-115.38440124577878,64.615598754221224,null,{"$f":"IF(N269<0,A269,1000000000)","v":1000000000},{"$f":"A269^2","v":291760561},null,10.953904852441759,-25.853749733309424,null,6.8005702632854632,-89.530651512469376]
[17180,4.581117137843056,1.3507371558735344,1.0001015083760152,1.4247792119030291E-2,161.92077314036464,1.5646204276956726,2.3792561591807893,1.1370210433620114,1.0002330158453578,2.158567151450997E-2,1.021850164335961,0.22855150510043182,5.3871697473906117,-115.40664460319489,64.593355396805109,null,1000000000,295152400,null,10.944973788212231,-25.736407949856513,null,6.7506750168972598,-89.670236653338378]
[17279,4.6062614406347411,1.3519580049942261,1.0001026815735186,1.4329884021425859E-2,162.85380846529145,1.5646558116066265,2.3905503943336686,1.1392083330166032,1.0002357087800779,2.1710020291606895E-2,1.0221001105765599,0.22983493783222117,5.3287154968378374,-115.42925540763447,64.570744592365529,null,1000000000,298563841,null,10.936177414914162,-25.620237492818632,null,6.701017139642552,-89.809017914815854]
[17378,4.6314125343801003,1.3531655961466,1.0001038615107785,1.4411975730668179E-2,163.78684399179159,1.5646907923784559,2.4018559588522455,1.1413750417593556,1.0002384171809777,2.1834368397214431E-2,1.0223514343023652,0.23111781117130345,5.2706282682759298,-115.45223060941368,64.547769390586325,null,1000000000,301994884,null,10.927513101776569,-25.505223098525089,null,6.6515942242182398,-89.947007510888568]
[17479.25,4.6571421534436448,1.3543871394061104,1.0001050752360312,1.4495932959634793E-2,164.74108507609458,1.5647261583197889,2.413430020606413,1.1435699864172115,1.0002412031337424,2.1961541897574766E-2,1.0226098937258594,0.23242925934366451,5.2115953530775547,-115.47610169200409,64.523898307995907,null,1000000000,305524180.5625,null,10.918785792047359,-25.388774857245533,null,6.6012886187490754,-90.087326834758542]
[17580.5,4.6828786453755482,1.3555952575661261,1.0001062960108238,1.4579889984229254E-2,165.69532636407416,1.5647611169154405,2.4250155987181072,1.1457439686497954,1.0002440052634169,2.2088714687452448E-2,1.0228697919124361,0.2337401167900782,5.1529359742535945,-115.5003474172608,64.499652582739202,null,1000000000,309073980.25,null,10.910191244326592,-25.273504294567768,null,6.5512237876458803,-90.226843122693026]
[17681.75,4.7086218974781744,1.3567901672662657,1.0001075238351302,1.466384680326872E-2,166.64956785223157,1.5647956751627528,2.4366125289137885,1.1478972670687497,1.0002468235698656,2.2215886762739969E-2,1.0231311278202941,0.23505038068424111,5.0946450428158734,-115.52496447326376,{"$f":"IF(O275>0,O275,O275+180)","v":64.475035526736235},null,1000000000,312644283.0625,null,10.901726840264516,-25.159395847903365,null,6.5013972602702355,-90.365568625360382]
[17783,4.7343717994757881,1.3579720805857365,1.0001087587089248,1.4747803415570372E-2,167.60380953714767,1.5648298398997167,2.4482206498730448,1.1500301557766353,1.0002496580529514,2.2343058119329937E-2,1.0233939004029495,0.23636004820925993,5.0367175663128947,-115.54994953656092,64.450050463439084,null,1000000000,316235089,null,10.893390023931735,-25.046434203885106,null,6.4518066001000385,-90.503515332675818]
[17886.5,4.7607006823633373,1.3591670420163919,1.0001100283105435,1.4833625515455917E-2,168.5792567927266,1.5648643640863973,2.4600981306818923,1.1521896277062011,1.0002525722442599,2.2473054758958146E-2,1.0236639962005045,0.23769820013852155,4.9778733727482951,-115.57586671847797,64.424133281522032,null,1000000000,319926882.25,null,10.88499721938096,-24.932131925202899,null,6.4013552110862113,-90.643734793275101]
[17990,4.7870362884279247,1.3603488570953732,1.0001113052783868,1.4919447396813845E-2,169.55470424692649,1.5648984910381352,{"$f":"SQRT(1+(A278/Zero2)^2)","v":2.471986973437907},{"$f":"ATAN(A278/Zero2)","v":1.1543283378810369},1.0002555033388643,2.2603050638912919E-2,{"$f":"SQRT((1-(S278/pterm2))^2+(A278/pterm1)^2)","v":1.0239355910083352},0.2390357229766821,4.919398716518474,-115.6021613956938,64.397838604306202,null,1000000000,323640100,null,10.876732527400772,-24.818996404031569,null,6.3511452468365794,-90.783164991662247]
[18093.5,4.8133785073152922,1.361517738332507,1.0001125896124263,1.5005269058380771E-2,170.53015189633896,1.5649322275715083,2.4838870149930883,1.1564465649964264,1.000258451336616,2.2733045754807377E-2,1.0242086836935933,0.24037261374553393,4.8612885630240941,-115.62882999580444,64.371170004195562,null,1000000000,327374742.25,null,10.868593409028794,-24.707012062617366,null,6.3011742117141782,-90.9218179331871]
[18197,4.8397272310463642,1.3626738937529064,1.0001138813126338,1.5091090498893334E-2,171.50559973763316,1.5649655803480189,2.495798095158793,1.1585445831701813,1.0002614162373653,2.2863040102254793E-2,1.0244832731184095,0.24170886947727366,4.8035379734074528,-115.6558689434317,64.344131056568301,null,1000000000,331130809,null,10.860577386178987,-24.596163576591195,null,6.2514396449473422,-91.059705366840475]
[18303,4.8667190294100626,1.3638449977903238,1.0001152118485066,1.5178984690612688E-2,172.5046093164764,1.5649993477761217,2.5080081600232362,1.1606726127601998,1.0002644702742742,2.2996173608688577E-2,1.0247660453497334,0.24307674059655607,4.7447600762376805,-115.68394114296069,64.316058857039309,null,1000000000,334999809,null,10.852492803926616,-24.483799181421521,null,6.2007463300299426,-91.200141961539174]
[18409,4.8937174287697669,1.3650031815543735,1.0001165501106377,1.5266878647787535E-2,173.50361908975108,1.5650327263479273,2.5202294723471845,1.1627800129704355,1.0002675420402927,2.3129306299790871E-2,1.0250503850682631,0.24444393936267339,4.686349135187645,-115.71239420565158,64.287605794348423,null,1000000000,338891281,null,10.844532262803499,-24.372594436108979,null,6.1502959301030202,-91.339799769542566]
[18515,4.9207223204729393,1.3661486546311812,1.000117896098996,1.5354772369060795E-2,174.50262905411793,1.5650657227418503,2.5324618692945697,1.1648670638803036,1.0002706315352576,2.3262438170849834E-2,1.0253362910354431,0.24581046262166972,4.6283001423571655,-115.74122429428063,64.258775705719373,null,1000000000,342805225,null,10.836693288387064,-24.262533675660144,null,6.1000859116889758,-91.478690618620519]
[18621,4.9477335982133113,1.3672816221651574,1.0001192498135507,1.5442665853075414E-2,175.50163920631357,1.5650983434842456,2.5447051910140548,1.1669340408954847,1.0002737387590046,2.3395569217153803E-2,1.0256237620072983,0.24717630723117448,4.5706081854654954,-115.77042757686957,64.229572423130435,null,1000000000,346741641,null,10.828973466023806,-24.153601494154454,null,6.0501137771605675,-91.616826082715122]
[18729.5,4.9753884395609376,1.3684285687846927,1.0001206434569803,1.5532632049483994E-2,176.52421110989985,1.5651313511952858,2.5572484208347408,1.1690292603822845,1.0002769376270684,2.3531839287545452E-2,1.0259196324564548,0.24857365904207598,4.5119203059976645,-115.80070212413108,64.199297875868922,null,1000000000,350794170.25,null,10.821192513428315,-24.043253162722547,null,5.9992068502882265,-91.757448961408542]
[18838,5.0030497536032712,1.3695628341981807,1.0001220451952799,1.5622597994433404E-2,177.54678320359551,1.565163978693737,2.5698027672158306,1.1711040172066476,1.000280155069688,2.3668108483830868E-2,1.026217139947081,0.24997029318921121,4.4535963846446034,-115.83135957664601,64.168640423353992,null,1000000000,354870244,null,10.813531464722866,-23.934055420827917,null,5.9485439776406146,-91.897304155818063]
[18946.5,5.0307174335703086,1.3706846246930178,1.0001234550284162,1.5712563686468353E-2,178.56935548413452,1.5651962325113584,2.582368068025735,1.1731585920771774,1.000283391086684,2.380437680095767E-2,1.0265162831276229,0.25136620634052131,4.3956314498091356,-115.86239585351642,64.137604146483582,null,1000000000,358969862.25,null,10.805987914095887,-23.825992559005051,null,5.89812259343213,-92.036403294511373]
[19055,5.0583913750037235,1.3717941421694448,1.0001248729563543,1.5802529124133581E-2,179.59192794832532,1.5652281190311488,2.5949441641330671,1.1751932609494742,1.0002866456778761,2.3940644233873667E-2,1.026817060640695,0.25276139517681273,4.3380206251230726,-115.89380688701986,64.106193112980137,null,1000000000,363093025,null,10.798559514233455,-23.719049131592115,null,5.8479401686084973,-92.174757755427748]
[19165.75,5.0866455514707978,1.3729142158546834,1.000126328636632,1.5894359940667353E-2,180.63570601844557,1.5652602944677194,2.6077920260900931,1.1772498756417393,1.0002899869163611,2.4079736571979819E-2,1.027125759581309,0.25418476606584728,4.279575340290771,-115.9262515870758,64.073748412924203,null,1000000000,367325973.0625,null,10.791093448372171,-23.611026710172872,null,5.7969609496374774,-92.315224876902931]
[19276.5,5.1149060389593046,1.3740219138259835,1.0001277927508492,1.5986190489108265E-2,181.67948427342176,1.565292100198066,2.6206508099530965,1.1792863164372276,1.0002933475070055,2.4218827978186253E-2,1.0274361584643561,0.25560737534049544,4.2214890311565645,-115.95907823216707,64.040921767832927,null,1000000000,371583452.25,null,10.783742595770828,-23.504138931896353,null,5.7462254931046131,-92.454939300270738]
[19387.25,5.1431727334366464,1.3751174373918689,1.0001292652989688,1.6078020767908721E-2,182.72326271008598,1.5653235425577925,2.6335203557357412,1.1813028620793153,1.000296727449614,2.4357918447120548E-2,1.0277482558276398,0.25702921951246321,4.1637568040201609,-115.99228254852321,64.007717451476793,null,1000000000,375865462.5625,null,10.776504638064758,-23.398370188639056,null,5.695731223674283,-92.593912359884143]
[19498,5.1714455331221574,1.376200983576916,1.0001307462809537,1.6169850775521136E-2,183.7670413253424,1.5653546277385639,2.6464005064311649,1.1832997865388,1.0003001267439906,2.4497007973410492E-2,1.0280620502027653,0.25845029510757794,4.106373858933984,-116.02586028293211,63.974139717067885,null,1000000000,380172004,null,10.769377313468153,-23.293705137479044,null,5.6454756031847086,-92.732155145453078]
[19611.75,5.2004904383492931,1.3773016150022537,1.0001322761594376,1.6264167993764417E-2,184.83909403616366,1.5653861894887418,2.6596404329778527,1.1853306609602299,1.0003036382635391,2.4639864174877655E-2,1.028386109689859,0.25990906112776019,4.0477951796851643,-116.06073185558762,63.939268144412381,null,1000000000,384620738.0625,null,10.762169774939274,-23.18733801678907,null,5.5941044624647684,-92.873393838798563]
[19725.5,5.2295415734132229,1.3783900192845184,1.0001338149348087,1.6358484922619525E-2,185.91114692898776,1.5654173872385537,2.6728912203812945,1.1873414075942565,1.0003071701970345,2.4782719370452837E-2,1.0287119562114815,0.26136700898544202,3.9895749914295293,-116.09598832782355,63.904011672176452,null,1000000000,389095350.25,null,10.755074284206977,-23.082103220051458,null,5.5429797649414301,-93.013885107772126]
[19839.25,5.2585988350637285,1.3794663965127401,1.0001353626070257,1.6452801560409774E-2,186.98320000068421,1.5654482272488393,2.6861527079117238,1.1893323081717981,1.0003107225442613,2.4925573554316065E-2,1.0290395881564538,0.26282413496317708,3.9317083875905801,-116.13162516739258,63.868374832607415,null,1000000000,393595840.5625,null,10.7480885665624,-22.977984963659846,null,5.4920988787470568,-93.153640203732749]
[19953,5.287662122298614,1.3805309424897152,1.0001369191760474,1.6547117905458507E-2,188.05525324819394,1.5654787156376739,2.6994247378693221,1.1913036395191556,1.0003142953050017,2.5068426720647612E-2,1.0293690039068522,0.26428043535939882,3.8741905561602352,-116.16763787020821,63.83236212979179,null,1000000000,398122209,null,10.741210403344674,-22.874967736841963,null,5.4414592105344415,-93.292670133366258]
[20069,5.3173063908611304,1.3816045594498418,1.0001385156968199,1.6643299545318568E-2,189.14851212252054,1.5655094511684238,2.7129699883883154,1.1932940925161959,1.0003179597586906,2.5214104500051449E-2,1.0297067709694596,0.2657646876385602,3.8158893059313366,-116.2047453622497,63.795254637750304,null,1000000000,402764761,null,10.734304711905152,-22.771030918795361,null,5.3900636517450629,-93.433714443454335]
[20185,5.3469567204705477,1.3826662706262443,1.0001401214697518,1.6739480877219919E-2,190.24177117347691,1.5655398334445305,2.7265258806105956,1.1952647607676163,1.0003216454409871,2.5359781209048082E-2,1.0300463896838896,0.2672480736283695,3.7579409451940808,-116.24223436714625,63.757765632853747,null,1000000000,407434225,null,10.72750638277566,-22.668207381842834,null,5.3389136201372978,-93.574026985303419]
[20301,5.3766130108525632,1.3837162706148747,1.0001417364947989,1.683566189938453E-2,191.33503039803543,1.5655698685212678,2.7400922565950099,1.19721592271924,1.0003253523516562,2.5505456841466361E-2,1.0303878583128778,0.26873058945451239,3.7003406599556237,-116.28010020536219,63.719899794637811,null,1000000000,412130601,null,10.720813232887183,-22.566481518801911,null,5.2880064847873154,-93.713618686560281]
[20417,5.406275163913171,1.3847547498455772,1.0001433607719163,1.6931842610034407E-2,192.42828979323707,1.5655995623163013,2.7536689613919352,1.1991478519259586,1.0003290804904621,2.5651131391135409E-2,1.0307311751120343,0.27021223126001931,3.6430837288878082,-116.31833823200067,63.68166176799933,null,1000000000,416853889,null,10.714223133085925,-22.465837994835528,null,5.2373396535207606,-93.852500237165103]
[20536,5.4367104331196749,1.3858083100692349,1.000145036670234,1.7030510427289269E-2,193.54982331260402,1.5656296754802821,2.7676073615016747,1.2011100411988935,1.0003329271051433,2.5800572254472676E-2,1.0310852894426841,0.27173127914508682,3.5846979508936028,-116.35794709352942,63.642052906470582,null,1000000000,421727296,null,10.707567505540233,-22.363700518733715,null,5.1856095030722482,-93.994246574795682]
[20655,5.4671516698224325,1.3868501389394583,1.0001467223052694,1.7129177912917633E-2,194.67135700546015,1.5656594416705125,2.7815563106001506,1.203052557914263,1.000336796059659,2.5950011965176809E-2,1.0314413450327822,0.27324939905010254,3.5266637401432259,-116.39793785602741,63.602062143972589,null,1000000000,426629025,null,10.701015955279221,-22.262670250981369,null,5.1341268425828854,-94.135267605046039]
[20774,5.4975987748920021,1.3878804290893263,1.000148417676973,1.7227845065000066E-2,195.79289086882414,1.5656888668495077,2.7955156507766352,1.2049756820050308,1.0003406873537504,2.6099450516586589E-2,1.0317993399759791,0.27476658686821637,3.468976288795103,-116.43830562362982,63.561694376370184,null,1000000000,431559076,null,10.694566350440002,-22.162731493846415,null,5.0828889960739767,-94.275574129783379]
[20893,5.5280516513639597,1.3888993690064357,1.0001501227852951,1.7326511881617174E-2,196.9144248997826,1.5657179568439457,2.8094852271423396,1.2068796884165369,1.0003446009871564,2.624888790204109E-2,1.0321592723582285,0.27628283851196744,3.4116308819601455,-116.4790455420509,63.520954457949102,null,1000000000,436517449,null,10.688216612233495,-22.063868827583661,null,5.0318933274455286,-94.415176714467236]
[21014.75,5.5592141448672256,1.3899303014894013,1.0001518773740565,1.7427458464559228E-2,198.06187690445702,1.5657473781315345,2.8237880651640439,1.2088081911174893,1.0003486281810439,2.6401777458824077E-2,1.0325295256169384,0.27783315646625789,3.3533094365057607,-116.52110706125902,63.478892938740984,null,1000000000,441619717.5625,null,10.681821377509417,-21.963819403867166,null,4.9799671167152244,-94.557287657391853]
[21136.5,5.5903824809497085,1.3909497394280286,1.0001536421545427,1.7528404692287558E-2,199.20932907860117,1.5657764604840134,2.8381012993258214,1.210717249043904,1.0003526787581085,2.6554665781035641E-2,1.0329018028170438,0.27938248588400588,3.295336330515648,-116.56354798619755,63.436452013802452,null,1000000000,446751632.25,null,10.675526439707641,-21.864864593379444,null,4.9282889485268848,-94.698683392818097]
[21258.25,5.6215565624300661,1.3919578719129804,1.0001554171266991,1.7629350562746733E-2,200.3567814193033,1.5658052097246229,2.8524247731267347,1.2126071411012467,1.0003567527180666,2.6707552861543343E-2,1.0332761018840189,0.28093082245107109,3.237706802073208,-116.60636325703153,63.393636742968468,null,1000000000,451913193.0625,null,10.669329735141391,-21.766988749252864,null,4.8768561246506961,-94.839374507778672]
[21380,5.6527362942530068,1.3929548839560038,1.0001572022904717,1.7730296073881376E-2,201.50423392371812,1.5658336315439652,2.866758333082764,1.2144781411705987,1.0003608500606318,2.6860438693215097E-2,1.0336524207351245,0.28247816187474273,3.1804161814626504,-116.64954786172561,63.350452138274392,null,1000000000,457104400,null,10.663229251764996,-21.670176504896229,null,4.8256659874165324,-94.979371356829375]
[21504.5,5.6846260374155646,1.3939631043366594,1.0001590383156789,1.7833521294697799E-2,202.67760441291188,1.5658623625306056,2.8814259226387446,1.21637214534587,1.0003650641314727,2.7016776499395229E-2,1.0340393261542185,0.28405941583815647,3.1221772277281747,-116.69408465848198,63.305915341518016,null,1000000000,462443520.25,null,10.657088437049424,-21.572261719909335,null,4.7735678483976312,-95.121822938572635]
[21629,5.7165214945738256,1.3949600749458526,1.0001608849979879,1.7936746135427072E-2,203.85097506748383,1.565890762764899,2.8961037438742538,1.2182469580829425,1.0003693026525395,2.717311298460352E-2,1.0344283391996985,0.28563961809369587,3.0642830737606044,-116.73899721618032,63.261002783819677,null,1000000000,467813641,null,10.651044142735662,-21.475427496935609,null,4.7217179887438219,-95.263569719244714]
[21753.5,5.7484225706144789,1.3959459810780506,1.0001627423373396,1.8039970593871517E-2,205.02434588459451,1.5659188379255657,2.9107916420079363,1.2201028566224323,1.0003735656235215,2.732944814121473E-2,1.0348194576181966,0.28721876412095609,3.006729010796179,-116.78428033275,63.215719667249999,null,1000000000,473214762.25,null,10.645094375186515,-21.379658276187609,null,4.6701136933285428,-95.404622056562388]
[21878,5.7803291725073223,1.3969210040236471,1.0001646103336743,1.8143194667833488E-2,206.19771686146919,1.5659465935620693,2.9254894652616521,1.2219401131603949,1.0003778530441063,2.7485781961604019E-2,1.0352126791476093,0.28879684942315376,2.9495104213141992,-116.82992885968335,63.170071140316651,null,1000000000,478646884,null,10.639237190875523,-21.284938779504127,null,4.6187522881575545,-95.544990080179261]
[22005.25,5.8129461542629421,1.397906501832842,1.0001665306035861,1.824869839201913E-2,207.39700583343995,1.5659746377315815,2.9405220406867567,1.2237989656485302,1.0003822604320691,2.7645567549911335E-2,1.0356167572345876,0.29040869124658286,2.8913699241887909,-116.87695799061225,63.123042009387746,null,1000000000,484231027.5625,null,10.633344332068335,-21.189196229477201,null,4.5665046498393354,-95.687761761135079]
[22132.5,5.8455687185811289,1.3988810009773578,1.0001684620063445,1.8354201709907408E-2,208.59629496664778,1.566002359430692,2.9555646732167284,1.2256389028210724,1.0003866933610006,2.7805351726209421E-2,1.0360230275609641,0.29201941554474392,2.8335704123013223,-116.92435814892934,63.075641851070657,null,1000000000,489847556.25,null,10.627544240050568,-21.094518890107924,null,4.5145052299696324,-95.829839258821465]
[22259.75,5.8781967725162847,1.3998446827413191,1.0001704045418849,1.8459704619151973E-2,209.79558425832758,1.5660297641895311,2.9706172100698538,1.2274601996645227,1.0003911518305608,2.7965134482358205E-2,1.0364314876835161,0.29362901759303206,2.7761072364569737,-116.97212401170525,63.027875988294753,null,1000000000,495496470.0625,null,10.621834992507592,-21.000891322217086,null,4.4627513016682592,-95.97123268948819]
[22387,5.9108302251595992,1.400797724486784,1.0001723582101427,1.856520711740654E-2,210.99487370577711,1.5660568574124984,2.985679501445877,1.2292631261164761,1.0003956358404087,2.8124915810218053E-2,1.0368421351497639,0.29523749269281074,2.7189758375620188,-117.02025031485765,62.979749685142352,null,1000000000,501177769,null,10.616214715626723,-20.908298368702663,null,4.4112401796541754,-96.111951946155031]
[22517.5,5.9443026593186286,1.4017642378273909,1.0001743733384041,1.8673403749158025E-2,212.22479349459994,1.5660843245635023,3.001136465446991,1.2310932971922119,1.0004002608998179,2.82887765051404E-2,1.0372655399417849,0.29688587330481808,2.6607251997712114,-117.06997469156502,62.930025308434978,null,1000000000,507037806.25,null,10.610541390342121,-20.81439956824369,null,4.3586628671479657,-96.255575123321336]
[22648,5.9777805841471272,1.4027199263419574,1.0001764001751707,1.8781599943659636E-2,213.45471344168942,1.566111475184651,3.0166033787976017,1.2329047067534251,1.0004049128200527,2.8452635680545679E-2,1.0376912399808786,0.29853305874241648,2.6028140715551693,-117.12006713074254,62.879932869257459,null,1000000000,512931904,null,10.604957796952302,-20.72155750049863,null,4.3063353323217477,-96.398509630243922]
[22778.5,6.0112639079092034,1.4036649691559959,1.0001784387203712,1.8889795698380861E-2,214.68463354432549,1.566138314716067,3.0320800892401336,1.2346976301154886,1.0004095916007387,2.8616493327655958E-2,1.0381192325919377,0.30017904402307438,2.5452378163569191,-117.17052214697735,62.829477853022652,null,1000000000,518860062.25,null,10.59946206403689,-20.629756702251704,null,4.2542548100389084,-96.54076544472565]
[22909,6.0447525408869209,1.4045995415025405,1.0001804889739341,1.8997991010791249E-2,215.91455379985001,1.5661648484739192,3.0475664475144266,1.236472337478393,1.0004142972414987,2.8780349437693815E-2,1.0385495150899295,0.3018238241931761,2.48799188777252,-117.22133431947842,62.778665680521584,null,1000000000,524822281,null,10.594052367722073,-20.53898199627492,null,4.2024185777693264,-96.682352323203503]
[23042.25,6.0789522600678572,1.405543182271322,1.0001825945130531,1.9108465842029958E-2,217.17039207022125,1.5661916312636772,3.063388949569374,1.2382659225855315,1.0004191297579401,2.8947656859145778E-2,1.0389912248202213,0.30350201589415349,2.4298758364303832,-117.27358020618384,62.726419793816163,null,1000000000,530945285.0625,null,10.58861560225658,-20.447337689280776,null,4.1497392918926801,-96.826242516903065]
[23175.5,6.1131573317310401,1.4064762639190544,1.0001847122590375,1.9218940206788122E-2,218.42623049458135,1.5662181060789366,3.0792212050905765,1.2400410694065185,1.0004239902776162,2.9114962659568151E-2,1.0394353162738854,0.30517894081365327,2.3720948780560183,-117.32618724277417,62.673812757225832,null,1000000000,537103800.25,null,10.583264839993006,-20.356732079748635,null,4.0973090957818883,-96.969455163025501]
[23308.75,6.1473676665299175,1.4073989610929967,1.0001868422118096,1.9329414102372121E-2,219.68206907028946,1.5662442782013777,3.0950630644015686,1.2417980497923671,1.0004288788001185,2.9282266829618434E-2,1.0398817865610255,0.30685459377185881,2.3146444494414689,-117.37914986533988,62.620850134660117,null,1000000000,543297826.5625,null,10.577998283744135,-20.267149893845474,null,4.0451252234162114,-97.111999971494384]
[23442,6.1815831770821958,1.4083114446452918,1.0001889843712917,1.9439887526088412E-2,220.9379077947647,1.566270152792596,3.1109143807848287,1.2435371305070355,1.0004337953250366,2.9449569359954679E-2,1.0403306327813049,0.30852896962057019,2.2575200760015117,-117.43246257892532,62.567537421074675,null,1000000000,549527364,null,10.572814182095353,-20.178576142324719,null,3.9931849516250373,-97.253886436600624]
[23578.5,6.2166384895994344,1.4092357682752554,1.0001911914354116,1.9553054931466838E-2,222.22437688364971,1.5662963552391709,3.1271619701882019,1.245300341583675,1.0004388607999888,2.962095072985535E-2,1.0407928869919529,0.31024285434355475,2.1993359197094691,-117.4874329340836,62.5125670659164,null,1000000000,555945662.25,null,10.567587350617138,-20.088872307924198,null,3.9402276268112102,-97.398560626159394]
[23715,6.2516990538846366,1.4101497251586188,1.0001934113087851,1.9666221835957107E-2,223.51084612335055,1.5663222560570762,3.1434191811472805,1.2470453200037019,1.0004439556591065,2.9792330359236747E-2,1.0412576282538084,0.3119553880646202,2.1414846877895117,-117.54275921290456,62.457240787095444,null,1000000000,562401225,null,10.562443465734059,-20.000195746023902,null,3.8875202797743293,-97.542563466880623]
[23851.5,6.2867647820722858,1.4110534872235849,1.0001956439913269,1.9779388236663972E-2,224.79731551127801,1.566347860424756,3.1596858651476261,1.2487723366534835,1.0004490799019414,2.996370823805836E-2,1.0417248534156043,0.31366656535308413,2.0839618453046227,-117.59843573064138,62.401564269358616,null,1000000000,568894052.25,null,10.557380785326767,-19.91253123210597,null,3.8350601176967327,-97.68590449853545]
[23988,6.321835588233542,1.4119472226506864,1.0001978894829511,1.9892554130692245E-2,226.08378504490176,1.5663731734027895,3.1759618766317939,1.2504816572999335,1.000454233528042,3.01350843562803E-2,1.0421945593149728,0.31537638081325858,2.0267629455604808,-117.65445687639672,62.345543123603278,null,1000000000,575424144,null,10.552397611890363,-19.825863828222445,null,3.782844391388998,-97.828593048174298]
[24127.75,6.3577465866083651,1.4128520217056151,1.0002002017087519,2.0008413922827824E-2,227.40088495387545,1.5663987923558305,3.1926349264881702,1.2522136153000183,1.000459540300048,3.0310539023808966E-2,1.0426780154128736,0.31712548971683852,1.968533218250047,-117.71216311072803,62.287836889271972,null,1000000000,582148320.0625,null,10.547376433389282,-19.738150614253506,null,3.7296358425796425,-97.974012496474558]
[24267.5,6.3936627313543983,1.413746656141079,1.0002025273606694,2.0124273177728653E-2,228.7179850103804,1.5664241162492361,3.2093174536986613,1.2539275724272541,1.0004648778702137,3.0485991824605898E-2,1.0431640650413825,0.31887315983767667,1.9106338842732833,-117.77021891128079,62.229781088719207,null,1000000000,588911556.25,null,10.542435129551681,-19.651451761699853,null,3.6766778124404782,-98.118767149580904]
[24407.25,6.4295839362275782,1.4146312948778759,1.0002048664386101,2.0240131892288054E-2,230.0350852118824,1.5664491501511977,3.2260093112337347,1.2556237979504461,1.0004702462380461,3.0661442747898893E-2,1.0436527047713235,0.32061938549968744,1.8530604450393953,-117.82861849326858,62.171381506731421,null,1000000000,595713852.5625,null,10.537572015431746,-19.56575213236416,null,3.6239674873265249,-98.262866360904411]
[24547,{"$f":"SQRT(1+(A332/Pole1)^2)","v":6.4655101168884519},{"$f":"ATAN(A332/Pole1)","v":1.4155061031456861},{"$f":"SQRT(1+(A332/Zero1)^2)","v":1.0002072189424793},{"$f":"ATAN(A332/Zero1)","v":2.0355990063399425E-2},{"$f":"SQRT(1+(A332/Pole2)^2)","v":231.35218555590512},{"$f":"ATAN(A332/Pole2)","v":1.5664738990144937},3.2427103550098049,1.2573025560039033,{"$f":"SQRT(1+(A332/pole4)^2)","v":1.0004756454030497},{"$f":"ATAN(A332/pole4)","v":3.0836891782916438E-2},1.0441439311617697,{"$f":"IF((ATAN((A332/pterm1)/(1-A332^2/pterm2))>0),ATAN((A332/pterm1)/(1-A332^2/pterm2)),PI()+ATAN((A332/pterm1)/(1-A332^2/pterm2)))","v":0.32236416106539872},{"$f":"20*LOG10(((D332*H332)/(B332*F332*L332*J332))*Adc)","v":1.795808489600077},{"$f":"((E332+I332)-(C332+G332+M332+K332))*radconv","v":-117.88735615020443},62.112643849795575,null,1000000000,602555209,null,{"$f":"20*LOG10((H332/(F332*J332))*Aea)","v":10.532785449439414},{"$f":"(I332-(G332+K332))*radconv","v":-19.481036875621427},null,{"$f":"20*LOG10((D332/(B332*L332))*Acs*Am)","v":3.5715020978795402},{"$f":"(E332-(C332+M332))*radconv","v":-98.406319274583012}]
[24690,6.5022768547925676,1.416391248337135,1.0002096400535481,2.0474542044790038E-2,232.69991628549286,1.5664989334227761,3.2598091570390468,1.2590025436932006,1.0004812020093288,3.101641906215865E-2,1.0446492554123734,0.32414800589353532,1.7375533668697574,-117.947803887296,62.052196112703996,null,{"$f":"IF(N333<0,A333,1000000000)","v":1000000000},{"$f":"A333^2","v":609596100},null,10.527965138707469,-19.39535527704782,null,3.518067285881167,-98.552448610248192]
[24833,6.5390486298231325,1.417266439132844,1.0002120752220671,2.0593093450581152E-2,234.04764715923909,1.566523679516747,3.2769172814508503,1.2606847856159777,1.0004867908608024,3.1195944341460693E-2,1.0451572807055838,0.32593032057600674,1.6796257818417608,-118.00859376535971,61.991406234640294,null,1000000000,616677889,null,10.523221633667728,-19.310673802219831,null,3.4648832058929102,-98.697919963139867]
[24976,6.5758253574778651,1.4181318411970631,1.0002145244479341,2.0711644277444635E-2,235.39537817466771,1.5665481422485135,3.2940345829931164,1.2623495488212786,1.0004924119569301,3.1375467609284204E-2,1.0456680033173149,0.32771109919859387,1.6220212795632847,-118.06971991987938,61.930280080120625,null,1000000000,623800576,null,10.518553308084526,-19.226977433428043,null,3.411947029197635,-98.842742486451314]
[25119,6.6126069551231028,1.4189876165675117,1.0002169877310456,2.083019452205246E-2,236.74310932935899,1.5665723264574192,3.3111609193401996,1.263997095225097,1.0004980652971682,3.1554988854091637E-2,1.0461814195110988,0.32949033588955684,1.5647354919244321,-118.1311765686291,61.868823431370899,null,1000000000,630964161,null,10.513958577737148,-19.144251440604332,null,3.3592559719061628,-98.986925128024751]
[25265.25,6.6502294512252016,1.4198530491908157,1.0002195215378553,2.0951438484677381E-2,238.12147087914789,1.5665967771462086,3.3286856904095909,1.2656645453896151,1.0005038804735111,3.1738588022661669E-2,1.046709286452175,0.33130840880745477,1.50647295315426,-118.19436586494197,61.805634135058028,null,1000000000,638332857.5625,null,10.509333936512675,-19.060633962288499,null,3.3056180743604631,-99.13373190265348]
[25411.5,6.6878568721321603,1.4207087442030566,1.0002220700479161,2.1072681831238876E-2,239.49983256965581,1.5666209463993856,3.3462196195678802,1.2673145254847897,1.0005097293751011,3.1922185050807704E-2,1.0472399628577664,0.33312485662268149,1.4485348078131706,-118.25788887454345,61.742111125456546,null,1000000000,645744332.25,null,10.50478305109516,-18.978001197504923,null,3.2522308144368872,-99.279887677038531]
[25557.75,6.725489135184846,1.4215548637999862,1.0002246332611149,2.1193924558177119E-2,240.87819439846712,1.5666448390482448,3.3637625636028665,1.2689472997893714,1.0005156120013468,3.2105779926190056E-2,1.0477734446914506,0.33493967319204676,1.3909166511216098,-118.32173967283933,{"$f":"IF(O339>0,O339,O339+180)","v":61.678260327160672},null,1000000000,653198585.0625,null,10.500304354975649,-18.896338280302327,null,3.1990913538648362,-99.425401392537012]
[25704,6.7631261595533729,1.4223915666223979,1.0002272111773394,2.1315166661932401E-2,242.25655636322108,1.5666684598141274,3.3813143822015328,1.2705631274660127,1.0005215283516533,3.2289372636469922E-2,1.0483097279038178,0.33675285241895392,1.3336141641644883,-118.385912421052,61.614087578948002,null,1000000000,660695616,null,10.495896322254479,-18.815630631560463,null,3.1461968996288876,-99.570281789491531]
[25853.75,6.801668750079747,1.4232386976515066,1.0002298660222033,2.143930963666953E-2,243.66790490660929,1.5666923689615204,3.3992952964225163,1.2722003301333036,1.000527621233531,3.2477356762118312E-2,1.0488617437446437,0.33860772106290649,1.2752630045720659,-118.4519485173401,61.548051482659901,null,1000000000,668416389.0625,null,10.491454466055767,-18.733966418676314,null,3.0922875962351766,-99.717982098663811]
[26003.5,6.8402161666853338,1.4240762814161951,1.0002325362820061,2.1563451950486003E-2,245.07925358768526,1.5667160027356088,{"$f":"SQRT(1+(A342/Zero2)^2)","v":3.4172852263253759},{"$f":"ATAN(A342/Zero2)","v":1.2738202993506964},1.0005337494716537,3.2665338591615696E-2,{"$f":"SQRT((1-(S342/pterm2))^2+(A342/pterm1)^2)","v":1.0494166880178371},0.34046086027116029,1.2172339065858981,-118.51831003883065,61.481689961169351,null,1000000000,676182012.25,null,10.487083583166106,-18.653273700450974,null,3.0386293811386693,-99.865036338379667]
[26153.25,6.8787683282366201,1.4249044772546307,1.0002352219566242,2.1687593599560746E-2,246.49060240408394,1.5667393658665394,3.4352840302698744,1.2754232974266371,1.0005399130653723,3.2853318111718884E-2,1.0499745563348495,0.34231226365084927,1.1595224997732907,-118.58499098995448,61.415009010045523,null,1000000000,683992485.5625,null,10.482782159880241,-18.573537717976208,null,2.985219397611925,-100.01145327197828]
[26303,6.9173251553989301,1.4257234410045809,1.0002379230459335,2.1811734580072798E-2,247.9019513534941,1.5667624629767423,3.4532915694995858,1.2770095815511677,1.0005461120140329,3.3041295309185682E-2,1.0505353442934839,0.34416192486040742,1.1021244989896786,-118.65198546461509,61.348014535384905,null,1000000000,691847809,null,10.478548721906346,-18.494743999435073,null,2.9320548348022104,-100.15724146518002]
[26456,6.9567235130335288,1.4265508023362587,1.000240698676552,2.1938569077722559E-2,249.34393071562761,1.5667857913153787,3.4716988037487013,1.2786132928622131,1.0005524820110112,3.3233349732759307E-2,1.0511113137248109,0.34604992312897537,1.043800110525416,-118.7207516618103,61.279248338189703,null,1000000000,699919936,null,10.474292127153149,-18.415198632918386,null,2.8779870410911452,-100.30555302889191]
[26609,6.996126579095062,1.4273688446162103,1.0002434903979429,2.2065402869411919E-2,250.78591021189644,1.5668088513854792,3.490114872628677,1.2802000838139802,1.0005588889127988,3.342540170384365E-2,1.0516903215686448,0.34793608956728234,0.98579409911638549,-118.78983295498104,61.210167045018963,null,1000000000,708038881,null,10.470103510014193,-18.336607220405121,null,2.82416964682107,-100.45322573457589]
[26762,7.0355342744737808,1.4281777233349315,1.0002462982099716,2.2192235951066095E-2,252.2278898400001,1.5668316477880704,3.508539637022515,1.2817702129191568,1.0005653327186865,3.3617451208318681E-2,1.0522723630867952,0.34982041757784199,0.9281021567532528,-118.85922332642622,61.140776673573782,null,1000000000,716204644,null,10.465981417886955,-18.258955213019679,null,2.7705997965851785,-100.60026811340653]
[26915,7.074946521813315,1.4289775905667457,1.0002491221125025,2.2319068318610462E-2,253.66986959769034,1.566854185019561,3.5269729606551774,1.2833239336185331,1.0005718134279613,3.3809498232065457E-2,1.0528574335268959,0.35170290061910675,0.87072005940386099,-118.92891685052176,61.071083149478241,null,1000000000,724417225,null,10.461924436071213,-18.182228346490678,null,2.7172746810515251,-100.74668850403107]
[27071.75,7.1153293972014744,1.429787872393022,1.000252031915086,2.2449008577775858E-2,255.14719212859296,1.5668770104511212,3.5458668183576489,1.2848989788957486,1.0005784912486142,3.4006249703270645E-2,1.0534599801344198,0.35362960281679545,0.81224853728063739,-119.00062683821317,60.999373161786835,null,1000000000,732879648.0625,null,10.457834101573852,-18.104565729282498,null,2.6628934934256638,-100.89606110893067]
[27228.5,7.1557168914766045,1.4305890081368424,1.0002549586062974,2.2578948078739045E-2,256.62451479089691,1.566899573082178,3.5647693792736148,1.2864573243215138,1.0005852078022843,3.4202998540654284E-2,1.054065695816558,0.35555435477661951,0.75409352009464625,-119.07264271976423,60.927357280235768,null,1000000000,741391212.25,null,10.453809218965164,-18.027844734815414,null,2.6087633588483596,-101.04479798494884]
[27385.25,7.1961089268694796,1.4313811507730185,1.0002579021859888,2.2708886817118825E-2,258.10183758234569,1.5669218774253593,3.5836805056845873,1.2879992266426186,1.0005919630881923,3.4399744729037215E-2,1.0546745754177442,0.35747714964681165,0.69625072624259521,-119.14495841483713,60.855041585162866,null,1000000000,749951917.5625,null,10.449848383222326,-17.952050910266806,null,2.5548814007391463,-101.19290750457034]
[27542,7.2365054273385692,1.4321644499062669,1.0002608626540104,2.2838824788534162E-2,259.57916050073447,1.5669439278905644,3.6026000627020243,1.289524937528906,1.0005987571055532,3.4596488253241534E-2,1.0552866137675792,0.35939798063721273,0.63871595771570255,-119.21756793853338,60.782432061466622,null,1000000000,758561764,null,10.445950226155231,-17.877170087815799,null,2.5012447892793483,-101.34039785071758]
[27702.5,7.277872900192583,1.432957477677179,1.0002639114456735,2.2971870524576842E-2,261.09182620195418,1.5669662473187631,3.6219808382699816,1.2910706292206977,1.0006057537908122,3.4797935783925024E-2,1.0559165617724799,0.36136272257901919,0.5801196274134226,-119.29221283683933,60.707787163160674,null,1000000000,767428506.25,null,10.442022366102769,-17.801429379699581,null,2.4465763190295284,-101.49078345713974]
[27863,7.3192448983112559,1.4337415407648939,1.000266977943068,2.3104915447223547E-2,262.60449203174016,1.5669883096162884,3.6413701752133121,1.2925998637315712,1.0006127910811922,3.4999380489230097E-2,1.0565498104522073,0.36332539134117398,0.52183758854412321,-119.36715339141833,60.632846608581673,null,1000000000,776346769,null,10.438157429847061,-17.726616704209096,null,2.3921592164159371,-101.64053668720925]
[28023.5,7.3606213453888421,1.4345167893773803,1.0002700621460308,2.3237959551771731E-2,264.1171579878835,1.5670101192010761,3.6607679374954851,1.2941128954628014,1.0006198689758361,3.5200822352867311E-2,1.0571863542092912,0.36528597983509964,0.46386559350777351,-119.44238347875336,60.557616521246644,null,1000000000,785316552.25,null,10.434354061361512,-17.652717737420716,null,2.3379905898651354,-101.78966574133264]
[28184,7.402002166817641,1.4352833704065866,1.0002731640543983,2.3371002833519026E-2,265.62982406822539,1.5670316803904296,3.6801739918896068,1.2956099737499418,1.0006269874738829,3.5402261358548584E-2,1.0578261874308352,0.36724448103984403,0.40619947771589304,-119.51789707368668,60.482102926313317,null,1000000000,794337856,null,10.430610940308791,-17.579718439889568,null,2.284067595125979,-101.93817863379712]
[28348,7.4442898163392206,1.4360578644535005,1.000276351894219,2.3506946515828527E-2,267.1754767623965,1.5670534595715861,3.700011660839615,1.2971234737760831,1.0006343031442781,3.560809014606698E-2,1.0584833653917778,0.36924352769802526,0.34758755433544108,-119.59534406343482,60.404655936565177,null,1000000000,803609104,null,10.426847088450097,-17.506042252003166,null,2.2292195236042227,-102.08930181143168]
[28512,7.4865818808045601,1.4368236086464901,1.0002795582197139,2.3642889329134581E-2,268.7211295818397,1.5670749882100969,3.7198577149309804,1.298620827657508,1.0006416612064146,3.5813915915245506E-2,1.0591439659503483,0.37124038043495478,0.28928646120570789,-119.67307464881738,60.326925351182624,null,1000000000,812934144,null,10.423143462387072,-17.433276642091137,null,2.1746220565375136,-102.23979800672625]
[28676,7.528878285813299,1.4375807495470261,1.0002827830307051,2.3778831268421001E-2,270.26678252440587,1.567096270604494,3.7397120206678891,1.3001022857877957,1.0006490616593575,3.6019738648711642E-2,1.0598079830699143,0.37323503197883062,0.23129201060450241,-119.75108270962886,60.248917290371139,null,1000000000,822312976,null,10.419498761920813,-17.361407508950517,null,2.1202723064025664,-102.38967520067835]
[28840,7.5711789586200799,1.4383294304811465,1.0002860263270132,2.3914772328671795E-2,271.81243558799457,1.567117310955537,3.75957444731957,1.3015680935514542,1.0006565045021663,3.6225558329094382E-2,1.0604754106979979,0.37522747513138854,0.17360009656352171,-119.82936222589753,60.170637774102474,null,1000000000,831745600,null,10.415911721133707,-17.290421032775175,null,2.0661674331486921,-102.53894119312231]
[29008,7.6145157060110158,1.4390877464432468,1.0002893678950295,2.4054028107838455E-2,273.39578763013327,1.5671386178064823,3.7799296100183524,1.303053676491144,1.0006641728300605,3.6436394817835421E-2,1.0611626470032263,0.37726621716824854,0.11481054942600583,-119.90982627700933,60.09017372299067,null,1000000000,841464064,null,10.412295689523596,-17.218604233738347,null,2.0109939176212879,-102.69122204327101]
[29176,7.657856782516288,1.439837479169636,1.0002927288606993,2.41932829539117E-2,274.97913979495934,1.5671596792842895,3.8002930254828335,1.3045233420085638,1.0006718856388208,3.6647228065848976E-2,1.0618534493046285,0.37930262671834547,5.6330008431156521E-2,-119.99056271334734,60.009437286652656,null,1000000000,851238976,null,10.408737581022361,-17.147685191294112,null,1.9560714851276706,-102.84287752205319]
[29344,7.7012021150453007,1.4405787727395418,1.0002961092238274,2.433253686150013E-2,276.56249208036559,1.5671804996033081,3.8206645617560016,1.3059773383157272,1.0006796429274185,3.6858058054466826E-2,1.0625478110458577,0.38133669628340183,-1.8456865431100138E-3,-120.07156537962625,59.92843462037375,null,29344,861070336,null,10.405236139846307,-17.077649924336495,null,1.9013972313294603,-102.99391545528979]
[29512,7.7445516321366838,1.4413117680438805,1.0002995089842168,2.4471789825212555E-2,278.14584448429287,1.5672010828819278,3.8410440896281868,1.3074159086250392,1.0006874446948191,3.7068884765022521E-2,1.0632457256542027,0.38336841844582759,-5.9720614286460215E-2,-120.15282822346596,59.84717177653404,null,29512,870958144,null,10.401790143459896,-17.008484732717971,null,1.8469682999725212,-103.14434349074797]
[29684,7.7889375428270737,1.4420537624970646,1.0003030097865946,2.4614357352197296E-2,279.76689587566642,1.567221914867865,3.8619169915218921,1.3088729981534215,1.0006954782974393,3.7284727743607846E-2,1.0639639311590512,0.38544607538072023,-0.11866609819669373,-120.23628922643901,59.763710773560987,null,29684,881139856,null,10.398318297449539,-16.938560128872609,null,1.7914946620726455,-103.2977290975664]
[29856,7.8333276931637128,1.4427873478348225,1.0003065309204886,2.4756923878388716E-2,281.38794738705201,1.5672425068312896,3.8827980045253923,1.3103144187661253,1.0007035585199018,3.7500567246582406E-2,1.0646858467350075,0.38752125632477036,-0.17730472209072362,-120.320010427428,59.679989572571998,null,29856,891380736,null,10.394902076822547,-16.869519336351392,null,1.7362722588056065,-103.4504910910766]
[30028,7.8777220114766937,1.44351266542769,1.0003100723856837,2.4899489398002017E-2,283.00899901638735,1.5672628628966703,3.9036869984785185,1.3117404159624344,1.0007116853610778,3.7716403253920151E-2,1.0654114652770998,0.38959395358010435,-0.2356406112428297,-120.40398565473809,59.596014345261906,null,30028,901680784,null,10.391540271267052,-16.801348524248702,null,1.6812981752089959,-103.60263713048938]
[30200,7.9221204276959627,1.4442298535122817,1.0003136341819643,2.5042053905252663E-2,284.63005076165717,1.567282987094516,3.9245838459430411,1.3131512302668009,1.0007198588198316,3.7932235745596961E-2,1.0661407796635876,0.39166415953707384,-0.29367781020459471,-120.4882088418225,59.511791158177502,null,30200,912040000,null,10.388231702626458,-16.734034141312414,null,1.6265695448878257,-103.75417470051009]
[30375.75,7.967490994259955,1.4449544213010745,1.000317294634276,2.5187725598577418E-2,286.28644532256618,1.5673033146391919,3.9459442756763843,1.314577365746995,1.0007282586310202,3.8152770235225487E-2,1.066889804962551,0.39377691960843941,-0.35267595150501041,-120.57451821416268,59.42548178583732,null,30375.75,922686188.0625,null,10.384904796863587,-16.666122975216421,null,1.5708983093502795,-103.90839523894626]
[30551.5,8.0128656963741509,1.445670783397613,1.0003209763134073,2.5333396222704637E-2,287.94284000041034,1.5673234083149816,3.9673126444876314,1.3159881414353758,1.0007367071122708,3.8373301011959696E-2,1.0676426739330109,0.39588706278283453,-0.4113705249192251,-120.66107399788942,59.338926002110583,null,30551.5,933394152.25,null,10.381631086094785,-16.599078247933196,null,1.5154774467048691,-104.06199574995621]
[30727.25,8.0582444641786566,1.4463790776876706,1.000324679219124,2.5479065771463912E-2,289.59923479318314,1.5673432721347855,3.988688824782114,1.3173837986192294,1.0007452042623508,3.8593828054443377E-2,1.0683993789249122,0.39799458122657533,-0.46976559709874333,-120.74787004874761,59.252129951252385,null,30727.25,944163892.5625,null,10.378409411020284,-16.532886363418218,null,1.460304049599852,-104.21498368532939]
[30903,8.1036272293722043,1.4470794390010091,1.0003284033511903,2.5624734238685117E-2,291.25562969892383,1.5673629100202182,4.0100726916396496,1.3187645736775682,1.0007537500800201,3.881435134132253E-2,1.0691599122712552,0.40009946720157308,-0.52786515519993005,-120.83490032885598,59.16509967114402,null,30903,954995409,null,10.375238643183843,-16.467534001620187,null,1.4053752593351061,-104.3673663272358]
[31083,8.1501115178588286,1.4477886512177345,1.0003322395427583,2.5773924144437934E-2,292.9520797886052,1.5673827925992692,4.0319815046416467,1.3201635544118975,1.0007625529991504,3.9040203424023097E-2,1.0699427972046709,0.40225251697924824,-0.58706744637211528,-120.92427177645358,59.07572822354642,null,31083,966152889,null,10.372042820535274,-16.401457868845938,null,1.3493687908114889,-104.52281390760766]
[31263,8.1965998592070868,1.4484898189602999,1.000336097999178,2.5923112902612636E-2,294.64852999276189,1.567402446228906,4.0538981235216713,1.3215474111908732,1.0007714069654414,3.926605152195313E-2,1.0707296815542711,0.40440278930826951,-0.64596797710185028,-121.01387643196503,58.986123568034969,null,31263,977375169,null,10.368898095978242,-16.336234928738289,null,1.2936129846387847,-104.67764150322677]
[31443,8.2430921848465442,1.4491830776496344,1.0003399787201919,2.6072300506581464E-2,296.34498030942802,1.5674218748410307,4.0758224223578132,1.32291638273124,1.0007803119775387,3.9491895612178869E-2,1.0715205570302084,0.40655027618621281,-0.70457078436453702,-121.10370814281805,58.89629185718195,null,31443,988662249,null,10.365803351572163,-16.271851727802616,null,1.2381049217821776,-104.83185641501541]
[31623,8.2895884277392664,1.4498685596991681,1.0003438817055408,2.6221486949716964E-2,298.04143073668234,1.567441082278024,4.0977542778793925,1.3242707028650023,1.0007892680340791,3.9717735671768999E-2,1.0723154153254737,0.40869496971506636,-0.76287982611441052,-121.1937608648516,58.806239135148402,null,31623,1000014129,null,10.362757499226785,-16.20829508729031,null,1.1828417323776823,-104.98546577756129]
[31807,8.3371219010272615,1.4505613717134873,1.000347894435603,2.6373987440429566E-2,299.77558017466697,1.5674604918544648,4.1201811927591114,1.3256402140847532,1.0007984758711999,3.994859020949032E-2,1.0731320450346564,0.41088442783507589,-0.82218503462354486,-121.28603700919673,58.713962990803267,null,31807,1011685249,null,10.35969339244618,-16.144166951834553,null,1.1266006306491534,-105.14187005736214]
[31991,8.3846593306643449,1.451246328158305,1.0003519304299688,2.6526486704139547E-2,301.50972972428747,1.5674796781604512,4.1426157516110056,1.3269948944987808,1.000807737043709,4.0179440486998022E-2,1.073952818937389,0.41307095072133704,-0.88119139563136883,-121.37853166238811,58.621468337611887,null,31991,1023424081,null,10.356678167037018,-16.080875522407492,null,1.0706094950504912,-105.2976561399806]
[32175,8.4322006497374922,1.451923561256109,1.0003559896883563,2.6678984733768757E-2,303.2438793836285,1.5674986450263948,4.1650578309151989,1.3283349788275163,1.0008170515501256,4.0410286479805838E-2,1.074777728107281,0.41525453027439818,-0.93990289348606915,-121.47123870613079,58.528761293869209,null,32175,1035230625,null,10.35371075145321,-16.018407568582514,null,1.0148654127795982,-105.4528311375483]
[32359,8.4797457928288527,1.4525932002926543,1.0003600722104826,2.6831481522239381E-2,304.9780291508186,1.5675173961955866,4.1875073097587672,1.3296606969702247,1.0008264193889609,4.0641128163430219E-2,1.0756067636008353,0.41743515850782809,-0.99832343458343364,-121.56415213158402,58.435847868415976,null,32359,1047104881,null,10.350790102805973,-15.956750131173937,null,0.95936552032946865,-105.60740200041009]
[32547.5,8.5284576233295688,1.4532714736085375,1.0003642787007234,2.6987706557271927E-2,306.75459029941425,1.5675363861034521,4.2105133742364798,1.3310041754661048,1.0008360716358411,4.0877610937561766E-2,1.0764603439825025,0.4196660486215581,-1.0578750254155085,-121.65954574174087,58.340454258259129,null,32547.5,1059339756.25,null,10.347845460719222,-15.894411989881506,null,0.90275857158414752,-105.76513375185934]
[32736,8.5771733328205251,1.4539420424618892,1.0003685096059107,2.7143930274657634E-2,308.53115155735685,1.5675551573187587,4.2335269558095394,1.332333049958728,1.0008457798524988,4.1114089137146169E-2,1.0773182359314941,0.42189382468614772,-1.1171293113128149,-121.75514352782179,58.244856472178213,null,32736,1071645696,null,10.344947773559408,-15.832897804077762,null,0.84640197284665475,-105.92224572374404]
[32924.5,8.6258928555806147,1.4546050367901815,1.000372764925735,2.7300152666787716E-2,310.30771292276813,1.5675737135976422,4.2565479325514799,1.3336475526677556,1.0008555440373055,4.1350562735868283E-2,1.0781804297787898,0.42411847848195555,-1.1760902504147615,-121.8509393726773,58.149060627322697,null,32924.5,1084022700.25,null,10.342096007769721,-15.772194482259145,null,0.7902927995343938,-106.07874489041819]
[33113,8.6746161273600801,1.4552605836385542,1.0003770446598845,2.7456373726053793E-2,312.0842743938129,1.5675920586107119,4.2795761851205718,1.3349479110156681,1.0008653641886232,4.1587031707416067E-2,1.0790469158383382,0.42634000191257609,-1.2347617232870829,-121.94692727045835,58.053072729541654,null,33113,1096470769,null,10.339289157535612,-15.712289202880193,null,0.73442817689618467,-106.23463806757815]
[33305.75,8.7244417457679457,1.4559233388919255,1.0003814461326013,2.761611562458793E-2,313.90089107170172,1.5676106025108365,4.303131044367233,1.3362631935144225,1.000875463620974,4.1828827395250477E-2,1.0799373664112235,0.42860836740643615,-1.2944606620470009,-122.04527180561705,57.954728194382952,null,33305.75,1109272983.0625,null,10.336464449115033,-15.651845426395306,null,0.67755394655684464,-106.39342637922176]
[33498.5,8.7742711528154302,1.4565785668076983,1.0003858731323008,2.7775856113389084E-2,315.71750785629138,1.5676289330103206,4.3266932668311719,1.337564152763457,1.0008856215684807,4.2070618189271762E-2,1.0808322843899094,0.43087344305756359,-1.3538649011412827,-122.14380479717552,57.85619520282448,null,33498.5,1122149502.25,null,10.333684662404401,-15.592209804318319,null,0.62092949417319365,-106.55159499285722]
[33691.25,8.824104284319592,1.4572263943478065,1.0003903256586439,2.7935595184323831E-2,317.53412474575055,1.5676470537717551,4.3502627328687442,1.3388510171304404,1.000895838029362,4.2312404061357826E-2,1.0817316593660202,0.43313522060696447,-1.4129783503903837,-122.24252017051333,57.75747982948667,null,33691.25,1135100326.5625,null,10.330948806372845,-15.533369460385337,null,0.56455190095564889,-106.70915071012801]
[33884,8.8739410775344645,1.457866945647238,1.0003948037112902,2.8095332829259162E-2,319.35074173828963,1.5676649683743935,4.3738393253788317,1.3401240102481102,1.0009061130018255,4.2554184983390024E-2,1.0826354809145509,0.43539369192882438,-1.471804842991977,-122.34141196318552,57.658588036814479,null,33884,1148125456,null,10.328255916635456,-15.475311784849373,null,0.50841829809144412,-106.86610017833614]
[34081.5,8.9250097488388747,1.4585158617681619,1.0003994185952969,2.8259005452503292E-2,321.21212631044563,1.5676831142682186,4.3980041956197997,1.3414142149480985,1.0009167018740714,4.280191902620345E-2,1.0835661769977949,0.43770438167870412,-1.5317872946841338,-122.4429176523963,57.557082347603696,null,34081.5,1161548642.25,null,10.32554025134071,-15.416622298991637,null,0.45115151169403012,-107.02629535340466]
[34279,8.9760821356292375,1.4591573937110724,1.0004040602784836,2.8422676561312699E-2,323.07351098714952,1.5677010510672924,4.4221763068840767,1.3426903169460609,1.0009273521734317,4.3049647812225811E-2,1.0845015192990468,0.44001158339452179,-1.5914763819720505,-122.54459624037921,57.455403759620793,null,34279,1175049841,null,10.322867728284805,-15.358728557001909,null,0.39413494746202271,-107.1858676833773]
[34476.5,9.0271581748429313,1.4597916662833408,1.0004087287604773,2.8586346146939601E-2,324.93489576660448,1.5677187823649914,4.4463555410766418,1.3439525421226763,1.0009380638979448,4.3297371311219392E-2,1.0854414965523773,0.44231528876711723,-1.6508759905244035,-122.64644166463449,57.353558335365506,null,34476.5,1188629052.25,null,10.320237391610956,-15.301617821023425,null,0.33736567558351871,-107.34482384361108]
[34674,9.0782378048321011,1.4604188015070385,1.0004134240409024,2.8750014200636713E-2,326.79628064705497,1.5677363116728238,4.470541782622945,1.3452011116494798,1.0009488370456392,4.354508949295037E-2,1.0863860974757305,0.44461548963221525,-1.7099899297044061,-122.74844797650135,57.251552023498647,null,34674,1202286276,null,10.317648311255578,-15.24527761832298,null,0.28084081675889505,-107.50317035817837]
[34875.75,9.1304202615733008,1.4610521867232538,1.0004182480282644,2.8917202634280798E-2,328.69772074768048,1.567754013205563,4.4952556051359078,1.3464626747349742,1.0009599054385498,4.3798132797534875E-2,1.0873557874913211,0.44696156171230694,-1.7700848681490395,-122.85280940942253,57.147190590577466,null,34875.75,1216317938.0625,null,10.315045172988818,-15.188507914373391,null,0.22334901658102299,-107.66430149504912]
[35077.5,9.1826063395958855,1.4616783729489862,1.0004230999790193,2.9084389450904097E-2,330.59916095011681,1.5677715111176698,4.5199765037918551,1.3477104401708879,1.0009710379224181,4.4051170489785831E-2,1.0883302784632785,0.44930396007306989,-1.8298895106378716,-122.95732653353053,57.042673466469466,null,35077.5,1230431006.25,null,10.312483202606257,-15.132516769346971,null,0.16610634447475028,-107.82480976418357]
[35279.25,9.2347959775079822,1.4622974817423446,1.0004279798927604,2.9251574641183973E-2,332.50060125261729,1.5677888089024128,4.5447043631188446,1.3489446292599965,1.0009822344951058,4.4304202537487979E-2,1.089309558316873,0.45164267647668388,-1.8894076833335502,-123.06199336072254,56.938006639277461,null,35279.25,1244625480.5625,null,10.309961486831256,-15.077291701832436,null,0.10910988755406935,-107.98470165889012]
[35481,{"$f":"SQRT(1+(A396/Pole1)^2)","v":9.2869891152935846},{"$f":"ATAN(A396/Pole1)","v":1.4629096319507813},{"$f":"SQRT(1+(A396/Zero1)^2)","v":1.0004328877690787},{"$f":"ATAN(A396/Zero1)","v":2.9418758195798353E-2},{"$f":"SQRT(1+(A396/Pole2)^2)","v":334.40204165347495},{"$f":"ATAN(A396/Pole2)","v":1.5678059099736084},4.5694390701123115,1.3501654586808329,{"$f":"SQRT(1+(A396/pole4)^2)","v":1.0009934951544626},{"$f":"ATAN(A396/pole4)","v":4.4557228908430439E-2},1.0902936149622162,{"$f":"IF((ATAN((A396/pterm1)/(1-A396^2/pterm2))>0),ATAN((A396/pterm1)/(1-A396^2/pterm2)),PI()+ATAN((A396/pterm1)/(1-A396^2/pterm2)))","v":0.45397770284078354},{"$f":"20*LOG10(((D396*H396)/(B396*F396*L396*J396))*Adc)","v":-1.9486431373286195},{"$f":"((E396+I396)-(C396+G396+M396+K396))*radconv","v":-123.16680401689092},56.833195983109078,null,35481,1258901361,null,{"$f":"20*LOG10((H396/(F396*J396))*Aea)","v":10.307479137043927},{"$f":"(I396-(G396+K396))*radconv","v":-15.022820490816033},null,{"$f":"20*LOG10((D396/(B396*L396))*Acs*Am)","v":5.2356783346331821E-2},{"$f":"(E396-(C396+M396))*radconv","v":-108.14398352607488}]
[35687.75,9.3404793329922828,1.4635298553094962,1.0004379462882542,2.9590083378375546E-2,336.3506058324719,1.5678232342662248,4.5947937696459284,1.3514029055988652,1.001005101374892,4.4816520146010452E-2,1.0913070028011405,0.45636676186706182,-2.0090571636093757,-123.27435540380435,56.72564459619565,null,{"$f":"IF(N397<0,A397,1000000000)","v":35687.75},{"$f":"A397^2","v":1273615500.0625},null,10.304975203887867,-14.967768907406441,null,-5.5533097783690673E-3,-108.30658649639787]
[35894.5,9.3939731028393147,1.4641430152057422,1.0004430341723052,2.976140682338814E-2,338.29917011125525,1.567840358986984,4.6201554278417749,1.3526267688110991,1.001016774893279,4.507580535348929E-2,1.092325381379581,0.45875192899752326,-2.0691820267959553,-123.38204570336805,56.61795429663195,null,35894.5,1288415130.25,null,10.30251079859802,-14.913483832885635,null,-6.3213767675096802E-2,-108.46856187048243]
[36101.25,9.4474703644954179,1.4647492311672281,1.0004481514207837,2.9932728520805439E-2,340.2477344881105,1.567857287564659,4.6455239307300094,1.3538372671565666,1.0010285157072691,4.5335084496215663E-2,1.0933487376406934,0.46113319603791908,-2.129021530585145,-123.48986895101021,56.510131048989791,null,36101.25,1303300251.5625,null,10.300085040352403,-14.859952923169546,null,-0.1206275132186687,-108.62991602784066]
[36308,9.5009710589764413,1.4653486200500641,1.000453298033239,3.0104048460597374E-2,342.1962989613624,1.567874023349926,4.6708991667863229,1.3550346148774204,1.0010403238144947,4.5594357539543134E-2,1.0943770585135597,0.46351055496265636,-2.1885794038684359,-123.59781929765809,56.402180702341909,null,36308,1318270864,null,10.297697072194536,-14.807164093081507,null,-0.17779741834409368,-108.79065520457659]
[36519.5,9.5557044028021902,1.4659548346186972,1.0004585932702856,3.0279302579562004E-2,344.18963103566438,1.5678909475600145,4.6968642421176039,1.3562460825840124,1.0010524728359089,4.5859580931825697E-2,1.095434128023909,0.46593848075441296,-2.2492179969809065,-123.70837529373759,56.291624706262411,null,36519.5,1333673880.25,null,10.295292474500464,-14.75391797323214,null,-0.23603141376249503,-108.95445732050545]
[36731,9.6104412183118644,1.4665541439462595,1.0004639192350979,3.0454554837980378E-2,346.18296320741695,1.567907676869861,4.722836135018265,1.3574442277894061,1.0010646922730935,4.6124797867896743E-2,1.0964963651731567,0.46836230033985971,-2.3095695325987182,-123.81905227317365,56.180947726826346,null,36731,1349166361,null,10.292925682289667,-14.701423639599895,null,-0.29401615716950869,-109.11762863357379]
[36942.5,9.6651814465219115,1.4671466649251972,1.0004692759271852,3.062980522511714E-2,348.17629547494619,1.5679242146269063,4.7488147336297537,1.3586292656690542,1.0010769821234697,4.6390008310682622E-2,1.097563755927216,0.47078200567044304,-2.3696377715813171,-123.9298443339019,{"$f":"IF(O403>0,O403,O403+180)","v":56.070155666098103},null,36942.5,1364748306.25,null,10.290595850801141,-14.649668953209526,null,-0.3517545646635814,-109.28017538069238]
[37154,9.7199250297738597,1.4677325118338709,1.0004746633460537,3.0805053730237595E-2,350.16962783661671,1.5679405641023709,4.7747999284993368,1.3598014068634117,1.0010893423844447,4.6655212223115201E-2,1.0986362862394776,0.47319758887897706,-2.429426400775144,-124.04074568994274,55.959254310057261,null,37154,1380419716,null,10.28830215820183,-14.598642030555233,null,-0.40924950125809295,-109.44210365938748]
[37370.25,9.7759014890435552,1.4683247318510708,1.0004802035280984,3.0984236119416031E-2,352.20772780562726,1.5679570894227457,4.8013754237903825,1.3609867531336466,1.0011020530375601,4.6926365461182631E-2,1.0997382034630223,0.47566315274076276,-2.4902724657476831,-124.15424483504755,55.84575516495245,null,37370.25,1396535585.0625,null,10.285993485014519,-14.547209459205577,null,-0.46778689304332538,-109.60703537584196]
[37586.5,9.8318813379201178,1.4689102082174803,1.0004857758315331,3.1163416518399531E-2,354.24582786971416,1.5679734245912369,{"$f":"SQRT(1+(A406/Zero2)^2)","v":4.8279575909598158},{"$f":"ATAN(A406/Zero2)","v":1.362159048281379},1.0011148372939094,4.7197511793920947E-2,{"$f":"SQRT((1-(S406/pterm2))^2+(A406/pterm1)^2)","v":1.1008454639559349},0.47812439118963068,-2.550833786875037,-124.26784636723927,55.732153632760728,null,37586.5,1412744982.25,null,10.28372092479815,-14.496513371547449,null,-0.52607565395430755,-109.77133299569185]
[37802.75,9.8878645188330729,1.4694890550720177,1.0004913802558209,3.134259491571606E-2,356.28392802724579,1.5679895728710915,4.854546320407497,1.3633185035037965,1.0011276951506727,4.7468651181725934E-2,1.1019580526678612,0.48058129639871017,-2.6111140768814751,-124.38154446240054,55.618455537599459,null,37802.75,1429047907.5625,null,10.281483668737842,-14.44654185157448,null,-0.58411868790043797,-109.9350026108261]
[38019,9.9438509755050308,1.4700613840010757,1.0004970168004217,3.1521771299894336E-2,358.32202827662752,1.5680055374513138,4.8811415048945941,1.3644653255350063,1.0011406266050142,4.773978358499946E-2,1.1030759545379019,0.48303386073542032,-2.6711169754056021,-124.49533341275915,55.504666587240848,null,38019,1445444361,null,10.279280929996427,-14.397283234742495,null,-0.64191884768314922,-110.09805017801663]
[38240.5,10.001199979472723,1.4706409644264746,1.0005028234849009,3.1705295531941589E-2,360.40960851005025,1.5680217024245162,4.9083889351710717,1.3656271040086783,1.0011539482986076,4.8017491111121864E-2,1.1042264886805473,0.48554145909325452,-2.7322927457989059,-124.61197321449501,55.388026785504991,null,38240.5,1462335840.25,null,10.277059698877615,-14.347555885341398,null,-0.70087338695764356,-110.26441732915364]
[38462,10.058552304668625,1.4712139356848231,1.0005086638670677,3.1888817627556597E-2,362.49718883656561,1.5680376812132168,4.9356429172911911,1.3667760536378031,1.0011673472006071,4.8295191225385781E-2,1.105382565076509,0.48804448766012976,-2.7931849950121759,-124.72869657792049,55.271303422079512,null,38462,1479325444,null,10.274873078000066,-14.298552482335323,null,-0.75957901529336691,-110.43014409558516]
[38683.5,10.115907894603444,1.4717804098154565,1.000514537946332,3.2072337574414675E-2,364.5847692545745,1.5680534770156354,4.9629033433158192,1.3679123827640096,1.0011808233079125,4.8572883885258676E-2,1.1065441675118168,0.49054293886112277,-2.8537974075585257,-124.84549773282312,55.154502267176881,null,38683.5,1496413172.25,null,10.272720288980858,-14.250261269435798,null,-0.81803863882050942,-110.59523646338731]
[38905,10.173266694058624,1.4723404963478102,1.0005204457221002,3.2255855360192043E-2,366.67234976251416,1.5680690929571588,4.9901701076391909,1.3690362953073223,1.0011943766174067,4.8850569048214866E-2,1.1077112797643214,0.49303680533052513,-2.9141335952676286,-124.96237102633754,55.037628973662464,null,38905,1513599025,null,10.270600574647702,-14.202670739520999,null,-0.87625511219645402,-110.75970028681654]
[39131.5,10.231923537314623,1.472906731968719,1.0005265217016703,3.2443513511999061E-2,368.80705407535896,1.5680848785883719,5.0180588214212376,1.3701729461160237,1.0012083157033427,4.9134514702301152E-2,1.1089104185400385,0.49558221815882891,-2.9755498143776697,-125.08195137336971,54.918048626630295,null,39131.5,1531274292.25,null,10.268466446863847,-14.154718782983176,null,-0.93553720352263703,-110.92723259038652]
[39358,10.290583623758733,1.4734665122675648,1.0005326329149355,3.2631169377997461E-2,370.94175847904756,1.5681004825325413,5.0459539467406165,1.3712970310604005,1.0012223355095824,4.9418452427273336E-2,1.11011528435971,0.49812282202021474,-3.0366846111118435,-125.20159556193742,54.798404438062576,null,39358,1549052164,null,10.266365367439434,-14.107475933232323,null,-0.99457092083240251,-111.09411962870512]
[39584.5,10.349246898243265,1.4740199466638118,1.0005387793612501,3.281882294501276E-2,373.07646297202069,1.5681159079084419,5.0738553778489628,1.3724087545773538,1.0012364360327348,4.9702382177682983E-2,1.1113258598566402,0.50065860970956122,-3.0975416233246755,-125.32129791196311,54.678702088036886,null,39584.5,1566932640.25,null,10.264296591192485,-14.06093065298545,null,-1.0533591567982816,-111.26036725897764]
[39811,10.407913306860902,1.4745671421256121,1.0005449610399648,3.3006474199871419E-2,375.21116755275432,1.5681311577638744,5.1017630112876091,1.3735083167542914,1.0012506172693898,4.998630390808937E-2,1.1125421276589034,0.50318957424508726,-3.1581244170697098,-125.44105286085707,54.55894713914293,null,39811,1584915721,null,10.262259393269344,-14.015071650101111,null,-1.1119047526201766,-111.42598121075595]
[40042.75,10.467942721877698,1.4751206724704253,1.0005513224687743,3.3198472580220781E-2,377.39535213027057,1.5681465825292424,5.1303238244692313,1.3746209822912685,1.0012652107480773,5.0276798257369894E-2,1.1137924607206664,0.50577420433020315,-3.2198312676193441,-125.56363234706295,54.436367652937051,null,40042.75,1603421827.5625,null,10.26020692484148,-13.968848484911593,null,-1.1715591347419481,-111.59478386215136]
[40274.5,10.527975307652284,1.4756678903035327,1.0005577207808154,3.3390468512086109E-2,379.57953679654463,1.5681618297795863,5.1588909187870016,1.3757213265210746,1.0012798887180319,5.0567284114328974E-2,1.1150487162201659,0.5083537710024354,-3.2812583708500647,-125.6862554825528,54.313744517447205,null,40274.5,1622035350.25,null,10.258186042681373,-13.923320621185983,null,-1.2309653558125622,-111.7629348613668]
[40506.25,10.588011010251364,1.4762089026732181,1.0005641559753811,3.358246198135962E-2,381.76372155005299,1.5681769025617491,5.1874641904712533,1.376809550359362,1.0012946511755381,5.0857761430317588E-2,1.1163108755382596,0.51092826749994424,-3.342409324706872,-125.8089166742898,54.191083325710196,null,40506.25,1640756289.0625,null,10.256196032228049,-13.878476719089232,null,-1.2901262992160447,-111.93043995520057]
[40738,10.648049776955215,1.4767438142281284,1.000570628051759,3.3774452973934659E-2,383.94790638930704,1.568191803853243,5.2160435380039116,1.3778858504346772,1.0013094981168587,5.1148230156695354E-2,1.1175789200540844,0.51349768729937573,-3.4032876560373015,-125.93161044707355,54.068389552926448,null,40738,1659584644,null,10.25423619844516,-13.834305680447471,null,-1.349044796763583,-112.09730476662608]
[40975.25,10.709516532150113,1.477285207652788,1.0005772919308946,3.3970997806754943E-2,386.18392741776677,1.5682068841833852,5.2453073342146865,1.3789755430888664,1.001324784923971,5.1445583474920974E-2,1.1188831353169368,0.51612282036423274,-3.4653319857466345,-126.05724420075497,53.942755799245035,null,40975.25,1678971112.5625,null,10.252260406552644,-13.789772019774478,null,-1.4091133345804008,-112.26747218098049]
[41212.5,10.770986390550016,1.477820421784463,1.0005839944616866,3.4167540014009713E-2,388.41994853303993,1.5682217908873475,5.2745772897451211,1.3800531430537997,1.0013401602645076,5.1742927687857529E-2,1.120193478938019,0.51874261982962511,-3.5270978588882791,-126.18290085503828,53.817099144961716,null,41212.5,1698470156.25,null,10.250314826524114,-13.745920749417646,null,-1.4689336276935128,-112.43698010562066]
[41449.75,10.832459299326594,1.4783495615141267,1.0005907356433579,3.4364079580567482E-2,390.65596973363563,1.5682365269465068,5.3038533026223655,1.3811188480522016,1.0013556241343899,5.2040262743347124E-2,1.1215099309398684,0.52135707946263354,-3.5885888393111598,-126.30857490263482,53.691425097365183,null,41449.75,1718081775.0625,null,10.248398772186803,-13.702740708531204,null,-1.528508553779087,-112.60583419410364]
[41687,10.893935206841336,1.4788727293788813,1.0005975154751277,3.4560616491297991E-2,392.89199101809737,1.5682510952743709,5.3331352730917985,1.3821728515737819,1.0013711765295172,5.2337588589241549E-2,1.1228324713474704,0.52396619328498573,-3.6498084203159573,-126.43426095462502,53.565739045374983,null,41687,1737805969,null,10.24651157615593,-13.660220974915227,null,-1.5878409387530099,-112.77403997970977]
[41929.75,10.956839318284509,1.4794019488945345,1.0006044924826336,3.4761706814421617E-2,395.17984849774001,1.568265830690307,5.3631021314773779,1.3832393752903733,1.0013871810879476,5.2641797544545628E-2,1.1241919522053621,0.52663025324948365,-3.7121698735032416,-126.56286762363463,53.437132376365369,null,41929.75,1758103935.0625,null,10.244609823107416,-13.6173878335265,null,-1.6483006388917787,-112.94547979010815]
[42172.5,11.019746463410904,1.4799251263675151,1.0006115099513366,3.496279432511129E-2,397.46770606220127,1.5682803964696577,5.393075022447845,1.3842940454377441,1.001403278314873,5.2945996747883556E-2,1.1255577647313828,0.52928870481986012,-3.7742543785419707,-126.69147581420873,53.308524185791271,null,42172.5,1778519756.25,null,10.242736925935095,-13.575223573420148,null,-1.708512246758187,-113.1162522407886]
[42415.25,11.082656590561331,1.4804423644009819,1.0006185678803854,3.5163879007163938E-2,399.75556371002472,1.5682947955249797,5.4230538459780036,1.3853370562307328,1.0014194682058251,5.325018614342749E-2,1.1269298875437921,0.53194154240778102,-3.836065459370559,-126.82008012180357,53.179919878196429,null,42415.25,1799053432.5625,null,10.240892226925562,-13.533717230584116,null,-1.7684786285772423,-113.28636289121945]
[42658,11.145569649240525,1.4809537632943277,1.0006256662689235,3.5364960844377846E-2,402.04342143978744,1.5683090307025329,5.453038504222687,1.3863685977152003,1.0014357507563096,5.3554365675360475E-2,1.1283082992681974,0.53458876069560346,-3.8976065700808151,-126.94867526045569,53.051324739544313,null,42658,1819704964,null,10.239075086400824,-13.492858076073219,null,-1.8282025987627617,-113.45581718438245]
[42906.5,11.209975909532636,1.4814713297674216,1.00063297470391,3.5570802727496124E-2,404.38547155759011,1.5683234362250476,5.4837393504287553,1.3874128873496643,1.0014525149633127,5.3865740008648272E-2,1.1297258531397985,0.53729285763113943,-3.9603292967336712,-127.08030152792638,52.91969847207362,null,42906.5,1840967742.25,null,10.237242799296151,-13.451690498169983,null,-1.8890930383109446,-113.6286110297564]
[43155,11.27438513838865,1.4819829827841777,1.0006403255359764,3.5776641595054164E-2,406.72752175834404,1.5683376758455543,5.514446110284581,1.3884455480103151,1.0014693762618621,5.4177103887178335E-2,1.1311499520818544,0.53999105548854642,-4.0227762205918376,-127.21190734642691,52.788092653573088,null,43155,1862354025,null,10.235438090523081,-13.411179106888715,null,-1.949735253396045,-113.80072823953817]
[43403.5,11.338797285220423,1.4824888228518629,1.0006477187641889,3.5982477429675974E-2,409.06957204062439,1.5683517524135686,5.5451586855482349,1.3894667707019281,1.0014863346470542,5.4488457251108367E-2,1.1325805731962477,0.54268334943053964,-4.0849508308767382,-127.34348741450792,52.656512585492081,null,43403.5,1883863812.25,null,10.233660328830558,-13.371313118298387,null,-2.0101321019884173,-113.97217429620952]
[43652,11.403212300580547,1.4829889482187961,1.0006551543876072,3.6188310213987121E-2,411.41162240303896,1.5683656687137204,5.5758769801239056,1.3904767423168196,1.0015033901139565,5.4799800040608283E-2,1.1340176935979407,0.54536973490744933,-4.1468565475288441,-127.47503654968068,52.524963450319319,null,43652,1905497104,null,10.231908900310209,-13.332081980377572,null,-2.070286390120176,-114.14295456930307]
[43906,11.469055914531515,1.483494336919591,1.0006627983942606,3.6398695483072223E-2,413.80550897157275,1.5683797302256313,5.6072809692037975,1.3914976304460875,1.0015209233894016,5.5118022726440265E-2,1.1354933143338091,0.54810946710163388,-4.2098580139751958,-127.60945999410349,52.390540005896511,null,43906,1927736836,null,10.23014530008008,-13.292627881299989,null,-2.1315242563363963,-114.3168321128035]
[44160,11.534902424439128,1.4839939557661013,1.0006704866915341,3.6609077528627722E-2,416.1993956209854,1.5683936299801469,5.6386907371642527,1.3925071461054304,1.0015385580809848,5.5436234238218869E-2,1.1369756769348867,0.55084301769158772,-4.2725855633751362,-127.74384054137617,52.256159458623827,null,44160,1950105600,null,10.228407967638997,-13.25381546851033,null,-2.1925144732952577,-114.49002507286583]
[44414,11.600751780990556,1.4844879027610356,1.0006782192784074,3.6819456332104858E-2,418.59328234988936,1.5684073707524775,5.6701061879682904,1.3935054762488008,1.0015562941833491,5.5754434512092776E-2,1.138464757013069,0.55357038273424464,-4.33504263452906,-127.87817302545889,52.121826974541108,null,44414,1972603396,null,10.226696299978054,-13.215634185685564,null,-2.2532598767882357,-114.66253883977336]
[44668,11.666603935984201,1.4849762737056116,1.0006859961538535,3.7029831874956592E-2,420.98716915692859,1.5684209552547104,5.7015272276783975,1.3944928037992557,1.0015741316911073,5.6072623484224239E-2,1.139960530199855,0.55629155858951529,-4.3972325979392277,-128.01245239887254,51.98754760112746,null,44668,1995230224,null,10.225009710660853,-13.178073703840054,null,-2.3137632508812009,-114.83437869503248]
[44928.25,11.734079322116758,1.4854709760341309,1.0006940103249911,3.7245380580009188E-2,423.43996073868004,1.5684347147075739,5.7337271236914935,1.3954932009614462,1.001592513287163,5.6398630120363218E-2,1.1415000255424086,0.55907326952083636,-4.4606792333415095,-128.14997564737135,51.850024352628651,null,44928.25,2018547648.0625,null,10.223307035803179,-13.14022233148793,null,-2.3755072114258149,-115.00975331588339]
[45188.5,11.80155754709704,1.485960021323675,1.0007020709888717,3.7460925822582765E-2,425.89275239967481,1.5684483156741966,5.7659326938927631,1.3964824236840123,1.0016110013288841,5.6724624756087867E-2,1.1430464957055531,0.56184847615761446,-4.5238524056223115,-128.28743278123477,51.71256721876523,null,45188.5,2042000532.25,null,10.221629493218167,-13.103001439199637,null,-2.4370028411216005,-115.18443134203511]
[45448.75,11.869038562506539,1.4864435058270089,1.0007101781443715,3.7676467582732874E-2,428.34554413855165,1.5684617608771443,5.7981438437310153,1.397460656250878,1.0016295958103771,5.7050607322776094E-2,1.1445999145498722,0.56461717555562696,-4.5867555282308583,-128.42481874115987,51.575181258840132,null,45448.75,2065588876.5625,null,10.219976502763888,-13.066400620343833,null,-2.4982529732758718,-115.35841812081604]
[45709,11.936522321019659,1.4869215236307523,1.000718331790361,3.7892005840517017E-2,430.7983359539802,1.5684750529769786,5.8303604807283422,1.3984280789579975,1.0016482967257139,5.7376577751821138E-2,1.1461602559632575,0.56737936509204623,-4.6493919466431084,-128.5621285870894,51.437871412910596,null,45709,2089312681,null,10.218347500285132,-13.030409693231364,null,-2.5592603892093635,-115.53171889385806]
[45975.25,12.005564691512564,1.4874050007207049,1.0007267215260613,3.8112509634826763E-2,433.30767636174932,1.5684884957957377,5.8633254484543293,1.3994068027399917,1.0016675389226952,5.7710050717117697E-2,1.1477637072721116,0.57019849711369075,-4.7131998532370769,-128.70252028220074,51.297479717799263,null,45975.25,2113723612.5625,null,10.216705193373738,-12.994209761445509,null,-2.6214259888919376,-115.70831052075526]
[46241.5,12.07460983621424,1.4878829486750564,1.0007351599182026,3.8333009721196333E-2,435.81701684691944,1.5685017838127906,5.8962959698569035,1.4003745819133913,1.0016868925050457,5.8043510833439636E-2,1.149374348829181,0.5730108111096841,-4.7767354895005347,-128.84282222373704,51.157177776262955,null,46241.5,2138276322.25,null,10.215086847714055,-12.958627303864811,null,-2.6833432794957117,-115.88419491987221]
[46507.75,12.143657707804763,1.4883554615882384,1.0007436469655535,3.8553506078278253E-2,438.32635740816136,1.56851491968677,5.9292719522901471,1.4013315972572551,1.0017063574663094,5.8376958027375234E-2,1.1509921527721554,0.57581630529495842,-4.8400022277904746,-128.98302949210347,51.016970507896531,null,46507.75,2162970810.0625,null,10.213491907826569,-12.923652110734414,null,-2.7450150778981652,-116.05937738136907]
[46774,12.212708260032514,1.4888226314364812,1.0007521826668764,3.8773998684727203E-2,440.83569804417601,1.5685279060157735,5.9622533051425881,1.4022780256304503,1.0017259337999933,5.8710392225529963E-2,1.1526170912746783,0.57861497822235386,-4.9030033732374161,-129.12313728684492,50.876862713155077,null,46774,2187807076,null,10.211919833555839,-12.889274193442471,null,-2.806444149074379,-116.23386309340243]
[47046.25,12.283317605875524,1.4892948976897398,1.0007609610317023,3.8999456238042358E-2,443.40158727756221,1.5685410330015988,5.9959833607398139,1.4032350146974419,1.0017460664490911,5.9051326918963108E-2,1.1542859966980461,0.58146966511034393,-4.9671529994532753,-129.26629469970558,50.733705300294417,null,47046.25,2213349639.0625,null,10.210335429383894,-12.854728998733046,null,-2.8690093711182914,-116.41156570097252]
[47318.5,12.353929660016265,1.489761765328294,1.0007697902654231,3.922490982464491E-2,445.96747658647513,1.5685540089342918,6.0297188461878193,1.4041812961665825,1.0017663155329228,5.9392247869136924E-2,1.1559623031381872,0.58431721784488244,-5.0310317090912697,-129.40933832314894,50.590661676851056,null,47318.5,2239040442.25,null,10.208773837625639,-12.820787862052168,null,-2.9313264889980313,-116.58855046109673]
[47590.75,12.424544376278767,1.4902233261957092,1.0007786703666925,3.9450359421720822E-2,448.53336596961867,1.5685668364062013,6.0634596708558446,1.405117047079889,1.0017866810444276,5.9733154997638691E-2,1.157645980970968,0.58715763595123072,-5.0946428286081016,-129.55226339380778,50.447736606192223,null,47590.75,2264879485.5625,null,10.207234527279889,-12.787440783677406,null,-2.9933982981691134,-116.76482261013035]
[47863,12.495161709529167,1.4906796700684712,1.0007876013341563,3.9675805006458516E-2,451.09925542572608,1.5685795179506945,6.0972057461050788,1.4060424406345973,1.0018071629765051,6.00740482260749E-2,1.1593370006179173,0.58999091930815062,-5.1579896181168596,-129.69506526704546,50.304934732954536,null,47863,2290866769,null,10.205716982002533,-12.754677980797725,null,-3.055227542400516,-116.94038728624773]
[48141.75,12.567467705100531,1.4911415955342555,1.0007967982304176,3.9906628949414533E-2,453.72640586142666,1.5685923536589605,6.1317628623557336,1.4069793737780347,1.0018282545326902,6.0423065835794029E-2,1.1610759695492063,0.59288445557359892,-5.2225782845315614,-129.84114417810616,50.158855821893837,null,48141.75,2317628093.0625,null,10.204185231545114,-12.721728333878541,null,-3.1182844583577998,-117.11941584422766]
[48420.5,12.639776351576613,1.4915982360022124,1.0008060484478429,4.0137448637764375E-2,456.35355637102037,1.5686050415812105,6.1663253010017129,1.4079058046502952,1.0018494681197256,6.0772068707530019E-2,1.1628225724505286,0.59577051319759944,-5.2868965593917814,-129.98708445415056,50.012915545849438,null,48420.5,2344544820.25,null,10.202675247364141,-12.689371110834541,null,-3.1810927490370471,-117.29771334331602]
[48699.25,12.712087603720938,1.4920496814695721,1.0008153519849541,4.0368264047031262E-2,458.98070695323838,1.5686175842551682,6.200892973045371,1.408821907286439,1.0018708037298603,6.1121056757202578E-2,1.1645767777326894,0.59864909317540171,-5.3509477365438443,-130.13288147917501,49.867118520824988,null,48699.25,2371616950.5625,null,10.201186519919993,-12.657596480774711,null,-3.2436551987449587,-117.47528499840028]
[48978,12.784401417318895,1.4924960199059003,1.0008247088402638,4.0599075152741138E-2,461.60785760684075,1.5686299841607867,6.2354657914492435,1.4097278519319676,1.0018922613552983,6.1470029900752989E-2,1.1663385538633686,0.60152019687284097,-5.4147350440315813,-130.27853075604918,49.721469243950821,null,48978,2398844484,null,10.199718553763207,-12.626394826624946,null,-3.3059745400759084,-117.6521359294242]
[49263.25,12.858404078966807,1.4929475688932063,1.0008343390784098,4.0835263920040478E-2,464.29626924518141,1.5686425279397653,6.2708500311271846,1.4106445794368487,1.0019143456460182,6.182712501541613E-2,1.1681492166499106,0.60445051206747757,-5.4797398981378507,-130.42741881275273,49.572581187247266,null,49263.25,2426867800.5625,null,10.198237347514285,-12.595048958145442,null,-3.3694981879332597,-117.83236985460728]
[49548.5,12.932409332392764,1.4933939500245537,1.0008440251471571,4.1071448128892456E-2,466.98468095573628,1.5686549272907007,6.3062394816186194,1.4115510186857163,1.0019365576921289,6.218420434264639E-2,1.1699677408608324,0.60737300230986146,-5.5444750686700832,-130.57614299153889,49.423857008461113,null,49548.5,2455053852.25,null,10.196776875545497,-12.564283383644129,null,-3.4327728864967,-118.01185960789475]
[49833.75,13.006417133355873,1.4938352513373538,1.0008537670448849,4.1307627753079702E-2,469.67309273726539,1.5686671846937101,6.341634055686808,1.4124473404420306,1.0019588974851337,6.2541267792437502E-2,1.1717940929016122,0.61028767023919239,-5.6089438114951351,-130.72469884221465,49.27530115778535,null,49833.75,2483402639.0625,null,10.195336649796607,-12.534088456038713,null,-3.4958014035728651,-118.19061038617592]
[50119,13.08042743861497,1.4942715588845397,1.0008635647699624,4.1543802766387875E-2,472.36150458855667,1.5686793025724493,6.3770336680192896,1.4133337117433991,1.0019813650164882,6.2898315274807437E-2,1.1736282392470934,0.61319451888102161,-5.6731493173737526,-130.87308203326282,49.126917966737182,null,50119,2511914161,null,10.193916195720076,-12.504454738488894,null,-3.5585864553749511,-118.36862729477392]
[50410.75,13.156126765333182,1.4947127305036616,1.0008736435044294,4.1785354709556556E-2,475.11117742938814,1.5686915547207998,6.4132450571657058,1.4142301579657324,1.002004476644853,6.3263482197380205E-2,1.1755122082115625,0.61615952093504855,-5.7385488323138114,-131.02466343709077,48.975336562909234,null,50410.75,2541243715.5625,null,10.192483345404302,-12.474716673226425,null,-3.6225531199992367,-118.5499467638644]
[50702.5,13.231828623361102,1.4951488541500526,1.0008837806360342,4.2026901773855256E-2,477.86085034072022,1.5687036658682711,6.4494615422216954,1.4151165370358085,1.0020277218812161,6.3628632226214399E-2,1.1774042600353181,0.61911635090237394,-5.8036795271350776,-131.17605542548768,48.823944574512325,null,50702.5,2570743506.25,null,10.191070215325688,-12.445546366605434,null,-3.6862706847418898,-118.73050905888223]
[50994.25,13.307532969499551,1.4955800158076127,1.0008939761630025,4.2268443931246541E-2,480.6105233213429,1.5687156384349463,6.4856830378195669,1.4159930162193053,1.0020511007162789,6.3993765265114883E-2,1.1793043590848762,0.62206501324134722,-5.8685446149702534,-131.3272537315506,48.672746268449401,null,50994.25,2600413533.0625,null,10.189676338779607,-12.416934368157516,null,-3.7497418960309821,-118.9103193633931]
[51286,{"$f":"SQRT(1+(A460/Pole1)^2)","v":13.383239761525392},{"$f":"ATAN(A460/Pole1)","v":1.4960062995221302},{"$f":"SQRT(1+(A460/Zero1)^2)","v":1.00090423008355},{"$f":"ATAN(A460/Zero1)","v":4.250998115369637E-2},{"$f":"SQRT(1+(A460/Pole2)^2)","v":483.3601963700736},{"$f":"ATAN(A460/Pole2)","v":1.5687274747858395},6.5219094604764134,1.4168597591271588,{"$f":"SQRT(1+(A460/pole4)^2)","v":1.0020746131406908},{"$f":"ATAN(A460/pole4)","v":6.4358881217913583E-2},1.1812124698099191,{"$f":"IF((ATAN((A460/pterm1)/(1-A460^2/pterm2))>0),ATAN((A460/pterm1)/(1-A460^2/pterm2)),PI()+ATAN((A460/pterm1)/(1-A460^2/pterm2)))","v":0.62500551281084837},{"$f":"20*LOG10(((D460*H460)/(B460*F460*L460*J460))*Adc)","v":-5.9331472446844256},{"$f":"((E460+I460)-(C460+G460+M460+K460))*radconv","v":-131.47825420652728},48.521745793472718,null,51286,2630253796,null,{"$f":"20*LOG10((H460/(F460*J460))*Aea)","v":10.188301261991512},{"$f":"(I460-(G460+K460))*radconv","v":-12.388871433661837},null,{"$f":"20*LOG10((D460/(B460*L460))*Acs*Am)","v":-3.8129694489570598},{"$f":"(E460-(C460+M460))*radconv","v":-119.08938277286545}]
[51584.75,13.460765489085983,1.4964378420325799,1.0009147905379785,4.2757308470454058E-2,486.17584279183018,1.5687394563848465,6.5590100894617915,1.4177373756049574,1.0020988281279277,6.4732739644273368E-2,1.1831746273859816,0.62800811080798358,-5.9990311385746367,-131.63266843744648,48.367331562553517,null,{"$f":"IF(N461<0,A461,1000000000)","v":51584.75},{"$f":"A461^2","v":2660986432.5625},null,10.186912213694896,-12.360694718441374,null,-3.8774642945506557,-119.27197371900512]
[51883.5,13.538293694720656,1.4968644420909614,1.000925412217873,4.3004630553134873E-2,488.99148928257785,1.5687513000021196,6.5961157134354407,1.4186051189013837,1.0021231831718609,6.5106579950788626E-2,1.1851451105271078,0.63100216121030706,-6.064646312137957,-131.7868667931657,48.2131332068343,null,51883.5,2691897572.25,null,10.185541954798275,-12.333074750882931,null,-3.941709209217354,-119.45379204228276]
[52182.25,13.615824336099115,1.4972861839699556,1.0009360951212845,4.3251947371649425E-2,491.80713584113153,1.5687630080075345,6.6332262485729236,1.4194631534093509,1.0021476782622787,6.5480402034291021E-2,1.1871238813446361,0.63398767050380544,-6.1299959474085615,-131.94084518635015,48.059154813649855,null,52182.25,2722987215.0625,null,10.184190037493323,-12.306002241839158,null,-4.0057069271830068,-119.63484294451099]
[52481,13.693357371848425,1.4977031500406077,1.0009468392462522,4.3499258895912184E-2,494.62278246633338,1.5687745827170045,6.6703416129042639,1.4203116399207993,1.0021723133889122,6.5854205791642584E-2,1.1891109020488659,0.63696464559007582,-6.1950831627005503,-132.09459964775235,47.905400352247653,null,52481,2754255361,null,10.182856026400506,-12.27946810539316,null,-4.0694601313821792,-119.8151315423592]
[52786.5,13.772644634034362,1.4981246821054193,1.0009578894355098,4.3752152705561667E-2,497.50204627968208,1.5687862834576736,6.7083004776334407,1.4211695870943355,1.0021976499322984,6.6236436264909881E-2,1.1911513101038749,0.64000006487471006,-6.2613727711255951,-132.25159246616735,47.748407533832648,null,52786.5,2786414582.25,null,10.181509951071753,-12.252881949251007,null,-4.1344036644784703,-119.99871051691636]
[53092,13.851934315455674,1.4985413884708854,1.0009690036398928,4.4005040915399328E-2,500.38131016035868,1.5687978495429551,6.7462642245951789,1.422017878908453,1.0022231328894804,6.6618647356502539E-2,1.1932002654536271,0.64302657584976619,-6.3273943656084981,-132.40834309035137,47.591656909648634,null,53092,2818760464,null,10.180181717441663,-12.226840178780281,null,-4.1990970253312865,-120.18150291157109]
[53397.5,13.931226374805069,1.4989533513900237,1.0009801818572686,4.4257923493266592E-2,503.26057410720745,1.568809283284025,6.7842327718283295,1.4228566762430988,1.0022487622492906,6.7000838956232323E-2,1.1952577280213077,0.64604418720306767,-6.393151084346318,-132.56484764103868,{"$f":"IF(O467>0,O467,O467+180)","v":47.435152358961318},null,53397.5,2851293006.25,null,10.178870897653638,-12.201333702346332,null,-4.2635429242810794,-120.36351393869234]
[53703,14.010520771709142,1.4993606512602897,1.0009914240854927,4.4510800407009207E-2,506.13983811909912,1.5688205869394689,6.8222060391860904,1.4236861364504292,1.0022745380004974,6.7383010953945069E-2,1.1973236578460125,0.64905290804960736,-6.458646002723718,-132.72110235623867,47.278897643761326,null,53703,2884012209,null,10.177577075730921,-12.176353627430741,null,-4.3277440207357625,-120.5447487288079]
[54015.75,14.091699330760592,1.4997728686956078,1.0010029994148806,4.4769672590458061E-2,509.08743170322577,1.5688320264001019,6.8610852801150148,1.4245257696141822,1.0023010770831793,6.7774232079594598E-2,1.1994473449203389,0.65212383108749117,-6.5254271726540916,-132.88080263698984,47.119197363010159,null,54015.75,2917701248.0625,null,10.176269734844443,-12.151316942950123,null,-4.3932178497796581,-120.72948569403971]
[54328.5,14.17288025688843,1.5001803639140516,1.0010146418247374,4.5028538769572191E-2,512.03502535320524,1.5688433341553654,{"$f":"SQRT(1+(A470/Zero2)^2)","v":6.8999693034867269},{"$f":"ATAN(A470/Zero2)","v":1.4253559400357343},1.0023277695638817,6.816543242829487E-2,{"$f":"SQRT((1-(S470/pterm2))^2+(A470/pterm1)^2)","v":1.2015798215292315},0.65518545731425082,-6.5919402967606953,-133.04023346922401,46.959766530775994,null,54328.5,2951585912.25,null,10.174979362382775,-12.126813697067531,null,-4.458440601424595,-120.91341977215644]
[54641.25,14.254063509649139,1.5005832174645177,1.0010263513127231,4.5287398909867556E-2,514.98261906790674,1.5688545124667728,6.9388580289015618,1.4261768056624684,1.0023546154303502,6.855661188197372E-2,1.2037210451881009,0.65823779785585235,-6.6581884803927194,-133.19939118059128,46.800608819408723,null,54641.25,2985666201.5625,null,10.173705548224303,-12.102834962874663,null,-4.5234149708981448,-121.09655621771664]
[54954,14.335249049514225,1.5009815080773017,1.0010381278764833,4.5546252976865001E-2,517.93021284622523,1.5688655635443562,6.9777513777425924,1.42698852097103,1.0023816146702607,6.8947770322597218E-2,1.2058709735475204,0.66128086427735111,-6.7241747667266676,-133.35827221561269,46.641727784387314,null,54954,3019942116,null,10.172447893651572,-12.079372009374353,null,-4.5881436026593612,-121.27890020623832]
[55274,14.418318915254632,1.5013843890835215,1.0010502468618236,4.5811101335656107E-2,520.94613620131099,1.5688767413624622,7.0175510362465063,1.4278097396512806,1.002409398526686,6.9347974512500909E-2,1.2080797060666182,0.6643848868278327,-6.7914227473777,-133.52054638397772,46.479453616022283,null,55274,3055215076,null,10.171177406336882,-12.055890097738443,null,-4.6541210959957056,-121.46465628623929]
[55594,14.501391094464756,1.5017826542927208,1.0010624360637832,4.6075943263296247E-2,523.96205962073645,1.5688877905016214,7.0573553740068196,1.4286216953286439,1.0024373429234879,6.9748156453950119E-2,1.2102974622814813,0.66747922617020916,-6.8584028008380029,-133.68252373164324,46.317476268356756,null,55594,3090692836,null,10.169923026938005,-12.032930269571064,null,-4.7198467700571287,-121.64959346207216]
[55914,14.584465547612474,1.5021763824534753,1.0010746954797973,4.634077872286832E-2,526.9779831033967,1.5688987131711405,7.0971643122929198,1.4294245427956573,1.0024654478472406,7.0148316020635995E-2,1.2125241972800971,0.67056389607089362,-6.9251179950168158,-133.84420081183075,46.155799188169254,null,55914,3126375396,null,10.168684363022981,-12.010483775260118,null,-4.7853233003209219,-121.83371703657063]
[56234,14.667542236060207,1.5025656505359386,1.0010870251072861,4.6605607677460678E-2,529.99390664821249,1.5689095115300387,7.1369777741217799,1.4302184334383987,1.0024937132844429,7.0548453086292595E-2,1.214759866306514,0.67363891074455062,-6.9915713364399128,-134.00557429384514,45.994425706154857,null,56234,3162262756,null,10.167461033081997,-11.98854205749044,null,-4.8505533118030328,-122.01703223635471]
[56561.5,14.7525683094855,1.5029595024919442,1.0010997164068434,4.6876636786706921E-2,533.08051596436655,1.5689204364621103,7.1777289692286397,1.4310218112168678,1.0025228073792487,7.0957944934448333E-2,1.2170571378562927,0.67677601404926602,-7.0593141222232338,-134.17041225512003,45.829587744879973,null,56561.5,3199203282.25,null,10.166224521586308,-11.96660000854801,null,-4.9170595860906658,-122.20381224657199]
[56889,14.837596645092374,1.503348840491503,1.0011124812420928,4.7147659004266332E-2,536.16712534341355,1.5689312356087846,7.2184847446479088,1.4318161177144408,1.0025520695708885,7.136741294700924E-2,1.2193636727770123,0.67990303576365341,-7.12678881892408,-134.33492552148786,45.665074478512139,null,56889,3236358321,null,10.165003296194348,-11.945169133064887,null,-4.9833130573995481,-122.38975638842295]
[57216.5,14.922627204211457,1.5037337415784284,1.0011253196102212,4.7418674290588478E-2,539.25373478427321,1.5689419111299905,7.2592450232334738,1.4326015047245835,1.002581499844643,7.1776856988762294E-2,1.2216794236112676,0.6830199925302104,-7.1939984599164699,-134.49911088192786,45.500889118072138,null,57216.5,3273727872.25,null,10.16379698116133,-11.92424084992383,null,-5.0493163833589207,-122.57487003200397]
[57544,15.007659949048753,1.5041142810557531,1.0011382315084001,4.7689682606129005E-2,542.34034428589041,1.5689524651364861,7.300009729553798,1.4333781206947596,1.0026110981857113,7.2186276924542436E-2,1.2240043430807885,0.68612690144715915,-7.2609460179333727,-134.66296524068753,45.337034759312473,null,57544,3311311936,null,10.162605211211932,-11.903806766904813,null,-5.1150721714264282,-122.75915847378269]
[57879,15.094642231517827,1.5044990993284919,1.0011515151711106,4.7966889965689187E-2,545.49763956307049,1.5689631372674433,7.3417124828703617,1.4341635984741454,1.002641548220556,7.2605047808163903E-2,1.2263919418751623,0.68929458360395313,-7.3291586087619542,-134.83022642107309,45.169773578926907,null,57879,3349978641,null,10.161400827167199,-11.883407477498114,null,-5.1820803782102756,-122.94681894357501]
[58214,15.181626723664406,1.5048795079554012,1.0011648757641831,4.8244089947859128E-2,548.65493490166455,1.5689736865704922,7.3834197146724145,1.4349402027632423,1.0026721740770017,7.3023793183142449E-2,1.2287890345626173,0.69245179004642721,-7.3971030799419433,-134.99713507032334,45.002864929676662,null,58214,3388869796,null,10.160210920933419,-11.863508102576761,null,-5.248834943156484,-123.13362696774655]
[58549,15.268613387723233,1.5052555821918776,1.001178313284538,4.8521282510335037E-2,551.81223030061858,1.5689841151539781,7.4251313494925117,1.4357080821612407,1.0027029757389383,7.3442512904970128E-2,1.231195571135453,0.69559854049626202,-7.4647824262849847,-135.1636882310608,44.836311768939197,null,58549,3427985401,null,10.159035133347015,-11.844100240553891,null,-5.3153385019131232,-123.3195879905069]
[58884,15.355602186783857,1.5056273955930122,1.0011918277290777,4.8798467610819948E-2,554.96952575890214,1.5689944250782675,7.4668473135416482,1.4364673819882252,1.0027339531901642,7.3861206829192658E-2,1.2336115017898928,0.69873485513491362,-7.5321995828445125,-135.32988305996366,44.670116940036337,null,58884,3467325456,null,10.157873115257754,-11.825175674975645,null,-5.3815936403833886,-123.50470738498798]
[59227,15.444670504713038,1.506003748524458,1.0012057446049802,4.9082264281408383E-2,558.20221937810254,1.5690048603689726,7.5095638899104511,1.4372360734179823,1.002765852520749,7.4289872534433074E-2,1.2360948077787652,0.70193527578197834,-7.6009580490236033,-135.49967259819033,44.50032740180967,null,59227,3507837529,null,10.15669725967526,-11.806291534128773,null,-5.4491762509799857,-123.69338106406155]
[59570,15.533740985161916,1.5063757854922122,1.0012197421162992,4.9366053039637495E-2,561.4349130573886,1.5690151754886756,7.5522848533820248,1.4379960687883815,1.0027979361021155,7.4718510888917414E-2,1.2385878568732869,0.70512480049376647,-7.6694476953866015,-135.6690808072776,44.330919192722405,null,59570,3548584900,null,10.155535129044903,-11.787897188407952,null,-5.5165037667126304,-123.88118361886968]
[59913,15.622813591142917,1.5067435802140789,1.001233820259652,4.9649833840129623E-2,564.66760679572837,1.5690253725012937,7.5950101299256882,1.4387475139714851,1.0028302039165791,7.5147121737770189E-2,1.2410905962918881,0.70830345236718062,-7.737671487593798,-135.83810498842601,44.161895011573989,null,59913,3589567569,null,10.154386379101998,-11.769984389339644,null,-5.5835788089769185,-124.06812059908638]
[60256,15.711888286506339,1.5071072047408132,1.001247979031638,4.9933606637514817E-2,567.90030059211313,1.5690354534237489,7.6377396471598686,1.4394905516141374,1.0028626559463563,7.557570492617624E-2,1.2436029734847309,0.71147125496190156,-7.8056323322172183,-136.00674255593822,43.993257444061783,null,60256,3630785536,null,10.153250675194291,-11.752545070552607,null,-5.650403949692631,-124.25419748538563]
[60607,15.803042651972806,1.5074750665515604,1.0012625515051945,5.0223989709816695E-2,571.20839255359965,1.5690456513429125,7.6814700875828263,1.4402423611448878,1.0028960555663997,7.60142554267942E-2,1.2461838713930897,0.71470173542351834,-7.8749090230515639,-136.17891053450694,43.82108946549306,null,60607,3673208449,null,10.152101649176632,-11.735180947939702,null,-5.7185316145093221,-124.4437295865672]
[60958,15.894199131414419,1.5078387088857583,1.0012772084050792,5.051436430522982E-2,574.51648457380634,1.5690557318219132,7.7252048205516584,1.4409856586471974,1.0029296480571046,7.6452776633806535E-2,1.2487747513017011,0.71792090597316682,-7.9439163330350757,-136.35066852642373,43.649331473576268,null,60958,3715877764,null,10.150965605255955,-11.71829612140645,null,-5.7864028805721501,-124.63237240501729]
[61309,15.985357688666364,1.5081982038327246,1.0012919497275847,5.080473037516027E-2,577.82457665172467,1.5690656968778121,7.7689437735725946,1.4417205870602225,1.0029634333990911,7.6891268381509142E-2,1.2513755576621823,0.72112879329437796,-8.0126571946303322,-136.52201411000479,43.47798588999521,null,61309,3758793481,null,10.149842214035672,-11.701882507217395,null,-5.854020350947124,-124.82013160278738]
[61660,16.076518288383262,1.5085536218510134,1.0013067754689824,5.1095087871022717E-2,581.13266878636898,1.5690755484817422,7.8126868757683559,1.4424472861584916,1.0029974115728715,7.7329730504265559E-2,1.2539862351875584,0.72432542453228355,-8.081134482028574,-136.69294497526985,43.307055024730147,null,61660,3801955600,null,10.148731155325221,-11.685932200329315,null,-5.9213865796349188,-125.00701277494055]
[62019,16.169758699383937,1.508912994973296,1.0013220264420424,5.1392054281491399E-2,584.51615909002055,1.5690855092712663,7.8574311916226458,1.443182177864671,1.003032363631956,7.7778155247684833E-2,1.2566665691888961,0.7275832983974494,-8.1509027878937435,-136.86734040259361,43.132659597406388,null,62019,3846356361,null,10.147607206268079,-11.670089563575479,null,-5.9900309364429427,-125.19725083901812]
[62378,16.263001174747547,1.5092682472731522,1.0013373657180449,5.1689011619816129E-2,587.89964945099882,1.5690953554077709,7.9021797029495549,1.4439087468610954,1.0030675173714731,7.8226548650066424E-2,1.2593571133046935,0.73082945610436012,-8.2204012697074642,-137.0412974488589,42.958702551141101,null,62378,3891014884,null,10.146495508931316,-11.654715418121933,null,-6.0584177209199037,-125.38658203073693]
[62737,16.356245679168993,1.5096194491367101,1.0013527932929325,5.1985959834041459E-2,591.28313986831938,1.5691050888594853,7.9469323388760209,1.4446271329805029,1.0031028727702196,7.8674910534409961E-2,1.2620578092399719,0.73406392812188714,-8.2896328233199057,-137.21481398641248,42.78518601358752,null,62737,3935931169,null,10.145395748662464,-11.639801854772807,null,-6.126549514263492,-125.57501213163967]
[63096,16.449492178142922,1.5099666693581684,1.0013683091626235,5.2282898872221581E-2,594.66663034102078,1.5691147115498447,7.9916890301100425,1.4453374729573714,1.0031384298068728,7.9123240723790622E-2,1.2647685989926203,0.73728674537486005,-8.3586002872589891,-137.38788799746931,42.612112002530694,null,63096,3981105216,null,10.144307619606776,-11.625341139287276,null,-6.1944288491468846,-125.76254685818202]
[63463.25,16.544883557086848,1.510317819037486,1.0013842729522064,5.2586652169457099E-2,598.12787517756692,1.5691244427256759,8.0374783780810919,1.4460559506874624,1.0031750125814598,7.9581840785438646E-2,1.267552068309258,0.74057159770322312,-8.4288822964208876,-137.56447944678081,42.435520553219192,null,63463.25,4027584100.5625,null,10.143206210035917,-11.611008800984237,null,-6.2636094487379275,-125.95347064579659]
[63830.5,16.640276952725834,1.5106649427011722,1.0014003291326257,5.2890395754121654E-2,601.58912007010156,1.5691340619248066,8.0832718280735687,1.4467662881232115,1.0032118063224,8.0040407304342545E-2,1.2703459788485174,0.7438443203251881,-8.4988937706315646,-137.74060386475367,42.259396135246334,null,63830.5,4074332730.25,null,10.142116351841985,-11.597134529541501,null,-6.3325310647546704,-126.14346933521216]
[64197.75,16.735672330574367,1.511008109111194,1.001416477699437,5.3194129570636899E-2,605.05036501766369,1.5691435710689532,8.1290693107637733,1.4474686221238153,1.0032488110064821,8.0498940091345797E-2,1.2731502694778827,0.74710494774957703,-8.5686375721058106,-137.91625942936656,42.083740570633438,null,64197.75,4121351105.0625,null,10.14103774430771,-11.58371058277306,null,-6.4011962586946414,-126.3325488465935]
[64565,16.831069656928062,1.5113473854743429,1.0014327186481711,5.3497853563435289E-2,608.51161001931439,1.5691529720361093,8.1748707583754427,1.4481630865133304,1.0032860266103651,8.0957438957376379E-2,1.2759648793917306,0.75035351493202151,-8.6381165066511585,-138.09144442649338,41.908555573506618,null,64565,4168639225,null,10.139970095129092,-11.570729389893355,null,-6.469607544061371,-126.52071503660005]
[64941,16.928741878689568,1.5116907837624467,1.0014494422544447,5.3808803767018326E-2,612.05532177111388,1.5691624868308687,8.2217674975460842,1.4488660805768687,1.0033243473963793,8.1426826554177448E-2,1.2788571773051742,0.7536670238819031,-8.7089792918584674,-138.27031413617277,41.729685863827228,null,64941,4217333481,null,10.138888064833917,-11.557889882850326,null,-6.5393882989735062,-126.71242425332248]
[65317,17.026416073825203,1.512030242194538,1.0014662626876545,5.4119743555346628E-2,615.59903357768553,1.5691718920813031,8.2686682538285492,1.4495611000680657,1.0033628892226318,8.1896178193539892E-2,1.2817601641517025,0.75696796659046106,-8.7795702159714839,-138.44868728558978,41.551312714410216,null,65317,4266310489,null,10.137816927024613,-11.545498948509417,null,-6.6089080852772186,-126.90318833708035]
[65693,17.124092208567156,1.5123658281107384,1.0014831799429216,5.4430672868820966E-2,619.14274543808904,1.5691811896683676,8.3155729592519663,1.4502482792535005,1.0034016520636511,8.2365493672831358E-2,1.2846737757485127,0.76025638194364065,-8.8498921159814348,-138.62656236771693,41.373437632283071,null,65693,4315570249,null,10.136756393619489,-11.533548990123117,null,-6.6781694518820451,-127.09301337759381]
[66069,17.221770249913025,1.5126976073269518,1.0015001940153399,5.4741591647854249E-2,622.68645735140501,1.5691903814301988,8.3624815473647871,1.450927749417128,1.0034406358938239,8.2834772789514372E-2,1.2875979482773499,0.76353230926226201,-8.9199477732144388,-138.80393798155532,41.196062018444678,null,66069,4365112761,null,10.135706184608077,-11.522032579387831,null,-6.7471749001036372,-127.28190540216748]
[66453.75,17.321723324002292,1.5130332339636483,1.0015177042447507,5.5059734936625929E-2,626.31263601866863,1.5691996794220489,8.4104857097068297,1.4516151854246877,1.003480755663664,8.3314934777372826E-2,1.2906010362831546,0.7668715857184899,-8.9913609510882821,-138.9849229605386,41.015077039461403,null,66453.75,4416100889.0625,null,10.134641939551067,-11.510689388534217,null,-6.8175238329204717,-127.47423357200438]
[66838.5,17.42167832691182,1.5133650093940056,1.0015353158393778,5.537786706875359E-2,629.93881473945521,1.5692088703680107,8.4584938014634439,1.4522948183537794,1.0035211067730163,8.3795058261745867E-2,1.2936150484454885,0.77019787079043922,-9.0625010705284019,-139.16538231349,40.834617686510001,null,66838.5,4467385082.25,null,10.133587936525878,-11.499784941779739,null,-6.8876099493354035,-127.66559737171028]
[67223.25,17.521635225631808,1.5136929994550905,1.0015530287938739,5.5695987980432425E-2,633.56499351284583,1.5692179561060986,8.5065057561054189,1.4529667796963073,1.0035616891939756,8.4275143025936611E-2,1.2966399175786052,0.7735112079334846,-9.1333709400638607,-139.34531486502451,40.654685134975495,null,67223.25,4518965340.5625,null,10.132543900042329,-11.489311798087829,null,-6.957435782387309,-127.85600306693664]
[67608,17.62159398790082,1.5140172684934223,1.0015708431028612,5.6014097607871204E-2,637.19117233794248,1.5692269384324879,8.5545215085918294,1.4536311980200367,1.0036025028984812,8.4755188853354493E-2,1.2996755769008166,0.77681164102034672,-9.2039733134351955,-139.52471954341587,40.47528045658413,null,67608,4570841664,null,10.13150956233553,-11.479262681571724,null,-7.0270038180518473,-128.04545686184412]
[68001.75,17.723892863378165,1.5143453357905918,1.0015891790537064,5.6339636646372579E-2,640.90217411215087,1.5692360256348294,8.6036643023687596,1.4543034797109005,1.0036445107421181,8.5246423283420317E-2,1.3027933482847842,0.78017596306092596,-9.2759530665154095,-139.70777327042987,40.292226729570132,null,68001.75,4624238003.0625,null,10.130460799774493,-11.469410095966088,null,-7.0979348085710248,-128.23836317446379]
[68395.5,17.826193624551113,1.5146696377044397,1.0016076211447384,5.6665163731401791E-2,644.61317593867398,1.5692450082081455,8.652810940510669,1.4549681247856721,1.0036867607561744,8.5737616475157957E-2,1.3059222803447106,0.78352686453590381,-9.3476583287283894,-139.89027218827468,40.109727811725321,null,68395.5,4677944420.25,null,10.129421651286787,-11.459986698649059,null,-7.1686009222962994,-128.43028548962559]
[68789.25,17.928496239140085,1.5149902386236396,1.001626169370095,5.6990678794630198E-2,648.32417781661343,1.5692538879491214,8.7019613578813377,1.4556252620515049,1.0037292529100694,8.622876819676889E-2,1.3090623028216466,0.78686439373293315,-9.4190918827564154,-140.07221546629827,39.927784533701725,null,68789.25,4731960915.5625,null,10.128391853358671,-11.450985199175758,null,-7.2390046783962099,-128.62123026712251]
[69183,18.030800675597508,1.5153072014786164,1.0016448237238795,5.7316181767744376E-2,652.03517974509111,1.5692626666135396,8.7511154908029418,1.4562750174478367,1.0037719871730517,8.6719878216573759E-2,1.3122133459030225,0.79018859933470675,-9.4902564573533468,-140.25360237490176,39.74639762509824,null,69183,4786287489,null,10.127371149873365,-11.442398469072616,null,-7.3091485495078352,-128.81120390582913]
[69586,18.135510308764982,1.5156279073666208,1.0016640261982162,5.7649318886609506E-2,655.83336081792959,1.5692715486313638,8.8014281382738275,1.4569325214159288,1.0038159760271401,8.7222481999679968E-2,1.3154497530902569,0.79357715182066535,-9.5628170953762837,-140.43867364944413,39.561326350555873,null,69586,4842211396,null,10.126335625595766,-11.434032244352464,null,-7.3806736632531713,-129.00464140509169]
[69989,18.240221785795097,1.515944931140111,1.0016833398332976,5.7982443195891332E-2,659.63154194191111,1.5692803283632599,8.8517445474478897,1.4575825506977524,1.0038602184334866,8.7725041607941701E-2,1.3186975582115208,0.79695185175478267,-9.6351015849713324,-140.62316087193585,39.376839128064148,null,69989,4898460121,null,10.125309107870091,-11.426085896025008,null,-7.451931635122544,-129.19707497591082]
[70392,18.344935075113963,1.5162583357875807,1.0017027646226939,5.8315554622398111E-2,663.42972311615722,1.5692890075660089,8.9020646545392292,1.4582252314942541,1.0039047143585689,8.8227556793357143E-2,1.321956687873348,0.80031275251849754,-9.7071126855267345,-140.80706356974144,39.192936430258555,null,70392,4955033664,null,10.124291344595001,-11.418552279755353,null,-7.5229249724028566,-129.3885112899861]
[70795,18.449650145863977,1.5165681828703839,1.0017223005599392,5.8648653092955222E-2,667.2279043398097,1.5692975879563895,8.9523883971914362,1.4588606871933398,1.0039494637686783,8.8730027308058013E-2,1.325227069173827,0.80365990786078934,-9.778853103349757,-140.99038136840514,39.009618631594861,null,70795,5011932025,null,10.123282090753689,-11.411424410099565,null,-7.5936561363845678,-129.57895695830558]
[71207.25,18.556770538093598,1.5168815235719668,1.0017423998997792,5.898938364223974E-2,671.11326471127302,1.5693062647999549,9.0038709114733084,1.4595033784358882,1.0039955025492133,8.9243984476169103E-2,1.3285840815532672,0.8070697240902146,-9.8519628624920639,-141.17730135217624,38.822698647823756,null,71207.25,5070472452.5625,null,10.122258228028848,-11.404545637462729,null,-7.6657420328020347,-129.77275571471353]
[71619.5,18.663892731357357,1.5171912674395358,1.0017626155345396,5.9330100479149925E-2,674.99862513268101,1.5693148417539409,9.0553571025333799,1.4601387616183139,1.0040418065127767,8.9757894375113598E-2,1.3319527152640322,0.810465271552817,-9.9247949353694214,-141.36360878750773,38.636391212492271,null,71619.5,5129352780.25,null,10.121242772870097,-11.398077154252732,null,-7.7375586505206426,-129.96553163325501]
[72031.75,18.77101669482089,1.5174974759932558,1.00178294745718,5.9670803525412083E-2,678.8839856031766,1.5693233205333978,9.1068469080108816,1.4607669601817701,1.0040883756226813,9.0271756739999182E-2,1.3353328938654767,0.81384660887467186,-9.9973520556640647,-141.54930357318784,38.450696426812158,null,72031.75,5188573008.0625,null,10.120235484501254,-11.392011970900437,null,-7.8091084824464421,-130.15729160228736]
[72444,18.878142398349226,1.5178002093595715,1.0018033956606203,6.0011492702771639E-2,682.76934612192122,1.5693317028143379,9.1583402669431404,1.4613880948141618,1.0041352098420366,9.0785571306082932E-2,1.3387245414552567,0.81721379501551283,-10.069636904939541,-141.73438570278765,38.265614297212352,null,72444,5248133136,null,10.119236128916691,-11.386343253358017,null,-7.8803939761373538,-130.34804244942967]
[72865.75,18.987738505396855,1.5181063840385252,1.0018244354016246,6.036001837970089E-2,686.74424198368524,1.5693401801070039,9.2110238677865048,1.4620163561024557,1.0041833976267946,9.1311176613736916E-2,1.3422061369753275,0.82064399322108628,-10.143308494099442,-141.92309900829289,38.076900991707106,null,72865.75,5309417523.0625,null,10.118221715857608,-11.380947212010861,null,-7.9530511522381699,-130.54215179628198]
[73287.5,19.097336371980909,1.5184090445286276,1.0018455968292712,6.0708529375534066E-2,690.71913789423365,1.5693485598307628,9.263711062979775,1.462637471183341,1.0042318628015332,9.1836731334155944E-2,1.3456995771744007,0.8240595063605507,-10.216700635873604,-142.11117137326505,37.888828626734949,null,73287.5,5371057656.25,null,10.117215130665686,-11.37595212946656,null,-8.0254367088204113,-130.73521924379847]
[73709.25,19.206935967980787,1.5187082509324792,1.001866879935849,6.1057025606543899E-2,694.69403385272915,1.5693568436604208,9.3164017915414021,1.4632515608237853,1.0042806053260929,9.2362235184360347E-2,1.3492047825277484,0.82746039854100317,-10.289816041160298,-142.29860307950113,37.701396920498865,null,73709.25,5433053535.5625,null,10.116216143337493,-11.371351166033332,null,-8.097553126778914,-130.92725191346781]
[74131,{"$f":"SQRT(1+(A524/Pole1)^2)","v":19.316537263959034},{"$f":"ATAN(A524/Pole1)","v":1.5190040619911074},{"$f":"SQRT(1+(A524/Zero1)^2)","v":1.0018882847136035},{"$f":"ATAN(A524/Zero1)","v":6.1405506989024583E-2},{"$f":"SQRT(1+(A524/Pole2)^2)","v":698.66892985835341},{"$f":"ATAN(A524/Pole2)","v":1.5693650332326705},9.3690959938575986,1.4638587430953274,{"$f":"SQRT(1+(A524/pole4)^2)","v":1.0043296251600924},{"$f":"ATAN(A524/pole4)","v":9.2887687881537645E-2},1.3527216740983932,{"$f":"IF((ATAN((A524/pterm1)/(1-A524^2/pterm2))>0),ATAN((A524/pterm1)/(1-A524^2/pterm2)),PI()+ATAN((A524/pterm1)/(1-A524^2/pterm2)))","v":0.83084673416361399},{"$f":"20*LOG10(((D524*H524)/(B524*F524*L524*J524))*Adc)","v":-10.362657369680178},{"$f":"((E524+I524)-(C524+G524+M524+K524))*radconv","v":-142.48539449989607},37.514605500103926,null,74131,5495405161,null,{"$f":"20*LOG10((H524/(F524*J524))*Aea)","v":10.115224530342086},{"$f":"(I524-(G524+K524))*radconv","v":-11.367137634281944},null,{"$f":"20*LOG10((D524/(B524*L524))*Acs*Am)","v":-8.1694028423033895},{"$f":"(E524-(C524+M524))*radconv","v":-131.11825686561411}]
[74562.75,19.428739017457012,1.5193034298248882,1.00191032303885,6.1762235650987055E-2,702.73807359437046,1.5693733210192509,9.423043151566759,1.4644732876410425,1.0043800944979091,9.3425546163466169E-2,1.3563339770713043,0.83429835143099373,-10.43694464210393,-142.67595212459591,37.324047875404091,null,{"$f":"IF(N525<0,A525,1000000000)","v":74562.75},{"$f":"A525^2","v":5559603687.5625},null,10.114216817357205,-11.363218690208424,null,-8.2426824017422575,-131.3127334343875]
[74994.5,19.540942492184048,1.519599359763641,1.0019324888569152,6.2118948574478375E-2,706.80721737810109,1.5693815133789757,9.4769938275127839,1.4650808354497562,1.0044308543651332,9.3963350238605553E-2,1.3599583614817279,0.83773485111714541,-10.51095016891983,-142.86583981069091,37.134160189309085,null,74994.5,5624175030.25,null,10.113216378342432,-11.359692056259581,null,-8.3156874895433841,-131.50614775443131]
[75426.25,19.653147658659691,1.5198919106387188,1.0019547821593378,6.2475645669766863E-2,710.87636120872571,1.5693896119505495,9.5309479619499076,1.4656815048934544,1.0044819047177205,9.4501099804095601E-2,1.3635947445520851,0.84115630316004064,-10.584676645764537,-143.05505823558411,36.944941764415887,null,75426.25,5689119189.0625,null,10.112222993181227,-11.356551026758456,null,-8.3884205812268871,-131.69850720882562]
[75858,19.765354488072479,1.5201811399478891,1.0019772029376084,6.2832326847144918E-2,714.94550508544387,1.5693976183353688,9.5849054964738318,1.4662754116987675,1.0045332455113833,9.5038794557263634E-2,1.3672430441461558,0.84456277774667365,-10.658126717903674,-143.24360816397723,36.756391836022772,null,75858,5754436164,null,10.111236447960231,-11.353789045468929,null,-8.4608841081450255,-131.88981911850829]
[76299.75,19.880161893568744,1.5204736890117401,1.0020002749458197,6.3197252745352345E-2,719.10889669583287,1.5694057163784569,9.6401162308078039,1.4668761929103109,1.0045860760006324,9.5588886108500484E-2,1.3709880927513898,0.84803272319333178,-10.732994633514295,-143.43583418637863,36.564165813621372,null,76299.75,5821651850.0625,null,10.110233915408383,-11.351348725556887,null,-8.5347494912037973,-132.08448546082175]
[76741.5,19.994970980968944,1.5207628785262328,1.0020234803851653,6.3562161789823116E-2,723.27228835283699,1.5694137211915806,9.6953304049976019,1.467470131526976,1.0046392104463209,9.6138919638488793E-2,1.374745444371702,0.85148713872275561,-10.807578639137574,-143.62736227346551,36.372637726534492,null,76741.5,5889257822.25,null,10.109238109253409,-11.349291791396571,null,-8.608337690672105,-132.27807048206893]
[77183.25,20.109781721466522,1.5210487659835832,1.0020468192463754,6.3927053884549945E-2,727.43568005565555,1.5694216343755107,9.7505479606068768,1.4680573433753936,1.0046926488002237,9.6688894823649799E-2,1.3785150131059161,0.8549261002075601,-10.881881413134167,-143.81819350878126,{"$f":"IF(O531>0,O531,O531+180)","v":36.181806491218737},null,77183.25,5957254080.5625,null,10.108248819210113,-11.347611679788603,null,-8.6816511746254008,-132.47058182899261]
[77625,20.224594086908628,1.5213314075726909,1.0020702915201274,6.4291928933552539E-2,731.5990718035066,1.5694294574945795,9.8057688405119965,1.468637941691896,1.0047463910138497,9.72388113406146E-2,1.3822967137490503,0.85834968371729892,-10.955905584404338,-144.0083290588143,35.991670941185703,null,77625,6025640625,null,10.107265840925102,-11.346301973871013,null,-8.754692367610561,-132.66202708494325]
[78077,20.342072116332353,1.5216173049095816,1.0020944465070862,6.4665252496387174E-2,735.8590674803994,1.5694373705055928,9.862274402483866,1.4692252817073592,1.0048016946835774,9.7801426600576086E-2,1.3861786311077036,0.86183686740728416,-11.031361668293302,-144.20215757108792,35.797842428912077,null,78077,6096017929,null,10.10626638042263,-11.345338731864466,null,-8.8291489909970551,-132.85681883922351]
[78529,20.459551789367399,1.5218999189984368,1.0021187411496875,6.5038558010074118E-2,740.11906320283788,1.569445192424795,{"$f":"SQRT(1+(A534/Zero2)^2)","v":9.9187833278638795},{"$f":"ATAN(A534/Zero2)","v":1.4698059295776211},1.0048573163740766,9.8363979753902167E-2,{"$f":"SQRT((1-(S534/pterm2))^2+(A534/pterm1)^2)","v":1.3900730716480563},0.86530811289030996,-11.106531486157929,-144.39526046330505,35.60473953669495,null,78529,6166803841,null,10.105273113296411,-11.344750143909868,null,-8.9033255417354642,-133.05051031939519]
[78981,20.577033077862332,1.5221793060292637,1.0021431754377745,6.5411845371884367E-2,744.37905897004055,1.5694529248161093,9.9752955594920518,1.4703799986451829,1.0049132560325404,9.8926470454877374E-2,1.3939799463451821,0.86876350217802989,-11.181417701963511,-144.58763923547448,35.412360764525516,null,78981,6237998361,null,10.104285838652217,-11.344529785758404,null,-8.9772244828968528,-133.24310944971609]
[79433,20.694515954304613,1.5224555209181463,1.0021677493611327,6.5785114479119139E-2,748.63905478124298,1.5694605692078616,10.031811041493091,1.470947599715998,1.0049695136058716,9.9488898358021036E-2,1.3978991669277261,0.87220311742040235,-11.25602293110658,-144.77929546584485,35.220704534155146,null,79433,6309601489,null,10.103304361268776,-11.344671376468634,null,-9.0508482346564776,-133.43462408937623]
[79895.5,20.814729584023539,1.5227349247576365,1.002193038666747,6.6167035658067364E-2,752.99801071689626,1.5694683016478053,10.089642690676879,1.4715218040876206,1.0050274070703509,0.10006432614801915,1.4019221194710929,0.87570639309784803,-11.332073071455049,-144.9746576988623,35.025342301137698,null,79895.5,6383290920.25,null,10.102305887021023,-11.345184509352826,null,-9.125899900757199,-133.6294731895095]
[80358,20.934944820014049,1.5230111197637382,1.0022184741486435,6.6548937507027076E-2,757.35696669705362,1.569475945079879,10.147477628604717,1.4720894633581278,1.0050856332782314,0.10063968745761835,1.4059578135714292,0.87919332773732684,-11.407834408959481,-145.16926701213578,34.830732987864224,null,80358,6457408164,null,10.101313086342628,-11.346063740086256,null,-9.2006684375832339,-133.82320327204951]
[80820.5,21.055161634762957,1.5232841608575338,1.0022440557956929,6.6930819916074219E-2,761.71592272095086,1.5694835010321373,10.205315799363296,1.4726506884407353,1.005144192171687,0.10121498191746926,1.4100061570935964,0.88266400967856551,-11.483309596074211,-145.36312533173307,34.636874668266927,null,80820.5,6531953220.25,null,10.100325767320435,-11.347302780198705,null,-9.2751563056757682,-134.01582255153431]
[81283,21.17538000138148,1.5235541017148047,1.0022697835967029,6.7312682775318586E-2,766.07487878784127,1.5694909709978566,10.263157148296624,1.473205587764733,1.0052030836925756,0.10179020915848526,1.4140670587158388,0.88611852733422425,-11.558501237556678,-145.55623465688893,34.443765343111068,null,81283,6606926089,null,10.099343743466955,-11.348895481560792,null,-9.3493659233047577,-134.20733917532809]
[81756.25,21.298394211719621,1.5238271624323094,1.0022962606725876,6.77034010146043E-2,770.53515117462393,1.5694985271043962,10.322346151880184,1.4737669473096418,1.0052636882967192,0.10237873658087907,1.4182352537780469,0.88963669925146716,-11.635149737127419,-145.75305931787972,34.246940682120282,null,81756.25,6684084414.0625,null,10.098344186374709,-11.350885019295553,null,-9.4250148657832469,-134.40217429858416]
[82229.5,21.42140999187281,1.5240970869824284,1.0023228907516661,6.8094098552043014E-2,774.99542360489374,1.5695059962367615,10.381538371196596,1.4743219056417536,1.0053246410464944,0.1029671928423349,1.4224164066444915,0.89313813417623966,-11.711506727308274,-145.94910421881525,34.050895781184749,null,82229.5,6761690670.25,null,10.097349795035166,-11.353232259033225,null,-9.5003774646245649,-134.59587195978207]
[82702.75,21.544427314950749,1.5243639290474427,1.0023496738217439,6.8484775270013787E-2,779.45569607790412,1.5695133798880263,10.440733751552479,1.474870571294342,1.0053859418785807,0.10355557754829045,1.4266104220976836,0.89662292694769741,-11.787574851936768,-146.14437172052786,33.855628279472143,null,82702.75,6839744857.5625,null,10.096360386133458,-11.355931045215376,null,-9.5754561803513472,-134.78844067531247]
[83176,21.667446154673485,1.5246277410922684,1.0023766098705571,6.8875431050933619E-2,783.91596859292554,1.5695206795172838,10.499932239484927,1.4754130503683951,1.0054475907293117,0.10414389030447758,1.430817205795627,0.90009117240568959,-11.863356708004261,-146.33886425156689,33.661135748433111,null,83176,6918246976,null,10.095375781543897,-11.358975359713146,null,-9.6502534318292792,-134.97988889185376]
[83660.5,21.793390916855692,1.524894739040715,1.0024043447014381,6.9275351607088004E-2,788.48226981589812,1.5695280671188561,10.560541146185273,1.4759621245176415,1.0055110655433024,0.10474611336141045,1.4351371218219557,0.90362482124933086,-11.940646141156455,-146.53717999887883,33.462820001121173,null,83660.5,6999079260.25,null,10.094372567397849,-11.362443846204091,null,-9.7265396508354254,-135.17473615267477]
[84145,21.919337214789504,1.5251586687213035,1.0024322398444265,6.9675249969651243E-2,793.048571081408,1.5695353696461578,10.621153200366086,1.476504931993083,1.0055749049825005,0.10534826017182239,1.4394702230368834,0.90714132780028944,-12.017640897291459,-146.73468884892856,33.265311151071444,null,84145,7080381025,null,10.093374026786551,-11.366262143655538,null,-9.8025358663591309,-135.36842670527301]
[84629.5,22.045285022153347,1.5254195826852792,1.0024602952861392,7.0075126012578967E-2,797.61487238872462,1.5695425885603251,10.681768348447688,1.4770415791553793,1.005639108977465,0.10595033031362221,1.4438164110317639,0.91064079370581241,-12.094343618588395,-146.93139360937653,33.068606390623472,null,84629.5,7162152270.25,null,10.092379984367481,-11.370424217583478,null,-9.8782445452370009,-135.56096939179309]
[85114,22.171234313223426,1.5256775322914296,1.0024885110131181,7.0474979609869454E-2,802.18117373713369,1.5695497252892243,10.74238653805701,1.4775721699788391,1.0057036774583767,0.10655232336504847,1.4481755883396257,0.91412332053447842,-12.170756901113958,-147.12729714989143,32.872702850108567,null,85114,7244392996,null,10.09139026977105,-11.374924168344378,null,-9.9536681131661293,-135.75237298154707]
[85609.5,22.300044642539991,1.5259383245721085,1.0025175331159413,7.0883888063515796E-2,806.85114760375291,1.5695569404979532,10.804384084575158,1.4781086490119313,1.0057700888099139,0.10716790378257557,1.4526470700455389,0.91766749945128911,-12.248608344958106,-147.32682278879349,32.673177211206507,null,85609.5,7328986490.25,null,10.09038238868688,-11.379869744840258,null,-10.030511675926107,-135.94695304395327]
[86105,22.428856471119992,1.5261961213424415,1.0025467228361131,7.1292772774320737E-2,811.52112151189272,1.5695640726655007,10.866384705216523,1.4786390061908004,1.0058368812368019,0.10778340267828794,1.4571319343651683,0.92119417594279285,-12.32616240799941,-147.52551667050224,32.474483329497758,null,86105,7414071025,null,10.089378688951383,-11.385156648981178,null,-10.107062039231918,-136.14036002152105]
[86600.5,22.557669773279542,1.5264509738845464,1.0025760801589938,7.170163360764388E-2,816.19109546084053,1.5695711232172678,10.928388347659334,1.4791633454139466,1.0059040546631302,0.10839881960212164,1.4616300800618094,0.92470345827903633,-12.403421725480005,-147.72338204733467,32.276617952665333,null,86600.5,7499646600.25,null,10.088379003402251,-11.390778983704244,null,-10.183321671163377,-136.33260306363047]
[87096,22.686484523917798,1.5267029323173635,1.0026056050698604,7.2110470428892487E-2,820.8610694498999,1.5695780935462191,10.990394960760018,1.4796817682485421,1.0059716090125754,0.10901415410438095,1.466141406904669,0.92819545456542207,-12.480388887427754,-147.92042222726462,32.079577772735377,null,87096,7585713216,null,10.0873831696228,-11.396730983684479,null,-10.259292999331679,-136.52369124358012]
[87603.25,22.818355387738773,1.526957918818777,1.0026360036981365,7.2528977156308419E-2,825.64178453806517,1.5695851474878173,11.053874987735302,1.4802064598233127,1.0060411598063213,0.10964399444701146,1.4707732628514774,0.93175246492605879,-12.55888123227297,-148.12128363172982,31.878716368270176,null,87603.25,7674329410.5625,null,10.086367546325585,-11.403159725393714,null,-10.336769720879676,-136.71812390633613]
[88110.5,22.950227718116711,1.5272099750243946,1.0026665779253179,7.294745843403623E-2,830.42249966683994,1.5695921202107941,11.117358023103012,1.4807251592860193,1.0061111096401756,0.11027374746018714,1.4754187231263001,0.93529158835995085,-12.637072754320666,-148.32128742099928,31.678712579000717,null,88110.5,7763460210.25,null,10.085355629741157,-11.409922132741537,null,-10.413949326342944,-136.91136528825774]
[88617.75,23.082101489915473,1.5274591511264319,1.0026973277353413,7.3365914117836328E-2,835.20321483552664,1.569599013109839,11.180844015619641,1.4812379684266483,1.0061814584309143,0.11090341266266772,1.4800776834311615,0.9388129401930434,-12.714966092816873,-148.52043730702945,31.479562692970546,null,88617.75,7853105615.0625,null,10.084347260059822,-11.417012425928139,null,-10.490834295157816,-137.10342488110132]
[89125,23.213976678569821,1.527705496178015,1.0027282531120536,7.3784344063522564E-2,839.98393004344393,1.5696058275478895,11.244332915196617,1.4817449867487915,1.0062522060948624,0.11153298957362566,1.4847500405440117,0.9423166354931215,-12.792563842479865,-148.71873705092239,31.281262949077615,null,89125,7943265625,null,10.083342282018421,-11.424424954358818,null,-10.567427066779411,-137.29431209656366]
[89644,23.348908081379253,1.5279546674194124,1.0027600765450315,7.4212439781138659E-2,844.87538635325802,1.5696127200173293,11.30929543706271,1.482257857574822,1.006325005318002,0.11217705819578523,1.4895443880485524,0.94588333577205608,-12.871655797879097,-148.92075429599441,31.079245704005587,null,89644,8036046736,null,10.082317377609824,-11.432336943776802,null,-10.645494117770042,-137.48841735221762]
[90163,23.483840917177602,1.5282009753128187,1.0027920837380973,7.4640508249218418E-2,849.76684270274677,1.5696195331374427,11.374260899705828,1.482764869885818,1.0063982219288037,0.11282103337160523,1.4943525449944393,0.94943179485502027,-12.950443669634183,-149.12188966877454,30.878110331225457,null,90163,8129366569,null,10.08129570887075,-11.440574700918466,null,-10.723260320786054,-137.68131496785608]
[90682,23.6187751614051,1.5284444689030763,1.0028242746736555,7.5068549313497782E-2,854.65829909122908,1.5696262682706463,11.439229253022347,1.4832661232380244,1.006471855836178,0.11346491458741953,1.4991744042668034,0.95296213503890481,-13.028930099886001,-149.32214733973689,30.677852660263113,null,90682,8223225124,null,10.080277123301924,-11.449132570260968,null,-10.800728165469049,-137.8730147694759]
[91201,23.753710790059767,1.5286851961219614,1.0028566493340128,7.5496562819772642E-2,859.54975551803909,1.5696329267483449,11.504200448038256,1.4837617149503939,1.0065459069485427,0.11410870133002345,1.5040098598961478,0.95647447826250931,-13.107117686994464,-149.52153152149782,30.47846847850218,null,91201,8317622401,null,10.079261472750286,-11.458005022718462,null,-10.877900102025871,-138.0635264987794]
[91732,23.891767725991148,1.5289286750885624,1.0028899626687395,7.5934443910188526E-2,864.5543092422613,1.5696396612016665,11.570676758306757,1.4842630051353582,1.0066221019153723,0.11476727500549258,1.5089710801829512,0.96004953257047532,-13.186806457258243,-149.72462615982911,30.275373840170886,null,91732,8414759824,null,10.078225226436041,-11.46740255867487,null,-10.956552625975407,-138.25722360115429]
[92263,24.029826061999888,1.5291693563544144,1.0029234682846406,7.6372295827135298E-2,869.55886300524207,1.5696463181376747,11.637155942972543,1.4847585680369155,1.0066987334074213,0.11542574870318888,1.5139463120444501,0.96360600508307781,-13.266187772619237,-149.92681549422861,30.073184505771394,null,92263,8512461169,null,10.077191751989094,-11.477118074079609,null,-11.034900466889454,-138.44969742014905]
[92794,24.167885774092273,1.5294072878372182,1.0029571661624457,7.6810118405660252E-2,874.56341680631624,1.569652898887111,11.703637953054034,1.4852485010103234,1.0067758013250103,0.11608412187499541,1.518935445654507,0.96714402512012898,-13.345264281043862,-150.12810415590465,29.871895844095349,null,92794,8610726436,null,10.076160903935564,-11.487146035728395,null,-11.112946127260553,-138.64095812017626]
[93325,24.305946838819526,1.5296425163672218,1.0029910562827757,7.7247911480877729E-2,879.56797064483362,1.5696594047504311,11.770122740674246,1.4857328992221042,1.0068533055679232,0.11674239397331118,1.523938372403004,0.97066372153690972,-13.424038587428553,-150.32849681083908,29.671503189160916,null,93325,8709555625,null,10.075132540955567,-11.49748103411652,null,-11.190692070665243,-138.83101577672255]
[93868.5,24.447259305465174,1.5298805309150649,1.0030259432568098,7.7695979694159589E-2,884.69033416926266,1.5696659875402199,11.838175440291248,1.4862230657664073,1.0069330860466903,0.11741605687766955,1.529073242411064,0.97424743159592897,-13.504356997555602,-150.53268381701136,29.46731618298864,null,93868.5,8811295292.25,null,10.074082400036202,-11.50837176718847,null,-11.269960339872929,-139.02431204982292]
[94412,24.588573141151688,1.530115809672896,1.0030610315894399,7.8144016649410536E-2,889.8126977315867,1.5696724945400309,11.906230951672052,1.4867076288836512,1.0070133234210237,0.11808961273467763,1.5342223362085303,0.97781221679022567,-13.584364199057095,-150.73594212695218,29.264057873047818,null,94412,8913625744,null,10.073034575715091,-11.519573077174822,null,-11.34891971705331,-139.21636904977731]
[94955.5,24.72988832240976,1.5303483995142075,1.0030963212595361,7.8592022170044976E-2,894.93506133115511,1.5696789270512665,11.97428922687493,1.4871866838889267,1.0070940175817178,0.11876306095884064,1.539385541225005,0.98135821367399245,-13.664062852275103,-150.9382768402773,29.061723159722703,null,94955.5,9016546980.25,null,10.071988929084942,-11.53107954394166,null,-11.427572723641166,-139.40719729633562]
[95499,24.871204826303259,1.5305783462483427,1.003131812245849,7.9039996079552616E-2,900.05742496733194,1.5696852863457036,12.042350219040019,1.487660323952761,1.0071751684189802,0.11943640096524136,1.5445627461800209,0.98488555822316015,-13.743455575076101,-151.13969308370525,28.860306916294746,null,95499,9120059001,null,10.070945325215188,-11.542885868565135,null,-11.505921842572411,-139.59680721514005]
[96611.5,25.160472169991799,1.5310409733774935,1.003205087082611,7.995686267555599E-2,910.54248403978784,1.5696980801797715,12.181673778381448,1.4886133213851509,1.0073427011718954,0.12081433290418954,1.5552032568396252,0.99204814717606493,-13.905022760103265,-151.54913318371376,28.450866816286236,null,96611.5,9333781932.25,null,10.068814976330815,-11.567965855084942,null,-11.665358678715203,-139.9811673286288]
[97724,25.449744776208227,1.5314930837687781,1.0032792051344654,8.0873594573607654E-2,921.02754325789022,1.5697105827215585,12.321008150956656,1.4895447653563252,1.0075121459246008,0.12219180397290078,1.565901039056842,0.99913430479581866,-14.065340463206466,-151.95479107045978,28.045208929540223,null,97724,9549980176,null,10.066691564716894,-11.594237668229885,null,-11.823552970204483,-140.36055340222993]
[98862,25.745653160502648,1.5319450454381367,1.0033558943052143,8.1811198263189458E-2,931.75293431599573,1.56972308070664,12.463547064987154,1.4904760110671353,1.0076874518143584,0.12360036649292577,1.5769023410952547,1.0063049978175429,-14.228061886676288,-152.36588059960144,27.634119400398561,null,98862,9773695044,null,10.064525600780922,-11.622301988718196,null,-11.984108429738336,-140.7435786108833]
[100000,26.041566684327961,1.5323867358039907,1.0034334653915342,8.2748657812642845E-2,942.47832551632837,1.569735294237905,12.606096543202595,1.4913861965381057,1.0078647563069434,0.12500843621459271,1.5879616776882581,1.0133981199359823,-14.389519453978046,-152.7731075292368,27.226892470763204,null,100000,10000000000,null,10.062364807843402,-11.651528438796978,null,-12.143405204102571,-141.12157909043981]
[101165,26.344506146601141,1.5328286270950016,1.0035137902531597,8.370820837680143E-2,953.45818571874042,1.5697475129105403,12.752038700025423,1.4922968970863828,1.0080483366886206,0.12644939753436873,1.5993425594297515,1.0205804280243784,-14.553520495367827,-153.18604556138069,26.813954438619305,null,101165,10234357225,null,10.060157095209203,-11.682610221453988,null,-12.305198532858153,-141.50343533992674]
[102330,26.647450636146775,1.5332604710887241,1.0035950389389476,8.4667604458295076E-2,964.43804606025867,1.5697594533707617,12.897991193729213,1.4931869875500898,1.0082340093863882,0.12788983111974198,1.6107823300476043,1.027683963506216,-14.716240908676477,-153.59503813260781,26.404961867392188,null,102330,10471428900,null,10.057952809551287,-11.714826697622465,null,-12.465714660508887,-141.8802114349854]
[103520,26.956901094418239,1.5336915611557,1.0036789846991694,8.5647427150491284E-2,975.65352586114295,1.5697713725989837,13.047086026476256,1.4940756181827612,1.0084258254220919,0.1293606245436269,1.6225274088308592,1.0348599125317381,-14.881153095368374,-154.00878805513608,25.99121194486392,null,103520,10716390400,null,10.055703800193017,-11.748865090059619,null,-12.628377837842514,-142.25992296507644]
[104710,27.266356448612811,1.5341128661175547,1.0037638938822073,8.6627085015122895E-2,986.86900579748601,1.5697830209100661,13.196190929228822,1.4949441680596718,1.0086198220856391,0.13083085536584821,1.6343319716498101,1.0419562992057008,-15.044773190815617,-154.41853097485043,25.581469025149573,null,104710,10964184100,null,10.053456475854144,-11.78400626794299,null,-12.789750608950882,-142.63452470690743]
[105930,27.583618108409812,1.5345349785825666,1.003851943537865,8.7631267099454832E-2,998.36722906134639,1.5697946911861713,13.349064879865843,1.4958144707272043,1.0088209718858381,0.13233756046329484,1.6464948841335545,1.04915035296743,-15.211199098605661,-154.83450159176581,25.165498408234185,null,105930,11221164900,null,10.051153330123428,-11.821138098857954,null,-12.953873371010211,-143.01336349290779]
[107150,27.900884571252885,1.5349474912714618,1.0039410052812554,8.8635272029797943E-2,1009.8654524580835,1.5698060957091691,13.501948712477645,1.4966650649893085,1.0090244109551749,0.13384366141621681,1.6587183177707008,1.0562635343918509,-15.376311624292317,-155.24637805557845,24.753621944421553,null,107150,11481122500,null,10.048850147542403,-11.859349296763197,null,-13.116682714115841,-143.38702875881526]
[108400,28.22595748072585,1.5353605293035102,1.0040333065106926,8.9663779797039864E-2,1021.6464191862276,1.5698175144182278,13.658601886062966,1.4975168249645816,1.0092352255783565,0.13538616426671918,1.6713040826884726,1.0634691765542497,-15.54414470060561,-155.66419801771414,24.335801982285858,null,108400,11750560000,null,10.046489415469072,-11.899580192125084,null,-13.282155058355805,-143.76461782558908]
[109650,28.551035095906141,1.5357641618303959,1.0041266696389877,9.0692097391759624E-2,1033.4273860445437,1.5698286727830491,13.815264744167644,1.4983492678928994,1.0094484404837842,0.13692801917201827,1.6839513433641176,1.0705927974548042,-15.710644343384843,-156.07784525215556,23.922154747844445,null,109650,12023122500,null,10.044126916396108,-11.940865831599856,null,-13.446292202062073,-144.13697942055575]
[110925,28.882618946429947,1.5361665066749577,1.0042229936908802,9.1740783222602568E-2,1045.4439723695662,1.5698397952361316,13.975070498658086,1.4991791318048278,1.0096683908810091,0.13850003648780504,1.696913875985256,1.0777758684178009,-15.87912306003026,-156.49553181952717,23.504468180472827,null,110925,12304355625,null,10.041714517448003,-11.984025359060984,null,-13.612358519759384,-144.51150646046617]
[112200,29.214207366375362,1.5365597181566097,1.004320421916397,9.2789266742173082E-2,1057.4605588209797,1.5698506649064181,14.134885659794451,1.4999902306606672,1.0098908353191183,0.14007136516191912,1.7099383382954043,1.0848765717228399,-16.046259993395321,-156.90900857502658,23.090991424973424,null,112200,12588840000,null,10.039298647816807,-12.028206105390723,null,-13.777079583493247,-144.8808024696358]
[113510,29.554902811175669,1.5369545337860362,1.0044216743600949,9.3866319083579577E-2,1069.8070124786186,1.5698615786263379,14.299097369793362,1.5008047103972169,1.0101219820195397,0.14168510341690477,1.7233837953302993,1.0920879428281376,-16.216610613382404,-157.3295198700543,22.670480129945702,null,113510,12884520100,null,10.036812053387314,-12.074625555380205,null,-13.944943609050839,-145.25489431467409]
[114820,29.895602757971201,1.5373403505815502,1.0045240917391873,9.4943153049791174E-2,1082.1534662607737,1.5698722433136718,14.463318350089541,1.5016006949432619,1.0103557580226896,0.14329809909760682,1.7368925363693801,1.0992154650114652,-16.385591262453151,-157.7457267739735,22.254273226026498,null,114820,13183632400,null,10.034320229671394,-12.122047886839509,null,-14.111432434405668,-145.62367888713396]
[116155,30.242809086306796,1.5377245869837961,1.0046296617744355,9.6040310100317786E-2,1094.7355395136581,1.5698828640425013,14.630682532718758,1.5023934858176309,1.0105966985584904,0.14494110501896532,1.7507231344623373,1.1063943305056207,-16.556410687743263,-158.16552038149447,21.834479618505526,null,116155,13491984025,null,10.031774721742616,-12.171370143704157,null,-14.279706351767,-145.99415023779028]
[117490,30.590019778260391,1.5381001009232209,1.0047364408812665,9.7137235268688657E-2,1107.3176128872224,1.5698932434118742,14.798055702979699,1.5031683434730869,1.0108403658633984,0.14658332326474746,1.7646173590970784,1.1134893002857791,-16.725854081874733,-158.58098918263389,21.419010817366114,null,117490,13803900100,null,10.029222307885552,-12.221660938962364,null,-14.446597332041407,-146.35932824367154]
[118860,30.946337754933491,1.5384766991157113,1.0048472760709368,9.8262675003553471E-2,1120.2295534741802,1.5699036524946071,14.969825961888715,1.503945501013876,1.0110932543207496,0.14826776831039359,1.7789409422186941,1.1206846964887591,-16.898332928993806,-159.00292969891157,20.997070301088428,null,118860,14127699600,null,10.026595084021441,-12.274241080364904,null,-14.61644895529637,-146.7286886185467]
[120230,{"$f":"SQRT(1+(A588/Pole1)^2)","v":31.302660020687725},{"$f":"ATAN(A588/Pole1)","v":1.5388447236266272},{"$f":"SQRT(1+(A588/Zero1)^2)","v":1.0049593837331547},{"$f":"ATAN(A588/Zero1)","v":9.9387865067780759E-2},{"$f":"SQRT(1+(A588/Pole2)^2)","v":1133.1414941797473},{"$f":"ATAN(A588/Pole2)","v":1.5699138243581416},15.141605057042355,1.5047050255479872,{"$f":"SQRT(1+(A588/pole4)^2)","v":1.0113490101692615},{"$f":"ATAN(A588/pole4)","v":0.14995136618638596},1.7933294076767305,{"$f":"IF((ATAN((A588/pterm1)/(1-A588^2/pterm2))>0),ATAN((A588/pterm1)/(1-A588^2/pterm2)),PI()+ATAN((A588/pterm1)/(1-A588^2/pterm2)))","v":1.127795045278261},{"$f":"20*LOG10(((D588*H588)/(B588*F588*L588*J588))*Adc)","v":-17.069410288177401},{"$f":"((E588+I588)-(C588+G588+M588+K588))*radconv","v":-159.42046859259631},20.579531407403692,null,120230,14455252900,null,{"$f":"20*LOG10((H588/(F588*J588))*Aea)","v":10.023959179775785},{"$f":"(I588-(G588+K588))*radconv","v":-12.327769387726724},null,{"$f":"20*LOG10((D588/(B588*L588))*Acs*Am)","v":-14.784890410234311},{"$f":"(E588-(C588+M588))*radconv","v":-147.09269920486963}]
[126030,32.81122194153442,1.5403142289844172,1.0054480871521236,0.10414861391814081,1187.8051859830241,1.5699544377966583,15.868936307407719,1.5077383494821821,1.0124634877134366,0.15706941726980811,1.8549398148045391,1.1569919157503532,-17.77867545061854,-161.14111629086105,18.858883709138951,null,{"$f":"IF(N589<0,A589,1000000000)","v":126030},{"$f":"A589^2","v":15883560900},null,10.012689427459051,-12.564133992728555,null,-15.482885820358716,-148.57698229813252]
[131830,34.319848487442009,1.5416545444536807,1.0059595563376216,0.10890462937095342,1242.4688795731315,1.5699914775754078,16.596400770221702,1.5105057797130343,1.0136291490740494,0.16417145616730733,1.9176236143330232,1.1848100286283871,-18.464866685939572,-162.78974856697064,17.210251433029356,null,131830,17379148900,null,10.001210891314518,-12.814610998450908,null,-16.157598519535213,-149.97513756851976]
[144540,37.626009488402921,1.5442158369410555,1.0071598140894855,0.11930929854315211,1362.2577719307794,1.5700622512693858,18.190939073851816,1.5157961784621605,1.0163616612401605,0.17967551642641644,2.058445369092381,1.2414606614529959,-19.89491986557659,-166.1754530891258,13.824546910874204,null,144540,20891811600,null,9.9751758455985993,-13.403865730986952,null,-17.561616653456309,-152.77158735813879]
[158490,41.254959150845117,1.5465544423735451,1.0086023550088339,0.13069917543413709,1493.7333920272929,1.5701268632346426,19.941529848623222,1.5206286818736892,1.0196403587885059,0.19659197670148856,2.2179716473123552,1.2977580386366163,-21.360764688455788,-169.57851727050732,10.421482729492681,null,158490,25119080100,null,9.944992156915438,-14.099927452796766,null,-18.997277787652347,-155.47858981771057]
[173780,45.232711684811811,1.5486866313886025,1.0103333018747103,0.14314397334683074,1637.8382174314859,1.570185765842363,21.860722877055185,1.5250362168091103,1.0235668617490215,0.21500303063774101,2.3982045592939878,1.3535945861452501,-22.85922612514311,-172.99256423153483,7.0074357684651716,null,173780,30199488400,null,9.9097708550314128,-14.905644861621026,null,-20.460517922455644,-158.0869193699138]
[190550,49.595688625839301,1.5506319173843524,1.0124110581164163,0.15674208796943601,1795.8917167857444,1.5702395003212684,23.966091076703062,1.5290585901070586,1.0282691049281227,0.23502694339444385,2.6018174688917095,1.4090307963644035,-24.390360518880311,-176.4210666490562,3.5789333509437995,null,190550,36309302500,null,9.868430248923131,-15.825544298226458,null,-21.950311710084563,-160.59552235082975]
[208930,54.377711481955359,1.5524054025359348,1.014902365128838,0.17157867794450576,1969.1191110141644,1.5702884854777359,26.273955243798074,1.5327266268997264,1.0338917121320348,0.25675434041019757,2.8316426139495978,1.4640932060914522,-25.952422263227646,-179.86498133066229,{"$f":"IF(O595>0,O595,O595+180)","v":0.13501866933771112},null,208930,43651744900,null,9.8197931270347176,-16.863076063625645,null,-23.463736332543487,-163.00190526703665]
[229090,59.623010055312442,1.5540234921357889,1.0178904913662277,0.1877646195068928,2159.12261214106,1.5703331756842889,28.805661339423718,1.536073952014686,1.0406135750220429,0.28030353138870584,3.0913719733823837,1.5189241307185091,-27.546349489051156,-183.33192768102143,-3.3319276810214262,null,229090,52482228100,null,9.7624459884485582,-18.023118277442993,null,-25.000316419780837,-165.30880940357841]
[251190,65.373213736929316,1.5554989451067811,1.0214706332424266,0.20539418573626805,2367.4101844617639,1.5703739242740742,31.581302433189535,1.5391267279156235,1.0486361935092925,0.30575628071423661,3.3850466565122397,1.57361539288402,-29.17142707882153,-186.82570233250945,-6.8257023325094508,null,251190,63096416100,null,9.694858470125256,-19.308876939562392,null,-26.557806491227911,-167.51682539294706]
[275420,71.677758614440904,1.5568445450692494,1.0257579323283426,0.22457482481375299,2595.7725356098917,1.5704110850177313,{"$f":"SQRT(1+(A598/Zero2)^2)","v":34.624741460089822},{"$f":"ATAN(A598/Zero2)","v":1.5419112281770857},1.0582000151756785,0.33319887615448668,{"$f":"SQRT((1-(S598/pterm2))^2+(A598/pterm1)^2)","v":3.7177033102285857},1.6283094365551309,-30.828530888832745,-190.35250167300865,-10.352501673008646,null,275420,75856176400,null,9.6152676886934447,-20.723810879530735,null,-28.135319519807314,-169.62869079347792]
[302000,78.593887848176621,1.5580723477277794,1.0308912032959028,0.24542369480144693,2846.283116567703,1.5704449913937371,37.963612003913788,1.5444522666587399,1.0695903812387109,0.3627138664444704,4.0955797042234785,1.6831691850141657,-32.519676144207047,-193.91896566908309,-13.918965669083093,null,302000,91204000000,null,9.5216636502433118,-22.271247168949213,null,-29.732860736731478,-171.64771850013389]
[331130,86.173641536757401,1.5591915898068136,1.0370261077930671,0.26802475093281863,3120.8268827974543,1.570475898890797,41.6230372801543,1.546768858073061,1.0831194408939908,0.39431690222805177,4.5256162411839274,1.7382631982670538,-34.244783362577259,-197.52456335598779,-17.524563355987794,null,331130,109647076900,null,9.4119796064539312,-23.95100769930875,null,-31.348283911312311,-173.57355565667902]
[363080,94.487274838206616,1.5602126934872511,1.0443563350497274,0.29249450514561909,3421.9485242015853,1.570504095626847,45.636935727856624,1.5488824970312789,1.0991692273089033,0.42804735489158979,5.0170201740570439,1.7937324819253369,-36.007128987525199,-201.17233603654594,-21.172336036545943,null,363080,131827086400,null,9.2837936889758002,-25.764133242318479,null,-32.982443618782121,-175.40820279422741]
[398110,103.60244176810326,1.5611438947542708,1.0531010902313602,0.31891407193934868,3752.0984829332651,1.5705298092670685,50.037971405066386,1.5508101732916788,1.1181591381522686,0.46387140791656895,5.5804394574307743,1.8496179544151052,-37.808218165629881,-204.85755459160418,-24.857554591604185,null,398110,158491572100,null,9.1346617984497751,-27.70772585699568,null,-34.634400906360774,-177.14982873460849]
[436520,113.5972054110978,1.5619931796364979,1.0635195344931865,0.34736137827571317,4114.104192267142,1.5705532605128791,54.863835171700927,1.5525683743487733,1.1405718043923219,0.50172714049044964,6.2291102569821,1.9059418314203616,-39.650487513188352,-208.57300474599282,-28.573004745992819,null,436520,190549710400,null,8.9619897416515713,-29.777305723522112,null,-36.303998197121047,-178.79569902247073]
[478630,124.55483376701358,1.5627676480747139,1.075909986205829,0.3778884457106404,4510.9815810491227,1.5705746455509759,60.154732075154975,1.5541717649414417,1.1669443770391834,0.54149541957113911,6.9790356146447561,1.962662014744293,-41.535918040354275,-212.30604582424999,-32.306045824249992,null,478630,229086676900,null,8.7631965805330445,-31.965218034400852,null,-37.990635563168439,-180.34082778984916]
[524810,136.57160616803029,1.5634740951542174,1.0906225285158293,0.41053478361001028,4946.2178170268417,1.5705941521144025,65.957150660745071,1.5556343874892007,1.1978875457773248,0.58302164068725348,7.8501105698174474,2.0197046090859225,-43.467071089430803,-216.04091754851322,-36.040917548513221,null,524810,275425536100,null,8.5356768093077449,-34.261810790855364,null,-39.694268841019678,-181.77910675765787]
[575440,149.74640468013982,1.5641183205028411,1.1080504766375414,0.44528961222137148,5423.3943157411877,1.5706119404221845,72.318837139143852,1.556968230137824,1.23405892100653,0.62607430339831749,8.8661050465000315,2.0769064856835806,-45.444996035307703,-219.75528156923559,-39.755281569235592,null,575440,331131193600,null,8.277111969142986,-36.653142304392027,null,-41.413628946731805,-183.10213926484354]
[630960,164.19372488581445,1.5647059224088999,1.1286492189875215,0.48211801677979255,5946.657979412842,1.5706281651134657,79.295077750123426,1.5581848692238873,1.2761939255222192,0.67038911487122632,10.056449183912644,2.1340767130460803,-47.471001297853704,-223.42472226578406,-43.424722265784055,null,630960,398110521600,null,7.9853567399408121,-39.123415296042552,null,-43.147878980075646,-184.30130696974152]
[691830,180.03326720446071,1.5652417692526635,1.1529246676536005,0.52092467040993318,6520.3442058315704,1.5706429606577186,86.943672761950438,1.5592943736598746,1.3250736671346661,0.71563766593023503,11.45643096185267,2.1909540745070903,-49.544763293332267,-227.02062812950038,-47.020628129500381,null,691830,478628748900,null,7.6587735577658842,-41.653244104404884,null,-44.89505779337928,-185.36738402509553]
[758580,197.40294780959249,1.5657305246467141,1.1814531394292844,0.56157904418762405,7149.4481272464691,1.5706564558586422,95.331219113328387,1.5603063912907909,1.381558588610466,0.76147336746394667,13.109473624594436,2.2472650434788193,-51.665869871366738,-230.51466970886483,-50.51466970886483,null,758580,575443616400,null,7.2960912416426327,-44.222225235255635,null,-46.653482055290489,-186.29244447360912]
[831760,216.44588766379343,1.5661762179613679,1.2148608157147567,0.60387829694229056,7839.1533714743991,1.5706687619986328,104.52682767298306,1.5612292589212839,1.446542695649786,0.80750486318184178,15.067368660466681,2.3026882811866116,-53.831946075203028,-233.87739410571845,-53.877394105718452,null,831760,691824697600,null,6.896771873111371,-46.807464337126689,null,-48.420238890595527,-187.06992976859169]
[912010,237.32862791871565,1.5665827476417311,1.2538524280569432,0.64758662356669472,8595.49179634953,1.5706799867382775,114.61091917816715,1.5620710439360708,1.5210083101306304,0.85335538040201864,17.39372190358575,2.3569246514397553,-56.040739470693254,-237.08335253758094,-57.083352537580936,null,912010,831762240100,null,6.460698405508337,-49.386917866885291,null,-50.192958818482715,-187.6964346706956]
[1000000,260.22551669163806,1.5669534966453338,1.2991812601659198,0.69240089297259233,9424.7780030516496,1.570690223499779,125.66768481059256,1.562838747601569,1.6059690845609211,0.89863709249959878,20.164380203235872,2.4096627082979594,-58.288282646362546,-240.10964580857791,-60.109645808577909,null,1000000,1000000000000,null,5.9885309147943317,-51.937969205398261,null,-51.968334503438001,-188.17167660317963]
[]
[]
["Pole/Zero Locations for Chart"]
[{"$f":"N4*1000","v":29344},{"$f":"SQRT(1+(A616/Pole1)^2)","v":7.7012021150453007},{"$f":"ATAN(A616/Pole1)","v":1.4405787727395418},{"$f":"SQRT(1+(A616/Zero1)^2)","v":1.0002961092238274},{"$f":"ATAN(A616/Zero1)","v":2.433253686150013E-2},{"$f":"SQRT(1+(A616/Pole2)^2)","v":276.56249208036559},{"$f":"ATAN(A616/Pole2)","v":1.5671804996033081},{"$f":"SQRT(1+(A616/Zero2)^2)","v":3.8206645617560016},{"$f":"ATAN(A616/Zero2)","v":1.3059773383157272},{"$f":"SQRT(1+(A616/pole4)^2)","v":1.0006796429274185},{"$f":"ATAN(A616/pole4)","v":3.6858058054466826E-2},{"$f":"SQRT((1-(S616/pterm2))^2+(A616/pterm1)^2)","v":1.0625478110458577},{"$f":"IF((ATAN((A616/pterm1)/(1-A616^2/pterm2))>0),ATAN((A616/pterm1)/(1-A616^2/pterm2)),PI()+ATAN((A616/pterm1)/(1-A616^2/pterm2)))","v":0.38133669628340183},{"$f":"20*LOG10(((D616*H616)/(B616*F616*L616*J616))*Adc)","v":-1.8456865431100138E-3},{"$f":"((E616+I616)-(C616+G616+M616+K616))*radconv","v":-120.07156537962625},{"$f":"IF(O616>0,O616,O616+180)","v":59.92843462037375},"crossover",null,{"$f":"A616^2","v":861070336},null,{"$f":"20*LOG10((H616/(F616*J616))*Aea)","v":10.405236139846307},{"$f":"(I616-(G616+K616))*radconv","v":-17.077649924336495},null,{"$f":"20*LOG10((D616/(B616*L616))*Acs*Am)","v":1.9013972313294603},{"$f":"(E616-(C616+M616))*radconv","v":-102.99391545528979}]
[{"$f":"Pole1","v":3842.8490658054875},1.4142135623730951,0.78539816339744828,1.0000050790577855,3.1871731324820051E-3,36.231801801003137,1.5431927588130858,1.1104948616017736,0.44987966110647881,1.0000116598739059,4.8290290148458757E-3,{"$f":"SQRT((1-(A617^2/(Pole3^2)))^2+(A617/(Q*Pole3))^2)","v":{"$error":"#NAME?"}},{"$f":"ATAN((A617/(Q*Pole3))/(1-A617^2/Pole3^2))","v":{"$error":"#NAME?"}},{"$error":"#NAME?"},{"$error":"#NAME?"},{"$error":"#NAME?"},"p1",null,null,null,17.332655986368,-62.918909238555003,null,{"$error":"#NAME?"},{"$error":"#NAME?"}]
[{"$f":"Zero1","v":1205719.2672254271},313.75819619668829,1.5676091536624146,1.4142135623730951,0.78539816339744828,11363.636407636364,1.5707083267951238,151.51845147921529,1.5641964226243921,1.8154019152424434,0.98742331980104059,{"$f":"SQRT((1-(A618^2/(Pole3^2)))^2+(A618/(Q*Pole3))^2)","v":{"$error":"#NAME?"}},{"$f":"ATAN((A618/(Q*Pole3))/(1-A618^2/Pole3^2))","v":{"$error":"#NAME?"}},{"$error":"#NAME?"},{"$error":"#NAME?"},{"$error":"#NAME?"},"z1",null,null,null,4.9237329215478303,-56.94829350804568,null,{"$error":"#NAME?"},{"$error":"#NAME?"}]
[{"$f":"Pole2","v":106.10329551583757},1.0003810994739908,2.7603567981810833E-2,1.0000000038720001,8.7999999772842661E-5,1.4142135623730951,0.78539816339744828,1.0000888849386227,1.3332543294145675E-2,1.0000000088888887,1.3333333254320987E-4,{"$f":"SQRT((1-(A619^2/(Pole3^2)))^2+(A619/(Q*Pole3))^2)","v":{"$error":"#NAME?"}},{"$f":"ATAN((A619/(Q*Pole3))/(1-A619^2/Pole3^2))","v":{"$error":"#NAME?"}},{"$error":"#NAME?"},{"$error":"#NAME?"},{"$error":"#NAME?"},"p2",null,null,{"$f":"Pole2","v":106.10329551583757},44.594696810842223,-44.243741026848987,null,{"$error":"#NAME?"},{"$error":"#NAME?"}]
[{"$f":"Zero2","v":7957.747163687819},2.2996056269384355,1.1209166656884177,1.000021779762821,6.5999041705045872E-3,75.006666370396715,1.557463783500751,1.4142135623730951,0.78539816339744828,1.0000499987500624,9.9996666866652359E-3,{"$f":"SQRT((1-(A620^2/(Pole3^2)))^2+(A620/(Q*Pole3))^2)","v":{"$error":"#NAME?"}},{"$f":"ATAN((A620/(Q*Pole3))/(1-A620^2/Pole3^2))","v":{"$error":"#NAME?"}},{"$error":"#NAME?"},{"$error":"#NAME?"},{"$error":"#NAME?"},"z2",null,null,{"$f":"Zero2","v":7957.747163687819},13.112093239811486,-44.809040287955291,null,{"$error":"#NAME?"},{"$error":"#NAME?"}]
[{"$f":"Pole3","v":250000},65.063584062741086,1.5554261410103354,1.0212697962208097,0.20444809137979539,2356.194699706582,1.5703719136383159,31.431837964926618,1.5389760821208589,1.0481870271021962,0.30439579703788289,{"$f":"SQRT((1-(A621^2/(Pole3^2)))^2+(A621/(Q*Pole3))^2)","v":{"$error":"#NAME?"}},{"$f":"ATAN((A621/(Q*Pole3))/(1-A621^2/Pole3^2))","v":{"$error":"#NAME?"}},{"$error":"#NAME?"},{"$error":"#NAME?"},{"$error":"#NAME?"},"p3",null,null,null,9.6986212725071201,-19.239443134029852,null,{"$error":"#NAME?"},{"$error":"#NAME?"}]

{"sheet":"Controller parameters","index":7,"n_rows":14,"n_cols":42,"rows_kept":14,"cut":false,"hidden":true,"merged":[]}
["Part #","Switching \nfrequency\n(KHz)","Se peak voltage\n(V)","Current sense amplifier gain","Error amplifier transconductance(Gm)(uA/V)","Error amplifier output impedance(Rm)\n(MΩ)","High-Side Pull-up (Turn on) Resistance(Ω)","High-Side Pull-down\n(Turn off) Resistance(Ω)","High-Side drive voltage\n(V)","Current Limit\n(A)","Dead Time L-H\n(ns)","Dead Time H-L\n(ns)","Low-Side Pull-up (Turn on) Resistance(Ω)","Low-Side Pull-down\n(Turn off) Resistance(Ω)","High-Side Rdson@12V\n 25C\n(mΩ)","Low-Side Rdson@12V\n 25C\n(mΩ)","Reference voltage\n(V)","High-Side Gate threshold voltage\n(V)","Low-Side Gate threshold voltage\n(V)","High-Side transconductance(Gfs)(s)","Low-Side transconductance(Gfs)(s)","High-Side Vsp(V)","Low-Side Vsp(V)","High-Side Rdson as function of temp&Vin(Ω)","Low-Side Rdson as function of temp&Vin(Ω)","High-Side Rgate\n(Ω)","Low-Side Rgate\n(Ω)","Controller Quiescent Current (mA)","Theta J-A","High-Side Tatal gate charge Qg\n(nc)","High-Side Gate source charge Qgs\n(nc)","High-Side Gate drain charge Qgd\n(nc)","θja\n(℃/w)","Low-Side Tatal gate charge Qg\n(nc)","Low-Side Gate source charge Qgs\n(nc)","Low-Side Gate drain charge Qgd\n(nc)","High-Side Die temperature\n(℃)","Low-Side Die temperature\n(℃)","Factor","Schottky diode voltage droop\n(V)","Maxim output current\n(A)","Maxim \ninput voltage\n(V)"]
["AOZ1014AI",500,0.372,3.8340000000000001,210,2.5,16.7,8.3800000000000008,{"$f":"'EZBuck design calculator'!$N$15","v":12},6,null,null,null,null,35,null,0.8,2,null,13,null,{"$f":"R2+('EZBuck design calculator'!N17/T2)","v":2.1538461538461537},null,{"$f":"((O2/1000)/POWER(('EZBuck design calculator'!N15-R2),0.433))*(1+(2*AK2)*0.0048)","v":1.7497290352561024E-2},null,3.6,null,2,1,{"$f":"IF('EZBuck design calculator'!N15>5.5,18.5,9.6)","v":18.5},2.7,4.5,82,null,null,null,{"$f":"1*dieTemp('EZBuck design calculator'!$N$17,AG2,O2,'EZBuck design calculator'!$N$19,'EZBuck design calculator'!$N$16/'EZBuck design calculator'!$N$15,0.0048,'Efficiency calculations'!$K$302)","v":36.967291352009717},null,0,0.33,4,16]
["AOZ1014DI",500,0.372,3.8340000000000001,210,2.5,16.7,8.3800000000000008,{"$f":"'EZBuck design calculator'!$N$15","v":12},6,null,null,null,null,35,null,0.8,2,null,13,null,{"$f":"R3+('EZBuck design calculator'!N17/T3)","v":2.1538461538461537},null,{"$f":"((O3/1000)/POWER(('EZBuck design calculator'!N15-R3),0.433))*(1+(2*AK3)*0.0048)","v":1.6912902735419993E-2},null,3.6,null,2,1,{"$f":"IF('EZBuck design calculator'!N15>5.5,18.5,9.6)","v":18.5},2.7,4.5,50,null,null,null,{"$f":"1*dieTemp('EZBuck design calculator'!$N$17,AG3,O3,'EZBuck design calculator'!$N$19,'EZBuck design calculator'!$N$16/'EZBuck design calculator'!$N$15,0.0048,'Efficiency calculations'!$K$302)","v":32.253593644401839},null,0,0.33,5,16]
["AOZ1015",500,0.4,1.82,160,1.5,7.4,7.4,{"$f":"'EZBuck design calculator'!$N$15","v":12},2,null,null,null,null,97,null,0.8,1.9,null,3.8,null,{"$f":"R4+('EZBuck design calculator'!N17/T4)","v":2.426315789473684},null,{"$f":"((O4/1000)/POWER(('EZBuck design calculator'!N15-R4),0.433))*(1+(2*AK4)*0.0048)","v":5.0791899661343884E-2},null,12,null,2,2,{"$f":"IF('EZBuck design calculator'!N15>5.5,6.8,2.4)","v":6.8},1.6,0.95,87,null,null,null,{"$f":"1*dieTemp('EZBuck design calculator'!$N$17,AG4,O4,'EZBuck design calculator'!$N$19,'EZBuck design calculator'!$N$16/'EZBuck design calculator'!$N$15,0.0048,'Efficiency calculations'!$K$302)","v":44.2978414232456},null,1,0.33,1.5,16]
["AOZ1016",500,0.4,1.82,160,1.5,7.4,7.4,{"$f":"'EZBuck design calculator'!$N$15","v":12},2.5,null,null,null,null,97,null,0.8,1.9,null,3.8,null,{"$f":"R5+('EZBuck design calculator'!N17/T5)","v":2.426315789473684},null,{"$f":"((O5/1000)/POWER(('EZBuck design calculator'!N15-R5),0.433))*(1+(2*AK5)*0.0048)","v":5.0791899661343884E-2},null,12,null,2,3,{"$f":"IF('EZBuck design calculator'!N15>5.5,6.8,2.4)","v":6.8},1.6,0.95,87,null,null,null,{"$f":"1*dieTemp('EZBuck design calculator'!$N$17,AG5,O5,'EZBuck design calculator'!$N$19,'EZBuck design calculator'!$N$16/'EZBuck design calculator'!$N$15,0.0048,'Efficiency calculations'!$K$302)","v":44.2978414232456},null,1,0.33,2,16]
["AOZ1017",500,0.15,1.82,160,1.5,12,7,{"$f":"'EZBuck design calculator'!$N$15","v":12},4,null,null,null,null,35,null,0.8,1.8,null,9.5,null,{"$f":"R6+('EZBuck design calculator'!N17/T6)","v":2.0105263157894737},null,{"$f":"((O6/1000)/POWER(('EZBuck design calculator'!N15-R6),0.433))*(1+(2*AK6)*0.0048)","v":1.74390599847455E-2},null,10,null,2,4,{"$f":"IF('EZBuck design calculator'!N15>5.5,14.7,7.6)","v":14.7},2,3.8,87,null,null,null,{"$f":"1*dieTemp('EZBuck design calculator'!$N$17,AG6,O6,'EZBuck design calculator'!$N$19,'EZBuck design calculator'!$N$16/'EZBuck design calculator'!$N$15,0.0048,'Efficiency calculations'!$K$302)","v":37.708919383261133},null,0,0.33,3,16]
["AOZ1019",500,0.4,1.82,160,1.5,15,7,{"$f":"'EZBuck design calculator'!$N$15","v":12},2.5,null,null,null,null,97,null,0.8,1.9,null,3.8,null,{"$f":"R7+('EZBuck design calculator'!N17/T7)","v":2.426315789473684},null,{"$f":"((O7/1000)/POWER(('EZBuck design calculator'!N15-R7),0.433))*(1+(2*AK7)*0.0048)","v":5.0791899661343884E-2},null,12,null,15,5,{"$f":"IF('EZBuck design calculator'!N15>5.5,6.8,2.4)","v":6.8},1.6,0.95,87,null,null,null,{"$f":"1*dieTemp('EZBuck design calculator'!$N$17,AG7,O7,'EZBuck design calculator'!$N$19,'EZBuck design calculator'!$N$16/'EZBuck design calculator'!$N$15,0.0048,'Efficiency calculations'!$K$302)","v":44.2978414232456},null,0,0.33,2,16]
["AOZ1020",500,0.40899999999999997,1.2276,186.9,2.5,27.2,4.5999999999999996,{"$f":"'EZBuck design calculator'!$N$15","v":12},2.5,60,32,1.6,14.7,97,{"$f":"IF('EZBuck design calculator'!N15>10,50,95.5-4.55*I8)","v":50},0.8,1.9,1.9,3.8,7,{"$f":"R8+('EZBuck design calculator'!N17/T8)","v":2.426315789473684},{"$f":"S8+('EZBuck design calculator'!N17/U8)","v":2.1857142857142855},{"$f":"((O8/1000)/POWER(('EZBuck design calculator'!N15-R8),0.433))*(1+(2*AK8)*0.0048)","v":5.0791899661343884E-2},{"$f":"(1+(AL8-25)*0.0048)*P8*0.001","v":5.342424162797433E-2},12,3,1.6,6,{"$f":"IF('EZBuck design calculator'!N15>5.5,6.8,2.4)","v":6.8},1.6,0.95,87,{"$f":"IF('EZBuck design calculator'!N15>5.5,6.5,3.1)","v":6.5},1.2,1.6,{"$f":"1*dieTemp('EZBuck design calculator'!$N$17,AG8,O8,'EZBuck design calculator'!$N$19,'EZBuck design calculator'!$N$16/'EZBuck design calculator'!$N$15,0.0048,'Efficiency calculations'!$K$302)","v":44.2978414232456},{"$f":"1*dieTemp('EZBuck design calculator'!$N$17,AG8,P8,'EZBuck design calculator'!$N$19,'EZBuck design calculator'!$N$16/'EZBuck design calculator'!$N$15,0.0048,'Efficiency calculations'!$K$302)","v":39.267673449893024},0,0,2,16]
["AOZ1021",500,0.40899999999999997,1.2276,186.9,2.5,27.2,4.5999999999999996,{"$f":"'EZBuck design calculator'!$N$15","v":12},3.5,60,32,1.6,14.7,97,{"$f":"IF('EZBuck design calculator'!N15>10,17,35.2-1.82*I9)","v":17},0.8,1.9,1.6,3.8,24,{"$f":"R9+('EZBuck design calculator'!N17/T9)","v":2.426315789473684},{"$f":"S9+('EZBuck design calculator'!N17/U9)","v":1.6833333333333333},{"$f":"((O9/1000)/POWER(('EZBuck design calculator'!N15-R9),0.433))*(1+(2*AK9)*0.0048)","v":5.0791899661343884E-2},{"$f":"(1+(AL9-25)*0.0048)*P9*0.001","v":1.7886738893639793E-2},12,0.8,1.6,7,{"$f":"IF('EZBuck design calculator'!N15>5.5,6.8,2.4)","v":6.8},1.6,0.95,87,{"$f":"IF('EZBuck design calculator'!N15>5.5,11.3,5.7)","v":11.3},2.1,3,{"$f":"1*dieTemp('EZBuck design calculator'!$N$17,AG9,O9,'EZBuck design calculator'!$N$19,'EZBuck design calculator'!$N$16/'EZBuck design calculator'!$N$15,0.0048,'Efficiency calculations'!$K$302)","v":44.2978414232456},{"$f":"1*dieTemp('EZBuck design calculator'!$N$17,AG9,P9,'EZBuck design calculator'!$N$19,'EZBuck design calculator'!$N$16/'EZBuck design calculator'!$N$15,0.0048,'Efficiency calculations'!$K$302)","v":35.86689820637006},0,0,3,16]
["AOZ1022",500,0.40899999999999997,1.2276,186.9,2.5,27.2,4.5999999999999996,{"$f":"'EZBuck design calculator'!$N$15","v":12},4,60,32,1.6,14.7,{"$f":"IF('EZBuck design calculator'!N15>10,97,222.5-12.55*I10)","v":97},{"$f":"IF('EZBuck design calculator'!N15>10,17,35.2-1.82*I10)","v":17},0.8,1.9,1.6,3.8,24,{"$f":"R10+('EZBuck design calculator'!N17/T10)","v":2.426315789473684},{"$f":"S10+('EZBuck design calculator'!N17/U10)","v":1.6833333333333333},{"$f":"((O10/1000)/POWER(('EZBuck design calculator'!N15-R10),0.433))*(1+(2*AK10)*0.0048)","v":4.8832547301618394E-2},{"$f":"(1+(AL10-25)*0.0048)*P10*0.001","v":1.7630503074168948E-2},12,0.8,1.6,8,{"$f":"IF('EZBuck design calculator'!N15>5.5,6.8,2.4)","v":6.8},1.6,0.95,62,{"$f":"IF('EZBuck design calculator'!N15>5.5,11.3,5.7)","v":11.3},2.1,3,{"$f":"1*dieTemp('EZBuck design calculator'!$N$17,AG10,O10,'EZBuck design calculator'!$N$19,'EZBuck design calculator'!$N$16/'EZBuck design calculator'!$N$15,0.0048,'Efficiency calculations'!$K$302)","v":38.570662754973739},{"$f":"1*dieTemp('EZBuck design calculator'!$N$17,AG10,P10,'EZBuck design calculator'!$N$19,'EZBuck design calculator'!$N$16/'EZBuck design calculator'!$N$15,0.0048,'Efficiency calculations'!$K$302)","v":32.726753359913545},0,0,3,16]
["AOZ1024",500,0.40899999999999997,1.2276,186.9,2.5,27.2,4.5999999999999996,{"$f":"'EZBuck design calculator'!$N$15","v":12},5,60,32,1.6,14.7,{"$f":"IF('EZBuck design calculator'!N15>10,97,222.5-12.55*I11)","v":97},{"$f":"IF('EZBuck design calculator'!N15>10,17,35.2-1.82*I11)","v":17},0.8,1.9,1.6,3.8,24,{"$f":"R11+('EZBuck design calculator'!N17/T11)","v":2.426315789473684},{"$f":"S11+('EZBuck design calculator'!N17/U11)","v":1.6833333333333333},{"$f":"((O11/1000)/POWER(('EZBuck design calculator'!N15-R11),0.433))*(1+(2*AK11)*0.0048)","v":4.7910280962476362E-2},{"$f":"(1+(AL11-25)*0.0048)*P11*0.001","v":1.7507920110202461E-2},12,0.8,1.6,9,{"$f":"IF('EZBuck design calculator'!N15>5.5,6.8,2.4)","v":6.8},1.6,0.95,50,{"$f":"IF('EZBuck design calculator'!N15>5.5,11.3,5.7)","v":11.3},2.1,3,{"$f":"1*dieTemp('EZBuck design calculator'!$N$17,AG11,O11,'EZBuck design calculator'!$N$19,'EZBuck design calculator'!$N$16/'EZBuck design calculator'!$N$15,0.0048,'Efficiency calculations'!$K$302)","v":35.874882142680278},{"$f":"1*dieTemp('EZBuck design calculator'!$N$17,AG11,P11,'EZBuck design calculator'!$N$19,'EZBuck design calculator'!$N$16/'EZBuck design calculator'!$N$15,0.0048,'Efficiency calculations'!$K$302)","v":31.224511154441984},0,0,4,16]
["AOZ1210",370,0.2,1.37,220,2.5,62.47,9.1300000000000008,4.5,3.5,null,null,null,null,55,null,0.8,1,null,8,null,{"$f":"R12+('EZBuck design calculator'!N17/T12)","v":1.25},null,{"$f":"((O12/1000)/POWER((4.5-R12),0.433))*(1+(2*AK12)*0.0048)","v":4.5155605985455538E-2},null,3,null,2,10,4.34,0.6,1.38,105,null,null,null,{"$f":"1*dieTemp('EZBuck design calculator'!$N$17,AG12,O12,'EZBuck design calculator'!$N$19,'EZBuck design calculator'!$N$16/'EZBuck design calculator'!$N$15,0.0048,'Efficiency calculations'!$K$302)","v":42.949098702440892},null,0,0.33,2,27]
["AOZ1212AI",370,0.2,1.37,220,2.5,62.47,9.1300000000000008,4.5,3.5,null,null,null,null,55,null,0.8,1,null,8,null,{"$f":"R13+('EZBuck design calculator'!N17/T13)","v":1.25},null,{"$f":"((O13/1000)/POWER((4.5-R13),0.433))*(1+(2*AK13)*0.0048)","v":4.5155605985455538E-2},null,3,null,2,11,4.34,0.6,1.38,105,null,null,null,{"$f":"1*dieTemp('EZBuck design calculator'!$N$17,AG13,O13,'EZBuck design calculator'!$N$19,'EZBuck design calculator'!$N$16/'EZBuck design calculator'!$N$15,0.0048,'Efficiency calculations'!$K$302)","v":42.949098702440892},null,0,0.33,3,27]
["AOZ1212DI",370,0.2,1.37,220,2.5,62.47,9.1300000000000008,4.5,3.5,null,null,null,null,55,null,0.8,1,null,8,null,{"$f":"R14+('EZBuck design calculator'!N17/T14)","v":1.25},null,{"$f":"((O14/1000)/POWER((4.5-R14),0.433))*(1+(2*AK14)*0.0048)","v":4.2384541512761789E-2},null,3,null,2,11,4.34,0.6,1.38,53,null,null,null,{"$f":"1*dieTemp('EZBuck design calculator'!$N$17,AG14,O14,'EZBuck design calculator'!$N$19,'EZBuck design calculator'!$N$16/'EZBuck design calculator'!$N$15,0.0048,'Efficiency calculations'!$K$302)","v":33.921044225245041},null,0,0.33,3,27]