Workbook
Name Infineon: 'Wolfspeed Power Cross Reference'!$AA$6:$AA$84
Name Infineon.: Sheet8!$R$297:$R$388
Name IXYS: 'Wolfspeed Power Cross Reference'!$Z$6:$Z$154
Name Littelfuse: 'Wolfspeed Power Cross Reference'!$Y$6:$Y$51
Name Littelfuse.: Sheet8!$R$255:$R$295
Name Manufacturer: 'Wolfspeed Power Cross Reference'!$P$5:$P$14
Name Manufacturer.: Sheet8!$O$4:$O$9
Name Microsemi: 'Wolfspeed Power Cross Reference'!$X$6:$X$45
Name Microsemi.: Sheet8!$R$242:$R$253
Name ON: 'Wolfspeed Power Cross Reference'!$W$6:$W$57
Name ON.: Sheet8!$R$153:$R$240
Name Rohm: 'Wolfspeed Power Cross Reference'!$V$6:$V$113
Name Rohm.: Sheet8!$R$84:$R$151
Name ST: 'Wolfspeed Power Cross Reference'!$U$6:$U$86
Name ST.: Sheet8!$R$5:$R$82
Name UnitedSiC: 'Wolfspeed Power Cross Reference'!$T$6:$T$53
Name Wolfspeed: 'Wolfspeed Power Cross Reference'!$S$6:$S$134

Sheet Wolfspeed Power Cross Reference
G1: Version 1.3b
B2: Silicon Carbide MOSFET Cross Reference
C3: Please make selection using drop down menus below:
B4: Select Manufacturer  | C4: Rohm | E4: Description/Specs (from Digikey) | P4: Row Labels | S4: Row Labels | T4: Row Labels | U4: Row Labels | V4: Row Labels | W4: Row Labels | X4: Row Labels | Y4: Row Labels | Z4: Row Labels | AA4: Row Labels | AB4: Row Labels
B5: Select Part Number  | C5: SCT3080KLHRC11 | E5: =VLOOKUP($C5,'20200306_untitled_bom (1)'!$B:$H,5,FALSE) -> 1200V 104mOhm @ 10A, 18V TO-247-3 | F5: =VLOOKUP($C5,'20200306_untitled_bom (1)'!$B:$H,6,FALSE) -> Id=31A (Tc) Vgsmax=18V Vth=5.6V @ 5mA | G5: =VLOOKUP($C5,'20200306_untitled_bom (1)'!$B:$H,7,FALSE) -> Qg=60nC @ 18V Ciss=785pF @ 800V | P5: Wolfspeed | S5: Wolfspeed | T5: United Silicon Carbide | U5: STMicroelectronics | V5: Rohm | W5: ON Semiconductor | X5: Microsemi | Y5: Littelfuse | Z5: IXYS | AA5: Infineon | AB5: GeneSiC Semiconductor | AE5: Row Labels | AH5: Row Labels
B6: Wolfspeed Recommends: | C6: =INDEX(Sheet2!B:B,VLOOKUP(C5,Sheet2!K:AB,18,FALSE)) -> C3M0075120D | E6: =VLOOKUP($C6,'20200306_untitled_bom (1)'!$B:$H,5,FALSE) -> 1200V 90mOhm @ 20A, 15V TO-247-3 | F6: =VLOOKUP($C6,'20200306_untitled_bom (1)'!$B:$H,6,FALSE) -> Id=30A (Tc) Vgsmax=15V Vth=4V @ 5mA | G6: =VLOOKUP($C6,'20200306_untitled_bom (1)'!$B:$H,7,FALSE) -> Qg=54nC @ 15V Ciss=1350pF @ 1000V | P6: UnitedSiC | S6: C2M0025120D | T6: UF3C065030K3S | U6: SCT10N120 | V6: BSM180C12P2E202 | W6: NTBG020N090SC1 | X6: APT100MC120JCU2 | Y6: IXFN90N170SK | Z6: IXFN50N120SIC | AA6: IMW120R030M1HXKSA1 | AB6: GA05JT12-263 | AE6: ST. | AH6: STMicroelectronics
B7: Lower RDS(on): | C7: =VLOOKUP(C6,Sheet1!AF:AH,2,FALSE) -> C3M0032120D | E7: =VLOOKUP($C7,'20200306_untitled_bom (1)'!$B:$H,5,FALSE) -> 1200V 43mOhm @ 40A, 15V TO-247-3 | F7: =VLOOKUP($C7,'20200306_untitled_bom (1)'!$B:$H,6,FALSE) -> Id=63A (Tc) Vgsmax=15V Vth=3.6V @ 11.5mA | G7: =VLOOKUP($C7,'20200306_untitled_bom (1)'!$B:$H,7,FALSE) -> Qg=114nC @ 15V Ciss=3357pF @ 1000V | P7: ST | S7: C2M0040120D | T7: UF3C065030K4S | U7: SCT10N120AG | V7: BSM300C12P3E301 | W7: NTBG020N120SC1 | X7: MSC015SMA070B | Y7: LSIC1MO120E0080 | Z7: IXFN50N120SK | AA7: IMW120R045M1XKSA1 | AB7: GA08JT17-247 | AE7: Rohm. | AH7: STPSC10065D
B8: Higher RDS(on): | C8: =VLOOKUP(C6,Sheet1!AF:AH,3,FALSE) -> C3M0160120D | E8: =IFERROR(VLOOKUP($C8,'20200306_untitled_bom (1)'!$B:$H,5,FALSE),"N/A") -> 1200V 160mOhm TO-247-3 | F8: =IFERROR(VLOOKUP($C8,'20200306_untitled_bom (1)'!$B:$H,6,FALSE),"N/A") -> 0 | G8: =IFERROR(VLOOKUP($C8,'20200306_untitled_bom (1)'!$B:$H,7,FALSE),"N/A") -> 0 | P8: Rohm | S8: C2M0045170D | T8: UF3C065040B3 | U8: SCT10N120H | V8: BSM400C12P3G202 | W8: NTHL020N090SC1 | X8: MSC015SMA070S | Y8: LSIC1MO120E0120 | Z8: IXFN70N120SK | AA8: IMW120R060M1HXKSA1 | AB8: GA10JT12-263 | AE8: ON. | AH8: STPSC10065DY
P9: ON | S9: C2M0045170P | T9: UF3C065040K3S | U9: SCT20N120 | V9: BSM600C12P3G201 | W9: NTHL020N120SC1 | X9: MSC025SMA120B | Y9: LSIC1MO120E0160 | Z9: MCB60I1200TZ-TUB | AA9: IMW120R090M1HXKSA1 | AB9: GA10SICP12-263 | AE9: Microsemi. | AH9: STPSC10065GY-TR
B10: Silicon Carbide Diode Cross Reference | P10: Microsemi | S10: C2M0080120D | T10: UF3C065040K4S | U10: SCT20N120AG | V10: SCH2080KEC | W10: NTHL060N090SC1 | X10: MSC025SMA120J | Y10: LSIC1MO170E1000 | AA10: IMW120R140M1HXKSA1 | AB10: GA20JT12-263 | AE10: Littelfuse. | AH10: STPSC1006D
C11: Please make selection using drop down menus below: | P11: Littelfuse | S11: C2M0080170P | T11: UF3C065080K4S | U11: SCT20N120H | V11: SCT2080KEC | W11: NTHL080N120SC1 | X11: MSC025SMA120S | AA11: IMW120R220M1HXKSA1 | AB11: GA50JT06-258 | AE11: Infineon. | AH11: STPSC10C065RY
B12: Select Manufacturer  | C12: ST. | E12: Description/Specs (from Digikey) | P12: IXYS | S12: C2M0160120D | T12: UJ3C065030B3 | U12: SCT30N120 | V12: SCT2080KEHRC11 | W12: NVBG020N090SC1 | X12: MSC040SMA120J | AA12: IMW120R350M1HXKSA1 | AE12: Grand Total | AH12: STPSC10H065B-TR
B13: Select Part Number  | C13: STPSC10H065GY-TR | E13: =VLOOKUP($C13,'20200310_diodes_as_of_3_10_20'!$DH:$DO,7,FALSE) -> DIODE SCHTY SIC 650V 10A D2PAK | F13: =VLOOKUP($C13,'20200310_diodes_as_of_3_10_20'!$DH:$DO,6,FALSE) -> 1.75V @ 10A | G13: =VLOOKUP($C13,'20200310_diodes_as_of_3_10_20'!$DH:$DO,8,FALSE) -> TO-263-3, D²Pak (2 Leads + Tab), TO-263AB | P13: Infineon | S13: C2M0280120D | T13: UJ3C065030K3S | U13: SCT30N120D2 | V13: SCT2120AFC | W13: NVBG020N120SC1 | X13: MSC080SMA120J | AA13: IMZ120R030M1HXKSA1 | AH13: STPSC10H065BY-TR
B14: Wolfspeed Recommends: | C14: =INDEX('Sheet2 (2)'!$B:$B,MATCH(C13,'Sheet2 (2)'!$H:$H,0)) -> C3D10065A - no package match | E14: =VLOOKUP(LEFT($C14,9),'20200310_diodes_as_of_3_10_20'!$DH:$DO,7,FALSE) -> DIODE SCHOTTKY 650V 10A TO220-2 | F14: =VLOOKUP(LEFT($C14,9),'20200310_diodes_as_of_3_10_20'!$DH:$DO,6,FALSE) -> 1.8V @ 10A | G14: =VLOOKUP(LEFT($C14,9),'20200310_diodes_as_of_3_10_20'!$DH:$DO,8,FALSE) -> TO-220-2 | P14: Genesic | S14: C2M1000170D | T14: UJ3C065030T3S | U14: SCT30N120H | V14: SCT2160KEC | W14: NVHL020N090SC1 | X14: MSC090SMA070B | AA14: IMZ120R045M1XKSA1 | AH14: STPSC10H065D
P15: Grand Total | S15: C2M1000170J | T15: UJ3C065080B3 | U15: SCT50N120 | V15: SCT2280KEC | W15: NVHL020N120SC1 | X15: MSC090SMA070S | AA15: IMZ120R060M1HXKSA1 | AH15: STPSC10H065DI
B16: Silicon Carbide Module Cross Reference - COMING SOON! | S16: C2M1000170J-TR | T16: UJ3C065080K3S | U16: SCTH100N65G2-7AG | V16: SCT2450KEC | W16: NVHL080N120SC1 | X16: MSC280SMA120B | AA16: IMZ120R090M1HXKSA1 | AH16: STPSC10H065DLF
C17: Please make selection using drop down menus below: | S17: C3M0016120D | T17: UJ3C065080T3S | U17: SCTH35N65G2V-7 | V17: SCT2750NYTB | AA17: IMZ120R140M1HXKSA1 | AH17: STPSC10H065DY
B18: Select Manufacturer  | C18: ST | E18: Description/Specs (from Digikey) | S18: C3M0016120K | T18: (blank) | U18: SCTH40N120G2V7AG | V18: SCT2H12NYTB | AA18: IMZ120R220M1HXKSA1 | AH18: STPSC10H065G-TR
B19: Select Part Number  | C19: SCT20N120 | E19: =VLOOKUP($C19,'20200306_untitled_bom (1)'!$B:$H,5,FALSE) -> 1200V 290mOhm @ 10A, 20V TO-247-3 | F19: =VLOOKUP($C19,'20200306_untitled_bom (1)'!$B:$H,6,FALSE) -> Id=20A (Tc) Vgsmax=20V Vth=3.5V @ 1mA | G19: =VLOOKUP($C19,'20200306_untitled_bom (1)'!$B:$H,7,FALSE) -> Qg=45nC @ 20V Ciss=650pF @ 400V | S19: C3M0021120D | U19: SCTH90N65G2V-7 | V19: SCT2H12NZGC11 | AA19: IMZ120R350M1HXKSA1 | AH19: STPSC10H065GY-TR
B20: Wolfspeed Recommends: | C20: =INDEX(Sheet2!B:B,VLOOKUP(C19,Sheet2!K:AB,18,FALSE)) -> C3M0160120D | E20: =VLOOKUP($C20,'20200306_untitled_bom (1)'!$B:$H,5,FALSE) -> 1200V 160mOhm TO-247-3 | F20: =VLOOKUP($C20,'20200306_untitled_bom (1)'!$B:$H,6,FALSE) -> 0 | G20: =VLOOKUP($C20,'20200306_untitled_bom (1)'!$B:$H,7,FALSE) -> 0 | S20: C3M0021120K | U20: SCTW100N65G2AG | V20: SCT3017ALHRC11 | AA20: IMZA65R027M1H | AH20: STPSC10H12B-TR1
G21: Please send feedback to Dave Skinner - dskinner@cree.com | S21: C3M0030090K | U21: SCTW35N65G2V | V21: SCT3022ALGC11 | AA21: IMZA65R048M1H | AH21: STPSC10H12D
S22: C3M0032120D | U22: SCTW35N65G2VAG | V22: SCT3022ALHRC11 | AA22: IMW65R048M1H | AH22: STPSC10H12DY
S23: C3M0032120K | U23: SCTW40N120G2VAG | V23: SCT3022KLGC11 | AA23: IMZA65R107M1H | AH23: STPSC10H12G-TR
S24: C3M0065090D | U24: SCTW90N65G2V | V24: SCT3022KLHRC11 | AA24: IMW65R027M1H | AH24: STPSC10H12GY-TR
S25: C3M0065090J | U25: SCTWA50N120 | V25: SCT3030ALGC11 | AA25: IMW65R072M1H | AH25: STPSC10H12WL
S26: C3M0065090J-TR | V26: SCT3030ALHRC11 | AA26: IMZA65R072M1H | AH26: STPSC12065D
S27: C3M0065100J | V27: SCT3030ARC14 | AH27: STPSC12065DY
S28: C3M0065100J-TR | V28: SCT3030KLGC11 | AH28: STPSC12065G2Y-TR
S29: C3M0065100K | V29: SCT3030KLHRC11 | AH29: STPSC12065G-TR
S30: C3M0075120D | V30: SCT3040KLGC11 | AH30: STPSC12065GY-TR
S31: C3M0075120J | V31: SCT3040KLHRC11 | AH31: STPSC1206D
S32: C3M0075120J-TR | V32: SCT3040KRC14 | AH32: STPSC12C065DY
S33: C3M0075120K | V33: SCT3060ALGC11 | AH33: STPSC12H065D
S34: C3M0120090D | V34: SCT3060ALHRC11 | AH34: STPSC12H065DY
S35: C3M0120090J | V35: SCT3060ARC14 | AH35: STPSC15H12D
S36: C3M0120090J-TR | V36: SCT3080ALHRC11 | AH36: STPSC15H12DY
S37: C3M0120100J | V37: SCT3080ARC14 | AH37: STPSC15H12WL
S38: C3M0120100K | V38: SCT3080KLGC11 | AH38: STPSC16H065AW
... S47: C3M0060065D | V47: SCT3160KLHRC11 | AH47: STPSC20H12G2Y-TR
S48: C3M0060065K | AH48: STPSC20H12G-TR
S49: C3M0060065J | AH49: STPSC20H12GY-TR
S50: C3M0120065D | AH50: STPSC20H12WL
S51: C3M0120065K | AH51: STPSC2H065B-TR
S52: C3M01200065J | AH52: STPSC2H12B2Y-TR
AH53: STPSC2H12B-TR1
AH54: STPSC2H12D
AH55: STPSC40065CWY
AH56: STPSC406B-TR
AH57: STPSC406D
AH58: STPSC4H065B-TR
AH59: STPSC4H065D
AH60: STPSC4H065DI
AH61: STPSC4H065DLF
AH62: STPSC5H12B-TR1
AH63: STPSC5H12D
AH64: STPSC606D
... AH487: Grand Total

Sheet Sheet2
D1: suffix | G1: br | H1: Rdson (max) | I1: Package | J1: Manufacturer | K1: Line Item | L1: Distributor with Lowest Price | M1: Lowest Price | N1: Digikey | O1: Arrow | P1: Avnet | Q1: Avnet Europe | R1: Chip One Stop | S1: Future | T1: Mouser | U1: Newark | V1: Richardson | W1: RS Components | X1: Rutronik | Y1: TME | Z1: TTI | AA1: Verical
A2: 2 | B2: =IF(J2="Wolfspeed",K2,IFERROR(VLOOKUP(CONCATENATE(C2,D2),Sheet1!AF:AH,1,FALSE),CONCATENATE(C2,"D"))) -> C3M0015065K | C2: {=IF(G2=650,INDEX(Sheet1!$I:$I,MATCH(MIN(ABS(Sheet1!$H$1:$H$50-E2)),ABS(Sheet1!$H$1:$H$50-E2),0)),IF(G2=900,INDEX(Sheet1!$C:$C,MATCH(MIN(ABS(Sheet1!$B$1:$B$50-E2)),ABS(Sheet1!$B$1:$B$50-E2),0)),IF(G2=1200,INDEX(Sheet1!$U:$U,MATCH(MIN(ABS(Sheet1!$T$1:$T$48-E2)),ABS(Sheet1!$T$1:$T$48-E2),0)),IF(G2=1000,INDEX(Sheet1!$AA:$AA,MATCH(MIN(ABS(Sheet1!$Z$1:$Z$50-E2)),ABS(Sheet1!$Z$1:$Z$50-E2),0))))))} -> C3M0015065 | D2: =IF(I2="TO-247-3","D",IF(I2="TO-247-4","K",IF(LEFT(I2,6)="TO-263","J","D"))) -> K | E2: =H2/1.3 -> 6.9230769 | G2: 650 | H2: 9 | I2: TO-247-4 | J2: United Silicon Carbide | K2: UF3SC065007K4S | L2: Mouser | M2: 55.36 | T2: 55.36 | AB2: =A2 -> 2
A3: 3 | B3: =IF(J3="Wolfspeed",K3,IFERROR(VLOOKUP(CONCATENATE(C3,D3),Sheet1!AF:AH,1,FALSE),CONCATENATE(C3,"D"))) -> C3M0015065D | C3: {=IF(G3=650,INDEX(Sheet1!$I:$I,MATCH(MIN(ABS(Sheet1!$H$1:$H$50-E3)),ABS(Sheet1!$H$1:$H$50-E3),0)),IF(G3=900,INDEX(Sheet1!$C:$C,MATCH(MIN(ABS(Sheet1!$B$1:$B$50-E3)),ABS(Sheet1!$B$1:$B$50-E3),0)),IF(G3=1200,INDEX(Sheet1!$U:$U,MATCH(MIN(ABS(Sheet1!$T$1:$T$48-E3)),ABS(Sheet1!$T$1:$T$48-E3),0)),IF(G3=1000,INDEX(Sheet1!$AA:$AA,MATCH(MIN(ABS(Sheet1!$Z$1:$Z$50-E3)),ABS(Sheet1!$Z$1:$Z$50-E3),0))))))} -> C3M0015065 | D3: =IF(I3="TO-247-3","D",IF(I3="TO-247-4","K",IF(LEFT(I3,6)="TO-263","J","D"))) -> D | E3: =H3/1.3 -> 14.615385 | G3: 650 | H3: 19 | I3: TO-247-3 | J3: Microsemi | K3: MSC015SMA070B | L3: Richardson RFPD | M3: 26.09 | N3: 28.17152 | O3: 26.98 | V3: 26.09 | AA3: 26.98 | AB3: =A3 -> 3
A4: 4 | B4: =IF(J4="Wolfspeed",K4,IFERROR(VLOOKUP(CONCATENATE(C4,D4),Sheet1!AF:AH,1,FALSE),CONCATENATE(C4,"D"))) -> C3M0015065D | C4: {=IF(G4=650,INDEX(Sheet1!$I:$I,MATCH(MIN(ABS(Sheet1!$H$1:$H$50-E4)),ABS(Sheet1!$H$1:$H$50-E4),0)),IF(G4=900,INDEX(Sheet1!$C:$C,MATCH(MIN(ABS(Sheet1!$B$1:$B$50-E4)),ABS(Sheet1!$B$1:$B$50-E4),0)),IF(G4=1200,INDEX(Sheet1!$U:$U,MATCH(MIN(ABS(Sheet1!$T$1:$T$48-E4)),ABS(Sheet1!$T$1:$T$48-E4),0)),IF(G4=1000,INDEX(Sheet1!$AA:$AA,MATCH(MIN(ABS(Sheet1!$Z$1:$Z$50-E4)),ABS(Sheet1!$Z$1:$Z$50-E4),0))))))} -> C3M0015065 | D4: =IF(I4="TO-247-3","D",IF(I4="TO-247-4","K",IF(LEFT(I4,6)="TO-263","J","D"))) -> D | E4: =H4/1.3 -> 14.615385 | G4: 650 | H4: 19 | I4: TO-268-3 | J4: Microsemi | K4: MSC015SMA070S | L4: Richardson RFPD | M4: 26.57 | N4: 28.69992 | V4: 26.57 | AA4: 34.4 | AB4: =A4 -> 4
A5: 5 | B5: =IF(J5="Wolfspeed",K5,IFERROR(VLOOKUP(CONCATENATE(C5,D5),Sheet1!AF:AH,1,FALSE),CONCATENATE(C5,"D"))) -> C3M0015065D | C5: {=IF(G5=650,INDEX(Sheet1!$I:$I,MATCH(MIN(ABS(Sheet1!$H$1:$H$50-E5)),ABS(Sheet1!$H$1:$H$50-E5),0)),IF(G5=900,INDEX(Sheet1!$C:$C,MATCH(MIN(ABS(Sheet1!$B$1:$B$50-E5)),ABS(Sheet1!$B$1:$B$50-E5),0)),IF(G5=1200,INDEX(Sheet1!$U:$U,MATCH(MIN(ABS(Sheet1!$T$1:$T$48-E5)),ABS(Sheet1!$T$1:$T$48-E5),0)),IF(G5=1000,INDEX(Sheet1!$AA:$AA,MATCH(MIN(ABS(Sheet1!$Z$1:$Z$50-E5)),ABS(Sheet1!$Z$1:$Z$50-E5),0))))))} -> C3M0015065 | D5: =IF(I5="TO-247-3","D",IF(I5="TO-247-4","K",IF(LEFT(I5,6)="TO-263","J","D"))) -> D | E5: =H5/1.3 -> 17 | G5: 650 | H5: 22.1 | I5: TO-247-3 | J5: Rohm | K5: SCT3017ALHRC11 | L5: Avnet Europe | M5: 74.333335 | N5: 94.0839 | Q5: 74.333335 | R5: 97.9 | T5: 96.1 | U5: 80.41 | AA5: 118.188 | AB5: =A5 -> 5
A6: 6 | B6: =IF(J6="Wolfspeed",K6,IFERROR(VLOOKUP(CONCATENATE(C6,D6),Sheet1!AF:AH,1,FALSE),CONCATENATE(C6,"D"))) -> C3M0015065D | C6: {=IF(G6=650,INDEX(Sheet1!$I:$I,MATCH(MIN(ABS(Sheet1!$H$1:$H$50-E6)),ABS(Sheet1!$H$1:$H$50-E6),0)),IF(G6=900,INDEX(Sheet1!$C:$C,MATCH(MIN(ABS(Sheet1!$B$1:$B$50-E6)),ABS(Sheet1!$B$1:$B$50-E6),0)),IF(G6=1200,INDEX(Sheet1!$U:$U,MATCH(MIN(ABS(Sheet1!$T$1:$T$48-E6)),ABS(Sheet1!$T$1:$T$48-E6),0)),IF(G6=1000,INDEX(Sheet1!$AA:$AA,MATCH(MIN(ABS(Sheet1!$Z$1:$Z$50-E6)),ABS(Sheet1!$Z$1:$Z$50-E6),0))))))} -> C3M0015065 | D6: =IF(I6="TO-247-3","D",IF(I6="TO-247-4","K",IF(LEFT(I6,6)="TO-263","J","D"))) -> D | E6: =H6/1.3 -> 19.230769 | G6: 650 | H6: 25 | I6: TO-247-3 | J6: STMicroelectronics | K6: SCTW90N65G2V | L6: Newark | M6: 37.5 | N6: 39 | O6: 46.407 | P6: 38.31418 | R6: 48.9 | S6: 41.93 | T6: 46.5 | U6: 37.5 | AA6: 49.401 | AB6: =A6 -> 6
A7: 7 | B7: =IF(J7="Wolfspeed",K7,IFERROR(VLOOKUP(CONCATENATE(C7,D7),Sheet1!AF:AH,1,FALSE),CONCATENATE(C7,"D"))) -> C3M0015065D | C7: {=IF(G7=650,INDEX(Sheet1!$I:$I,MATCH(MIN(ABS(Sheet1!$H$1:$H$50-E7)),ABS(Sheet1!$H$1:$H$50-E7),0)),IF(G7=900,INDEX(Sheet1!$C:$C,MATCH(MIN(ABS(Sheet1!$B$1:$B$50-E7)),ABS(Sheet1!$B$1:$B$50-E7),0)),IF(G7=1200,INDEX(Sheet1!$U:$U,MATCH(MIN(ABS(Sheet1!$T$1:$T$48-E7)),ABS(Sheet1!$T$1:$T$48-E7),0)),IF(G7=1000,INDEX(Sheet1!$AA:$AA,MATCH(MIN(ABS(Sheet1!$Z$1:$Z$50-E7)),ABS(Sheet1!$Z$1:$Z$50-E7),0))))))} -> C3M0015065 | D7: =IF(I7="TO-247-3","D",IF(I7="TO-247-4","K",IF(LEFT(I7,6)="TO-263","J","D"))) -> D | E7: =H7/1.3 -> 19.230769 | G7: 650 | H7: 25 | I7: TO-258AA | J7: GeneSiC Semiconductor | K7: GA50JT06-258 | L7: Digi-Key | M7: 601.94 | N7: 601.94 | AB7: =A7 -> 7
A8: 8 | B8: =IF(J8="Wolfspeed",K8,IFERROR(VLOOKUP(CONCATENATE(C8,D8),Sheet1!AF:AH,1,FALSE),CONCATENATE(C8,"D"))) -> C3M0015065D | C8: {=IF(G8=650,INDEX(Sheet1!$I:$I,MATCH(MIN(ABS(Sheet1!$H$1:$H$50-E8)),ABS(Sheet1!$H$1:$H$50-E8),0)),IF(G8=900,INDEX(Sheet1!$C:$C,MATCH(MIN(ABS(Sheet1!$B$1:$B$50-E8)),ABS(Sheet1!$B$1:$B$50-E8),0)),IF(G8=1200,INDEX(Sheet1!$U:$U,MATCH(MIN(ABS(Sheet1!$T$1:$T$48-E8)),ABS(Sheet1!$T$1:$T$48-E8),0)),IF(G8=1000,INDEX(Sheet1!$AA:$AA,MATCH(MIN(ABS(Sheet1!$Z$1:$Z$50-E8)),ABS(Sheet1!$Z$1:$Z$50-E8),0))))))} -> C3M0015065 | D8: =IF(I8="TO-247-3","D",IF(I8="TO-247-4","K",IF(LEFT(I8,6)="TO-263","J","D"))) -> D | E8: =H8/1.3 -> 20 | G8: 650 | H8: 26 | I8: TO-247-3 | J8: STMicroelectronics | K8: SCTW100N65G2AG | L8: Newark | M8: 17.07 | N8: 17.472 | T8: 20.74 | U8: 17.07 | AB8: =A8 -> 8
A9: 9 | B9: =IF(J9="Wolfspeed",K9,IFERROR(VLOOKUP(CONCATENATE(C9,D9),Sheet1!AF:AH,1,FALSE),CONCATENATE(C9,"D"))) -> C3M0015065D | C9: {=IF(G9=650,INDEX(Sheet1!$I:$I,MATCH(MIN(ABS(Sheet1!$H$1:$H$50-E9)),ABS(Sheet1!$H$1:$H$50-E9),0)),IF(G9=900,INDEX(Sheet1!$C:$C,MATCH(MIN(ABS(Sheet1!$B$1:$B$50-E9)),ABS(Sheet1!$B$1:$B$50-E9),0)),IF(G9=1200,INDEX(Sheet1!$U:$U,MATCH(MIN(ABS(Sheet1!$T$1:$T$48-E9)),ABS(Sheet1!$T$1:$T$48-E9),0)),IF(G9=1000,INDEX(Sheet1!$AA:$AA,MATCH(MIN(ABS(Sheet1!$Z$1:$Z$50-E9)),ABS(Sheet1!$Z$1:$Z$50-E9),0))))))} -> C3M0015065 | D9: =IF(I9="TO-247-3","D",IF(I9="TO-247-4","K",IF(LEFT(I9,6)="TO-263","J","D"))) -> J | E9: =H9/1.3 -> 20 | G9: 650 | H9: 26 | I9: TO-263-8, | J9: STMicroelectronics | K9: SCTH100N65G2-7AG | L9: Newark | M9: 17.88 | N9: 18.018 | T9: 21.73 | U9: 17.88 | AB9: =A9 -> 9
A10: 10 | B10: =IF(J10="Wolfspeed",K10,IFERROR(VLOOKUP(CONCATENATE(C10,D10),Sheet1!AF:AH,1,FALSE),CONCATENATE(C10,"D"))) -> C3M0015065D | C10: {=IF(G10=650,INDEX(Sheet1!$I:$I,MATCH(MIN(ABS(Sheet1!$H$1:$H$50-E10)),ABS(Sheet1!$H$1:$H$50-E10),0)),IF(G10=900,INDEX(Sheet1!$C:$C,MATCH(MIN(ABS(Sheet1!$B$1:$B$50-E10)),ABS(Sheet1!$B$1:$B$50-E10),0)),IF(G10=1200,INDEX(Sheet1!$U:$U,MATCH(MIN(ABS(Sheet1!$T$1:$T$48-E10)),ABS(Sheet1!$T$1:$T$48-E10),0)),IF(G10=1000,INDEX(Sheet1!$AA:$AA,MATCH(MIN(ABS(Sheet1!$Z$1:$Z$50-E10)),ABS(Sheet1!$Z$1:$Z$50-E10),0))))))} -> C3M0015065 | D10: =IF(I10="TO-247-3","D",IF(I10="TO-247-4","K",IF(LEFT(I10,6)="TO-263","J","D"))) -> J | E10: =H10/1.3 -> 20 | G10: 650 | H10: 26 | I10: TO-263-8, | J10: STMicroelectronics | K10: SCTH90N65G2V-7 | L10: Digi-Key | M10: 36.58 | N10: 36.58 | P10: 37.67561 | R10: 43.1 | T10: 42.77 | U10: 36.88 | AA10: 54.9525 | AB10: =A10 -> 10
A11: 11 | B11: =IF(J11="Wolfspeed",K11,IFERROR(VLOOKUP(CONCATENATE(C11,D11),Sheet1!AF:AH,1,FALSE),CONCATENATE(C11,"D"))) -> C3M0015065D | C11: {=IF(G11=650,INDEX(Sheet1!$I:$I,MATCH(MIN(ABS(Sheet1!$H$1:$H$50-E11)),ABS(Sheet1!$H$1:$H$50-E11),0)),IF(G11=900,INDEX(Sheet1!$C:$C,MATCH(MIN(ABS(Sheet1!$B$1:$B$50-E11)),ABS(Sheet1!$B$1:$B$50-E11),0)),IF(G11=1200,INDEX(Sheet1!$U:$U,MATCH(MIN(ABS(Sheet1!$T$1:$T$48-E11)),ABS(Sheet1!$T$1:$T$48-E11),0)),IF(G11=1000,INDEX(Sheet1!$AA:$AA,MATCH(MIN(ABS(Sheet1!$Z$1:$Z$50-E11)),ABS(Sheet1!$Z$1:$Z$50-E11),0))))))} -> C3M0015065 | D11: =IF(I11="TO-247-3","D",IF(I11="TO-247-4","K",IF(LEFT(I11,6)="TO-263","J","D"))) -> D | E11: =H11/1.3 -> 22 | G11: 650 | H11: 28.6 | I11: TO-247-3 | J11: Rohm | K11: SCT3022ALGC11 | L11: Avnet | M11: 30.1669 | N11: 32.9 | P11: 30.1669 | Q11: 39.260569 | R11: 39.2 | S11: 35.62 | T11: 39.64 | U11: 35.76 | W11: 40.99 | Z11: 30.94 | AA11: 40.292 | AB11: =A11 -> 11
A12: 12 | B12: =IF(J12="Wolfspeed",K12,IFERROR(VLOOKUP(CONCATENATE(C12,D12),Sheet1!AF:AH,1,FALSE),CONCATENATE(C12,"D"))) -> C3M0015065D | C12: {=IF(G12=650,INDEX(Sheet1!$I:$I,MATCH(MIN(ABS(Sheet1!$H$1:$H$50-E12)),ABS(Sheet1!$H$1:$H$50-E12),0)),IF(G12=900,INDEX(Sheet1!$C:$C,MATCH(MIN(ABS(Sheet1!$B$1:$B$50-E12)),ABS(Sheet1!$B$1:$B$50-E12),0)),IF(G12=1200,INDEX(Sheet1!$U:$U,MATCH(MIN(ABS(Sheet1!$T$1:$T$48-E12)),ABS(Sheet1!$T$1:$T$48-E12),0)),IF(G12=1000,INDEX(Sheet1!$AA:$AA,MATCH(MIN(ABS(Sheet1!$Z$1:$Z$50-E12)),ABS(Sheet1!$Z$1:$Z$50-E12),0))))))} -> C3M0015065 | D12: =IF(I12="TO-247-3","D",IF(I12="TO-247-4","K",IF(LEFT(I12,6)="TO-263","J","D"))) -> D | E12: =H12/1.3 -> 22 | G12: 650 | H12: 28.6 | I12: TO-247-3 | J12: Rohm | K12: SCT3022ALHRC11 | L12: Newark | M12: 41.13 | N12: 50.6248 | Q12: 45.018784 | R12: 45.2 | T12: 54.23 | U12: 41.13 | AA12: 62.6025 | AB12: =A12 -> 12
A13: 13 | B13: =IF(J13="Wolfspeed",K13,IFERROR(VLOOKUP(CONCATENATE(C13,D13),Sheet1!AF:AH,1,FALSE),CONCATENATE(C13,"D"))) -> C3M0015065D | C13: {=IF(G13=650,INDEX(Sheet1!$I:$I,MATCH(MIN(ABS(Sheet1!$H$1:$H$50-E13)),ABS(Sheet1!$H$1:$H$50-E13),0)),IF(G13=900,INDEX(Sheet1!$C:$C,MATCH(MIN(ABS(Sheet1!$B$1:$B$50-E13)),ABS(Sheet1!$B$1:$B$50-E13),0)),IF(G13=1200,INDEX(Sheet1!$U:$U,MATCH(MIN(ABS(Sheet1!$T$1:$T$48-E13)),ABS(Sheet1!$T$1:$T$48-E13),0)),IF(G13=1000,INDEX(Sheet1!$AA:$AA,MATCH(MIN(ABS(Sheet1!$Z$1:$Z$50-E13)),ABS(Sheet1!$Z$1:$Z$50-E13),0))))))} -> C3M0015065 | D13: =IF(I13="TO-247-3","D",IF(I13="TO-247-4","K",IF(LEFT(I13,6)="TO-263","J","D"))) -> D | E13: =H13/1.3 -> 26.923077 | G13: 650 | H13: 35 | I13: TO-220-3 | J13: United Silicon Carbide | K13: UF3C065030T3S | L13: Mouser 500 | M13: 10.86 | AB13: =A13 -> 13
A14: 14 | B14: =IF(J14="Wolfspeed",K14,IFERROR(VLOOKUP(CONCATENATE(C14,D14),Sheet1!AF:AH,1,FALSE),CONCATENATE(C14,"D"))) -> C3M0015065D | C14: {=IF(G14=650,INDEX(Sheet1!$I:$I,MATCH(MIN(ABS(Sheet1!$H$1:$H$50-E14)),ABS(Sheet1!$H$1:$H$50-E14),0)),IF(G14=900,INDEX(Sheet1!$C:$C,MATCH(MIN(ABS(Sheet1!$B$1:$B$50-E14)),ABS(Sheet1!$B$1:$B$50-E14),0)),IF(G14=1200,INDEX(Sheet1!$U:$U,MATCH(MIN(ABS(Sheet1!$T$1:$T$48-E14)),ABS(Sheet1!$T$1:$T$48-E14),0)),IF(G14=1000,INDEX(Sheet1!$AA:$AA,MATCH(MIN(ABS(Sheet1!$Z$1:$Z$50-E14)),ABS(Sheet1!$Z$1:$Z$50-E14),0))))))} -> C3M0015065 | D14: =IF(I14="TO-247-3","D",IF(I14="TO-247-4","K",IF(LEFT(I14,6)="TO-263","J","D"))) -> D | E14: =H14/1.3 -> 26.923077 | G14: 650 | H14: 35 | I14: TO-220-3 | J14: United Silicon Carbide | K14: UJ3C065030T3S | L14: Distrelec | M14: 23.492304 | AB14: =A14 -> 14
A15: 15 | B15: =IF(J15="Wolfspeed",K15,IFERROR(VLOOKUP(CONCATENATE(C15,D15),Sheet1!AF:AH,1,FALSE),CONCATENATE(C15,"D"))) -> C3M0015065D | C15: {=IF(G15=650,INDEX(Sheet1!$I:$I,MATCH(MIN(ABS(Sheet1!$H$1:$H$50-E15)),ABS(Sheet1!$H$1:$H$50-E15),0)),IF(G15=900,INDEX(Sheet1!$C:$C,MATCH(MIN(ABS(Sheet1!$B$1:$B$50-E15)),ABS(Sheet1!$B$1:$B$50-E15),0)),IF(G15=1200,INDEX(Sheet1!$U:$U,MATCH(MIN(ABS(Sheet1!$T$1:$T$48-E15)),ABS(Sheet1!$T$1:$T$48-E15),0)),IF(G15=1000,INDEX(Sheet1!$AA:$AA,MATCH(MIN(ABS(Sheet1!$Z$1:$Z$50-E15)),ABS(Sheet1!$Z$1:$Z$50-E15),0))))))} -> C3M0015065 | D15: =IF(I15="TO-247-3","D",IF(I15="TO-247-4","K",IF(LEFT(I15,6)="TO-263","J","D"))) -> D | E15: =H15/1.3 -> 26.923077 | G15: 650 | H15: 35 | I15: TO-247-3 | J15: United Silicon Carbide | K15: UF3C065030K3S | L15: Distrelec | M15: 38.019547 | AB15: =A15 -> 15
A16: 16 | B16: =IF(J16="Wolfspeed",K16,IFERROR(VLOOKUP(CONCATENATE(C16,D16),Sheet1!AF:AH,1,FALSE),CONCATENATE(C16,"D"))) -> C3M0015065D | C16: {=IF(G16=650,INDEX(Sheet1!$I:$I,MATCH(MIN(ABS(Sheet1!$H$1:$H$50-E16)),ABS(Sheet1!$H$1:$H$50-E16),0)),IF(G16=900,INDEX(Sheet1!$C:$C,MATCH(MIN(ABS(Sheet1!$B$1:$B$50-E16)),ABS(Sheet1!$B$1:$B$50-E16),0)),IF(G16=1200,INDEX(Sheet1!$U:$U,MATCH(MIN(ABS(Sheet1!$T$1:$T$48-E16)),ABS(Sheet1!$T$1:$T$48-E16),0)),IF(G16=1000,INDEX(Sheet1!$AA:$AA,MATCH(MIN(ABS(Sheet1!$Z$1:$Z$50-E16)),ABS(Sheet1!$Z$1:$Z$50-E16),0))))))} -> C3M0015065 | D16: =IF(I16="TO-247-3","D",IF(I16="TO-247-4","K",IF(LEFT(I16,6)="TO-263","J","D"))) -> D | E16: =H16/1.3 -> 26.923077 | G16: 650 | H16: 35 | I16: TO-247-3 | J16: United Silicon Carbide | K16: UJ3C065030K3S | L16: Distrelec | M16: 24.916765 | AB16: =A16 -> 16
A17: 17 | B17: =IF(J17="Wolfspeed",K17,IFERROR(VLOOKUP(CONCATENATE(C17,D17),Sheet1!AF:AH,1,FALSE),CONCATENATE(C17,"D"))) -> C3M0015065K | C17: {=IF(G17=650,INDEX(Sheet1!$I:$I,MATCH(MIN(ABS(Sheet1!$H$1:$H$50-E17)),ABS(Sheet1!$H$1:$H$50-E17),0)),IF(G17=900,INDEX(Sheet1!$C:$C,MATCH(MIN(ABS(Sheet1!$B$1:$B$50-E17)),ABS(Sheet1!$B$1:$B$50-E17),0)),IF(G17=1200,INDEX(Sheet1!$U:$U,MATCH(MIN(ABS(Sheet1!$T$1:$T$48-E17)),ABS(Sheet1!$T$1:$T$48-E17),0)),IF(G17=1000,INDEX(Sheet1!$AA:$AA,MATCH(MIN(ABS(Sheet1!$Z$1:$Z$50-E17)),ABS(Sheet1!$Z$1:$Z$50-E17),0))))))} -> C3M0015065 | D17: =IF(I17="TO-247-3","D",IF(I17="TO-247-4","K",IF(LEFT(I17,6)="TO-263","J","D"))) -> K | E17: =H17/1.3 -> 26.923077 | G17: 650 | H17: 35 | I17: TO-247-4 | J17: United Silicon Carbide | K17: UF3C065030K4S | L17: Distrelec | M17: 38.901356 | AB17: =A17 -> 17
A18: 18 | B18: =IF(J18="Wolfspeed",K18,IFERROR(VLOOKUP(CONCATENATE(C18,D18),Sheet1!AF:AH,1,FALSE),CONCATENATE(C18,"D"))) -> C3M0015065D | C18: {=IF(G18=650,INDEX(Sheet1!$I:$I,MATCH(MIN(ABS(Sheet1!$H$1:$H$50-E18)),ABS(Sheet1!$H$1:$H$50-E18),0)),IF(G18=900,INDEX(Sheet1!$C:$C,MATCH(MIN(ABS(Sheet1!$B$1:$B$50-E18)),ABS(Sheet1!$B$1:$B$50-E18),0)),IF(G18=1200,INDEX(Sheet1!$U:$U,MATCH(MIN(ABS(Sheet1!$T$1:$T$48-E18)),ABS(Sheet1!$T$1:$T$48-E18),0)),IF(G18=1000,INDEX(Sheet1!$AA:$AA,MATCH(MIN(ABS(Sheet1!$Z$1:$Z$50-E18)),ABS(Sheet1!$Z$1:$Z$50-E18),0))))))} -> C3M0015065 | D18: =IF(I18="TO-247-3","D",IF(I18="TO-247-4","K",IF(LEFT(I18,6)="TO-263","J","D"))) -> J | E18: =H18/1.3 -> 26.923077 | G18: 650 | H18: 35 | I18: TO-263-3, | J18: United Silicon Carbide | K18: UF3C065030B3 | L18: Mouser 500 | M18: 10.86 | AB18: =A18 -> 18
A19: 19 | B19: =IF(J19="Wolfspeed",K19,IFERROR(VLOOKUP(CONCATENATE(C19,D19),Sheet1!AF:AH,1,FALSE),CONCATENATE(C19,"D"))) -> C3M0015065D | C19: {=IF(G19=650,INDEX(Sheet1!$I:$I,MATCH(MIN(ABS(Sheet1!$H$1:$H$50-E19)),ABS(Sheet1!$H$1:$H$50-E19),0)),IF(G19=900,INDEX(Sheet1!$C:$C,MATCH(MIN(ABS(Sheet1!$B$1:$B$50-E19)),ABS(Sheet1!$B$1:$B$50-E19),0)),IF(G19=1200,INDEX(Sheet1!$U:$U,MATCH(MIN(ABS(Sheet1!$T$1:$T$48-E19)),ABS(Sheet1!$T$1:$T$48-E19),0)),IF(G19=1000,INDEX(Sheet1!$AA:$AA,MATCH(MIN(ABS(Sheet1!$Z$1:$Z$50-E19)),ABS(Sheet1!$Z$1:$Z$50-E19),0))))))} -> C3M0015065 | D19: =IF(I19="TO-247-3","D",IF(I19="TO-247-4","K",IF(LEFT(I19,6)="TO-263","J","D"))) -> J | E19: =H19/1.3 -> 26.923077 | G19: 650 | H19: 35 | I19: TO-263-3, | J19: United Silicon Carbide | K19: UJ3C065030B3 | L19: Distrelec | M19: 23.492304 | AB19: =A19 -> 19
A20: 20 | B20: =IF(J20="Wolfspeed",K20,IFERROR(VLOOKUP(CONCATENATE(C20,D20),Sheet1!AF:AH,1,FALSE),CONCATENATE(C20,"D"))) -> C3M0015065D | C20: {=IF(G20=650,INDEX(Sheet1!$I:$I,MATCH(MIN(ABS(Sheet1!$H$1:$H$50-E20)),ABS(Sheet1!$H$1:$H$50-E20),0)),IF(G20=900,INDEX(Sheet1!$C:$C,MATCH(MIN(ABS(Sheet1!$B$1:$B$50-E20)),ABS(Sheet1!$B$1:$B$50-E20),0)),IF(G20=1200,INDEX(Sheet1!$U:$U,MATCH(MIN(ABS(Sheet1!$T$1:$T$48-E20)),ABS(Sheet1!$T$1:$T$48-E20),0)),IF(G20=1000,INDEX(Sheet1!$AA:$AA,MATCH(MIN(ABS(Sheet1!$Z$1:$Z$50-E20)),ABS(Sheet1!$Z$1:$Z$50-E20),0))))))} -> C3M0015065 | D20: =IF(I20="TO-247-3","D",IF(I20="TO-247-4","K",IF(LEFT(I20,6)="TO-263","J","D"))) -> D | E20: =H20/1.3 -> 30 | G20: 650 | H20: 39 | I20: TO-247-3 | J20: Rohm | K20: SCT3030ALGC11 | L20: Chip One Stop Japan | M20: 15.9 | N20: 17.92 | P20: 16.43133 | Q20: 24.777778 | R20: 15.9 | T20: 19.45 | U20: 18.73 | W20: 26.79 | X20: 29.33 | Z20: 19.38 | AA20: 20.7825 | AB20: =A20 -> 20
A21: 21 | B21: =IF(J21="Wolfspeed",K21,IFERROR(VLOOKUP(CONCATENATE(C21,D21),Sheet1!AF:AH,1,FALSE),CONCATENATE(C21,"D"))) -> C3M0015065D | C21: {=IF(G21=650,INDEX(Sheet1!$I:$I,MATCH(MIN(ABS(Sheet1!$H$1:$H$50-E21)),ABS(Sheet1!$H$1:$H$50-E21),0)),IF(G21=900,INDEX(Sheet1!$C:$C,MATCH(MIN(ABS(Sheet1!$B$1:$B$50-E21)),ABS(Sheet1!$B$1:$B$50-E21),0)),IF(G21=1200,INDEX(Sheet1!$U:$U,MATCH(MIN(ABS(Sheet1!$T$1:$T$48-E21)),ABS(Sheet1!$T$1:$T$48-E21),0)),IF(G21=1000,INDEX(Sheet1!$AA:$AA,MATCH(MIN(ABS(Sheet1!$Z$1:$Z$50-E21)),ABS(Sheet1!$Z$1:$Z$50-E21),0))))))} -> C3M0015065 | D21: =IF(I21="TO-247-3","D",IF(I21="TO-247-4","K",IF(LEFT(I21,6)="TO-263","J","D"))) -> D | E21: =H21/1.3 -> 30 | G21: 650 | H21: 39 | I21: TO-247-3 | J21: Rohm | K21: SCT3030ALHRC11 | L21: Newark | M21: 27.88 | N21: 33.09684 | Q21: 33.502354 | R21: 34.4 | T21: 35.46 | U21: 27.88 | AA21: 42.56 | AB21: =A21 -> 21
A22: 22 | B22: =IF(J22="Wolfspeed",K22,IFERROR(VLOOKUP(CONCATENATE(C22,D22),Sheet1!AF:AH,1,FALSE),CONCATENATE(C22,"D"))) -> C3M0015065K | C22: {=IF(G22=650,INDEX(Sheet1!$I:$I,MATCH(MIN(ABS(Sheet1!$H$1:$H$50-E22)),ABS(Sheet1!$H$1:$H$50-E22),0)),IF(G22=900,INDEX(Sheet1!$C:$C,MATCH(MIN(ABS(Sheet1!$B$1:$B$50-E22)),ABS(Sheet1!$B$1:$B$50-E22),0)),IF(G22=1200,INDEX(Sheet1!$U:$U,MATCH(MIN(ABS(Sheet1!$T$1:$T$48-E22)),ABS(Sheet1!$T$1:$T$48-E22),0)),IF(G22=1000,INDEX(Sheet1!$AA:$AA,MATCH(MIN(ABS(Sheet1!$Z$1:$Z$50-E22)),ABS(Sheet1!$Z$1:$Z$50-E22),0))))))} -> C3M0015065 | D22: =IF(I22="TO-247-3","D",IF(I22="TO-247-4","K",IF(LEFT(I22,6)="TO-263","J","D"))) -> K | E22: =H22/1.3 -> 30 | G22: 650 | H22: 39 | I22: TO-247-4 | J22: Rohm | K22: SCT3030ARC14 | L22: Farnell | M22: 25.980882 | N22: 31.7296 | P22: 29.09373 | R22: 33 | T22: 32.86 | U22: 26.72 | AA22: 40.81 | AB22: =A22 -> 22
A23: 23 | B23: =IF(J23="Wolfspeed",K23,IFERROR(VLOOKUP(CONCATENATE(C23,D23),Sheet1!AF:AH,1,FALSE),CONCATENATE(C23,"D"))) -> C3M0015065D | C23: {=IF(G23=650,INDEX(Sheet1!$I:$I,MATCH(MIN(ABS(Sheet1!$H$1:$H$50-E23)),ABS(Sheet1!$H$1:$H$50-E23),0)),IF(G23=900,INDEX(Sheet1!$C:$C,MATCH(MIN(ABS(Sheet1!$B$1:$B$50-E23)),ABS(Sheet1!$B$1:$B$50-E23),0)),IF(G23=1200,INDEX(Sheet1!$U:$U,MATCH(MIN(ABS(Sheet1!$T$1:$T$48-E23)),ABS(Sheet1!$T$1:$T$48-E23),0)),IF(G23=1000,INDEX(Sheet1!$AA:$AA,MATCH(MIN(ABS(Sheet1!$Z$1:$Z$50-E23)),ABS(Sheet1!$Z$1:$Z$50-E23),0))))))} -> C3M0015065 | D23: =IF(I23="TO-247-3","D",IF(I23="TO-247-4","K",IF(LEFT(I23,6)="TO-263","J","D"))) -> D | E23: =H23/1.3 -> 40 | G23: 650 | H23: 52 | I23: TO-220-3 | J23: United Silicon Carbide | K23: UF3C065040T3S | L23: Mouser 1000 | M23: 7.31 | AB23: =A23 -> 23
A24: 24 | B24: =IF(J24="Wolfspeed",K24,IFERROR(VLOOKUP(CONCATENATE(C24,D24),Sheet1!AF:AH,1,FALSE),CONCATENATE(C24,"D"))) -> C3M0015065D | C24: {=IF(G24=650,INDEX(Sheet1!$I:$I,MATCH(MIN(ABS(Sheet1!$H$1:$H$50-E24)),ABS(Sheet1!$H$1:$H$50-E24),0)),IF(G24=900,INDEX(Sheet1!$C:$C,MATCH(MIN(ABS(Sheet1!$B$1:$B$50-E24)),ABS(Sheet1!$B$1:$B$50-E24),0)),IF(G24=1200,INDEX(Sheet1!$U:$U,MATCH(MIN(ABS(Sheet1!$T$1:$T$48-E24)),ABS(Sheet1!$T$1:$T$48-E24),0)),IF(G24=1000,INDEX(Sheet1!$AA:$AA,MATCH(MIN(ABS(Sheet1!$Z$1:$Z$50-E24)),ABS(Sheet1!$Z$1:$Z$50-E24),0))))))} -> C3M0015065 | D24: =IF(I24="TO-247-3","D",IF(I24="TO-247-4","K",IF(LEFT(I24,6)="TO-263","J","D"))) -> D | E24: =H24/1.3 -> 40 | G24: 650 | H24: 52 | I24: TO-247-3 | J24: United Silicon Carbide | K24: UF3C065040K3S | L24: Distrelec | M24: 24.464555 | AB24: =A24 -> 24
A25: 25 | B25: =IF(J25="Wolfspeed",K25,IFERROR(VLOOKUP(CONCATENATE(C25,D25),Sheet1!AF:AH,1,FALSE),CONCATENATE(C25,"D"))) -> C3M0015065K | C25: {=IF(G25=650,INDEX(Sheet1!$I:$I,MATCH(MIN(ABS(Sheet1!$H$1:$H$50-E25)),ABS(Sheet1!$H$1:$H$50-E25),0)),IF(G25=900,INDEX(Sheet1!$C:$C,MATCH(MIN(ABS(Sheet1!$B$1:$B$50-E25)),ABS(Sheet1!$B$1:$B$50-E25),0)),IF(G25=1200,INDEX(Sheet1!$U:$U,MATCH(MIN(ABS(Sheet1!$T$1:$T$48-E25)),ABS(Sheet1!$T$1:$T$48-E25),0)),IF(G25=1000,INDEX(Sheet1!$AA:$AA,MATCH(MIN(ABS(Sheet1!$Z$1:$Z$50-E25)),ABS(Sheet1!$Z$1:$Z$50-E25),0))))))} -> C3M0015065 | D25: =IF(I25="TO-247-3","D",IF(I25="TO-247-4","K",IF(LEFT(I25,6)="TO-263","J","D"))) -> K | E25: =H25/1.3 -> 40 | G25: 650 | H25: 52 | I25: TO-247-4 | J25: United Silicon Carbide | K25: UF3C065040K4S | L25: Distrelec | M25: 24.611523 | AB25: =A25 -> 25
A26: 26 | B26: =IF(J26="Wolfspeed",K26,IFERROR(VLOOKUP(CONCATENATE(C26,D26),Sheet1!AF:AH,1,FALSE),CONCATENATE(C26,"D"))) -> C3M0015065D | C26: {=IF(G26=650,INDEX(Sheet1!$I:$I,MATCH(MIN(ABS(Sheet1!$H$1:$H$50-E26)),ABS(Sheet1!$H$1:$H$50-E26),0)),IF(G26=900,INDEX(Sheet1!$C:$C,MATCH(MIN(ABS(Sheet1!$B$1:$B$50-E26)),ABS(Sheet1!$B$1:$B$50-E26),0)),IF(G26=1200,INDEX(Sheet1!$U:$U,MATCH(MIN(ABS(Sheet1!$T$1:$T$48-E26)),ABS(Sheet1!$T$1:$T$48-E26),0)),IF(G26=1000,INDEX(Sheet1!$AA:$AA,MATCH(MIN(ABS(Sheet1!$Z$1:$Z$50-E26)),ABS(Sheet1!$Z$1:$Z$50-E26),0))))))} -> C3M0015065 | D26: =IF(I26="TO-247-3","D",IF(I26="TO-247-4","K",IF(LEFT(I26,6)="TO-263","J","D"))) -> J | E26: =H26/1.3 -> 40 | G26: 650 | H26: 52 | I26: TO-263-3, | J26: United Silicon Carbide | K26: UF3C065040B3 | L26: Distrelec | M26: 20.632076 | AB26: =A26 -> 26
A27: 27 | B27: =IF(J27="Wolfspeed",K27,IFERROR(VLOOKUP(CONCATENATE(C27,D27),Sheet1!AF:AH,1,FALSE),CONCATENATE(C27,"D"))) -> C3M0060065D | C27: {=IF(G27=650,INDEX(Sheet1!$I:$I,MATCH(MIN(ABS(Sheet1!$H$1:$H$50-E27)),ABS(Sheet1!$H$1:$H$50-E27),0)),IF(G27=900,INDEX(Sheet1!$C:$C,MATCH(MIN(ABS(Sheet1!$B$1:$B$50-E27)),ABS(Sheet1!$B$1:$B$50-E27),0)),IF(G27=1200,INDEX(Sheet1!$U:$U,MATCH(MIN(ABS(Sheet1!$T$1:$T$48-E27)),ABS(Sheet1!$T$1:$T$48-E27),0)),IF(G27=1000,INDEX(Sheet1!$AA:$AA,MATCH(MIN(ABS(Sheet1!$Z$1:$Z$50-E27)),ABS(Sheet1!$Z$1:$Z$50-E27),0))))))} -> C3M0060065 | D27: =IF(I27="TO-247-3","D",IF(I27="TO-247-4","K",IF(LEFT(I27,6)="TO-263","J","D"))) -> D | E27: =H27/1.3 -> 51.538462 | G27: 650 | H27: 67 | I27: TO-247-3 | J27: STMicroelectronics | K27: SCTW35N65G2V | L27: Newark | M27: 7.63 | N27: 8.845 | P27: 7.79055 | T27: 9.45 | U27: 7.63 | AB27: =A27 -> 27
A28: 28 | B28: =IF(J28="Wolfspeed",K28,IFERROR(VLOOKUP(CONCATENATE(C28,D28),Sheet1!AF:AH,1,FALSE),CONCATENATE(C28,"D"))) -> C3M0060065D | C28: {=IF(G28=650,INDEX(Sheet1!$I:$I,MATCH(MIN(ABS(Sheet1!$H$1:$H$50-E28)),ABS(Sheet1!$H$1:$H$50-E28),0)),IF(G28=900,INDEX(Sheet1!$C:$C,MATCH(MIN(ABS(Sheet1!$B$1:$B$50-E28)),ABS(Sheet1!$B$1:$B$50-E28),0)),IF(G28=1200,INDEX(Sheet1!$U:$U,MATCH(MIN(ABS(Sheet1!$T$1:$T$48-E28)),ABS(Sheet1!$T$1:$T$48-E28),0)),IF(G28=1000,INDEX(Sheet1!$AA:$AA,MATCH(MIN(ABS(Sheet1!$Z$1:$Z$50-E28)),ABS(Sheet1!$Z$1:$Z$50-E28),0))))))} -> C3M0060065 | D28: =IF(I28="TO-247-3","D",IF(I28="TO-247-4","K",IF(LEFT(I28,6)="TO-263","J","D"))) -> D | E28: =H28/1.3 -> 51.538462 | G28: 650 | H28: 67 | I28: TO-247-3 | J28: STMicroelectronics | K28: SCTW35N65G2VAG | L28: Newark | M28: 10.68 | N28: 12.383 | T28: 13.23 | U28: 10.68 | AB28: =A28 -> 28
A29: 29 | B29: =IF(J29="Wolfspeed",K29,IFERROR(VLOOKUP(CONCATENATE(C29,D29),Sheet1!AF:AH,1,FALSE),CONCATENATE(C29,"D"))) -> C3M0060065J | C29: {=IF(G29=650,INDEX(Sheet1!$I:$I,MATCH(MIN(ABS(Sheet1!$H$1:$H$50-E29)),ABS(Sheet1!$H$1:$H$50-E29),0)),IF(G29=900,INDEX(Sheet1!$C:$C,MATCH(MIN(ABS(Sheet1!$B$1:$B$50-E29)),ABS(Sheet1!$B$1:$B$50-E29),0)),IF(G29=1200,INDEX(Sheet1!$U:$U,MATCH(MIN(ABS(Sheet1!$T$1:$T$48-E29)),ABS(Sheet1!$T$1:$T$48-E29),0)),IF(G29=1000,INDEX(Sheet1!$AA:$AA,MATCH(MIN(ABS(Sheet1!$Z$1:$Z$50-E29)),ABS(Sheet1!$Z$1:$Z$50-E29),0))))))} -> C3M0060065 | D29: =IF(I29="TO-247-3","D",IF(I29="TO-247-4","K",IF(LEFT(I29,6)="TO-263","J","D"))) -> J | E29: =H29/1.3 -> 51.538462 | G29: 650 | H29: 67 | I29: TO-263-8, | J29: STMicroelectronics | K29: SCTH35N65G2V-7 | L29: Newark | M29: 6.63 | N29: 7.049 | Q29: 9.8277646 | R29: 25 | T29: 8.21 | U29: 6.63 | AA29: 31.875 | AB29: =A29 -> 29
A30: 30 | B30: =IF(J30="Wolfspeed",K30,IFERROR(VLOOKUP(CONCATENATE(C30,D30),Sheet1!AF:AH,1,FALSE),CONCATENATE(C30,"D"))) -> C3M0060065D | C30: {=IF(G30=650,INDEX(Sheet1!$I:$I,MATCH(MIN(ABS(Sheet1!$H$1:$H$50-E30)),ABS(Sheet1!$H$1:$H$50-E30),0)),IF(G30=900,INDEX(Sheet1!$C:$C,MATCH(MIN(ABS(Sheet1!$B$1:$B$50-E30)),ABS(Sheet1!$B$1:$B$50-E30),0)),IF(G30=1200,INDEX(Sheet1!$U:$U,MATCH(MIN(ABS(Sheet1!$T$1:$T$48-E30)),ABS(Sheet1!$T$1:$T$48-E30),0)),IF(G30=1000,INDEX(Sheet1!$AA:$AA,MATCH(MIN(ABS(Sheet1!$Z$1:$Z$50-E30)),ABS(Sheet1!$Z$1:$Z$50-E30),0))))))} -> C3M0060065 | D30: =IF(I30="TO-247-3","D",IF(I30="TO-247-4","K",IF(LEFT(I30,6)="TO-263","J","D"))) -> D | E30: =H30/1.3 -> 60 | G30: 650 | H30: 78 | I30: TO-247-3 | J30: Rohm | K30: SCT3060ALGC11 | L30: Avnet | M30: 6.88062 | N30: 7.504 | P30: 6.88062 | Q30: 11.184903 | R30: 16 | S30: 10.15 | T30: 8.31 | U30: 10.73 | W30: 11.8 | Y30: 14 | Z30: 7.872 | AA30: 9.982 | AB30: =A30 -> 30
A31: 31 | B31: =IF(J31="Wolfspeed",K31,IFERROR(VLOOKUP(CONCATENATE(C31,D31),Sheet1!AF:AH,1,FALSE),CONCATENATE(C31,"D"))) -> C3M0060065D | C31: {=IF(G31=650,INDEX(Sheet1!$I:$I,MATCH(MIN(ABS(Sheet1!$H$1:$H$50-E31)),ABS(Sheet1!$H$1:$H$50-E31),0)),IF(G31=900,INDEX(Sheet1!$C:$C,MATCH(MIN(ABS(Sheet1!$B$1:$B$50-E31)),ABS(Sheet1!$B$1:$B$50-E31),0)),IF(G31=1200,INDEX(Sheet1!$U:$U,MATCH(MIN(ABS(Sheet1!$T$1:$T$48-E31)),ABS(Sheet1!$T$1:$T$48-E31),0)),IF(G31=1000,INDEX(Sheet1!$AA:$AA,MATCH(MIN(ABS(Sheet1!$Z$1:$Z$50-E31)),ABS(Sheet1!$Z$1:$Z$50-E31),0))))))} -> C3M0060065 | D31: =IF(I31="TO-247-3","D",IF(I31="TO-247-4","K",IF(LEFT(I31,6)="TO-263","J","D"))) -> D | E31: =H31/1.3 -> 60 | G31: 650 | H31: 78 | I31: TO-247-3 | J31: Rohm | K31: SCT3060ALHRC11 | L31: Newark | M31: 12.2 | N31: 14.57204 | Q31: 14.727074 | R31: 17.1 | T31: 17.69 | U31: 12.2 | AA31: 18.746 | AB31: =A31 -> 31
A32: 32 | B32: =IF(J32="Wolfspeed",K32,IFERROR(VLOOKUP(CONCATENATE(C32,D32),Sheet1!AF:AH,1,FALSE),CONCATENATE(C32,"D"))) -> C3M0060065K | C32: {=IF(G32=650,INDEX(Sheet1!$I:$I,MATCH(MIN(ABS(Sheet1!$H$1:$H$50-E32)),ABS(Sheet1!$H$1:$H$50-E32),0)),IF(G32=900,INDEX(Sheet1!$C:$C,MATCH(MIN(ABS(Sheet1!$B$1:$B$50-E32)),ABS(Sheet1!$B$1:$B$50-E32),0)),IF(G32=1200,INDEX(Sheet1!$U:$U,MATCH(MIN(ABS(Sheet1!$T$1:$T$48-E32)),ABS(Sheet1!$T$1:$T$48-E32),0)),IF(G32=1000,INDEX(Sheet1!$AA:$AA,MATCH(MIN(ABS(Sheet1!$Z$1:$Z$50-E32)),ABS(Sheet1!$Z$1:$Z$50-E32),0))))))} -> C3M0060065 | D32: =IF(I32="TO-247-3","D",IF(I32="TO-247-4","K",IF(LEFT(I32,6)="TO-263","J","D"))) -> K | E32: =H32/1.3 -> 60 | G32: 650 | H32: 78 | I32: TO-247-4 | J32: Rohm | K32: SCT3060ARC14 | L32: Avnet Europe | M32: 11.446642 | N32: 14.46956 | P32: 12.81002 | Q32: 11.446642 | R32: 13 | T32: 15.46 | U32: 11.77 | AA32: 17.2125 | AB32: =A32 -> 32
A33: 33 | B33: =IF(J33="Wolfspeed",K33,IFERROR(VLOOKUP(CONCATENATE(C33,D33),Sheet1!AF:AH,1,FALSE),CONCATENATE(C33,"D"))) -> C3M0060065D | C33: {=IF(G33=650,INDEX(Sheet1!$I:$I,MATCH(MIN(ABS(Sheet1!$H$1:$H$50-E33)),ABS(Sheet1!$H$1:$H$50-E33),0)),IF(G33=900,INDEX(Sheet1!$C:$C,MATCH(MIN(ABS(Sheet1!$B$1:$B$50-E33)),ABS(Sheet1!$B$1:$B$50-E33),0)),IF(G33=1200,INDEX(Sheet1!$U:$U,MATCH(MIN(ABS(Sheet1!$T$1:$T$48-E33)),ABS(Sheet1!$T$1:$T$48-E33),0)),IF(G33=1000,INDEX(Sheet1!$AA:$AA,MATCH(MIN(ABS(Sheet1!$Z$1:$Z$50-E33)),ABS(Sheet1!$Z$1:$Z$50-E33),0))))))} -> C3M0060065 | D33: =IF(I33="TO-247-3","D",IF(I33="TO-247-4","K",IF(LEFT(I33,6)="TO-263","J","D"))) -> D | E33: =H33/1.3 -> 69.230769 | G33: 650 | H33: 90 | I33: TO-247-3 | J33: Microsemi | K33: MSC090SMA070B | L33: Richardson RFPD | M33: 5.55 | N33: 5.99306 | V33: 5.55 | AA33: 7.2 | AB33: =A33 -> 33
A34: 34 | B34: =IF(J34="Wolfspeed",K34,IFERROR(VLOOKUP(CONCATENATE(C34,D34),Sheet1!AF:AH,1,FALSE),CONCATENATE(C34,"D"))) -> C3M0060065D | C34: {=IF(G34=650,INDEX(Sheet1!$I:$I,MATCH(MIN(ABS(Sheet1!$H$1:$H$50-E34)),ABS(Sheet1!$H$1:$H$50-E34),0)),IF(G34=900,INDEX(Sheet1!$C:$C,MATCH(MIN(ABS(Sheet1!$B$1:$B$50-E34)),ABS(Sheet1!$B$1:$B$50-E34),0)),IF(G34=1200,INDEX(Sheet1!$U:$U,MATCH(MIN(ABS(Sheet1!$T$1:$T$48-E34)),ABS(Sheet1!$T$1:$T$48-E34),0)),IF(G34=1000,INDEX(Sheet1!$AA:$AA,MATCH(MIN(ABS(Sheet1!$Z$1:$Z$50-E34)),ABS(Sheet1!$Z$1:$Z$50-E34),0))))))} -> C3M0060065 | D34: =IF(I34="TO-247-3","D",IF(I34="TO-247-4","K",IF(LEFT(I34,6)="TO-263","J","D"))) -> D | E34: =H34/1.3 -> 69.230769 | G34: 650 | H34: 90 | I34: TO-268-3 | J34: Microsemi | K34: MSC090SMA070S | L34: Richardson RFPD | M34: 6.07 | N34: 6.54926 | V34: 6.07 | AA34: 7.85 | AB34: =A34 -> 34
A35: 35 | B35: =IF(J35="Wolfspeed",K35,IFERROR(VLOOKUP(CONCATENATE(C35,D35),Sheet1!AF:AH,1,FALSE),CONCATENATE(C35,"D"))) -> C3M0060065D | C35: {=IF(G35=650,INDEX(Sheet1!$I:$I,MATCH(MIN(ABS(Sheet1!$H$1:$H$50-E35)),ABS(Sheet1!$H$1:$H$50-E35),0)),IF(G35=900,INDEX(Sheet1!$C:$C,MATCH(MIN(ABS(Sheet1!$B$1:$B$50-E35)),ABS(Sheet1!$B$1:$B$50-E35),0)),IF(G35=1200,INDEX(Sheet1!$U:$U,MATCH(MIN(ABS(Sheet1!$T$1:$T$48-E35)),ABS(Sheet1!$T$1:$T$48-E35),0)),IF(G35=1000,INDEX(Sheet1!$AA:$AA,MATCH(MIN(ABS(Sheet1!$Z$1:$Z$50-E35)),ABS(Sheet1!$Z$1:$Z$50-E35),0))))))} -> C3M0060065 | D35: =IF(I35="TO-247-3","D",IF(I35="TO-247-4","K",IF(LEFT(I35,6)="TO-263","J","D"))) -> D | E35: =H35/1.3 -> 76.923077 | G35: 650 | H35: 100 | I35: TO-220-3 | J35: United Silicon Carbide | K35: UF3C065080T3S | L35: Mouser 500 | M35: 3.86 | AB35: =A35 -> 35
A36: 36 | B36: =IF(J36="Wolfspeed",K36,IFERROR(VLOOKUP(CONCATENATE(C36,D36),Sheet1!AF:AH,1,FALSE),CONCATENATE(C36,"D"))) -> C3M0060065D | C36: {=IF(G36=650,INDEX(Sheet1!$I:$I,MATCH(MIN(ABS(Sheet1!$H$1:$H$50-E36)),ABS(Sheet1!$H$1:$H$50-E36),0)),IF(G36=900,INDEX(Sheet1!$C:$C,MATCH(MIN(ABS(Sheet1!$B$1:$B$50-E36)),ABS(Sheet1!$B$1:$B$50-E36),0)),IF(G36=1200,INDEX(Sheet1!$U:$U,MATCH(MIN(ABS(Sheet1!$T$1:$T$48-E36)),ABS(Sheet1!$T$1:$T$48-E36),0)),IF(G36=1000,INDEX(Sheet1!$AA:$AA,MATCH(MIN(ABS(Sheet1!$Z$1:$Z$50-E36)),ABS(Sheet1!$Z$1:$Z$50-E36),0))))))} -> C3M0060065 | D36: =IF(I36="TO-247-3","D",IF(I36="TO-247-4","K",IF(LEFT(I36,6)="TO-263","J","D"))) -> D | E36: =H36/1.3 -> 76.923077 | G36: 650 | H36: 100 | I36: TO-220-3 | J36: United Silicon Carbide | K36: UJ3C065080T3S | L36: Distrelec | M36: 9.0215874 | AB36: =A36 -> 36
A37: 37 | B37: =IF(J37="Wolfspeed",K37,IFERROR(VLOOKUP(CONCATENATE(C37,D37),Sheet1!AF:AH,1,FALSE),CONCATENATE(C37,"D"))) -> C3M0060065D | C37: {=IF(G37=650,INDEX(Sheet1!$I:$I,MATCH(MIN(ABS(Sheet1!$H$1:$H$50-E37)),ABS(Sheet1!$H$1:$H$50-E37),0)),IF(G37=900,INDEX(Sheet1!$C:$C,MATCH(MIN(ABS(Sheet1!$B$1:$B$50-E37)),ABS(Sheet1!$B$1:$B$50-E37),0)),IF(G37=1200,INDEX(Sheet1!$U:$U,MATCH(MIN(ABS(Sheet1!$T$1:$T$48-E37)),ABS(Sheet1!$T$1:$T$48-E37),0)),IF(G37=1000,INDEX(Sheet1!$AA:$AA,MATCH(MIN(ABS(Sheet1!$Z$1:$Z$50-E37)),ABS(Sheet1!$Z$1:$Z$50-E37),0))))))} -> C3M0060065 | D37: =IF(I37="TO-247-3","D",IF(I37="TO-247-4","K",IF(LEFT(I37,6)="TO-263","J","D"))) -> D | E37: =H37/1.3 -> 76.923077 | G37: 650 | H37: 100 | I37: TO-247-3 | J37: United Silicon Carbide | K37: UF3C065080K3S | L37: Mouser 500 | M37: 4.49 | AB37: =A37 -> 37
A38: 38 | B38: =IF(J38="Wolfspeed",K38,IFERROR(VLOOKUP(CONCATENATE(C38,D38),Sheet1!AF:AH,1,FALSE),CONCATENATE(C38,"D"))) -> C3M0060065K | C38: {=IF(G38=650,INDEX(Sheet1!$I:$I,MATCH(MIN(ABS(Sheet1!$H$1:$H$50-E38)),ABS(Sheet1!$H$1:$H$50-E38),0)),IF(G38=900,INDEX(Sheet1!$C:$C,MATCH(MIN(ABS(Sheet1!$B$1:$B$50-E38)),ABS(Sheet1!$B$1:$B$50-E38),0)),IF(G38=1200,INDEX(Sheet1!$U:$U,MATCH(MIN(ABS(Sheet1!$T$1:$T$48-E38)),ABS(Sheet1!$T$1:$T$48-E38),0)),IF(G38=1000,INDEX(Sheet1!$AA:$AA,MATCH(MIN(ABS(Sheet1!$Z$1:$Z$50-E38)),ABS(Sheet1!$Z$1:$Z$50-E38),0))))))} -> C3M0060065 | D38: =IF(I38="TO-247-3","D",IF(I38="TO-247-4","K",IF(LEFT(I38,6)="TO-263","J","D"))) -> K | E38: =H38/1.3 -> 76.923077 | G38: 650 | H38: 100 | I38: TO-247-4 | J38: United Silicon Carbide | K38: UF3C065080K4S | L38: Distrelec | M38: 16.087367 | AB38: =A38 -> 38
A39: 39 | B39: =IF(J39="Wolfspeed",K39,IFERROR(VLOOKUP(CONCATENATE(C39,D39),Sheet1!AF:AH,1,FALSE),CONCATENATE(C39,"D"))) -> C3M0060065D | C39: {=IF(G39=650,INDEX(Sheet1!$I:$I,MATCH(MIN(ABS(Sheet1!$H$1:$H$50-E39)),ABS(Sheet1!$H$1:$H$50-E39),0)),IF(G39=900,INDEX(Sheet1!$C:$C,MATCH(MIN(ABS(Sheet1!$B$1:$B$50-E39)),ABS(Sheet1!$B$1:$B$50-E39),0)),IF(G39=1200,INDEX(Sheet1!$U:$U,MATCH(MIN(ABS(Sheet1!$T$1:$T$48-E39)),ABS(Sheet1!$T$1:$T$48-E39),0)),IF(G39=1000,INDEX(Sheet1!$AA:$AA,MATCH(MIN(ABS(Sheet1!$Z$1:$Z$50-E39)),ABS(Sheet1!$Z$1:$Z$50-E39),0))))))} -> C3M0060065 | D39: =IF(I39="TO-247-3","D",IF(I39="TO-247-4","K",IF(LEFT(I39,6)="TO-263","J","D"))) -> D | E39: =H39/1.3 -> 80 | G39: 650 | H39: 104 | I39: TO-247-3 | J39: Rohm | K39: SCT3080ALHRC11 | L39: Newark | M39: 9.4 | N39: 11.55216 | R39: 14.1 | T39: 14.74 | U39: 9.4 | AA39: 14.784 | AB39: =A39 -> 39
A40: 40 | B40: =IF(J40="Wolfspeed",K40,IFERROR(VLOOKUP(CONCATENATE(C40,D40),Sheet1!AF:AH,1,FALSE),CONCATENATE(C40,"D"))) -> C3M0060065K | C40: {=IF(G40=650,INDEX(Sheet1!$I:$I,MATCH(MIN(ABS(Sheet1!$H$1:$H$50-E40)),ABS(Sheet1!$H$1:$H$50-E40),0)),IF(G40=900,INDEX(Sheet1!$C:$C,MATCH(MIN(ABS(Sheet1!$B$1:$B$50-E40)),ABS(Sheet1!$B$1:$B$50-E40),0)),IF(G40=1200,INDEX(Sheet1!$U:$U,MATCH(MIN(ABS(Sheet1!$T$1:$T$48-E40)),ABS(Sheet1!$T$1:$T$48-E40),0)),IF(G40=1000,INDEX(Sheet1!$AA:$AA,MATCH(MIN(ABS(Sheet1!$Z$1:$Z$50-E40)),ABS(Sheet1!$Z$1:$Z$50-E40),0))))))} -> C3M0060065 | D40: =IF(I40="TO-247-3","D",IF(I40="TO-247-4","K",IF(LEFT(I40,6)="TO-263","J","D"))) -> K | E40: =H40/1.3 -> 80 | G40: 650 | H40: 104 | I40: TO-247-4 | J40: Rohm | K40: SCT3080ARC14 | L40: Farnell | M40: 8.7123079 | N40: 11.0751 | P40: 9.80488 | R40: 13.5 | T40: 11.83 | U40: 9.01 | AA40: 14.182 | AB40: =A40 -> 40
A41: 41 | B41: =IF(J41="Wolfspeed",K41,IFERROR(VLOOKUP(CONCATENATE(C41,D41),Sheet1!AF:AH,1,FALSE),CONCATENATE(C41,"D"))) -> C3M0060065D | C41: {=IF(G41=650,INDEX(Sheet1!$I:$I,MATCH(MIN(ABS(Sheet1!$H$1:$H$50-E41)),ABS(Sheet1!$H$1:$H$50-E41),0)),IF(G41=900,INDEX(Sheet1!$C:$C,MATCH(MIN(ABS(Sheet1!$B$1:$B$50-E41)),ABS(Sheet1!$B$1:$B$50-E41),0)),IF(G41=1200,INDEX(Sheet1!$U:$U,MATCH(MIN(ABS(Sheet1!$T$1:$T$48-E41)),ABS(Sheet1!$T$1:$T$48-E41),0)),IF(G41=1000,INDEX(Sheet1!$AA:$AA,MATCH(MIN(ABS(Sheet1!$Z$1:$Z$50-E41)),ABS(Sheet1!$Z$1:$Z$50-E41),0))))))} -> C3M0060065 | D41: =IF(I41="TO-247-3","D",IF(I41="TO-247-4","K",IF(LEFT(I41,6)="TO-263","J","D"))) -> D | E41: =H41/1.3 -> 85.384615 | G41: 650 | H41: 111 | I41: TO-247-3 | J41: United Silicon Carbide | K41: UJ3C065080K3S | L41: Distrelec | M41: 10.084281 | AB41: =A41 -> 41
A42: 42 | B42: =IF(J42="Wolfspeed",K42,IFERROR(VLOOKUP(CONCATENATE(C42,D42),Sheet1!AF:AH,1,FALSE),CONCATENATE(C42,"D"))) -> C3M0060065J | C42: {=IF(G42=650,INDEX(Sheet1!$I:$I,MATCH(MIN(ABS(Sheet1!$H$1:$H$50-E42)),ABS(Sheet1!$H$1:$H$50-E42),0)),IF(G42=900,INDEX(Sheet1!$C:$C,MATCH(MIN(ABS(Sheet1!$B$1:$B$50-E42)),ABS(Sheet1!$B$1:$B$50-E42),0)),IF(G42=1200,INDEX(Sheet1!$U:$U,MATCH(MIN(ABS(Sheet1!$T$1:$T$48-E42)),ABS(Sheet1!$T$1:$T$48-E42),0)),IF(G42=1000,INDEX(Sheet1!$AA:$AA,MATCH(MIN(ABS(Sheet1!$Z$1:$Z$50-E42)),ABS(Sheet1!$Z$1:$Z$50-E42),0))))))} -> C3M0060065 | D42: =IF(I42="TO-247-3","D",IF(I42="TO-247-4","K",IF(LEFT(I42,6)="TO-263","J","D"))) -> J | E42: =H42/1.3 -> 85.384615 | G42: 650 | H42: 111 | I42: TO-263-3, | J42: United Silicon Carbide | K42: UJ3C065080B3 | L42: Distrelec | M42: 9.0441979 | AB42: =A42 -> 42
A43: 43 | B43: =IF(J43="Wolfspeed",K43,IFERROR(VLOOKUP(CONCATENATE(C43,D43),Sheet1!AF:AH,1,FALSE),CONCATENATE(C43,"D"))) -> C3M0120065D | C43: {=IF(G43=650,INDEX(Sheet1!$I:$I,MATCH(MIN(ABS(Sheet1!$H$1:$H$50-E43)),ABS(Sheet1!$H$1:$H$50-E43),0)),IF(G43=900,INDEX(Sheet1!$C:$C,MATCH(MIN(ABS(Sheet1!$B$1:$B$50-E43)),ABS(Sheet1!$B$1:$B$50-E43),0)),IF(G43=1200,INDEX(Sheet1!$U:$U,MATCH(MIN(ABS(Sheet1!$T$1:$T$48-E43)),ABS(Sheet1!$T$1:$T$48-E43),0)),IF(G43=1000,INDEX(Sheet1!$AA:$AA,MATCH(MIN(ABS(Sheet1!$Z$1:$Z$50-E43)),ABS(Sheet1!$Z$1:$Z$50-E43),0))))))} -> C3M0120065 | D43: =IF(I43="TO-247-3","D",IF(I43="TO-247-4","K",IF(LEFT(I43,6)="TO-263","J","D"))) -> D | E43: =H43/1.3 -> 120 | G43: 650 | H43: 156 | I43: TO-220-3 | J43: Rohm | K43: SCT2120AFC | L43: Avnet | M43: 7.93325 | N43: 8.652 | P43: 7.93325 | Q43: 10.253859 | R43: 9.29 | T43: 9.57 | U43: 9.29 | W43: 10.87 | AA43: 9.884 | AB43: =A43 -> 43
A44: 44 | B44: =IF(J44="Wolfspeed",K44,IFERROR(VLOOKUP(CONCATENATE(C44,D44),Sheet1!AF:AH,1,FALSE),CONCATENATE(C44,"D"))) -> C3M0120065D | C44: {=IF(G44=650,INDEX(Sheet1!$I:$I,MATCH(MIN(ABS(Sheet1!$H$1:$H$50-E44)),ABS(Sheet1!$H$1:$H$50-E44),0)),IF(G44=900,INDEX(Sheet1!$C:$C,MATCH(MIN(ABS(Sheet1!$B$1:$B$50-E44)),ABS(Sheet1!$B$1:$B$50-E44),0)),IF(G44=1200,INDEX(Sheet1!$U:$U,MATCH(MIN(ABS(Sheet1!$T$1:$T$48-E44)),ABS(Sheet1!$T$1:$T$48-E44),0)),IF(G44=1000,INDEX(Sheet1!$AA:$AA,MATCH(MIN(ABS(Sheet1!$Z$1:$Z$50-E44)),ABS(Sheet1!$Z$1:$Z$50-E44),0))))))} -> C3M0120065 | D44: =IF(I44="TO-247-3","D",IF(I44="TO-247-4","K",IF(LEFT(I44,6)="TO-263","J","D"))) -> D | E44: =H44/1.3 -> 120 | G44: 650 | H44: 156 | I44: TO-247-3 | J44: Rohm | K44: SCT3120ALGC11 | L44: Avnet | M44: 3.91528 | N44: 4.27 | O44: 5.034 | P44: 3.91528 | Q44: 6.3340361 | R44: 5.13 | S44: 4.4 | T44: 5.18 | U44: 6.02 | W44: 6.443 | Z44: 4.177 | AA44: 5.034 | AB44: =A44 -> 44
A45: 45 | B45: =IF(J45="Wolfspeed",K45,IFERROR(VLOOKUP(CONCATENATE(C45,D45),Sheet1!AF:AH,1,FALSE),CONCATENATE(C45,"D"))) -> C3M0120065D | C45: {=IF(G45=650,INDEX(Sheet1!$I:$I,MATCH(MIN(ABS(Sheet1!$H$1:$H$50-E45)),ABS(Sheet1!$H$1:$H$50-E45),0)),IF(G45=900,INDEX(Sheet1!$C:$C,MATCH(MIN(ABS(Sheet1!$B$1:$B$50-E45)),ABS(Sheet1!$B$1:$B$50-E45),0)),IF(G45=1200,INDEX(Sheet1!$U:$U,MATCH(MIN(ABS(Sheet1!$T$1:$T$48-E45)),ABS(Sheet1!$T$1:$T$48-E45),0)),IF(G45=1000,INDEX(Sheet1!$AA:$AA,MATCH(MIN(ABS(Sheet1!$Z$1:$Z$50-E45)),ABS(Sheet1!$Z$1:$Z$50-E45),0))))))} -> C3M0120065 | D45: =IF(I45="TO-247-3","D",IF(I45="TO-247-4","K",IF(LEFT(I45,6)="TO-263","J","D"))) -> D | E45: =H45/1.3 -> 120 | G45: 650 | H45: 156 | I45: TO-247-3 | J45: Rohm | K45: SCT3120ALHRC11 | L45: Newark | M45: 6.71 | N45: 7.96572 | R45: 9.36 | T45: 10.52 | U45: 6.71 | AA45: 10.556 | AB45: =A45 -> 45
A46: 46 | B46: =IF(J46="Wolfspeed",K46,IFERROR(VLOOKUP(CONCATENATE(C46,D46),Sheet1!AF:AH,1,FALSE),CONCATENATE(C46,"D"))) -> C3M0030090D | C46: {=IF(G46=650,INDEX(Sheet1!$I:$I,MATCH(MIN(ABS(Sheet1!$H$1:$H$50-E46)),ABS(Sheet1!$H$1:$H$50-E46),0)),IF(G46=900,INDEX(Sheet1!$C:$C,MATCH(MIN(ABS(Sheet1!$B$1:$B$50-E46)),ABS(Sheet1!$B$1:$B$50-E46),0)),IF(G46=1200,INDEX(Sheet1!$U:$U,MATCH(MIN(ABS(Sheet1!$T$1:$T$48-E46)),ABS(Sheet1!$T$1:$T$48-E46),0)),IF(G46=1000,INDEX(Sheet1!$AA:$AA,MATCH(MIN(ABS(Sheet1!$Z$1:$Z$50-E46)),ABS(Sheet1!$Z$1:$Z$50-E46),0))))))} -> C3M0030090 | D46: =IF(I46="TO-247-3","D",IF(I46="TO-247-4","K",IF(LEFT(I46,6)="TO-263","J","D"))) -> D | E46: =H46/1.3 -> 21.538462 | G46: 900 | H46: 28 | I46: TO-247-3 | J46: ON Semiconductor | K46: NTHL020N090SC1 | L46: Avnet | M46: 12.22213 | N46: 14.355 | P46: 12.22213 | Q46: 14.583927 | T46: 15.34 | U46: 12.87 | AB46: =A46 -> 46
A47: 47 | B47: =IF(J47="Wolfspeed",K47,IFERROR(VLOOKUP(CONCATENATE(C47,D47),Sheet1!AF:AH,1,FALSE),CONCATENATE(C47,"D"))) -> C3M0030090D | C47: {=IF(G47=650,INDEX(Sheet1!$I:$I,MATCH(MIN(ABS(Sheet1!$H$1:$H$50-E47)),ABS(Sheet1!$H$1:$H$50-E47),0)),IF(G47=900,INDEX(Sheet1!$C:$C,MATCH(MIN(ABS(Sheet1!$B$1:$B$50-E47)),ABS(Sheet1!$B$1:$B$50-E47),0)),IF(G47=1200,INDEX(Sheet1!$U:$U,MATCH(MIN(ABS(Sheet1!$T$1:$T$48-E47)),ABS(Sheet1!$T$1:$T$48-E47),0)),IF(G47=1000,INDEX(Sheet1!$AA:$AA,MATCH(MIN(ABS(Sheet1!$Z$1:$Z$50-E47)),ABS(Sheet1!$Z$1:$Z$50-E47),0))))))} -> C3M0030090 | D47: =IF(I47="TO-247-3","D",IF(I47="TO-247-4","K",IF(LEFT(I47,6)="TO-263","J","D"))) -> D | E47: =H47/1.3 -> 21.538462 | G47: 900 | H47: 28 | I47: TO-247-3 | J47: ON Semiconductor | K47: NVHL020N090SC1 | L47: Avnet | M47: 14.19742 | N47: 14.72 | P47: 14.19742 | Q47: 17.279731 | T47: 17.25 | U47: 14.95 | AB47: =A47 -> 47
A48: 48 | B48: =IF(J48="Wolfspeed",K48,IFERROR(VLOOKUP(CONCATENATE(C48,D48),Sheet1!AF:AH,1,FALSE),CONCATENATE(C48,"D"))) -> C3M0030090D | C48: {=IF(G48=650,INDEX(Sheet1!$I:$I,MATCH(MIN(ABS(Sheet1!$H$1:$H$50-E48)),ABS(Sheet1!$H$1:$H$50-E48),0)),IF(G48=900,INDEX(Sheet1!$C:$C,MATCH(MIN(ABS(Sheet1!$B$1:$B$50-E48)),ABS(Sheet1!$B$1:$B$50-E48),0)),IF(G48=1200,INDEX(Sheet1!$U:$U,MATCH(MIN(ABS(Sheet1!$T$1:$T$48-E48)),ABS(Sheet1!$T$1:$T$48-E48),0)),IF(G48=1000,INDEX(Sheet1!$AA:$AA,MATCH(MIN(ABS(Sheet1!$Z$1:$Z$50-E48)),ABS(Sheet1!$Z$1:$Z$50-E48),0))))))} -> C3M0030090 | D48: =IF(I48="TO-247-3","D",IF(I48="TO-247-4","K",IF(LEFT(I48,6)="TO-263","J","D"))) -> J | E48: =H48/1.3 -> 21.538462 | G48: 900 | H48: 28 | I48: TO-263-8, | J48: ON Semiconductor | K48: NTBG020N090SC1 | L48: Avnet | M48: 12.22213 | N48: 14.355 | P48: 12.22213 | Q48: 14.043774 | T48: 14.27 | U48: 13.16 | AB48: =A48 -> 48
A49: 49 | B49: =IF(J49="Wolfspeed",K49,IFERROR(VLOOKUP(CONCATENATE(C49,D49),Sheet1!AF:AH,1,FALSE),CONCATENATE(C49,"D"))) -> C3M0030090D | C49: {=IF(G49=650,INDEX(Sheet1!$I:$I,MATCH(MIN(ABS(Sheet1!$H$1:$H$50-E49)),ABS(Sheet1!$H$1:$H$50-E49),0)),IF(G49=900,INDEX(Sheet1!$C:$C,MATCH(MIN(ABS(Sheet1!$B$1:$B$50-E49)),ABS(Sheet1!$B$1:$B$50-E49),0)),IF(G49=1200,INDEX(Sheet1!$U:$U,MATCH(MIN(ABS(Sheet1!$T$1:$T$48-E49)),ABS(Sheet1!$T$1:$T$48-E49),0)),IF(G49=1000,INDEX(Sheet1!$AA:$AA,MATCH(MIN(ABS(Sheet1!$Z$1:$Z$50-E49)),ABS(Sheet1!$Z$1:$Z$50-E49),0))))))} -> C3M0030090 | D49: =IF(I49="TO-247-3","D",IF(I49="TO-247-4","K",IF(LEFT(I49,6)="TO-263","J","D"))) -> J | E49: =H49/1.3 -> 21.538462 | G49: 900 | H49: 28 | I49: TO-263-8, | J49: ON Semiconductor | K49: NVBG020N090SC1 | L49: Avnet | M49: 12.22213 | N49: 14.355 | P49: 12.22213 | Q49: 14.324698 | T49: 14.27 | U49: 13.16 | AB49: =A49 -> 49
A50: 50 | B50: =IF(J50="Wolfspeed",K50,IFERROR(VLOOKUP(CONCATENATE(C50,D50),Sheet1!AF:AH,1,FALSE),CONCATENATE(C50,"D"))) -> C3M0030090K | C50: {=IF(G50=650,INDEX(Sheet1!$I:$I,MATCH(MIN(ABS(Sheet1!$H$1:$H$50-E50)),ABS(Sheet1!$H$1:$H$50-E50),0)),IF(G50=900,INDEX(Sheet1!$C:$C,MATCH(MIN(ABS(Sheet1!$B$1:$B$50-E50)),ABS(Sheet1!$B$1:$B$50-E50),0)),IF(G50=1200,INDEX(Sheet1!$U:$U,MATCH(MIN(ABS(Sheet1!$T$1:$T$48-E50)),ABS(Sheet1!$T$1:$T$48-E50),0)),IF(G50=1000,INDEX(Sheet1!$AA:$AA,MATCH(MIN(ABS(Sheet1!$Z$1:$Z$50-E50)),ABS(Sheet1!$Z$1:$Z$50-E50),0))))))} -> C3M0030090 | D50: =IF(I50="TO-247-3","D",IF(I50="TO-247-4","K",IF(LEFT(I50,6)="TO-263","J","D"))) -> K | E50: =H50/1.3 -> 30 | G50: 900 | H50: 39 | I50: TO-247-4 | J50: Wolfspeed | K50: C3M0030090K | L50: Richardson RFPD | M50: 25.51 | N50: 28.2102 | U50: 28.21 | V50: 25.51 | W50: 29.36 | Y50: 31.5 | AA50: 29.35 | AB50: =A50 -> 50
A51: 51 | B51: =IF(J51="Wolfspeed",K51,IFERROR(VLOOKUP(CONCATENATE(C51,D51),Sheet1!AF:AH,1,FALSE),CONCATENATE(C51,"D"))) -> C3M0065090D | C51: {=IF(G51=650,INDEX(Sheet1!$I:$I,MATCH(MIN(ABS(Sheet1!$H$1:$H$50-E51)),ABS(Sheet1!$H$1:$H$50-E51),0)),IF(G51=900,INDEX(Sheet1!$C:$C,MATCH(MIN(ABS(Sheet1!$B$1:$B$50-E51)),ABS(Sheet1!$B$1:$B$50-E51),0)),IF(G51=1200,INDEX(Sheet1!$U:$U,MATCH(MIN(ABS(Sheet1!$T$1:$T$48-E51)),ABS(Sheet1!$T$1:$T$48-E51),0)),IF(G51=1000,INDEX(Sheet1!$AA:$AA,MATCH(MIN(ABS(Sheet1!$Z$1:$Z$50-E51)),ABS(Sheet1!$Z$1:$Z$50-E51),0))))))} -> C3M0065090 | D51: =IF(I51="TO-247-3","D",IF(I51="TO-247-4","K",IF(LEFT(I51,6)="TO-263","J","D"))) -> D | E51: =H51/1.3 -> 60 | G51: 900 | H51: 78 | I51: TO-247-3 | J51: Wolfspeed | K51: C3M0065090D | L51: Newark | M51: 3.61 | N51: 9.375 | U51: 3.61 | V51: 9.25 | W51: 9.126 | Y51: 10.4 | AA51: 10.65 | AB51: =A51 -> 51
A52: 52 | B52: =IF(J52="Wolfspeed",K52,IFERROR(VLOOKUP(CONCATENATE(C52,D52),Sheet1!AF:AH,1,FALSE),CONCATENATE(C52,"D"))) -> C3M0065090J | C52: {=IF(G52=650,INDEX(Sheet1!$I:$I,MATCH(MIN(ABS(Sheet1!$H$1:$H$50-E52)),ABS(Sheet1!$H$1:$H$50-E52),0)),IF(G52=900,INDEX(Sheet1!$C:$C,MATCH(MIN(ABS(Sheet1!$B$1:$B$50-E52)),ABS(Sheet1!$B$1:$B$50-E52),0)),IF(G52=1200,INDEX(Sheet1!$U:$U,MATCH(MIN(ABS(Sheet1!$T$1:$T$48-E52)),ABS(Sheet1!$T$1:$T$48-E52),0)),IF(G52=1000,INDEX(Sheet1!$AA:$AA,MATCH(MIN(ABS(Sheet1!$Z$1:$Z$50-E52)),ABS(Sheet1!$Z$1:$Z$50-E52),0))))))} -> C3M0065090 | D52: =IF(I52="TO-247-3","D",IF(I52="TO-247-4","K",IF(LEFT(I52,6)="TO-263","J","D"))) -> J | E52: =H52/1.3 -> 60 | G52: 900 | H52: 78 | I52: TO-263-8, | J52: Wolfspeed | K52: C3M0065090J | L52: RS Components | M52: 9.406 | N52: 9.6875 | U52: 9.86 | V52: 9.55 | W52: 9.406 | Y52: 12.6 | AA52: 11 | AB52: =A52 -> 52
A53: 53 | B53: =IF(J53="Wolfspeed",K53,IFERROR(VLOOKUP(CONCATENATE(C53,D53),Sheet1!AF:AH,1,FALSE),CONCATENATE(C53,"D"))) -> C3M0065090J | C53: {=IF(G53=650,INDEX(Sheet1!$I:$I,MATCH(MIN(ABS(Sheet1!$H$1:$H$50-E53)),ABS(Sheet1!$H$1:$H$50-E53),0)),IF(G53=900,INDEX(Sheet1!$C:$C,MATCH(MIN(ABS(Sheet1!$B$1:$B$50-E53)),ABS(Sheet1!$B$1:$B$50-E53),0)),IF(G53=1200,INDEX(Sheet1!$U:$U,MATCH(MIN(ABS(Sheet1!$T$1:$T$48-E53)),ABS(Sheet1!$T$1:$T$48-E53),0)),IF(G53=1000,INDEX(Sheet1!$AA:$AA,MATCH(MIN(ABS(Sheet1!$Z$1:$Z$50-E53)),ABS(Sheet1!$Z$1:$Z$50-E53),0))))))} -> C3M0065090 | D53: =IF(I53="TO-247-3","D",IF(I53="TO-247-4","K",IF(LEFT(I53,6)="TO-263","J","D"))) -> J | E53: =H53/1.3 -> 60 | G53: 900 | H53: 78 | I53: TO-263-8, | J53: Wolfspeed | K53: C3M0065090J | L53: Verical | M53: 9.1627 | O53: 9.1627 | T53: 11.08 | AA53: 9.1627 | AB53: =A53 -> 53
A54: 54 | B54: =IF(J54="Wolfspeed",K54,IFERROR(VLOOKUP(CONCATENATE(C54,D54),Sheet1!AF:AH,1,FALSE),CONCATENATE(C54,"D"))) -> C3M0065090D | C54: {=IF(G54=650,INDEX(Sheet1!$I:$I,MATCH(MIN(ABS(Sheet1!$H$1:$H$50-E54)),ABS(Sheet1!$H$1:$H$50-E54),0)),IF(G54=900,INDEX(Sheet1!$C:$C,MATCH(MIN(ABS(Sheet1!$B$1:$B$50-E54)),ABS(Sheet1!$B$1:$B$50-E54),0)),IF(G54=1200,INDEX(Sheet1!$U:$U,MATCH(MIN(ABS(Sheet1!$T$1:$T$48-E54)),ABS(Sheet1!$T$1:$T$48-E54),0)),IF(G54=1000,INDEX(Sheet1!$AA:$AA,MATCH(MIN(ABS(Sheet1!$Z$1:$Z$50-E54)),ABS(Sheet1!$Z$1:$Z$50-E54),0))))))} -> C3M0065090 | D54: =IF(I54="TO-247-3","D",IF(I54="TO-247-4","K",IF(LEFT(I54,6)="TO-263","J","D"))) -> D | E54: =H54/1.3 -> 64.615385 | G54: 900 | H54: 84 | I54: TO-247-3 | J54: ON Semiconductor | K54: NTHL060N090SC1 | L54: Avnet | M54: 4.62959 | N54: 5.0625 | P54: 4.62959 | Q54: 5.6347162 | T54: 5.62 | U54: 4.88 | AB54: =A54 -> 54
A55: 55 | B55: =IF(J55="Wolfspeed",K55,IFERROR(VLOOKUP(CONCATENATE(C55,D55),Sheet1!AF:AH,1,FALSE),CONCATENATE(C55,"D"))) -> E3M0065090D | C55: {=IF(G55=650,INDEX(Sheet1!$I:$I,MATCH(MIN(ABS(Sheet1!$H$1:$H$50-E55)),ABS(Sheet1!$H$1:$H$50-E55),0)),IF(G55=900,INDEX(Sheet1!$C:$C,MATCH(MIN(ABS(Sheet1!$B$1:$B$50-E55)),ABS(Sheet1!$B$1:$B$50-E55),0)),IF(G55=1200,INDEX(Sheet1!$U:$U,MATCH(MIN(ABS(Sheet1!$T$1:$T$48-E55)),ABS(Sheet1!$T$1:$T$48-E55),0)),IF(G55=1000,INDEX(Sheet1!$AA:$AA,MATCH(MIN(ABS(Sheet1!$Z$1:$Z$50-E55)),ABS(Sheet1!$Z$1:$Z$50-E55),0))))))} -> C3M0065090 | D55: =IF(I55="TO-247-3","D",IF(I55="TO-247-4","K",IF(LEFT(I55,6)="TO-263","J","D"))) -> D | E55: =H55/1.3 -> 65 | G55: 900 | H55: 84.5 | I55: TO-247-3 | J55: Wolfspeed | K55: E3M0065090D | L55: Richardson RFPD | M55: 10.64 | N55: 10.7875 | U55: 11.47 | V55: 10.64 | AB55: =A55 -> 55
A56: 56 | B56: =IF(J56="Wolfspeed",K56,IFERROR(VLOOKUP(CONCATENATE(C56,D56),Sheet1!AF:AH,1,FALSE),CONCATENATE(C56,"D"))) -> C3M0120090D | C56: {=IF(G56=650,INDEX(Sheet1!$I:$I,MATCH(MIN(ABS(Sheet1!$H$1:$H$50-E56)),ABS(Sheet1!$H$1:$H$50-E56),0)),IF(G56=900,INDEX(Sheet1!$C:$C,MATCH(MIN(ABS(Sheet1!$B$1:$B$50-E56)),ABS(Sheet1!$B$1:$B$50-E56),0)),IF(G56=1200,INDEX(Sheet1!$U:$U,MATCH(MIN(ABS(Sheet1!$T$1:$T$48-E56)),ABS(Sheet1!$T$1:$T$48-E56),0)),IF(G56=1000,INDEX(Sheet1!$AA:$AA,MATCH(MIN(ABS(Sheet1!$Z$1:$Z$50-E56)),ABS(Sheet1!$Z$1:$Z$50-E56),0))))))} -> C3M0120090 | D56: =IF(I56="TO-247-3","D",IF(I56="TO-247-4","K",IF(LEFT(I56,6)="TO-263","J","D"))) -> D | E56: =H56/1.3 -> 119.23077 | G56: 900 | H56: 155 | I56: TO-247-3 | J56: Wolfspeed | K56: C3M0120090D | L56: RS Components | M56: 5.851 | N56: 6.025 | U56: 7.48 | V56: 5.94 | W56: 5.851 | Y56: 7.54 | AA56: 6.85 | AB56: =A56 -> 56
A57: 57 | B57: =IF(J57="Wolfspeed",K57,IFERROR(VLOOKUP(CONCATENATE(C57,D57),Sheet1!AF:AH,1,FALSE),CONCATENATE(C57,"D"))) -> E3M0120090D | C57: {=IF(G57=650,INDEX(Sheet1!$I:$I,MATCH(MIN(ABS(Sheet1!$H$1:$H$50-E57)),ABS(Sheet1!$H$1:$H$50-E57),0)),IF(G57=900,INDEX(Sheet1!$C:$C,MATCH(MIN(ABS(Sheet1!$B$1:$B$50-E57)),ABS(Sheet1!$B$1:$B$50-E57),0)),IF(G57=1200,INDEX(Sheet1!$U:$U,MATCH(MIN(ABS(Sheet1!$T$1:$T$48-E57)),ABS(Sheet1!$T$1:$T$48-E57),0)),IF(G57=1000,INDEX(Sheet1!$AA:$AA,MATCH(MIN(ABS(Sheet1!$Z$1:$Z$50-E57)),ABS(Sheet1!$Z$1:$Z$50-E57),0))))))} -> C3M0120090 | D57: =IF(I57="TO-247-3","D",IF(I57="TO-247-4","K",IF(LEFT(I57,6)="TO-263","J","D"))) -> D | E57: =H57/1.3 -> 119.23077 | G57: 900 | H57: 155 | I57: TO-247-3 | J57: Wolfspeed | K57: E3M0120090D | L57: Digi-Key | M57: 6.7875 | N57: 6.7875 | U57: 8.08 | V57: 6.84 | AB57: =A57 -> 57
A58: 58 | B58: =IF(J58="Wolfspeed",K58,IFERROR(VLOOKUP(CONCATENATE(C58,D58),Sheet1!AF:AH,1,FALSE),CONCATENATE(C58,"D"))) -> C3M0120090J | C58: {=IF(G58=650,INDEX(Sheet1!$I:$I,MATCH(MIN(ABS(Sheet1!$H$1:$H$50-E58)),ABS(Sheet1!$H$1:$H$50-E58),0)),IF(G58=900,INDEX(Sheet1!$C:$C,MATCH(MIN(ABS(Sheet1!$B$1:$B$50-E58)),ABS(Sheet1!$B$1:$B$50-E58),0)),IF(G58=1200,INDEX(Sheet1!$U:$U,MATCH(MIN(ABS(Sheet1!$T$1:$T$48-E58)),ABS(Sheet1!$T$1:$T$48-E58),0)),IF(G58=1000,INDEX(Sheet1!$AA:$AA,MATCH(MIN(ABS(Sheet1!$Z$1:$Z$50-E58)),ABS(Sheet1!$Z$1:$Z$50-E58),0))))))} -> C3M0120090 | D58: =IF(I58="TO-247-3","D",IF(I58="TO-247-4","K",IF(LEFT(I58,6)="TO-263","J","D"))) -> J | E58: =H58/1.3 -> 119.23077 | G58: 900 | H58: 155 | I58: TO-263-8, | J58: Wolfspeed | K58: C3M0120090J | L58: Newark | M58: 6.05 | N58: 6.2 | U58: 6.05 | V58: 6.12 | W58: 6.572 | Y58: 7.49 | AB58: =A58 -> 58
A59: 59 | B59: =IF(J59="Wolfspeed",K59,IFERROR(VLOOKUP(CONCATENATE(C59,D59),Sheet1!AF:AH,1,FALSE),CONCATENATE(C59,"D"))) -> C3M0120090J | C59: {=IF(G59=650,INDEX(Sheet1!$I:$I,MATCH(MIN(ABS(Sheet1!$H$1:$H$50-E59)),ABS(Sheet1!$H$1:$H$50-E59),0)),IF(G59=900,INDEX(Sheet1!$C:$C,MATCH(MIN(ABS(Sheet1!$B$1:$B$50-E59)),ABS(Sheet1!$B$1:$B$50-E59),0)),IF(G59=1200,INDEX(Sheet1!$U:$U,MATCH(MIN(ABS(Sheet1!$T$1:$T$48-E59)),ABS(Sheet1!$T$1:$T$48-E59),0)),IF(G59=1000,INDEX(Sheet1!$AA:$AA,MATCH(MIN(ABS(Sheet1!$Z$1:$Z$50-E59)),ABS(Sheet1!$Z$1:$Z$50-E59),0))))))} -> C3M0120090 | D59: =IF(I59="TO-247-3","D",IF(I59="TO-247-4","K",IF(LEFT(I59,6)="TO-263","J","D"))) -> J | E59: =H59/1.3 -> 119.23077 | G59: 900 | H59: 155 | I59: TO-263-8, | J59: Wolfspeed | K59: C3M0120090J | L59: Richardson RFPD | M59: 6.03 | N59: 6.2 | U59: 6.45 | V59: 6.03 | AB59: =A59 -> 59
A60: 60 | B60: =IF(J60="Wolfspeed",K60,IFERROR(VLOOKUP(CONCATENATE(C60,D60),Sheet1!AF:AH,1,FALSE),CONCATENATE(C60,"D"))) -> C3M0280090D | C60: {=IF(G60=650,INDEX(Sheet1!$I:$I,MATCH(MIN(ABS(Sheet1!$H$1:$H$50-E60)),ABS(Sheet1!$H$1:$H$50-E60),0)),IF(G60=900,INDEX(Sheet1!$C:$C,MATCH(MIN(ABS(Sheet1!$B$1:$B$50-E60)),ABS(Sheet1!$B$1:$B$50-E60),0)),IF(G60=1200,INDEX(Sheet1!$U:$U,MATCH(MIN(ABS(Sheet1!$T$1:$T$48-E60)),ABS(Sheet1!$T$1:$T$48-E60),0)),IF(G60=1000,INDEX(Sheet1!$AA:$AA,MATCH(MIN(ABS(Sheet1!$Z$1:$Z$50-E60)),ABS(Sheet1!$Z$1:$Z$50-E60),0))))))} -> C3M0280090 | D60: =IF(I60="TO-247-3","D",IF(I60="TO-247-4","K",IF(LEFT(I60,6)="TO-263","J","D"))) -> D | E60: =H60/1.3 -> 276.92308 | G60: 900 | H60: 360 | I60: TO-247-3 | J60: Wolfspeed | K60: C3M0280090D | L60: Newark | M60: 2.66 | N60: 3.25 | U60: 2.66 | V60: 3.2 | W60: 3.148 | Y60: 4.06 | AB60: =A60 -> 60
A61: 61 | B61: =IF(J61="Wolfspeed",K61,IFERROR(VLOOKUP(CONCATENATE(C61,D61),Sheet1!AF:AH,1,FALSE),CONCATENATE(C61,"D"))) -> E3M0280090D | C61: {=IF(G61=650,INDEX(Sheet1!$I:$I,MATCH(MIN(ABS(Sheet1!$H$1:$H$50-E61)),ABS(Sheet1!$H$1:$H$50-E61),0)),IF(G61=900,INDEX(Sheet1!$C:$C,MATCH(MIN(ABS(Sheet1!$B$1:$B$50-E61)),ABS(Sheet1!$B$1:$B$50-E61),0)),IF(G61=1200,INDEX(Sheet1!$U:$U,MATCH(MIN(ABS(Sheet1!$T$1:$T$48-E61)),ABS(Sheet1!$T$1:$T$48-E61),0)),IF(G61=1000,INDEX(Sheet1!$AA:$AA,MATCH(MIN(ABS(Sheet1!$Z$1:$Z$50-E61)),ABS(Sheet1!$Z$1:$Z$50-E61),0))))))} -> C3M0280090 | D61: =IF(I61="TO-247-3","D",IF(I61="TO-247-4","K",IF(LEFT(I61,6)="TO-263","J","D"))) -> D | E61: =H61/1.3 -> 276.92308 | G61: 900 | H61: 360 | I61: TO-247-3 | J61: Wolfspeed | K61: E3M0280090D | L61: Richardson RFPD | M61: 3.68 | N61: 3.7375 | U61: 4.66 | V61: 3.68 | AB61: =A61 -> 61
A62: 62 | B62: =IF(J62="Wolfspeed",K62,IFERROR(VLOOKUP(CONCATENATE(C62,D62),Sheet1!AF:AH,1,FALSE),CONCATENATE(C62,"D"))) -> C3M0280090J | C62: {=IF(G62=650,INDEX(Sheet1!$I:$I,MATCH(MIN(ABS(Sheet1!$H$1:$H$50-E62)),ABS(Sheet1!$H$1:$H$50-E62),0)),IF(G62=900,INDEX(Sheet1!$C:$C,MATCH(MIN(ABS(Sheet1!$B$1:$B$50-E62)),ABS(Sheet1!$B$1:$B$50-E62),0)),IF(G62=1200,INDEX(Sheet1!$U:$U,MATCH(MIN(ABS(Sheet1!$T$1:$T$48-E62)),ABS(Sheet1!$T$1:$T$48-E62),0)),IF(G62=1000,INDEX(Sheet1!$AA:$AA,MATCH(MIN(ABS(Sheet1!$Z$1:$Z$50-E62)),ABS(Sheet1!$Z$1:$Z$50-E62),0))))))} -> C3M0280090 | D62: =IF(I62="TO-247-3","D",IF(I62="TO-247-4","K",IF(LEFT(I62,6)="TO-263","J","D"))) -> J | E62: =H62/1.3 -> 276.92308 | G62: 900 | H62: 360 | I62: TO-263-8, | J62: Wolfspeed | K62: C3M0280090J | L62: Newark | M62: 3.15 | N62: 3.425 | U62: 3.15 | V62: 3.38 | W62: 3.634 | Y62: 4.2 | AB62: =A62 -> 62
A63: 63 | B63: =IF(J63="Wolfspeed",K63,IFERROR(VLOOKUP(CONCATENATE(C63,D63),Sheet1!AF:AH,1,FALSE),CONCATENATE(C63,"D"))) -> C3M0280090J | C63: {=IF(G63=650,INDEX(Sheet1!$I:$I,MATCH(MIN(ABS(Sheet1!$H$1:$H$50-E63)),ABS(Sheet1!$H$1:$H$50-E63),0)),IF(G63=900,INDEX(Sheet1!$C:$C,MATCH(MIN(ABS(Sheet1!$B$1:$B$50-E63)),ABS(Sheet1!$B$1:$B$50-E63),0)),IF(G63=1200,INDEX(Sheet1!$U:$U,MATCH(MIN(ABS(Sheet1!$T$1:$T$48-E63)),ABS(Sheet1!$T$1:$T$48-E63),0)),IF(G63=1000,INDEX(Sheet1!$AA:$AA,MATCH(MIN(ABS(Sheet1!$Z$1:$Z$50-E63)),ABS(Sheet1!$Z$1:$Z$50-E63),0))))))} -> C3M0280090 | D63: =IF(I63="TO-247-3","D",IF(I63="TO-247-4","K",IF(LEFT(I63,6)="TO-263","J","D"))) -> J | E63: =H63/1.3 -> 276.92308 | G63: 900 | H63: 360 | I63: TO-263-8, | J63: Wolfspeed | K63: C3M0280090J | L63: Richardson RFPD | M63: 3.33 | N63: 3.425 | U63: 3.57 | V63: 3.33 | AB63: =A63 -> 63
A64: 64 | B64: =IF(J64="Wolfspeed",K64,IFERROR(VLOOKUP(CONCATENATE(C64,D64),Sheet1!AF:AH,1,FALSE),CONCATENATE(C64,"D"))) -> C3M0065100K | C64: {=IF(G64=650,INDEX(Sheet1!$I:$I,MATCH(MIN(ABS(Sheet1!$H$1:$H$50-E64)),ABS(Sheet1!$H$1:$H$50-E64),0)),IF(G64=900,INDEX(Sheet1!$C:$C,MATCH(MIN(ABS(Sheet1!$B$1:$B$50-E64)),ABS(Sheet1!$B$1:$B$50-E64),0)),IF(G64=1200,INDEX(Sheet1!$U:$U,MATCH(MIN(ABS(Sheet1!$T$1:$T$48-E64)),ABS(Sheet1!$T$1:$T$48-E64),0)),IF(G64=1000,INDEX(Sheet1!$AA:$AA,MATCH(MIN(ABS(Sheet1!$Z$1:$Z$50-E64)),ABS(Sheet1!$Z$1:$Z$50-E64),0))))))} -> C3M0065100 | D64: =IF(I64="TO-247-3","D",IF(I64="TO-247-4","K",IF(LEFT(I64,6)="TO-263","J","D"))) -> K | E64: =H64/1.3 -> 60 | G64: 1000 | H64: 78 | I64: TO-247-4 | J64: Wolfspeed | K64: C3M0065100K | L64: Newark | M64: 11.12 | N64: 11.4 | U64: 11.12 | V64: 11.23 | W64: 11.77 | Y64: 13.8 | AA64: 12.95 | AB64: =A64 -> 64
A65: 65 | B65: =IF(J65="Wolfspeed",K65,IFERROR(VLOOKUP(CONCATENATE(C65,D65),Sheet1!AF:AH,1,FALSE),CONCATENATE(C65,"D"))) -> C3M0065100J | C65: {=IF(G65=650,INDEX(Sheet1!$I:$I,MATCH(MIN(ABS(Sheet1!$H$1:$H$50-E65)),ABS(Sheet1!$H$1:$H$50-E65),0)),IF(G65=900,INDEX(Sheet1!$C:$C,MATCH(MIN(ABS(Sheet1!$B$1:$B$50-E65)),ABS(Sheet1!$B$1:$B$50-E65),0)),IF(G65=1200,INDEX(Sheet1!$U:$U,MATCH(MIN(ABS(Sheet1!$T$1:$T$48-E65)),ABS(Sheet1!$T$1:$T$48-E65),0)),IF(G65=1000,INDEX(Sheet1!$AA:$AA,MATCH(MIN(ABS(Sheet1!$Z$1:$Z$50-E65)),ABS(Sheet1!$Z$1:$Z$50-E65),0))))))} -> C3M0065100 | D65: =IF(I65="TO-247-3","D",IF(I65="TO-247-4","K",IF(LEFT(I65,6)="TO-263","J","D"))) -> J | E65: =H65/1.3 -> 60 | G65: 1000 | H65: 78 | I65: TO-263-8, | J65: Wolfspeed | K65: C3M0065100J | L65: Newark | M65: 10.82 | N65: 11.4 | U65: 10.82 | V65: 11.23 | W65: 12.07 | Y65: 12.8 | AA65: 12.95 | AB65: =A65 -> 65
A66: 66 | B66: =IF(J66="Wolfspeed",K66,IFERROR(VLOOKUP(CONCATENATE(C66,D66),Sheet1!AF:AH,1,FALSE),CONCATENATE(C66,"D"))) -> C3M0065100J | C66: {=IF(G66=650,INDEX(Sheet1!$I:$I,MATCH(MIN(ABS(Sheet1!$H$1:$H$50-E66)),ABS(Sheet1!$H$1:$H$50-E66),0)),IF(G66=900,INDEX(Sheet1!$C:$C,MATCH(MIN(ABS(Sheet1!$B$1:$B$50-E66)),ABS(Sheet1!$B$1:$B$50-E66),0)),IF(G66=1200,INDEX(Sheet1!$U:$U,MATCH(MIN(ABS(Sheet1!$T$1:$T$48-E66)),ABS(Sheet1!$T$1:$T$48-E66),0)),IF(G66=1000,INDEX(Sheet1!$AA:$AA,MATCH(MIN(ABS(Sheet1!$Z$1:$Z$50-E66)),ABS(Sheet1!$Z$1:$Z$50-E66),0))))))} -> C3M0065100 | D66: =IF(I66="TO-247-3","D",IF(I66="TO-247-4","K",IF(LEFT(I66,6)="TO-263","J","D"))) -> J | E66: =H66/1.3 -> 60 | G66: 1000 | H66: 78 | I66: TO-263-8, | J66: Wolfspeed | K66: C3M0065100J | L66: Richardson RFPD | M66: 11.07 | N66: 11.45 | V66: 11.07 | AB66: =A66 -> 66
A67: 67 | B67: =IF(J67="Wolfspeed",K67,IFERROR(VLOOKUP(CONCATENATE(C67,D67),Sheet1!AF:AH,1,FALSE),CONCATENATE(C67,"D"))) -> C3M0120100K | C67: {=IF(G67=650,INDEX(Sheet1!$I:$I,MATCH(MIN(ABS(Sheet1!$H$1:$H$50-E67)),ABS(Sheet1!$H$1:$H$50-E67),0)),IF(G67=900,INDEX(Sheet1!$C:$C,MATCH(MIN(ABS(Sheet1!$B$1:$B$50-E67)),ABS(Sheet1!$B$1:$B$50-E67),0)),IF(G67=1200,INDEX(Sheet1!$U:$U,MATCH(MIN(ABS(Sheet1!$T$1:$T$48-E67)),ABS(Sheet1!$T$1:$T$48-E67),0)),IF(G67=1000,INDEX(Sheet1!$AA:$AA,MATCH(MIN(ABS(Sheet1!$Z$1:$Z$50-E67)),ABS(Sheet1!$Z$1:$Z$50-E67),0))))))} -> C3M0120100 | D67: =IF(I67="TO-247-3","D",IF(I67="TO-247-4","K",IF(LEFT(I67,6)="TO-263","J","D"))) -> K | E67: =H67/1.3 -> 119.23077 | G67: 1000 | H67: 155 | I67: TO-247-4 | J67: Wolfspeed | K67: C3M0120100K | L67: Richardson RFPD | M67: 7.13 | N67: 8.2 | U67: 8 | V67: 7.13 | Y67: 8.75 | AB67: =A67 -> 67
A68: 68 | B68: =IF(J68="Wolfspeed",K68,IFERROR(VLOOKUP(CONCATENATE(C68,D68),Sheet1!AF:AH,1,FALSE),CONCATENATE(C68,"D"))) -> C3M0120100J | C68: {=IF(G68=650,INDEX(Sheet1!$I:$I,MATCH(MIN(ABS(Sheet1!$H$1:$H$50-E68)),ABS(Sheet1!$H$1:$H$50-E68),0)),IF(G68=900,INDEX(Sheet1!$C:$C,MATCH(MIN(ABS(Sheet1!$B$1:$B$50-E68)),ABS(Sheet1!$B$1:$B$50-E68),0)),IF(G68=1200,INDEX(Sheet1!$U:$U,MATCH(MIN(ABS(Sheet1!$T$1:$T$48-E68)),ABS(Sheet1!$T$1:$T$48-E68),0)),IF(G68=1000,INDEX(Sheet1!$AA:$AA,MATCH(MIN(ABS(Sheet1!$Z$1:$Z$50-E68)),ABS(Sheet1!$Z$1:$Z$50-E68),0))))))} -> C3M0120100 | D68: =IF(I68="TO-247-3","D",IF(I68="TO-247-4","K",IF(LEFT(I68,6)="TO-263","J","D"))) -> J | E68: =H68/1.3 -> 119.23077 | G68: 1000 | H68: 155 | I68: TO-263-8, | J68: Wolfspeed | K68: C3M0120100J | L68: Richardson RFPD | M68: 7.13 | N68: 8.2 | V68: 7.13 | W68: 7.943 | Y68: 9.45 | AA68: 8.2 | AB68: =A68 -> 68
A69: 69 | B69: =IF(J69="Wolfspeed",K69,IFERROR(VLOOKUP(CONCATENATE(C69,D69),Sheet1!AF:AH,1,FALSE),CONCATENATE(C69,"D"))) -> C3M0016120D | C69: {=IF(G69=650,INDEX(Sheet1!$I:$I,MATCH(MIN(ABS(Sheet1!$H$1:$H$50-E69)),ABS(Sheet1!$H$1:$H$50-E69),0)),IF(G69=900,INDEX(Sheet1!$C:$C,MATCH(MIN(ABS(Sheet1!$B$1:$B$50-E69)),ABS(Sheet1!$B$1:$B$50-E69),0)),IF(G69=1200,INDEX(Sheet1!$U:$U,MATCH(MIN(ABS(Sheet1!$T$1:$T$48-E69)),ABS(Sheet1!$T$1:$T$48-E69),0)),IF(G69=1000,INDEX(Sheet1!$AA:$AA,MATCH(MIN(ABS(Sheet1!$Z$1:$Z$50-E69)),ABS(Sheet1!$Z$1:$Z$50-E69),0))))))} -> C3M0016120 | D69: =IF(I69="TO-247-3","D",IF(I69="TO-247-4","K",IF(LEFT(I69,6)="TO-263","J","D"))) -> D | E69: =H69/1.3 -> 13.076923 | G69: 1200 | H69: 17 | I69: SOT-227-4, | J69: Microsemi | K69: APT100MC120JCU2 | L69: Richardson RFPD | M69: 196.76 | N69: 206.1152 | O69: 209.31 | V69: 196.76 | AA69: 209.31 | AB69: =A69 -> 69
A70: 70 | B70: =IF(J70="Wolfspeed",K70,IFERROR(VLOOKUP(CONCATENATE(C70,D70),Sheet1!AF:AH,1,FALSE),CONCATENATE(C70,"D"))) -> C3M0016120D | C70: {=IF(G70=650,INDEX(Sheet1!$I:$I,MATCH(MIN(ABS(Sheet1!$H$1:$H$50-E70)),ABS(Sheet1!$H$1:$H$50-E70),0)),IF(G70=900,INDEX(Sheet1!$C:$C,MATCH(MIN(ABS(Sheet1!$B$1:$B$50-E70)),ABS(Sheet1!$B$1:$B$50-E70),0)),IF(G70=1200,INDEX(Sheet1!$U:$U,MATCH(MIN(ABS(Sheet1!$T$1:$T$48-E70)),ABS(Sheet1!$T$1:$T$48-E70),0)),IF(G70=1000,INDEX(Sheet1!$AA:$AA,MATCH(MIN(ABS(Sheet1!$Z$1:$Z$50-E70)),ABS(Sheet1!$Z$1:$Z$50-E70),0))))))} -> C3M0016120 | D70: =IF(I70="TO-247-3","D",IF(I70="TO-247-4","K",IF(LEFT(I70,6)="TO-263","J","D"))) -> D | E70: =H70/1.3 -> 17.153846 | G70: 1200 | H70: 22.3 | I70: TO-247-3 | J70: Wolfspeed | K70: C3M0016120D | L70: Richardson RFPD | M70: 50.72 | N70: 70.57 | U70: 63.35 | V70: 50.72 | AB70: =A70 -> 70
A71: 71 | B71: =IF(J71="Wolfspeed",K71,IFERROR(VLOOKUP(CONCATENATE(C71,D71),Sheet1!AF:AH,1,FALSE),CONCATENATE(C71,"D"))) -> C3M0016120K | C71: {=IF(G71=650,INDEX(Sheet1!$I:$I,MATCH(MIN(ABS(Sheet1!$H$1:$H$50-E71)),ABS(Sheet1!$H$1:$H$50-E71),0)),IF(G71=900,INDEX(Sheet1!$C:$C,MATCH(MIN(ABS(Sheet1!$B$1:$B$50-E71)),ABS(Sheet1!$B$1:$B$50-E71),0)),IF(G71=1200,INDEX(Sheet1!$U:$U,MATCH(MIN(ABS(Sheet1!$T$1:$T$48-E71)),ABS(Sheet1!$T$1:$T$48-E71),0)),IF(G71=1000,INDEX(Sheet1!$AA:$AA,MATCH(MIN(ABS(Sheet1!$Z$1:$Z$50-E71)),ABS(Sheet1!$Z$1:$Z$50-E71),0))))))} -> C3M0016120 | D71: =IF(I71="TO-247-3","D",IF(I71="TO-247-4","K",IF(LEFT(I71,6)="TO-263","J","D"))) -> K | E71: =H71/1.3 -> 17.153846 | G71: 1200 | H71: 22.3 | I71: TO-247-4 | J71: Wolfspeed | K71: C3M0016120K | L71: Richardson RFPD | M71: 50.72 | N71: 70.59 | U71: 67.06 | V71: 50.72 | W71: 70.07 | AB71: =A71 -> 71
A72: 72 | B72: =IF(J72="Wolfspeed",K72,IFERROR(VLOOKUP(CONCATENATE(C72,D72),Sheet1!AF:AH,1,FALSE),CONCATENATE(C72,"D"))) -> C3M0016120D | C72: {=IF(G72=650,INDEX(Sheet1!$I:$I,MATCH(MIN(ABS(Sheet1!$H$1:$H$50-E72)),ABS(Sheet1!$H$1:$H$50-E72),0)),IF(G72=900,INDEX(Sheet1!$C:$C,MATCH(MIN(ABS(Sheet1!$B$1:$B$50-E72)),ABS(Sheet1!$B$1:$B$50-E72),0)),IF(G72=1200,INDEX(Sheet1!$U:$U,MATCH(MIN(ABS(Sheet1!$T$1:$T$48-E72)),ABS(Sheet1!$T$1:$T$48-E72),0)),IF(G72=1000,INDEX(Sheet1!$AA:$AA,MATCH(MIN(ABS(Sheet1!$Z$1:$Z$50-E72)),ABS(Sheet1!$Z$1:$Z$50-E72),0))))))} -> C3M0016120 | D72: =IF(I72="TO-247-3","D",IF(I72="TO-247-4","K",IF(LEFT(I72,6)="TO-263","J","D"))) -> D | E72: =H72/1.3 -> 21.538462 | G72: 1200 | H72: 28 | I72: TO-247-3 | J72: ON Semiconductor | K72: NTHL020N120SC1 | L72: Avnet | M72: 15.12334 | N72: 15.68 | P72: 15.12334 | T72: 18.61 | U72: 15.93 | AB72: =A72 -> 72
A73: 73 | B73: =IF(J73="Wolfspeed",K73,IFERROR(VLOOKUP(CONCATENATE(C73,D73),Sheet1!AF:AH,1,FALSE),CONCATENATE(C73,"D"))) -> C3M0016120D | C73: {=IF(G73=650,INDEX(Sheet1!$I:$I,MATCH(MIN(ABS(Sheet1!$H$1:$H$50-E73)),ABS(Sheet1!$H$1:$H$50-E73),0)),IF(G73=900,INDEX(Sheet1!$C:$C,MATCH(MIN(ABS(Sheet1!$B$1:$B$50-E73)),ABS(Sheet1!$B$1:$B$50-E73),0)),IF(G73=1200,INDEX(Sheet1!$U:$U,MATCH(MIN(ABS(Sheet1!$T$1:$T$48-E73)),ABS(Sheet1!$T$1:$T$48-E73),0)),IF(G73=1000,INDEX(Sheet1!$AA:$AA,MATCH(MIN(ABS(Sheet1!$Z$1:$Z$50-E73)),ABS(Sheet1!$Z$1:$Z$50-E73),0))))))} -> C3M0016120 | D73: =IF(I73="TO-247-3","D",IF(I73="TO-247-4","K",IF(LEFT(I73,6)="TO-263","J","D"))) -> D | E73: =H73/1.3 -> 21.538462 | G73: 1200 | H73: 28 | I73: TO-247-3 | J73: ON Semiconductor | K73: NVHL020N120SC1 | L73: Avnet | M73: 15.12334 | N73: 15.68 | P73: 15.12334 | T73: 18.61 | U73: 15.93 | AB73: =A73 -> 73
A74: 74 | B74: =IF(J74="Wolfspeed",K74,IFERROR(VLOOKUP(CONCATENATE(C74,D74),Sheet1!AF:AH,1,FALSE),CONCATENATE(C74,"D"))) -> C3M0016120D | C74: {=IF(G74=650,INDEX(Sheet1!$I:$I,MATCH(MIN(ABS(Sheet1!$H$1:$H$50-E74)),ABS(Sheet1!$H$1:$H$50-E74),0)),IF(G74=900,INDEX(Sheet1!$C:$C,MATCH(MIN(ABS(Sheet1!$B$1:$B$50-E74)),ABS(Sheet1!$B$1:$B$50-E74),0)),IF(G74=1200,INDEX(Sheet1!$U:$U,MATCH(MIN(ABS(Sheet1!$T$1:$T$48-E74)),ABS(Sheet1!$T$1:$T$48-E74),0)),IF(G74=1000,INDEX(Sheet1!$AA:$AA,MATCH(MIN(ABS(Sheet1!$Z$1:$Z$50-E74)),ABS(Sheet1!$Z$1:$Z$50-E74),0))))))} -> C3M0016120 | D74: =IF(I74="TO-247-3","D",IF(I74="TO-247-4","K",IF(LEFT(I74,6)="TO-263","J","D"))) -> J | E74: =H74/1.3 -> 21.538462 | G74: 1200 | H74: 28 | I74: TO-263-8, | J74: ON Semiconductor | K74: NTBG020N120SC1 | L74: Avnet | M74: 15.12334 | N74: 15.68 | P74: 15.12334 | Q74: 17.724909 | T74: 18.61 | U74: 15.31 | AB74: =A74 -> 74
A75: 75 | B75: =IF(J75="Wolfspeed",K75,IFERROR(VLOOKUP(CONCATENATE(C75,D75),Sheet1!AF:AH,1,FALSE),CONCATENATE(C75,"D"))) -> C3M0016120D | C75: {=IF(G75=650,INDEX(Sheet1!$I:$I,MATCH(MIN(ABS(Sheet1!$H$1:$H$50-E75)),ABS(Sheet1!$H$1:$H$50-E75),0)),IF(G75=900,INDEX(Sheet1!$C:$C,MATCH(MIN(ABS(Sheet1!$B$1:$B$50-E75)),ABS(Sheet1!$B$1:$B$50-E75),0)),IF(G75=1200,INDEX(Sheet1!$U:$U,MATCH(MIN(ABS(Sheet1!$T$1:$T$48-E75)),ABS(Sheet1!$T$1:$T$48-E75),0)),IF(G75=1000,INDEX(Sheet1!$AA:$AA,MATCH(MIN(ABS(Sheet1!$Z$1:$Z$50-E75)),ABS(Sheet1!$Z$1:$Z$50-E75),0))))))} -> C3M0016120 | D75: =IF(I75="TO-247-3","D",IF(I75="TO-247-4","K",IF(LEFT(I75,6)="TO-263","J","D"))) -> J | E75: =H75/1.3 -> 21.538462 | G75: 1200 | H75: 28 | I75: TO-263-8, | J75: ON Semiconductor | K75: NVBG020N120SC1 | M75: 15.12334 | N75: 15.68 | P75: 15.12334 | Q75: 17.724909 | T75: 18.29 | U75: 15.93 | AB75: =A75 -> 75
A76: 76 | B76: =IF(J76="Wolfspeed",K76,IFERROR(VLOOKUP(CONCATENATE(C76,D76),Sheet1!AF:AH,1,FALSE),CONCATENATE(C76,"D"))) -> C3M0016120D | C76: {=IF(G76=650,INDEX(Sheet1!$I:$I,MATCH(MIN(ABS(Sheet1!$H$1:$H$50-E76)),ABS(Sheet1!$H$1:$H$50-E76),0)),IF(G76=900,INDEX(Sheet1!$C:$C,MATCH(MIN(ABS(Sheet1!$B$1:$B$50-E76)),ABS(Sheet1!$B$1:$B$50-E76),0)),IF(G76=1200,INDEX(Sheet1!$U:$U,MATCH(MIN(ABS(Sheet1!$T$1:$T$48-E76)),ABS(Sheet1!$T$1:$T$48-E76),0)),IF(G76=1000,INDEX(Sheet1!$AA:$AA,MATCH(MIN(ABS(Sheet1!$Z$1:$Z$50-E76)),ABS(Sheet1!$Z$1:$Z$50-E76),0))))))} -> C3M0016120 | D76: =IF(I76="TO-247-3","D",IF(I76="TO-247-4","K",IF(LEFT(I76,6)="TO-263","J","D"))) -> D | E76: =H76/1.3 -> 22 | G76: 1200 | H76: 28.6 | I76: TO-247-3 | J76: Rohm | K76: SCT3022KLGC11 | L76: Avnet Europe | M76: 67.528176 | N76: 92.9915 | Q76: 67.528176 | R76: 81.1 | T76: 96.3 | U76: 89.67 | X76: 88.01 | AA76: 104.4225 | AB76: =A76 -> 76
A77: 77 | B77: =IF(J77="Wolfspeed",K77,IFERROR(VLOOKUP(CONCATENATE(C77,D77),Sheet1!AF:AH,1,FALSE),CONCATENATE(C77,"D"))) -> C3M0016120D | C77: {=IF(G77=650,INDEX(Sheet1!$I:$I,MATCH(MIN(ABS(Sheet1!$H$1:$H$50-E77)),ABS(Sheet1!$H$1:$H$50-E77),0)),IF(G77=900,INDEX(Sheet1!$C:$C,MATCH(MIN(ABS(Sheet1!$B$1:$B$50-E77)),ABS(Sheet1!$B$1:$B$50-E77),0)),IF(G77=1200,INDEX(Sheet1!$U:$U,MATCH(MIN(ABS(Sheet1!$T$1:$T$48-E77)),ABS(Sheet1!$T$1:$T$48-E77),0)),IF(G77=1000,INDEX(Sheet1!$AA:$AA,MATCH(MIN(ABS(Sheet1!$Z$1:$Z$50-E77)),ABS(Sheet1!$Z$1:$Z$50-E77),0))))))} -> C3M0016120 | D77: =IF(I77="TO-247-3","D",IF(I77="TO-247-4","K",IF(LEFT(I77,6)="TO-263","J","D"))) -> D | E77: =H77/1.3 -> 22 | G77: 1200 | H77: 28.6 | I77: TO-247-3 | J77: Rohm | K77: SCT3022KLHRC11 | L77: Newark | M77: 85.09 | N77: 99.5562 | Q77: 100.68154 | R77: 103 | T77: 101.7 | U77: 85.09 | AA77: 123.2925 | AB77: =A77 -> 77
A78: 78 | B78: =IF(J78="Wolfspeed",K78,IFERROR(VLOOKUP(CONCATENATE(C78,D78),Sheet1!AF:AH,1,FALSE),CONCATENATE(C78,"D"))) -> C3M0021120D | C78: {=IF(G78=650,INDEX(Sheet1!$I:$I,MATCH(MIN(ABS(Sheet1!$H$1:$H$50-E78)),ABS(Sheet1!$H$1:$H$50-E78),0)),IF(G78=900,INDEX(Sheet1!$C:$C,MATCH(MIN(ABS(Sheet1!$B$1:$B$50-E78)),ABS(Sheet1!$B$1:$B$50-E78),0)),IF(G78=1200,INDEX(Sheet1!$U:$U,MATCH(MIN(ABS(Sheet1!$T$1:$T$48-E78)),ABS(Sheet1!$T$1:$T$48-E78),0)),IF(G78=1000,INDEX(Sheet1!$AA:$AA,MATCH(MIN(ABS(Sheet1!$Z$1:$Z$50-E78)),ABS(Sheet1!$Z$1:$Z$50-E78),0))))))} -> C3M0016120 | D78: =IF(I78="TO-247-3","D",IF(I78="TO-247-4","K",IF(LEFT(I78,6)="TO-263","J","D"))) -> D | E78: =H78/1.3 -> 22.153846 | G78: 1200 | H78: 28.8 | I78: TO-247-3 | J78: Wolfspeed | K78: C3M0021120D | L78: Newark | M78: 35.04 | N78: 39.03 | U78: 35.04 | V78: 36.07 | AB78: =A78 -> 78
A79: 79 | B79: =IF(J79="Wolfspeed",K79,IFERROR(VLOOKUP(CONCATENATE(C79,D79),Sheet1!AF:AH,1,FALSE),CONCATENATE(C79,"D"))) -> C3M0021120K | C79: {=IF(G79=650,INDEX(Sheet1!$I:$I,MATCH(MIN(ABS(Sheet1!$H$1:$H$50-E79)),ABS(Sheet1!$H$1:$H$50-E79),0)),IF(G79=900,INDEX(Sheet1!$C:$C,MATCH(MIN(ABS(Sheet1!$B$1:$B$50-E79)),ABS(Sheet1!$B$1:$B$50-E79),0)),IF(G79=1200,INDEX(Sheet1!$U:$U,MATCH(MIN(ABS(Sheet1!$T$1:$T$48-E79)),ABS(Sheet1!$T$1:$T$48-E79),0)),IF(G79=1000,INDEX(Sheet1!$AA:$AA,MATCH(MIN(ABS(Sheet1!$Z$1:$Z$50-E79)),ABS(Sheet1!$Z$1:$Z$50-E79),0))))))} -> C3M0016120 | D79: =IF(I79="TO-247-3","D",IF(I79="TO-247-4","K",IF(LEFT(I79,6)="TO-263","J","D"))) -> K | E79: =H79/1.3 -> 22.153846 | G79: 1200 | H79: 28.8 | I79: TO-247-4 | J79: Wolfspeed | K79: C3M0021120K | L79: Newark | M79: 35.66 | N79: 37.5402 | U79: 35.66 | V79: 36.07 | AB79: =A79 -> 79
A80: 80 | B80: =IF(J80="Wolfspeed",K80,IFERROR(VLOOKUP(CONCATENATE(C80,D80),Sheet1!AF:AH,1,FALSE),CONCATENATE(C80,"D"))) -> C3M0016120D | C80: {=IF(G80=650,INDEX(Sheet1!$I:$I,MATCH(MIN(ABS(Sheet1!$H$1:$H$50-E80)),ABS(Sheet1!$H$1:$H$50-E80),0)),IF(G80=900,INDEX(Sheet1!$C:$C,MATCH(MIN(ABS(Sheet1!$B$1:$B$50-E80)),ABS(Sheet1!$B$1:$B$50-E80),0)),IF(G80=1200,INDEX(Sheet1!$U:$U,MATCH(MIN(ABS(Sheet1!$T$1:$T$48-E80)),ABS(Sheet1!$T$1:$T$48-E80),0)),IF(G80=1000,INDEX(Sheet1!$AA:$AA,MATCH(MIN(ABS(Sheet1!$Z$1:$Z$50-E80)),ABS(Sheet1!$Z$1:$Z$50-E80),0))))))} -> C3M0016120 | D80: =IF(I80="TO-247-3","D",IF(I80="TO-247-4","K",IF(LEFT(I80,6)="TO-263","J","D"))) -> D | E80: =H80/1.3 -> 23.846154 | G80: 1200 | H80: 31 | I80: SOT-227-4, | J80: Microsemi | K80: MSC025SMA120J | L80: Richardson RFPD | M80: 41.72 | N80: 45.0522 | V80: 41.72 | AA80: 54 | AB80: =A80 -> 80
A81: 81 | B81: =IF(J81="Wolfspeed",K81,IFERROR(VLOOKUP(CONCATENATE(C81,D81),Sheet1!AF:AH,1,FALSE),CONCATENATE(C81,"D"))) -> C3M0016120D | C81: {=IF(G81=650,INDEX(Sheet1!$I:$I,MATCH(MIN(ABS(Sheet1!$H$1:$H$50-E81)),ABS(Sheet1!$H$1:$H$50-E81),0)),IF(G81=900,INDEX(Sheet1!$C:$C,MATCH(MIN(ABS(Sheet1!$B$1:$B$50-E81)),ABS(Sheet1!$B$1:$B$50-E81),0)),IF(G81=1200,INDEX(Sheet1!$U:$U,MATCH(MIN(ABS(Sheet1!$T$1:$T$48-E81)),ABS(Sheet1!$T$1:$T$48-E81),0)),IF(G81=1000,INDEX(Sheet1!$AA:$AA,MATCH(MIN(ABS(Sheet1!$Z$1:$Z$50-E81)),ABS(Sheet1!$Z$1:$Z$50-E81),0))))))} -> C3M0016120 | D81: =IF(I81="TO-247-3","D",IF(I81="TO-247-4","K",IF(LEFT(I81,6)="TO-263","J","D"))) -> D | E81: =H81/1.3 -> 23.846154 | G81: 1200 | H81: 31 | I81: TO-247-3 | J81: Microsemi | K81: MSC025SMA120B | L81: Richardson RFPD | M81: 29.28 | N81: 31.61996 | V81: 29.28 | AA81: 37.9 | AB81: =A81 -> 81
A82: 82 | B82: =IF(J82="Wolfspeed",K82,IFERROR(VLOOKUP(CONCATENATE(C82,D82),Sheet1!AF:AH,1,FALSE),CONCATENATE(C82,"D"))) -> C3M0016120D | C82: {=IF(G82=650,INDEX(Sheet1!$I:$I,MATCH(MIN(ABS(Sheet1!$H$1:$H$50-E82)),ABS(Sheet1!$H$1:$H$50-E82),0)),IF(G82=900,INDEX(Sheet1!$C:$C,MATCH(MIN(ABS(Sheet1!$B$1:$B$50-E82)),ABS(Sheet1!$B$1:$B$50-E82),0)),IF(G82=1200,INDEX(Sheet1!$U:$U,MATCH(MIN(ABS(Sheet1!$T$1:$T$48-E82)),ABS(Sheet1!$T$1:$T$48-E82),0)),IF(G82=1000,INDEX(Sheet1!$AA:$AA,MATCH(MIN(ABS(Sheet1!$Z$1:$Z$50-E82)),ABS(Sheet1!$Z$1:$Z$50-E82),0))))))} -> C3M0016120 | D82: =IF(I82="TO-247-3","D",IF(I82="TO-247-4","K",IF(LEFT(I82,6)="TO-263","J","D"))) -> D | E82: =H82/1.3 -> 23.846154 | G82: 1200 | H82: 31 | I82: TO-268-3 | J82: Microsemi | K82: MSC025SMA120S | L82: Richardson RFPD | M82: 29.77 | N82: 32.14836 | V82: 29.77 | AA82: 38.55 | AB82: =A82 -> 82
A83: 83 | B83: =IF(J83="Wolfspeed",K83,IFERROR(VLOOKUP(CONCATENATE(C83,D83),Sheet1!AF:AH,1,FALSE),CONCATENATE(C83,"D"))) -> C3M0021120D | C83: {=IF(G83=650,INDEX(Sheet1!$I:$I,MATCH(MIN(ABS(Sheet1!$H$1:$H$50-E83)),ABS(Sheet1!$H$1:$H$50-E83),0)),IF(G83=900,INDEX(Sheet1!$C:$C,MATCH(MIN(ABS(Sheet1!$B$1:$B$50-E83)),ABS(Sheet1!$B$1:$B$50-E83),0)),IF(G83=1200,INDEX(Sheet1!$U:$U,MATCH(MIN(ABS(Sheet1!$T$1:$T$48-E83)),ABS(Sheet1!$T$1:$T$48-E83),0)),IF(G83=1000,INDEX(Sheet1!$AA:$AA,MATCH(MIN(ABS(Sheet1!$Z$1:$Z$50-E83)),ABS(Sheet1!$Z$1:$Z$50-E83),0))))))} -> C3M0021120 | D83: =IF(I83="TO-247-3","D",IF(I83="TO-247-4","K",IF(LEFT(I83,6)="TO-263","J","D"))) -> D | E83: =H83/1.3 -> 26.153846 | G83: 1200 | H83: 34 | I83: SOT-227-4, | J83: IXYS | K83: IXFN70N120SK | L83: Digi-Key | M83: 73.0624 | N83: 73.0624 | T83: 88.62 | Y83: 83.24 | AB83: =A83 -> 83
A84: 84 | B84: =IF(J84="Wolfspeed",K84,IFERROR(VLOOKUP(CONCATENATE(C84,D84),Sheet1!AF:AH,1,FALSE),CONCATENATE(C84,"D"))) -> C2M0025120D | C84: {=IF(G84=650,INDEX(Sheet1!$I:$I,MATCH(MIN(ABS(Sheet1!$H$1:$H$50-E84)),ABS(Sheet1!$H$1:$H$50-E84),0)),IF(G84=900,INDEX(Sheet1!$C:$C,MATCH(MIN(ABS(Sheet1!$B$1:$B$50-E84)),ABS(Sheet1!$B$1:$B$50-E84),0)),IF(G84=1200,INDEX(Sheet1!$U:$U,MATCH(MIN(ABS(Sheet1!$T$1:$T$48-E84)),ABS(Sheet1!$T$1:$T$48-E84),0)),IF(G84=1000,INDEX(Sheet1!$AA:$AA,MATCH(MIN(ABS(Sheet1!$Z$1:$Z$50-E84)),ABS(Sheet1!$Z$1:$Z$50-E84),0))))))} -> C3M0021120 | D84: =IF(I84="TO-247-3","D",IF(I84="TO-247-4","K",IF(LEFT(I84,6)="TO-263","J","D"))) -> D | E84: =H84/1.3 -> 26.153846 | G84: 1200 | H84: 34 | I84: TO-247-3 | J84: Wolfspeed | K84: C2M0025120D | L84: Newark | M84: 62.07 | N84: 67.12 | U84: 62.07 | V84: 64.49 | W84: 63.12 | Y84: 73.5 | AB84: =A84 -> 84
A85: 85 | B85: =IF(J85="Wolfspeed",K85,IFERROR(VLOOKUP(CONCATENATE(C85,D85),Sheet1!AF:AH,1,FALSE),CONCATENATE(C85,"D"))) -> C3M0021120D | C85: {=IF(G85=650,INDEX(Sheet1!$I:$I,MATCH(MIN(ABS(Sheet1!$H$1:$H$50-E85)),ABS(Sheet1!$H$1:$H$50-E85),0)),IF(G85=900,INDEX(Sheet1!$C:$C,MATCH(MIN(ABS(Sheet1!$B$1:$B$50-E85)),ABS(Sheet1!$B$1:$B$50-E85),0)),IF(G85=1200,INDEX(Sheet1!$U:$U,MATCH(MIN(ABS(Sheet1!$T$1:$T$48-E85)),ABS(Sheet1!$T$1:$T$48-E85),0)),IF(G85=1000,INDEX(Sheet1!$AA:$AA,MATCH(MIN(ABS(Sheet1!$Z$1:$Z$50-E85)),ABS(Sheet1!$Z$1:$Z$50-E85),0))))))} -> C3M0021120 | D85: =IF(I85="TO-247-3","D",IF(I85="TO-247-4","K",IF(LEFT(I85,6)="TO-263","J","D"))) -> D | E85: =H85/1.3 -> 26.153846 | G85: 1200 | H85: 34 | I85: TO-268-3, | J85: IXYS | K85: MCB60I1200TZ-TUB | L85: Digi-Key | M85: 73.51167 | N85: 73.51167 | T85: 74.5 | AB85: =A85 -> 85
A86: 86 | B86: =IF(J86="Wolfspeed",K86,IFERROR(VLOOKUP(CONCATENATE(C86,D86),Sheet1!AF:AH,1,FALSE),CONCATENATE(C86,"D"))) -> C3M0021120D | C86: {=IF(G86=650,INDEX(Sheet1!$I:$I,MATCH(MIN(ABS(Sheet1!$H$1:$H$50-E86)),ABS(Sheet1!$H$1:$H$50-E86),0)),IF(G86=900,INDEX(Sheet1!$C:$C,MATCH(MIN(ABS(Sheet1!$B$1:$B$50-E86)),ABS(Sheet1!$B$1:$B$50-E86),0)),IF(G86=1200,INDEX(Sheet1!$U:$U,MATCH(MIN(ABS(Sheet1!$T$1:$T$48-E86)),ABS(Sheet1!$T$1:$T$48-E86),0)),IF(G86=1000,INDEX(Sheet1!$AA:$AA,MATCH(MIN(ABS(Sheet1!$Z$1:$Z$50-E86)),ABS(Sheet1!$Z$1:$Z$50-E86),0))))))} -> C3M0021120 | D86: =IF(I86="TO-247-3","D",IF(I86="TO-247-4","K",IF(LEFT(I86,6)="TO-263","J","D"))) -> D | E86: =H86/1.3 -> 30 | G86: 1200 | H86: 39 | I86: TO-247-3 | J86: Rohm | K86: SCT3030KLGC11 | L86: Verical | M86: 36.975 | N86: 56.308 | P86: 51.63033 | Q86: 41.275458 | R86: 44.5 | S86: 57.46 | T86: 55.9 | U86: 55.9 | W86: 58.15 | X86: 49.18 | Z86: 50.525 | AA86: 36.975 | AB86: =A86 -> 86
A87: 87 | B87: =IF(J87="Wolfspeed",K87,IFERROR(VLOOKUP(CONCATENATE(C87,D87),Sheet1!AF:AH,1,FALSE),CONCATENATE(C87,"D"))) -> C3M0021120D | C87: {=IF(G87=650,INDEX(Sheet1!$I:$I,MATCH(MIN(ABS(Sheet1!$H$1:$H$50-E87)),ABS(Sheet1!$H$1:$H$50-E87),0)),IF(G87=900,INDEX(Sheet1!$C:$C,MATCH(MIN(ABS(Sheet1!$B$1:$B$50-E87)),ABS(Sheet1!$B$1:$B$50-E87),0)),IF(G87=1200,INDEX(Sheet1!$U:$U,MATCH(MIN(ABS(Sheet1!$T$1:$T$48-E87)),ABS(Sheet1!$T$1:$T$48-E87),0)),IF(G87=1000,INDEX(Sheet1!$AA:$AA,MATCH(MIN(ABS(Sheet1!$Z$1:$Z$50-E87)),ABS(Sheet1!$Z$1:$Z$50-E87),0))))))} -> C3M0021120 | D87: =IF(I87="TO-247-3","D",IF(I87="TO-247-4","K",IF(LEFT(I87,6)="TO-263","J","D"))) -> D | E87: =H87/1.3 -> 30 | G87: 1200 | H87: 39 | I87: TO-247-3 | J87: Rohm | K87: SCT3030KLHRC11 | L87: Farnell | M87: 50.349338 | N87: 53.5298 | R87: 54.1 | T87: 57.35 | U87: 59.68 | AA87: 68.838 | AB87: =A87 -> 87
A88: 88 | B88: =IF(J88="Wolfspeed",K88,IFERROR(VLOOKUP(CONCATENATE(C88,D88),Sheet1!AF:AH,1,FALSE),CONCATENATE(C88,"D"))) -> C3M0021120D | C88: {=IF(G88=650,INDEX(Sheet1!$I:$I,MATCH(MIN(ABS(Sheet1!$H$1:$H$50-E88)),ABS(Sheet1!$H$1:$H$50-E88),0)),IF(G88=900,INDEX(Sheet1!$C:$C,MATCH(MIN(ABS(Sheet1!$B$1:$B$50-E88)),ABS(Sheet1!$B$1:$B$50-E88),0)),IF(G88=1200,INDEX(Sheet1!$U:$U,MATCH(MIN(ABS(Sheet1!$T$1:$T$48-E88)),ABS(Sheet1!$T$1:$T$48-E88),0)),IF(G88=1000,INDEX(Sheet1!$AA:$AA,MATCH(MIN(ABS(Sheet1!$Z$1:$Z$50-E88)),ABS(Sheet1!$Z$1:$Z$50-E88),0))))))} -> C3M0021120 | D88: =IF(I88="TO-247-3","D",IF(I88="TO-247-4","K",IF(LEFT(I88,6)="TO-263","J","D"))) -> D | E88: =H88/1.3 -> 30.769231 | G88: 1200 | H88: 40 | I88: TO-247-3 | J88: Infineon | K88: IMW120R030M1HXKSA1 | L88: Avnet | M88: 16.84201 | N88: 16.96858 | P88: 16.84201 | Q88: 19.089362 | T88: 19.88 | U88: 17.3 | X88: 18.37 | AB88: =A88 -> 88
A89: 89 | B89: =IF(J89="Wolfspeed",K89,IFERROR(VLOOKUP(CONCATENATE(C89,D89),Sheet1!AF:AH,1,FALSE),CONCATENATE(C89,"D"))) -> C3M0021120K | C89: {=IF(G89=650,INDEX(Sheet1!$I:$I,MATCH(MIN(ABS(Sheet1!$H$1:$H$50-E89)),ABS(Sheet1!$H$1:$H$50-E89),0)),IF(G89=900,INDEX(Sheet1!$C:$C,MATCH(MIN(ABS(Sheet1!$B$1:$B$50-E89)),ABS(Sheet1!$B$1:$B$50-E89),0)),IF(G89=1200,INDEX(Sheet1!$U:$U,MATCH(MIN(ABS(Sheet1!$T$1:$T$48-E89)),ABS(Sheet1!$T$1:$T$48-E89),0)),IF(G89=1000,INDEX(Sheet1!$AA:$AA,MATCH(MIN(ABS(Sheet1!$Z$1:$Z$50-E89)),ABS(Sheet1!$Z$1:$Z$50-E89),0))))))} -> C3M0021120 | D89: =IF(I89="TO-247-3","D",IF(I89="TO-247-4","K",IF(LEFT(I89,6)="TO-263","J","D"))) -> K | E89: =H89/1.3 -> 30.769231 | G89: 1200 | H89: 40 | I89: TO-247-4 | J89: Infineon | K89: IMZ120R030M1HXKSA1 | L89: Avnet | M89: 17.26774 | N89: 17.3975 | P89: 17.26774 | Q89: 19.571836 | S89: 21.36 | T89: 20.38 | U89: 17.73 | X89: 19.91 | AB89: =A89 -> 89
A90: 90 | B90: =IF(J90="Wolfspeed",K90,IFERROR(VLOOKUP(CONCATENATE(C90,D90),Sheet1!AF:AH,1,FALSE),CONCATENATE(C90,"D"))) -> C3M0032120D | C90: {=IF(G90=650,INDEX(Sheet1!$I:$I,MATCH(MIN(ABS(Sheet1!$H$1:$H$50-E90)),ABS(Sheet1!$H$1:$H$50-E90),0)),IF(G90=900,INDEX(Sheet1!$C:$C,MATCH(MIN(ABS(Sheet1!$B$1:$B$50-E90)),ABS(Sheet1!$B$1:$B$50-E90),0)),IF(G90=1200,INDEX(Sheet1!$U:$U,MATCH(MIN(ABS(Sheet1!$T$1:$T$48-E90)),ABS(Sheet1!$T$1:$T$48-E90),0)),IF(G90=1000,INDEX(Sheet1!$AA:$AA,MATCH(MIN(ABS(Sheet1!$Z$1:$Z$50-E90)),ABS(Sheet1!$Z$1:$Z$50-E90),0))))))} -> C3M0021120 | D90: =IF(I90="TO-247-3","D",IF(I90="TO-247-4","K",IF(LEFT(I90,6)="TO-263","J","D"))) -> D | E90: =H90/1.3 -> 33.076923 | G90: 1200 | H90: 43 | I90: TO-247-3 | J90: Wolfspeed | K90: C3M0032120D | L90: Richardson RFPD | M90: 24.8 | N90: 34.5 | U90: 30.97 | V90: 24.8 | AB90: =A90 -> 90
A91: 91 | B91: =IF(J91="Wolfspeed",K91,IFERROR(VLOOKUP(CONCATENATE(C91,D91),Sheet1!AF:AH,1,FALSE),CONCATENATE(C91,"D"))) -> C3M0032120K | C91: {=IF(G91=650,INDEX(Sheet1!$I:$I,MATCH(MIN(ABS(Sheet1!$H$1:$H$50-E91)),ABS(Sheet1!$H$1:$H$50-E91),0)),IF(G91=900,INDEX(Sheet1!$C:$C,MATCH(MIN(ABS(Sheet1!$B$1:$B$50-E91)),ABS(Sheet1!$B$1:$B$50-E91),0)),IF(G91=1200,INDEX(Sheet1!$U:$U,MATCH(MIN(ABS(Sheet1!$T$1:$T$48-E91)),ABS(Sheet1!$T$1:$T$48-E91),0)),IF(G91=1000,INDEX(Sheet1!$AA:$AA,MATCH(MIN(ABS(Sheet1!$Z$1:$Z$50-E91)),ABS(Sheet1!$Z$1:$Z$50-E91),0))))))} -> C3M0021120 | D91: =IF(I91="TO-247-3","D",IF(I91="TO-247-4","K",IF(LEFT(I91,6)="TO-263","J","D"))) -> K | E91: =H91/1.3 -> 33.076923 | G91: 1200 | H91: 43 | I91: TO-247-4 | J91: Wolfspeed | K91: C3M0032120K | L91: Richardson RFPD | M91: 24.8 | N91: 37.526 | U91: 31.86 | V91: 24.8 | W91: 34.25 | AB91: =A91 -> 91
A92: 92 | B92: =IF(J92="Wolfspeed",K92,IFERROR(VLOOKUP(CONCATENATE(C92,D92),Sheet1!AF:AH,1,FALSE),CONCATENATE(C92,"D"))) -> C3M0032120D | C92: {=IF(G92=650,INDEX(Sheet1!$I:$I,MATCH(MIN(ABS(Sheet1!$H$1:$H$50-E92)),ABS(Sheet1!$H$1:$H$50-E92),0)),IF(G92=900,INDEX(Sheet1!$C:$C,MATCH(MIN(ABS(Sheet1!$B$1:$B$50-E92)),ABS(Sheet1!$B$1:$B$50-E92),0)),IF(G92=1200,INDEX(Sheet1!$U:$U,MATCH(MIN(ABS(Sheet1!$T$1:$T$48-E92)),ABS(Sheet1!$T$1:$T$48-E92),0)),IF(G92=1000,INDEX(Sheet1!$AA:$AA,MATCH(MIN(ABS(Sheet1!$Z$1:$Z$50-E92)),ABS(Sheet1!$Z$1:$Z$50-E92),0))))))} -> C3M0032120 | D92: =IF(I92="TO-247-3","D",IF(I92="TO-247-4","K",IF(LEFT(I92,6)="TO-263","J","D"))) -> D | E92: =H92/1.3 -> 38.461538 | G92: 1200 | H92: 50 | I92: SOT-227-4, | J92: IXYS | K92: IXFN50N120SIC | L92: TME | M92: 48.6 | N92: 51.336 | T92: 49.67 | Y92: 48.6 | AB92: =A92 -> 92
A93: 93 | B93: =IF(J93="Wolfspeed",K93,IFERROR(VLOOKUP(CONCATENATE(C93,D93),Sheet1!AF:AH,1,FALSE),CONCATENATE(C93,"D"))) -> C3M0032120D | C93: {=IF(G93=650,INDEX(Sheet1!$I:$I,MATCH(MIN(ABS(Sheet1!$H$1:$H$50-E93)),ABS(Sheet1!$H$1:$H$50-E93),0)),IF(G93=900,INDEX(Sheet1!$C:$C,MATCH(MIN(ABS(Sheet1!$B$1:$B$50-E93)),ABS(Sheet1!$B$1:$B$50-E93),0)),IF(G93=1200,INDEX(Sheet1!$U:$U,MATCH(MIN(ABS(Sheet1!$T$1:$T$48-E93)),ABS(Sheet1!$T$1:$T$48-E93),0)),IF(G93=1000,INDEX(Sheet1!$AA:$AA,MATCH(MIN(ABS(Sheet1!$Z$1:$Z$50-E93)),ABS(Sheet1!$Z$1:$Z$50-E93),0))))))} -> C3M0032120 | D93: =IF(I93="TO-247-3","D",IF(I93="TO-247-4","K",IF(LEFT(I93,6)="TO-263","J","D"))) -> D | E93: =H93/1.3 -> 38.461538 | G93: 1200 | H93: 50 | I93: SOT-227-4, | J93: Microsemi | K93: MSC040SMA120J | L93: Richardson RFPD | M93: 29.72 | N93: 32.09276 | O93: 30.67 | V93: 29.72 | AA93: 30.67 | AB93: =A93 -> 93
A94: 94 | B94: =IF(J94="Wolfspeed",K94,IFERROR(VLOOKUP(CONCATENATE(C94,D94),Sheet1!AF:AH,1,FALSE),CONCATENATE(C94,"D"))) -> C3M0032120D | C94: {=IF(G94=650,INDEX(Sheet1!$I:$I,MATCH(MIN(ABS(Sheet1!$H$1:$H$50-E94)),ABS(Sheet1!$H$1:$H$50-E94),0)),IF(G94=900,INDEX(Sheet1!$C:$C,MATCH(MIN(ABS(Sheet1!$B$1:$B$50-E94)),ABS(Sheet1!$B$1:$B$50-E94),0)),IF(G94=1200,INDEX(Sheet1!$U:$U,MATCH(MIN(ABS(Sheet1!$T$1:$T$48-E94)),ABS(Sheet1!$T$1:$T$48-E94),0)),IF(G94=1000,INDEX(Sheet1!$AA:$AA,MATCH(MIN(ABS(Sheet1!$Z$1:$Z$50-E94)),ABS(Sheet1!$Z$1:$Z$50-E94),0))))))} -> C3M0032120 | D94: =IF(I94="TO-247-3","D",IF(I94="TO-247-4","K",IF(LEFT(I94,6)="TO-263","J","D"))) -> D | E94: =H94/1.3 -> 40 | G94: 1200 | H94: 52 | I94: SOT-227-4, | J94: IXYS | K94: IXFN50N120SK | L94: Digi-Key | M94: 43.7805 | N94: 43.7805 | T94: 45.07 | Y94: 50.28 | AB94: =A94 -> 94
A95: 95 | B95: =IF(J95="Wolfspeed",K95,IFERROR(VLOOKUP(CONCATENATE(C95,D95),Sheet1!AF:AH,1,FALSE),CONCATENATE(C95,"D"))) -> C3M0032120D | C95: {=IF(G95=650,INDEX(Sheet1!$I:$I,MATCH(MIN(ABS(Sheet1!$H$1:$H$50-E95)),ABS(Sheet1!$H$1:$H$50-E95),0)),IF(G95=900,INDEX(Sheet1!$C:$C,MATCH(MIN(ABS(Sheet1!$B$1:$B$50-E95)),ABS(Sheet1!$B$1:$B$50-E95),0)),IF(G95=1200,INDEX(Sheet1!$U:$U,MATCH(MIN(ABS(Sheet1!$T$1:$T$48-E95)),ABS(Sheet1!$T$1:$T$48-E95),0)),IF(G95=1000,INDEX(Sheet1!$AA:$AA,MATCH(MIN(ABS(Sheet1!$Z$1:$Z$50-E95)),ABS(Sheet1!$Z$1:$Z$50-E95),0))))))} -> C3M0032120 | D95: =IF(I95="TO-247-3","D",IF(I95="TO-247-4","K",IF(LEFT(I95,6)="TO-263","J","D"))) -> D | E95: =H95/1.3 -> 40 | G95: 1200 | H95: 52 | I95: TO-247-3 | J95: Rohm | K95: SCT3040KLGC11 | L95: Avnet | M95: 22.61876 | N95: 25.549 | P95: 22.61876 | Q95: 24.298933 | R95: 31.6 | T95: 26.79 | U95: 25.75 | W95: 28.99 | X95: 26.18 | Y95: 50.65 | Z95: 22.96 | AA95: 23.324 | AB95: =A95 -> 95
A96: 96 | B96: =IF(J96="Wolfspeed",K96,IFERROR(VLOOKUP(CONCATENATE(C96,D96),Sheet1!AF:AH,1,FALSE),CONCATENATE(C96,"D"))) -> C3M0032120D | C96: {=IF(G96=650,INDEX(Sheet1!$I:$I,MATCH(MIN(ABS(Sheet1!$H$1:$H$50-E96)),ABS(Sheet1!$H$1:$H$50-E96),0)),IF(G96=900,INDEX(Sheet1!$C:$C,MATCH(MIN(ABS(Sheet1!$B$1:$B$50-E96)),ABS(Sheet1!$B$1:$B$50-E96),0)),IF(G96=1200,INDEX(Sheet1!$U:$U,MATCH(MIN(ABS(Sheet1!$T$1:$T$48-E96)),ABS(Sheet1!$T$1:$T$48-E96),0)),IF(G96=1000,INDEX(Sheet1!$AA:$AA,MATCH(MIN(ABS(Sheet1!$Z$1:$Z$50-E96)),ABS(Sheet1!$Z$1:$Z$50-E96),0))))))} -> C3M0032120 | D96: =IF(I96="TO-247-3","D",IF(I96="TO-247-4","K",IF(LEFT(I96,6)="TO-263","J","D"))) -> D | E96: =H96/1.3 -> 40 | G96: 1200 | H96: 52 | I96: TO-247-3 | J96: Rohm | K96: SCT3040KLHRC11 | L96: Newark | M96: 29.89 | N96: 34.97088 | Q96: 30.012526 | R96: 41 | T96: 39.96 | U96: 29.89 | AA96: 44.968 | AB96: =A96 -> 96
A97: 97 | B97: =IF(J97="Wolfspeed",K97,IFERROR(VLOOKUP(CONCATENATE(C97,D97),Sheet1!AF:AH,1,FALSE),CONCATENATE(C97,"D"))) -> C2M0040120D | C97: {=IF(G97=650,INDEX(Sheet1!$I:$I,MATCH(MIN(ABS(Sheet1!$H$1:$H$50-E97)),ABS(Sheet1!$H$1:$H$50-E97),0)),IF(G97=900,INDEX(Sheet1!$C:$C,MATCH(MIN(ABS(Sheet1!$B$1:$B$50-E97)),ABS(Sheet1!$B$1:$B$50-E97),0)),IF(G97=1200,INDEX(Sheet1!$U:$U,MATCH(MIN(ABS(Sheet1!$T$1:$T$48-E97)),ABS(Sheet1!$T$1:$T$48-E97),0)),IF(G97=1000,INDEX(Sheet1!$AA:$AA,MATCH(MIN(ABS(Sheet1!$Z$1:$Z$50-E97)),ABS(Sheet1!$Z$1:$Z$50-E97),0))))))} -> C3M0032120 | D97: =IF(I97="TO-247-3","D",IF(I97="TO-247-4","K",IF(LEFT(I97,6)="TO-263","J","D"))) -> D | E97: =H97/1.3 -> 40 | G97: 1200 | H97: 52 | I97: TO-247-3 | J97: Wolfspeed | K97: C2M0040120D | L97: RS Components | M97: 30.86 | N97: 32.8102 | U97: 32.81 | V97: 31.52 | W97: 30.86 | Y97: 37.8 | AB97: =A97 -> 97
A98: 98 | B98: =IF(J98="Wolfspeed",K98,IFERROR(VLOOKUP(CONCATENATE(C98,D98),Sheet1!AF:AH,1,FALSE),CONCATENATE(C98,"D"))) -> C3M0032120K | C98: {=IF(G98=650,INDEX(Sheet1!$I:$I,MATCH(MIN(ABS(Sheet1!$H$1:$H$50-E98)),ABS(Sheet1!$H$1:$H$50-E98),0)),IF(G98=900,INDEX(Sheet1!$C:$C,MATCH(MIN(ABS(Sheet1!$B$1:$B$50-E98)),ABS(Sheet1!$B$1:$B$50-E98),0)),IF(G98=1200,INDEX(Sheet1!$U:$U,MATCH(MIN(ABS(Sheet1!$T$1:$T$48-E98)),ABS(Sheet1!$T$1:$T$48-E98),0)),IF(G98=1000,INDEX(Sheet1!$AA:$AA,MATCH(MIN(ABS(Sheet1!$Z$1:$Z$50-E98)),ABS(Sheet1!$Z$1:$Z$50-E98),0))))))} -> C3M0032120 | D98: =IF(I98="TO-247-3","D",IF(I98="TO-247-4","K",IF(LEFT(I98,6)="TO-263","J","D"))) -> K | E98: =H98/1.3 -> 40 | G98: 1200 | H98: 52 | I98: TO-247-4 | J98: Rohm | K98: SCT3040KRC14 | L98: Farnell | M98: 27.450272 | N98: 33.5272 | P98: 30.74199 | R98: 39.4 | T98: 34.72 | U98: 28.25 | AA98: 43.12 | AB98: =A98 -> 98
A99: 99 | B99: =IF(J99="Wolfspeed",K99,IFERROR(VLOOKUP(CONCATENATE(C99,D99),Sheet1!AF:AH,1,FALSE),CONCATENATE(C99,"D"))) -> C3M0032120D | C99: {=IF(G99=650,INDEX(Sheet1!$I:$I,MATCH(MIN(ABS(Sheet1!$H$1:$H$50-E99)),ABS(Sheet1!$H$1:$H$50-E99),0)),IF(G99=900,INDEX(Sheet1!$C:$C,MATCH(MIN(ABS(Sheet1!$B$1:$B$50-E99)),ABS(Sheet1!$B$1:$B$50-E99),0)),IF(G99=1200,INDEX(Sheet1!$U:$U,MATCH(MIN(ABS(Sheet1!$T$1:$T$48-E99)),ABS(Sheet1!$T$1:$T$48-E99),0)),IF(G99=1000,INDEX(Sheet1!$AA:$AA,MATCH(MIN(ABS(Sheet1!$Z$1:$Z$50-E99)),ABS(Sheet1!$Z$1:$Z$50-E99),0))))))} -> C3M0032120 | D99: =IF(I99="TO-247-3","D",IF(I99="TO-247-4","K",IF(LEFT(I99,6)="TO-263","J","D"))) -> D | E99: =H99/1.3 -> 45.384615 | G99: 1200 | H99: 59 | I99: TO-247-3 | J99: Infineon | K99: IMW120R045M1XKSA1 | L99: Newark | M99: 13.77 | N99: 14.5262 | O99: 14.3625 | P99: 14.41786 | Q99: 16.341543 | S99: 17.83 | T99: 18.53 | U99: 13.77 | X99: 16.03 | AB99: =A99 -> 99
A100: 100 | B100: =IF(J100="Wolfspeed",K100,IFERROR(VLOOKUP(CONCATENATE(C100,D100),Sheet1!AF:AH,1,FALSE),CONCATENATE(C100,"D"))) -> C3M0032120K | C100: {=IF(G100=650,INDEX(Sheet1!$I:$I,MATCH(MIN(ABS(Sheet1!$H$1:$H$50-E100)),ABS(Sheet1!$H$1:$H$50-E100),0)),IF(G100=900,INDEX(Sheet1!$C:$C,MATCH(MIN(ABS(Sheet1!$B$1:$B$50-E100)),ABS(Sheet1!$B$1:$B$50-E100),0)),IF(G100=1200,INDEX(Sheet1!$U:$U,MATCH(MIN(ABS(Sheet1!$T$1:$T$48-E100)),ABS(Sheet1!$T$1:$T$48-E100),0)),IF(G100=1000,INDEX(Sheet1!$AA:$AA,MATCH(MIN(ABS(Sheet1!$Z$1:$Z$50-E100)),ABS(Sheet1!$Z$1:$Z$50-E100),0))))))} -> C3M0032120 | D100: =IF(I100="TO-247-3","D",IF(I100="TO-247-4","K",IF(LEFT(I100,6)="TO-263","J","D"))) -> K | E100: =H100/1.3 -> 45.384615 | G100: 1200 | H100: 59 | I100: TO-247-4 | J100: Infineon | K100: IMZ120R045M1XKSA1 | L100: Newark | M100: 13.38 | N100: 15.68768 | O100: 14.7512 | P100: 15.57067 | Q100: 21.199442 | T100: 19.45 | U100: 13.38 | AA100: 14.1239 | AB100: =A100 -> 100
...

Sheet Sheet1
A1: 900 | B1: 39 | C1: C3M0030090 | D1: TO-247-4 | E1: =IF(D1="TO-247-3","D",IF(D1="TO-247-4","K",IF(LEFT(D1,6)="TO-263","J"))) -> K | G1: 650 | H1: 19.5 | I1: C3M0015065 | J1: TO-247-4 | K1: =IF(J1="TO-247-3","D",IF(J1="TO-247-4","K",IF(LEFT(J1,6)="TO-263","J","K"))) -> K | M1: 1700 | N1: 59 | O1: C2M0045170 | P1: TO-247-4 | Q1: P | S1: 1200 | T1: 22.3 | U1: C3M0016120 | V1: TO-247-4 | W1: =IF(V1="TO-247-3","D",IF(V1="TO-247-4","K",IF(LEFT(V1,6)="TO-263","J","K"))) -> K | Y1: 1000 | Z1: 78 | AA1: C3M0065100 | AB1: TO-263-8, | AC1: =IF(AB1="TO-247-3","D",IF(AB1="TO-247-4","K",IF(LEFT(AB1,6)="TO-263","J","K"))) -> J | AF1: =CONCATENATE(C1,E1) -> C3M0030090K | AG1: N/A | AH1: C3M0065090D
A2: 900 | B2: 78 | C2: C3M0065090 | D2: TO-247-3 | E2: =IF(D2="TO-247-3","D",IF(D2="TO-247-4","K",IF(LEFT(D2,6)="TO-263","J","K"))) -> D | G2: 650 | H2: 19.5 | I2: C3M0015065 | J2: TO-247-3 | K2: =IF(J2="TO-247-3","D",IF(J2="TO-247-4","K",IF(LEFT(J2,6)="TO-263","J","K"))) -> D | M2: 1700 | N2: 70 | O2: C2M0045170 | P2: TO-247-3 | Q2: =IF(P2="TO-247-3","D",IF(P2="TO-247-4","K",IF(LEFT(P2,6)="TO-263","J","K"))) -> D | S2: 1200 | T2: 22.3 | U2: C3M0016120 | V2: TO-247-3 | W2: =IF(V2="TO-247-3","D",IF(V2="TO-247-4","K",IF(LEFT(V2,6)="TO-263","J","K"))) -> D | Y2: 1000 | Z2: 78 | AA2: C3M0065100 | AB2: TO-247-4 | AC2: =IF(AB2="TO-247-3","D",IF(AB2="TO-247-4","K",IF(LEFT(AB2,6)="TO-263","J","K"))) -> K | AF2: =CONCATENATE(C2,E2) -> C3M0065090D | AG2: C3M0030090K | AH2: C3M0120090D
A3: 900 | B3: 78 | C3: C3M0065090 | D3: TO-263-8, | E3: =IF(D3="TO-247-3","D",IF(D3="TO-247-4","K",IF(LEFT(D3,6)="TO-263","J","K"))) -> J | G3: 650 | H3: 78 | I3: C3M0060065 | J3: TO-247-4 | K3: =IF(J3="TO-247-3","D",IF(J3="TO-247-4","K",IF(LEFT(J3,6)="TO-263","J","K"))) -> K | M3: 1700 | N3: 125 | O3: C2M0080170 | P3: TO-247-4 | Q3: P | S3: 1200 | T3: 28.8 | U3: C3M0021120 | V3: TO-247-4 | W3: =IF(V3="TO-247-3","D",IF(V3="TO-247-4","K",IF(LEFT(V3,6)="TO-263","J","K"))) -> K | Y3: 1000 | Z3: 155 | AA3: C3M0120100 | AB3: TO-247-4 | AC3: =IF(AB3="TO-247-3","D",IF(AB3="TO-247-4","K",IF(LEFT(AB3,6)="TO-263","J","K"))) -> K | AF3: =CONCATENATE(C3,E3) -> C3M0065090J | AG3: C3M0030090K | AH3: C3M0120090J
A4: 900 | B4: 155 | C4: C3M0120090 | D4: TO-263-8, | E4: =IF(D4="TO-247-3","D",IF(D4="TO-247-4","K",IF(LEFT(D4,6)="TO-263","J","K"))) -> J | G4: 650 | H4: 78 | I4: C3M0060065 | J4: TO-247-3 | K4: =IF(J4="TO-247-3","D",IF(J4="TO-247-4","K",IF(LEFT(J4,6)="TO-263","J","K"))) -> D | M4: 1700 | N4: 1100 | O4: C2M1000170 | P4: TO-247-3 | Q4: =IF(P4="TO-247-3","D",IF(P4="TO-247-4","K",IF(LEFT(P4,6)="TO-263","J","K"))) -> D | S4: 1200 | T4: 28.8 | U4: C3M0021120 | V4: TO-247-3 | W4: =IF(V4="TO-247-3","D",IF(V4="TO-247-4","K",IF(LEFT(V4,6)="TO-263","J","K"))) -> D | Y4: 1000 | Z4: 155 | AA4: C3M0120100 | AB4: TO-263-8, | AC4: =IF(AB4="TO-247-3","D",IF(AB4="TO-247-4","K",IF(LEFT(AB4,6)="TO-263","J","K"))) -> J | AF4: =CONCATENATE(C4,E4) -> C3M0120090J | AG4: C3M0065090J | AH4: C3M0120090D
A5: 900 | B5: 155 | C5: C3M0120090 | D5: TO-247-3 | E5: =IF(D5="TO-247-3","D",IF(D5="TO-247-4","K",IF(LEFT(D5,6)="TO-263","J","K"))) -> D | G5: 650 | H5: 78 | I5: C3M0060065 | J5: TO-263-7 | K5: =IF(J5="TO-247-3","D",IF(J5="TO-247-4","K",IF(LEFT(J5,6)="TO-263","J","K"))) -> J | M5: 1700 | N5: 1400 | O5: C2M1000170 | P5: TO-263-7 | Q5: =IF(P5="TO-247-3","D",IF(P5="TO-247-4","K",IF(LEFT(P5,6)="TO-263","J","K"))) -> J | S5: 1200 | T5: 28.8 | U5: C3M0021120 | V5: TO-247-3 | W5: =IF(V5="TO-247-3","D",IF(V5="TO-247-4","K",IF(LEFT(V5,6)="TO-263","J","K"))) -> D | Y5: 1000 | Z5: 155 | AA5: C3M0120101 | AB5: TO-263-8, | AC5: =IF(AB5="TO-247-3","D",IF(AB5="TO-247-4","K",IF(LEFT(AB5,6)="TO-263","J","K"))) -> J | AF5: =CONCATENATE(C5,E5) -> C3M0120090D | AG5: C3M0065090D | AH5: C3M0120090J
A6: 900 | B6: 360 | C6: C3M0280090 | D6: TO-247-3 | E6: =IF(D6="TO-247-3","D",IF(D6="TO-247-4","K",IF(LEFT(D6,6)="TO-263","J","K"))) -> D | G6: 650 | H6: 156 | I6: C3M0120065 | J6: TO-247-4 | K6: =IF(J6="TO-247-3","D",IF(J6="TO-247-4","K",IF(LEFT(J6,6)="TO-263","J","K"))) -> K | M6: 1700 | N6: 1400 | O6: C2M1000171 | P6: TO-263-8 | Q6: =IF(P6="TO-247-3","D",IF(P6="TO-247-4","K",IF(LEFT(P6,6)="TO-263","J","K"))) -> J | S6: 1200 | T6: 43 | U6: C3M0032120 | V6: TO-247-3 | W6: =IF(V6="TO-247-3","D",IF(V6="TO-247-4","K",IF(LEFT(V6,6)="TO-263","J","K"))) -> D | Y6: 1000 | Z6: 155 | AA6: C3M0120102 | AB6: TO-263-8, | AC6: =IF(AB6="TO-247-3","D",IF(AB6="TO-247-4","K",IF(LEFT(AB6,6)="TO-263","J","K"))) -> J | AF6: =CONCATENATE(C6,E6) -> C3M0280090D | AG6: C3M0120090D | AH6: N/A
A7: 900 | B7: 360 | C7: C3M0280090 | D7: TO-263-8, | E7: =IF(D7="TO-247-3","D",IF(D7="TO-247-4","K",IF(LEFT(D7,6)="TO-263","J","K"))) -> J | G7: 650 | H7: 156 | I7: C3M0120065 | J7: TO-247-3 | K7: =IF(J7="TO-247-3","D",IF(J7="TO-247-4","K",IF(LEFT(J7,6)="TO-263","J","K"))) -> D | M7: 1700 | N7: 1400 | O7: C2M1000172 | P7: TO-263-9 | Q7: =IF(P7="TO-247-3","D",IF(P7="TO-247-4","K",IF(LEFT(P7,6)="TO-263","J","K"))) -> J | S7: 1200 | T7: 43 | U7: C3M0032120 | V7: TO-247-4 | W7: =IF(V7="TO-247-3","D",IF(V7="TO-247-4","K",IF(LEFT(V7,6)="TO-263","J","K"))) -> K | Y7: 1000 | Z7: 155 | AA7: C3M0120103 | AB7: TO-263-8, | AC7: =IF(AB7="TO-247-3","D",IF(AB7="TO-247-4","K",IF(LEFT(AB7,6)="TO-263","J","K"))) -> J | AF7: =CONCATENATE(C7,E7) -> C3M0280090J | AG7: C3M0120090J | AH7: N/A
A8: 900 | B8: 360 | C8: C3M0280091 | D8: TO-263-8, | E8: =IF(D8="TO-247-3","D",IF(D8="TO-247-4","K",IF(LEFT(D8,6)="TO-263","J","K"))) -> J | G8: 650 | H8: 156 | I8: C3M0120065 | J8: TO-263-7 | K8: =IF(J8="TO-247-3","D",IF(J8="TO-247-4","K",IF(LEFT(J8,6)="TO-263","J","K"))) -> J | M8: 1700 | N8: 1400 | O8: C2M1000173 | P8: TO-263-10 | Q8: =IF(P8="TO-247-3","D",IF(P8="TO-247-4","K",IF(LEFT(P8,6)="TO-263","J","K"))) -> J | S8: 1200 | T8: 43 | U8: C3M0032120 | V8: TO-247-3 | W8: =IF(V8="TO-247-3","D",IF(V8="TO-247-4","K",IF(LEFT(V8,6)="TO-263","J","K"))) -> D | Y8: 1000 | Z8: 155 | AA8: C3M0120104 | AB8: TO-263-8, | AC8: =IF(AB8="TO-247-3","D",IF(AB8="TO-247-4","K",IF(LEFT(AB8,6)="TO-263","J","K"))) -> J | AF8: =CONCATENATE(C8,E8) -> C3M0280091J
A9: 900 | B9: 360 | C9: C3M0280092 | D9: TO-263-8, | E9: =IF(D9="TO-247-3","D",IF(D9="TO-247-4","K",IF(LEFT(D9,6)="TO-263","J","K"))) -> J | G9: 650 | H9: 156 | I9: C3M0120066 | J9: TO-263-8 | K9: =IF(J9="TO-247-3","D",IF(J9="TO-247-4","K",IF(LEFT(J9,6)="TO-263","J","K"))) -> J | M9: 1700 | N9: 1400 | O9: C2M1000174 | P9: TO-263-11 | Q9: =IF(P9="TO-247-3","D",IF(P9="TO-247-4","K",IF(LEFT(P9,6)="TO-263","J","K"))) -> J | S9: 1200 | T9: 90 | U9: C3M0075120 | V9: TO-263-7 | W9: =IF(V9="TO-247-3","D",IF(V9="TO-247-4","K",IF(LEFT(V9,6)="TO-263","J","K"))) -> J | Y9: 1000 | Z9: 155 | AA9: C3M0120105 | AB9: TO-263-8, | AC9: =IF(AB9="TO-247-3","D",IF(AB9="TO-247-4","K",IF(LEFT(AB9,6)="TO-263","J","K"))) -> J | AF9: =CONCATENATE(C9,E9) -> C3M0280092J
A10: 900 | B10: 360 | C10: C3M0280093 | D10: TO-263-8, | E10: =IF(D10="TO-247-3","D",IF(D10="TO-247-4","K",IF(LEFT(D10,6)="TO-263","J","K"))) -> J | G10: 650 | H10: 156 | I10: C3M0120067 | J10: TO-263-9 | K10: =IF(J10="TO-247-3","D",IF(J10="TO-247-4","K",IF(LEFT(J10,6)="TO-263","J","K"))) -> J | M10: 1700 | N10: 1400 | O10: C2M1000175 | P10: TO-263-12 | Q10: =IF(P10="TO-247-3","D",IF(P10="TO-247-4","K",IF(LEFT(P10,6)="TO-263","J","K"))) -> J | S10: 1200 | T10: 90 | U10: C3M0075120 | V10: TO-247-4 | W10: =IF(V10="TO-247-3","D",IF(V10="TO-247-4","K",IF(LEFT(V10,6)="TO-263","J","K"))) -> K | Y10: 1000 | Z10: 155 | AA10: C3M0120106 | AB10: TO-263-8, | AC10: =IF(AB10="TO-247-3","D",IF(AB10="TO-247-4","K",IF(LEFT(AB10,6)="TO-263","J","K"))) -> J | AF10: =CONCATENATE(C10,E10) -> C3M0280093J
A11: 900 | B11: 360 | C11: C3M0280094 | D11: TO-263-8, | E11: =IF(D11="TO-247-3","D",IF(D11="TO-247-4","K",IF(LEFT(D11,6)="TO-263","J","K"))) -> J | G11: 650 | H11: 156 | I11: C3M0120068 | J11: TO-263-10 | K11: =IF(J11="TO-247-3","D",IF(J11="TO-247-4","K",IF(LEFT(J11,6)="TO-263","J","K"))) -> J | M11: 1700 | N11: 1400 | O11: C2M1000176 | P11: TO-263-13 | Q11: =IF(P11="TO-247-3","D",IF(P11="TO-247-4","K",IF(LEFT(P11,6)="TO-263","J","K"))) -> J | S11: 1200 | T11: 90 | U11: C3M0075120 | V11: TO-247-3 | W11: =IF(V11="TO-247-3","D",IF(V11="TO-247-4","K",IF(LEFT(V11,6)="TO-263","J","K"))) -> D | Y11: 1000 | Z11: 155 | AA11: C3M0120107 | AB11: TO-263-8, | AC11: =IF(AB11="TO-247-3","D",IF(AB11="TO-247-4","K",IF(LEFT(AB11,6)="TO-263","J","K"))) -> J | AF11: =CONCATENATE(C11,E11) -> C3M0280094J
A12: 900 | B12: 360 | C12: C3M0280095 | D12: TO-263-8, | E12: =IF(D12="TO-247-3","D",IF(D12="TO-247-4","K",IF(LEFT(D12,6)="TO-263","J","K"))) -> J | G12: 650 | H12: 156 | I12: C3M0120069 | J12: TO-263-11 | K12: =IF(J12="TO-247-3","D",IF(J12="TO-247-4","K",IF(LEFT(J12,6)="TO-263","J","K"))) -> J | M12: 1700 | N12: 1400 | O12: C2M1000177 | P12: TO-263-14 | Q12: =IF(P12="TO-247-3","D",IF(P12="TO-247-4","K",IF(LEFT(P12,6)="TO-263","J","K"))) -> J | S12: 1200 | T12: 180 | U12: C3M0160120 | V12: TO-247-4 | W12: =IF(V12="TO-247-3","D",IF(V12="TO-247-4","K",IF(LEFT(V12,6)="TO-263","J","K"))) -> K | Y12: 1000 | Z12: 155 | AA12: C3M0120108 | AB12: TO-263-8, | AC12: =IF(AB12="TO-247-3","D",IF(AB12="TO-247-4","K",IF(LEFT(AB12,6)="TO-263","J","K"))) -> J | AF12: =CONCATENATE(C12,E12) -> C3M0280095J
A13: 900 | B13: 360 | C13: C3M0280096 | D13: TO-263-8, | E13: =IF(D13="TO-247-3","D",IF(D13="TO-247-4","K",IF(LEFT(D13,6)="TO-263","J","K"))) -> J | G13: 650 | H13: 156 | I13: C3M0120070 | J13: TO-263-12 | K13: =IF(J13="TO-247-3","D",IF(J13="TO-247-4","K",IF(LEFT(J13,6)="TO-263","J","K"))) -> J | M13: 1700 | N13: 1400 | O13: C2M1000178 | P13: TO-263-15 | Q13: =IF(P13="TO-247-3","D",IF(P13="TO-247-4","K",IF(LEFT(P13,6)="TO-263","J","K"))) -> J | S13: 1200 | T13: 180 | U13: C3M0160120 | V13: TO-247-3 | W13: =IF(V13="TO-247-3","D",IF(V13="TO-247-4","K",IF(LEFT(V13,6)="TO-263","J","K"))) -> D | Y13: 1000 | Z13: 155 | AA13: C3M0120109 | AB13: TO-263-8, | AC13: =IF(AB13="TO-247-3","D",IF(AB13="TO-247-4","K",IF(LEFT(AB13,6)="TO-263","J","K"))) -> J | AF13: =CONCATENATE(C13,E13) -> C3M0280096J
A14: 900 | B14: 360 | C14: C3M0280097 | D14: TO-263-8, | E14: =IF(D14="TO-247-3","D",IF(D14="TO-247-4","K",IF(LEFT(D14,6)="TO-263","J","K"))) -> J | G14: 650 | H14: 156 | I14: C3M0120071 | J14: TO-263-13 | K14: =IF(J14="TO-247-3","D",IF(J14="TO-247-4","K",IF(LEFT(J14,6)="TO-263","J","K"))) -> J | M14: 1700 | N14: 1400 | O14: C2M1000179 | P14: TO-263-16 | Q14: =IF(P14="TO-247-3","D",IF(P14="TO-247-4","K",IF(LEFT(P14,6)="TO-263","J","K"))) -> J | S14: 1200 | T14: 180 | U14: C3M0160120 | V14: TO-263-7 | W14: =IF(V14="TO-247-3","D",IF(V14="TO-247-4","K",IF(LEFT(V14,6)="TO-263","J","K"))) -> J | Y14: 1000 | Z14: 155 | AA14: C3M0120110 | AB14: TO-263-8, | AC14: =IF(AB14="TO-247-3","D",IF(AB14="TO-247-4","K",IF(LEFT(AB14,6)="TO-263","J","K"))) -> J | AF14: =CONCATENATE(C14,E14) -> C3M0280097J
A15: 900 | B15: 360 | C15: C3M0280098 | D15: TO-263-8, | E15: =IF(D15="TO-247-3","D",IF(D15="TO-247-4","K",IF(LEFT(D15,6)="TO-263","J","K"))) -> J | G15: 650 | H15: 156 | I15: C3M0120072 | J15: TO-263-14 | K15: =IF(J15="TO-247-3","D",IF(J15="TO-247-4","K",IF(LEFT(J15,6)="TO-263","J","K"))) -> J | M15: 1700 | N15: 1400 | O15: C2M1000180 | P15: TO-263-17 | Q15: =IF(P15="TO-247-3","D",IF(P15="TO-247-4","K",IF(LEFT(P15,6)="TO-263","J","K"))) -> J | S15: 1200 | T15: 370 | U15: C3M0350120 | V15: TO-247-4 | W15: =IF(V15="TO-247-3","D",IF(V15="TO-247-4","K",IF(LEFT(V15,6)="TO-263","J","K"))) -> K | Y15: 1000 | Z15: 155 | AA15: C3M0120111 | AB15: TO-263-8, | AC15: =IF(AB15="TO-247-3","D",IF(AB15="TO-247-4","K",IF(LEFT(AB15,6)="TO-263","J","K"))) -> J | AF15: =CONCATENATE(C15,E15) -> C3M0280098J
A16: 900 | B16: 360 | C16: C3M0280099 | D16: TO-263-8, | E16: =IF(D16="TO-247-3","D",IF(D16="TO-247-4","K",IF(LEFT(D16,6)="TO-263","J","K"))) -> J | G16: 650 | H16: 156 | I16: C3M0120073 | J16: TO-263-15 | K16: =IF(J16="TO-247-3","D",IF(J16="TO-247-4","K",IF(LEFT(J16,6)="TO-263","J","K"))) -> J | M16: 1700 | N16: 1400 | O16: C2M1000181 | P16: TO-263-18 | Q16: =IF(P16="TO-247-3","D",IF(P16="TO-247-4","K",IF(LEFT(P16,6)="TO-263","J","K"))) -> J | S16: 1200 | T16: 370 | U16: C3M0350120 | V16: TO-247-3 | W16: =IF(V16="TO-247-3","D",IF(V16="TO-247-4","K",IF(LEFT(V16,6)="TO-263","J","K"))) -> D | Y16: 1000 | Z16: 155 | AA16: C3M0120112 | AB16: TO-263-8, | AC16: =IF(AB16="TO-247-3","D",IF(AB16="TO-247-4","K",IF(LEFT(AB16,6)="TO-263","J","K"))) -> J | AF16: =CONCATENATE(C16,E16) -> C3M0280099J
A17: 900 | B17: 360 | C17: C3M0280100 | D17: TO-263-8, | E17: =IF(D17="TO-247-3","D",IF(D17="TO-247-4","K",IF(LEFT(D17,6)="TO-263","J","K"))) -> J | G17: 650 | H17: 156 | I17: C3M0120074 | J17: TO-263-16 | K17: =IF(J17="TO-247-3","D",IF(J17="TO-247-4","K",IF(LEFT(J17,6)="TO-263","J","K"))) -> J | M17: 1700 | N17: 1400 | O17: C2M1000182 | P17: TO-263-19 | Q17: =IF(P17="TO-247-3","D",IF(P17="TO-247-4","K",IF(LEFT(P17,6)="TO-263","J","K"))) -> J | S17: 1200 | T17: 370 | U17: C3M0350120 | V17: TO-263-7 | W17: =IF(V17="TO-247-3","D",IF(V17="TO-247-4","K",IF(LEFT(V17,6)="TO-263","J","K"))) -> J | Y17: 1000 | Z17: 155 | AA17: C3M0120113 | AB17: TO-263-8, | AC17: =IF(AB17="TO-247-3","D",IF(AB17="TO-247-4","K",IF(LEFT(AB17,6)="TO-263","J","K"))) -> J | AF17: =CONCATENATE(C17,E17) -> C3M0280100J
A18: 900 | B18: 360 | C18: C3M0280101 | D18: TO-263-8, | E18: =IF(D18="TO-247-3","D",IF(D18="TO-247-4","K",IF(LEFT(D18,6)="TO-263","J","K"))) -> J | G18: 650 | H18: 156 | I18: C3M0120075 | J18: TO-263-17 | K18: =IF(J18="TO-247-3","D",IF(J18="TO-247-4","K",IF(LEFT(J18,6)="TO-263","J","K"))) -> J | M18: 1700 | N18: 1400 | O18: C2M1000183 | P18: TO-263-20 | Q18: =IF(P18="TO-247-3","D",IF(P18="TO-247-4","K",IF(LEFT(P18,6)="TO-263","J","K"))) -> J | S18: 1200 | U18: C2M0280128 | V18: TO-247-11 | W18: =IF(V18="TO-247-3","D",IF(V18="TO-247-4","K",IF(LEFT(V18,6)="TO-263","J","K"))) -> K | Y18: 1000 | Z18: 155 | AA18: C3M0120114 | AB18: TO-263-8, | AC18: =IF(AB18="TO-247-3","D",IF(AB18="TO-247-4","K",IF(LEFT(AB18,6)="TO-263","J","K"))) -> J | AF18: =CONCATENATE(C18,E18) -> C3M0280101J
A19: 900 | B19: 360 | C19: C3M0280102 | D19: TO-263-8, | E19: =IF(D19="TO-247-3","D",IF(D19="TO-247-4","K",IF(LEFT(D19,6)="TO-263","J","K"))) -> J | G19: 650 | H19: 156 | I19: C3M0120076 | J19: TO-263-18 | K19: =IF(J19="TO-247-3","D",IF(J19="TO-247-4","K",IF(LEFT(J19,6)="TO-263","J","K"))) -> J | M19: 1700 | N19: 1400 | O19: C2M1000184 | P19: TO-263-21 | Q19: =IF(P19="TO-247-3","D",IF(P19="TO-247-4","K",IF(LEFT(P19,6)="TO-263","J","K"))) -> J | S19: 1200 | U19: C2M0280128 | V19: TO-247-11 | W19: =IF(V19="TO-247-3","D",IF(V19="TO-247-4","K",IF(LEFT(V19,6)="TO-263","J","K"))) -> K | Y19: 1000 | Z19: 155 | AA19: C3M0120115 | AB19: TO-263-8, | AC19: =IF(AB19="TO-247-3","D",IF(AB19="TO-247-4","K",IF(LEFT(AB19,6)="TO-263","J","K"))) -> J | AF19: =CONCATENATE(C19,E19) -> C3M0280102J
A20: 900 | B20: 360 | C20: C3M0280103 | D20: TO-263-8, | E20: =IF(D20="TO-247-3","D",IF(D20="TO-247-4","K",IF(LEFT(D20,6)="TO-263","J","K"))) -> J | G20: 650 | H20: 156 | I20: C3M0120077 | J20: TO-263-19 | K20: =IF(J20="TO-247-3","D",IF(J20="TO-247-4","K",IF(LEFT(J20,6)="TO-263","J","K"))) -> J | M20: 1700 | N20: 1400 | O20: C2M1000185 | P20: TO-263-22 | Q20: =IF(P20="TO-247-3","D",IF(P20="TO-247-4","K",IF(LEFT(P20,6)="TO-263","J","K"))) -> J | S20: 1200 | U20: C2M0280129 | V20: TO-247-12 | W20: =IF(V20="TO-247-3","D",IF(V20="TO-247-4","K",IF(LEFT(V20,6)="TO-263","J","K"))) -> K | Y20: 1000 | Z20: 155 | AA20: C3M0120116 | AB20: TO-263-8, | AC20: =IF(AB20="TO-247-3","D",IF(AB20="TO-247-4","K",IF(LEFT(AB20,6)="TO-263","J","K"))) -> J | AF20: =CONCATENATE(C20,E20) -> C3M0280103J
A21: 900 | B21: 360 | C21: C3M0280104 | D21: TO-263-8, | E21: =IF(D21="TO-247-3","D",IF(D21="TO-247-4","K",IF(LEFT(D21,6)="TO-263","J","K"))) -> J | G21: 650 | H21: 156 | I21: C3M0120078 | J21: TO-263-20 | K21: =IF(J21="TO-247-3","D",IF(J21="TO-247-4","K",IF(LEFT(J21,6)="TO-263","J","K"))) -> J | M21: 1700 | N21: 1400 | O21: C2M1000186 | P21: TO-263-23 | Q21: =IF(P21="TO-247-3","D",IF(P21="TO-247-4","K",IF(LEFT(P21,6)="TO-263","J","K"))) -> J | S21: 1200 | U21: C2M0280130 | V21: TO-247-13 | W21: =IF(V21="TO-247-3","D",IF(V21="TO-247-4","K",IF(LEFT(V21,6)="TO-263","J","K"))) -> K | Y21: 1000 | Z21: 155 | AA21: C3M0120117 | AB21: TO-263-8, | AC21: =IF(AB21="TO-247-3","D",IF(AB21="TO-247-4","K",IF(LEFT(AB21,6)="TO-263","J","K"))) -> J | AF21: =CONCATENATE(C21,E21) -> C3M0280104J
A22: 900 | B22: 360 | C22: C3M0280105 | D22: TO-263-8, | E22: =IF(D22="TO-247-3","D",IF(D22="TO-247-4","K",IF(LEFT(D22,6)="TO-263","J","K"))) -> J | G22: 650 | H22: 156 | I22: C3M0120079 | J22: TO-263-21 | K22: =IF(J22="TO-247-3","D",IF(J22="TO-247-4","K",IF(LEFT(J22,6)="TO-263","J","K"))) -> J | M22: 1700 | N22: 1400 | O22: C2M1000187 | P22: TO-263-24 | Q22: =IF(P22="TO-247-3","D",IF(P22="TO-247-4","K",IF(LEFT(P22,6)="TO-263","J","K"))) -> J | S22: 1200 | U22: C2M0280131 | V22: TO-247-14 | W22: =IF(V22="TO-247-3","D",IF(V22="TO-247-4","K",IF(LEFT(V22,6)="TO-263","J","K"))) -> K | Y22: 1000 | Z22: 155 | AA22: C3M0120118 | AB22: TO-263-8, | AC22: =IF(AB22="TO-247-3","D",IF(AB22="TO-247-4","K",IF(LEFT(AB22,6)="TO-263","J","K"))) -> J | AF22: =CONCATENATE(C22,E22) -> C3M0280105J
A23: 900 | B23: 360 | C23: C3M0280106 | D23: TO-263-8, | E23: =IF(D23="TO-247-3","D",IF(D23="TO-247-4","K",IF(LEFT(D23,6)="TO-263","J","K"))) -> J | G23: 650 | H23: 156 | I23: C3M0120080 | J23: TO-263-22 | K23: =IF(J23="TO-247-3","D",IF(J23="TO-247-4","K",IF(LEFT(J23,6)="TO-263","J","K"))) -> J | M23: 1700 | N23: 1400 | O23: C2M1000188 | P23: TO-263-25 | Q23: =IF(P23="TO-247-3","D",IF(P23="TO-247-4","K",IF(LEFT(P23,6)="TO-263","J","K"))) -> J | S23: 1200 | U23: C2M0280132 | V23: TO-247-15 | W23: =IF(V23="TO-247-3","D",IF(V23="TO-247-4","K",IF(LEFT(V23,6)="TO-263","J","K"))) -> K | Y23: 1000 | Z23: 155 | AA23: C3M0120119 | AB23: TO-263-8, | AC23: =IF(AB23="TO-247-3","D",IF(AB23="TO-247-4","K",IF(LEFT(AB23,6)="TO-263","J","K"))) -> J | AF23: =CONCATENATE(C23,E23) -> C3M0280106J
A24: 900 | B24: 360 | C24: C3M0280107 | D24: TO-263-8, | E24: =IF(D24="TO-247-3","D",IF(D24="TO-247-4","K",IF(LEFT(D24,6)="TO-263","J","K"))) -> J | G24: 650 | H24: 156 | I24: C3M0120081 | J24: TO-263-23 | K24: =IF(J24="TO-247-3","D",IF(J24="TO-247-4","K",IF(LEFT(J24,6)="TO-263","J","K"))) -> J | M24: 1700 | N24: 1400 | O24: C2M1000189 | P24: TO-263-26 | Q24: =IF(P24="TO-247-3","D",IF(P24="TO-247-4","K",IF(LEFT(P24,6)="TO-263","J","K"))) -> J | S24: 1200 | U24: C2M0280133 | V24: TO-247-16 | W24: =IF(V24="TO-247-3","D",IF(V24="TO-247-4","K",IF(LEFT(V24,6)="TO-263","J","K"))) -> K | Y24: 1000 | Z24: 155 | AA24: C3M0120120 | AB24: TO-263-8, | AC24: =IF(AB24="TO-247-3","D",IF(AB24="TO-247-4","K",IF(LEFT(AB24,6)="TO-263","J","K"))) -> J | AF24: =CONCATENATE(C24,E24) -> C3M0280107J
A25: 900 | B25: 360 | C25: C3M0280108 | D25: TO-263-8, | E25: =IF(D25="TO-247-3","D",IF(D25="TO-247-4","K",IF(LEFT(D25,6)="TO-263","J","K"))) -> J | G25: 650 | H25: 156 | I25: C3M0120082 | J25: TO-263-24 | K25: =IF(J25="TO-247-3","D",IF(J25="TO-247-4","K",IF(LEFT(J25,6)="TO-263","J","K"))) -> J | M25: 1700 | N25: 1400 | O25: C2M1000190 | P25: TO-263-27 | Q25: =IF(P25="TO-247-3","D",IF(P25="TO-247-4","K",IF(LEFT(P25,6)="TO-263","J","K"))) -> J | S25: 1200 | U25: C2M0280134 | V25: TO-247-17 | W25: =IF(V25="TO-247-3","D",IF(V25="TO-247-4","K",IF(LEFT(V25,6)="TO-263","J","K"))) -> K | Y25: 1000 | Z25: 155 | AA25: C3M0120121 | AB25: TO-263-8, | AC25: =IF(AB25="TO-247-3","D",IF(AB25="TO-247-4","K",IF(LEFT(AB25,6)="TO-263","J","K"))) -> J | AF25: =CONCATENATE(C25,E25) -> C3M0280108J
A26: 900 | B26: 360 | C26: C3M0280109 | D26: TO-263-8, | E26: =IF(D26="TO-247-3","D",IF(D26="TO-247-4","K",IF(LEFT(D26,6)="TO-263","J","K"))) -> J | G26: 650 | H26: 156 | I26: C3M0120083 | J26: TO-263-25 | K26: =IF(J26="TO-247-3","D",IF(J26="TO-247-4","K",IF(LEFT(J26,6)="TO-263","J","K"))) -> J | M26: 1700 | N26: 1400 | O26: C2M1000191 | P26: TO-263-28 | Q26: =IF(P26="TO-247-3","D",IF(P26="TO-247-4","K",IF(LEFT(P26,6)="TO-263","J","K"))) -> J | S26: 1200 | U26: C2M0280135 | V26: TO-247-18 | W26: =IF(V26="TO-247-3","D",IF(V26="TO-247-4","K",IF(LEFT(V26,6)="TO-263","J","K"))) -> K | Y26: 1000 | Z26: 155 | AA26: C3M0120122 | AB26: TO-263-8, | AC26: =IF(AB26="TO-247-3","D",IF(AB26="TO-247-4","K",IF(LEFT(AB26,6)="TO-263","J","K"))) -> J | AF26: =CONCATENATE(C26,E26) -> C3M0280109J
A27: 900 | B27: 360 | C27: C3M0280110 | D27: TO-263-8, | E27: =IF(D27="TO-247-3","D",IF(D27="TO-247-4","K",IF(LEFT(D27,6)="TO-263","J","K"))) -> J | G27: 650 | H27: 156 | I27: C3M0120084 | J27: TO-263-26 | K27: =IF(J27="TO-247-3","D",IF(J27="TO-247-4","K",IF(LEFT(J27,6)="TO-263","J","K"))) -> J | M27: 1700 | N27: 1400 | O27: C2M1000192 | P27: TO-263-29 | Q27: =IF(P27="TO-247-3","D",IF(P27="TO-247-4","K",IF(LEFT(P27,6)="TO-263","J","K"))) -> J | S27: 1200 | U27: C2M0280136 | V27: TO-247-19 | W27: =IF(V27="TO-247-3","D",IF(V27="TO-247-4","K",IF(LEFT(V27,6)="TO-263","J","K"))) -> K | Y27: 1000 | Z27: 155 | AA27: C3M0120123 | AB27: TO-263-8, | AC27: =IF(AB27="TO-247-3","D",IF(AB27="TO-247-4","K",IF(LEFT(AB27,6)="TO-263","J","K"))) -> J | AF27: =CONCATENATE(C27,E27) -> C3M0280110J
A28: 900 | B28: 360 | C28: C3M0280111 | D28: TO-263-8, | E28: =IF(D28="TO-247-3","D",IF(D28="TO-247-4","K",IF(LEFT(D28,6)="TO-263","J","K"))) -> J | G28: 650 | H28: 156 | I28: C3M0120085 | J28: TO-263-27 | K28: =IF(J28="TO-247-3","D",IF(J28="TO-247-4","K",IF(LEFT(J28,6)="TO-263","J","K"))) -> J | M28: 1700 | N28: 1400 | O28: C2M1000193 | P28: TO-263-30 | Q28: =IF(P28="TO-247-3","D",IF(P28="TO-247-4","K",IF(LEFT(P28,6)="TO-263","J","K"))) -> J | S28: 1200 | U28: C2M0280137 | V28: TO-247-20 | W28: =IF(V28="TO-247-3","D",IF(V28="TO-247-4","K",IF(LEFT(V28,6)="TO-263","J","K"))) -> K | Y28: 1000 | Z28: 155 | AA28: C3M0120124 | AB28: TO-263-8, | AC28: =IF(AB28="TO-247-3","D",IF(AB28="TO-247-4","K",IF(LEFT(AB28,6)="TO-263","J","K"))) -> J | AF28: =CONCATENATE(C28,E28) -> C3M0280111J
A29: 900 | B29: 360 | C29: C3M0280112 | D29: TO-263-8, | E29: =IF(D29="TO-247-3","D",IF(D29="TO-247-4","K",IF(LEFT(D29,6)="TO-263","J","K"))) -> J | G29: 650 | H29: 156 | I29: C3M0120086 | J29: TO-263-28 | K29: =IF(J29="TO-247-3","D",IF(J29="TO-247-4","K",IF(LEFT(J29,6)="TO-263","J","K"))) -> J | M29: 1700 | N29: 1400 | O29: C2M1000194 | P29: TO-263-31 | Q29: =IF(P29="TO-247-3","D",IF(P29="TO-247-4","K",IF(LEFT(P29,6)="TO-263","J","K"))) -> J | S29: 1200 | U29: C2M0280138 | V29: TO-247-21 | W29: =IF(V29="TO-247-3","D",IF(V29="TO-247-4","K",IF(LEFT(V29,6)="TO-263","J","K"))) -> K | Y29: 1000 | Z29: 155 | AA29: C3M0120125 | AB29: TO-263-8, | AC29: =IF(AB29="TO-247-3","D",IF(AB29="TO-247-4","K",IF(LEFT(AB29,6)="TO-263","J","K"))) -> J | AF29: =CONCATENATE(C29,E29) -> C3M0280112J
... A50: 900 | B50: 360 | C50: C3M0280133 | D50: TO-263-8, | E50: =IF(D50="TO-247-3","D",IF(D50="TO-247-4","K",IF(LEFT(D50,6)="TO-263","J","K"))) -> J | G50: 650 | H50: 156 | I50: C3M0120107 | J50: TO-263-49 | K50: =IF(J50="TO-247-3","D",IF(J50="TO-247-4","K",IF(LEFT(J50,6)="TO-263","J","K"))) -> J | M50: 1700 | N50: 1400 | O50: C2M1000215 | P50: TO-263-52 | Q50: =IF(P50="TO-247-3","D",IF(P50="TO-247-4","K",IF(LEFT(P50,6)="TO-263","J","K"))) -> J | S50: 1200 | U50: C2M0280159 | V50: TO-247-42 | W50: =IF(V50="TO-247-3","D",IF(V50="TO-247-4","K",IF(LEFT(V50,6)="TO-263","J","K"))) -> K | Y50: 1000 | Z50: 155 | AA50: C3M0120146 | AB50: TO-263-8, | AC50: =IF(AB50="TO-247-3","D",IF(AB50="TO-247-4","K",IF(LEFT(AB50,6)="TO-263","J","K"))) -> J | AF50: =CONCATENATE(C50,E50) -> C3M0280133J
AF51: =CONCATENATE(I1,K1) -> C3M0015065K | AG51: N/A | AH51: C3M0060065K
AF52: =CONCATENATE(I2,K2) -> C3M0015065D | AG52: N/A | AH52: C3M0060065D
S53: 1200 | U53: C2M0160120 | V53: TO-247-3 | W53: =IF(V53="TO-247-3","D",IF(V53="TO-247-4","K",IF(LEFT(V53,6)="TO-263","J","K"))) -> D | AF53: =CONCATENATE(I3,K3) -> C3M0060065K | AG53: C3M0015065K | AH53: C3M0120065K
S54: 1200 | U54: C2M0280120 | V54: TO-247-3 | W54: =IF(V54="TO-247-3","D",IF(V54="TO-247-4","K",IF(LEFT(V54,6)="TO-263","J","K"))) -> D | AF54: =CONCATENATE(I4,K4) -> C3M0060065D | AG54: C3M0015065D | AH54: C3M0120065D
AF55: =CONCATENATE(I5,K5) -> C3M0060065J | AG55: C3M0015065K | AH55: C3M0120065J
AF56: =CONCATENATE(I6,K6) -> C3M0120065K | AG56: C3M0060065K | AH56: N/A
AF57: =CONCATENATE(I7,K7) -> C3M0120065D | AG57: C3M0060065D | AH57: N/A
AF58: =CONCATENATE(I8,K8) -> C3M0120065J | AG58: C3M0060065J | AH58: N/A
AF59: =CONCATENATE(I9,K9) -> C3M0120066J
AF60: =AF59 -> C3M0120066J
AF61: =AF60 -> C3M0120066J
AF62: =AF61 -> C3M0120066J
AF63: =AF62 -> C3M0120066J
AF64: =AF63 -> C3M0120066J
AF65: =AF64 -> C3M0120066J
AF66: =AF65 -> C3M0120066J
AF67: =AF66 -> C3M0120066J
AF68: =AF67 -> C3M0120066J
AF69: =AF68 -> C3M0120066J
AF70: =AF69 -> C3M0120066J
AF71: =AF70 -> C3M0120066J
... AF100: =AF99 -> C3M0120066J
AF101: =CONCATENATE(O1,Q1) -> C2M0045170P | AG101: N/A | AH101: C2M0080170P
AF102: =CONCATENATE(O2,Q2) -> C2M0045170D | AG102: N/A | AH102: C2M0080170P
AF103: =CONCATENATE(O3,Q3) -> C2M0080170P | AG103: C2M0045170P | AH103: C2M1000170D
AF104: =CONCATENATE(O4,Q4) -> C2M1000170D | AG104: C2M0080170P | AH104: N/A
AF105: =CONCATENATE(O5,Q5) -> C2M1000170J | AG105: C2M0080170P | AH105: N/A
AF106: =CONCATENATE(O6,Q6) -> C2M1000171J
AF107: =CONCATENATE(O7,Q7) -> C2M1000172J
AF108: =CONCATENATE(O8,Q8) -> C2M1000173J
AF109: =CONCATENATE(O9,Q9) -> C2M1000174J
AF110: =CONCATENATE(O10,Q10) -> C2M1000175J
AF111: =CONCATENATE(O11,Q11) -> C2M1000176J
AF112: =CONCATENATE(O12,Q12) -> C2M1000177J
AF113: =CONCATENATE(O13,Q13) -> C2M1000178J
AF114: =CONCATENATE(O14,Q14) -> C2M1000179J
AF115: =CONCATENATE(O15,Q15) -> C2M1000180J
AF116: =CONCATENATE(O16,Q16) -> C2M1000181J
AF117: =CONCATENATE(O17,Q17) -> C2M1000182J
... AF150: =CONCATENATE(O50,Q50) -> C2M1000215J
AF151: =CONCATENATE(U1,W1) -> C3M0016120K | AG151: N/A | AH151: C3M0021120K
AF152: =CONCATENATE(U2,W2) -> C3M0016120D | AG152: N/A | AH152: C3M0021120D
AF153: =CONCATENATE(U3,W3) -> C3M0021120K | AG153: C3M0016120K | AH153: C3M0032120K
AF154: =CONCATENATE(U4,W4) -> C3M0021120D | AG154: C3M0016120D | AH154: C3M0032120D
AF155: =CONCATENATE(U5,W5) -> C3M0021120D | AG155: C3M0016120D | AH155: C3M0032120D
AF156: =CONCATENATE(U6,W6) -> C3M0032120D | AG156: C3M0021120D | AH156: C3M0075120D
AF157: =CONCATENATE(U7,W7) -> C3M0032120K | AG157: C3M0021120K | AH157: C3M0075120K | AL157: C3M0160120D
AF158: =CONCATENATE(U8,W8) -> C3M0032120D | AG158: C3M0021120D | AH158: C3M0075120J | AL158: C3M0160120K
AF159: =CONCATENATE(U9,W9) -> C3M0075120J | AG159: C3M0032120K | AH159: C3M0160120J | AL159: C3M0160120J
AF160: =CONCATENATE(U10,W10) -> C3M0075120K | AG160: C3M0032120K | AH160: C3M0160120K | AL160: C3M0350120D
AF161: =CONCATENATE(U11,W11) -> C3M0075120D | AG161: C3M0032120D | AH161: C3M0160120D | AL161: C3M0350120K
AF162: =CONCATENATE(U12,W12) -> C3M0160120K | AG162: C3M0075120K | AH162: C3M0350120K | AL162: C3M0350120J
AF163: =CONCATENATE(U13,W13) -> C3M0160120D | AG163: C3M0075120D | AH163: C3M0350120D
AF164: =CONCATENATE(U14,W14) -> C3M0160120J | AG164: C3M0075120J | AH164: C3M0350120J
AF165: =CONCATENATE(U15,W15) -> C3M0350120K | AG165: C3M0160120K | AH165: N/A
AF166: =CONCATENATE(U16,W16) -> C3M0350120D | AG166: C3M0160120D | AH166: N/A
AF167: =CONCATENATE(U17,W17) -> C3M0350120J | AG167: C3M0160120J | AH167: N/A
AF168: =CONCATENATE(U18,W18) -> C2M0280128K
AF169: =CONCATENATE(U19,W19) -> C2M0280128K
AF170: =CONCATENATE(U20,W20) -> C2M0280129K
AF171: =CONCATENATE(U21,W21) -> C2M0280130K
AF172: =CONCATENATE(U22,W22) -> C2M0280131K
AF173: =CONCATENATE(U23,W23) -> C2M0280132K
AF174: =CONCATENATE(U24,W24) -> C2M0280133K
AF175: =CONCATENATE(U25,W25) -> C2M0280134K
AF176: =CONCATENATE(U26,W26) -> C2M0280135K
AF177: =CONCATENATE(U27,W27) -> C2M0280136K
AF178: =CONCATENATE(U28,W28) -> C2M0280137K
AF179: =CONCATENATE(U29,W29) -> C2M0280138K
... AF186: =CONCATENATE(U36,W36) -> C2M0280145K
...

Sheet Diodes
A1: Wolfspeed Cross | B1: Vbr | C1: Iout | D1: Manufacturer Part Number | E1: Wolfspeed Cross | F1: Voltage - Forward (Vf) (Max) @ If | G1: Description | H1: Package / Case
A2: C3D03060E | B2: 600 | C2: 3 | D2: IDD03SG60CXTMA2 | E2: Infineon Technologies | F2: 2.3V @ 3A | G2: DIODE SCHOTTKY 600V 3A TO252-3 | H2: TO-252-3, DPak (2 Leads + Tab), SC-63
A3: C3D03060A | B3: 600 | C3: 3 | D3: IDH03SG60CXKSA2 | E3: Infineon Technologies | F3: 2.3V @ 3A | G3: DIODE SCHOTTKY 600V 3A TO220-2 | H3: TO-220-2
A4: C6D04065A | B4: 600 | C4: 4 | D4: C3D02060F | E4: Cree/Wolfspeed | F4: 1.7V @ 2A | G4: DIODE SCHOTTKY 600V 4A TO220-F2 | H4: TO-220-2 Full Pack, Isolated Tab
A5: CSD01060A | B5: 600 | C5: 4 | D5: CSD01060A | E5: Cree/Wolfspeed | F5: 1.8V @ 1A | G5: DIODE SCHOTTKY 600V 2.2A TO220-2 | H5: TO-220-2
A6: CSD01060E | B6: 600 | C6: 4 | D6: CSD01060E | E6: Cree/Wolfspeed | F6: 1.8V @ 1A | G6: DIODE SCHOTTKY 600V 1A TO252-2 | H6: TO-252-3, DPak (2 Leads + Tab), SC-63
A7: CSD01060E | B7: 600 | C7: 4 | D7: CSD01060E-TR | E7: Cree/Wolfspeed | F7: 1.8V @ 1A | G7: DIODE SCHOTTKY 600V 1A TO252-2 | H7: TO-252-3, DPak (2 Leads + Tab), SC-63
A8: CSD01060 - no package match | B8: 600 | C8: 4 | D8: GB02SHT06-46 | E8: GeneSiC Semiconductor | F8: 1.6V @ 1A | G8: DIODE SCHOTTKY 600V 4A | H8: TO-206AB, TO-46-3 Metal Can
A9: C6D04065E | B9: 600 | C9: 4 | D9: IDD04SG60CXTMA2 | E9: Infineon Technologies | F9: 2.3V @ 4A | G9: DIODE SCHOTTKY 600V 4A TO252-3 | H9: TO-252-3, DPak (2 Leads + Tab), SC-63
A10: C6D04065A | B10: 600 | C10: 4 | D10: IDH04SG60CXKSA2 | E10: Infineon Technologies | F10: 2.3V @ 4A | G10: DIODE SCHOTTKY 600V 4A TO220-2 | H10: TO-220-2
A11: C6D04065E | B11: 600 | C11: 4 | D11: STPSC406B-TR | E11: STMicroelectronics | F11: 1.9V @ 4A | G11: DIODE SCHOTTKY 600V 4A DPAK | H11: TO-252-3, DPak (2 Leads + Tab), SC-63
A12: C6D04065A | B12: 600 | C12: 4 | D12: STPSC406D | E12: STMicroelectronics | F12: 1.9V @ 4A | G12: DIODE SCHOTTKY 600V 4A TO220AC | H12: TO-220-2
A13: C3D02060A | B13: 600 | C13: 5 | D13: C3D02060A | E13: Cree/Wolfspeed | F13: 1.7V @ 2A | G13: DIODE SCHOTTKY 600V 2A TO220-2 | H13: TO-220-2
... A333: C5D50065D | B333: 650 | C333: 100 | D333: C5D50065D | E333: Cree/Wolfspeed | F333: 1.8V @ 50A | G333: DIODE SCHOTTKY 650V 100A TO247-3 | H333: TO-247-3
A334: C3D16065D | B334: 650 | C334: - | D334: STPSC16H065AW | E334: STMicroelectronics | F334: 1.75V @ 16A | G334: SILICON CARBIDE DIODES | H334: TO-247-3
A335: C4D02120E | B335: 1200 | C335: 1 | D335: GB01SLT12-252 | E335: GeneSiC Semiconductor | F335: 1.8V @ 1A | G335: DIODE SILICON 1.2KV 1A TO252 | H335: TO-252-3, DPak (2 Leads + Tab), SC-63
A336: C4D02120 - no package match | B336: 1200 | C336: 2 | D336: GB02SLT12-214 | E336: GeneSiC Semiconductor | F336: 1.8V @ 1A | G336: DIODE SCHOTTKY 1.2KV 2A DO214AA | H336: DO-214AA, SMB
A337: C4D02120A | B337: 1200 | C337: 2 | D337: IDH02G120C5XKSA1 | E337: Infineon Technologies | F337: 1.65V @ 2A | G337: DIODE SCHOTTKY 1200V 2A TO220-2 | H337: TO-220-2
A338: C4D02120E | B338: 1200 | C338: 2 | D338: IDM02G120C5XTMA1 | E338: Infineon Technologies | F338: 1.65V @ 2A | G338: DIODE SCHOTTKY 1200V 2A TO252-2 | H338: TO-252-3, DPak (2 Leads + Tab), SC-63
A339: C4D02120A | B339: 1200 | C339: 2 | D339: STPSC2H12D | E339: STMicroelectronics | F339: 1.5V @ 2A | G339: DIODE SCHOTTKY 1.2KV 2A TO220AC | H339: TO-220-2
A340: C4D02120 - no package match | B340: 1200 | C340: 2.5 | D340: GB01SLT12-214 | E340: GeneSiC Semiconductor | F340: 1.8V @ 1A | G340: DIODE SCHOTTKY 1.2KV 2.5A SMB | H340: DO-214AA, SMB
A341: C4D02120E | B341: 1200 | C341: 5 | D341: GB02SLT12-252 | E341: GeneSiC Semiconductor | F341: 1.8V @ 2A | G341: DIODE SIC SCHKY 1.2KV 2A TO252 | H341: TO-252-3, DPak (2 Leads + Tab), SC-63
A342: C4D05120A | B342: 1200 | C342: 5 | D342: IDH05G120C5XKSA1 | E342: Infineon Technologies | F342: 1.8V @ 5A | G342: DIODE SCHOTTKY 1.2KV 5A TO220-2 | H342: TO-220-2
A343: C4D05120E | B343: 1200 | C343: 5 | D343: IDM05G120C5XTMA1 | E343: Infineon Technologies | F343: 1.8V @ 5A | G343: DIODE SCHOTTKY 1200V 5A TO252-2 | H343: TO-252-3, DPak (2 Leads + Tab), SC-63
A344: C4D05120A | B344: 1200 | C344: 5 | D344: LFUSCD05120A | E344: Littelfuse Inc. | F344: 1.7V @ 5A | G344: DIODE SC SCHOTTKY 1200V 5A TO220 | H344: TO-220-2
A345: C4D05120A | B345: 1200 | C345: 5 | D345: SCS205KGC | E345: Rohm Semiconductor | F345: 1.6V @ 5A | G345: DIODE SCHOTTKY 1.2KV 5A TO220AC | H345: TO-220-2
A346: C4D05120A | B346: 1200 | C346: 5 | D346: SCS205KGHRC | E346: Rohm Semiconductor | F346: 1.6V @ 5A | G346: DIODE SCHOTTKY 1200V 5A TO-220-2 | H346: TO-220-2
... A463: C4D20120H | B463: 1200 | C463: 212 | D463: GC50MPS12-247 | E463: GeneSiC Semiconductor | F463: 1.8V @ 50A | G463: SIC DIODE 1200V 50A TO-247-2 | H463: TO-247-2
A464: C4D10120E | B464: 1200 | C464: - | D464: FFSD10120A | E464: ON Semiconductor | F464: 1.75V @ 10A | G464: DIODE SCHOTTKY 1.2KV TO252 | H464: TO-252-3, DPak (2 Leads + Tab), SC-63
A465: C4D05120A | B465: 1200 | C465: - | D465: FFSP05120A | E465: ON Semiconductor | F465: 1.75V @ 5A | G465: DIODE SCHOTTKY 1.2KV TO220-2 | H465: TO-220-2
A466: C5D10170 - no package match | B466: 1700 | C466: 10 | D466: CPW3-1700-S010B-WP | E466: Cree/Wolfspeed | F466: 2V @ 10A | G466: DIODE SILICON 1.7KV 10A CHIP | H466: Die
A467: C5D05170H | B467: 1700 | C467: 18 | D467: C5D05170H | E467: Cree/Wolfspeed | F467: 1.8V @ 5A | G467: 5A, 1700V, G5 ZREC SIC SCHOTTKY | H467: TO-247-2
A468: C5D25170 - no package match | B468: 1700 | C468: 25 | D468: CPW3-1700-S025B-WP | E468: Cree/Wolfspeed | F468: 2V @ 25A | G468: DIODE SILICON 1.7KV 25A CHIP | H468: Die
A469: C5D05170H | B469: 1700 | C469: 25 | D469: GB05MPS17-247 | E469: GeneSiC Semiconductor | F469: 1.8V @ 5A | G469: SIC DIODE 1700V 5A TO-247-2 | H469: TO-247-2
A470: C5D10170H | B470: 1700 | C470: 33 | D470: C5D10170H | E470: Cree/Wolfspeed | F470: 1.8V @ 10A | G470: 10A, 1700V, G5 ZREC SIC SCHOTTKY | H470: TO-247-2
A471: C5D10170H | B471: 1700 | C471: 50 | D471: GB10MPS17-247 | E471: GeneSiC Semiconductor | F471: 1.8V @ 10A | G471: SIC DIODE 1700V 10A TO-247-2 | H471: TO-247-2
A472: C5D25170H | B472: 1700 | C472: 70 | D472: C5D25170H | E472: Cree/Wolfspeed | F472: 1.8V @ 25A | G472: 25A, 1700V, G5 ZREC SIC SCHOTTKY | H472: TO-247-2
A473: C5D25170H | B473: 1700 | C473: 110 | D473: GB25MPS17-247 | E473: GeneSiC Semiconductor | F473: 1.8V @ 25A | G473: SIC DIODE 1700V 25A TO-247-2 | H473: TO-247-2
A474: C5D25170H | B474: 1700 | C474: 216 | D474: GB50MPS17-247 | E474: GeneSiC Semiconductor | F474: 1.8V @ 50A | G474: SIC DIODE 1700V 50A TO-247-2 | H474: TO-247-2
A475: #VALUE! | B475: (blank) | C475: (blnk) | D475: (blank) | E475: (blank) | F475: (blank) | G475: (blank) | H475: (blank)
A476: #VALUE! | B476: (blank) | C476: (blank) | D476: (blank) | E476: (blank) | F476: (blank) | G476: (blank) | H476: (blank)

Sheet MOSFETs
A1: Manufacturer | B1: Line Item | C1: Rdson (max) | D1: Package | E1: Wolfspeed Cross
A2: United Silicon Carbide | B2: UF3SC065007K4S | C2: 9 | D2: TO-247-4 | E2: C3M0015065K
A3: Microsemi | B3: MSC015SMA070B | C3: 19 | D3: TO-247-3 | E3: C3M0015065D
A4: Rohm | B4: SCT3017ALHRC11 | C4: 22.1 | D4: TO-247-3 | E4: C3M0015065D
A5: STMicroelectronics | B5: SCTW90N65G2V | C5: 25 | D5: TO-247-3 | E5: C3M0015065D
A6: GeneSiC Semiconductor | B6: GA50JT06-258 | C6: 25 | D6: TO-258AA | E6: C3M0015065D
A7: STMicroelectronics | B7: SCTW100N65G2AG | C7: 26 | D7: TO-247-3 | E7: C3M0015065D
A8: STMicroelectronics | B8: SCTH100N65G2-7AG | C8: 26 | D8: TO-263-8, | E8: C3M0015065J
B9: SCTH90N65G2V-7 | C9: 26 | D9: TO-263-8, | E9: C3M0015065J
A10: Rohm | B10: SCT3022ALGC11 | C10: 28.6 | D10: TO-247-3 | E10: C3M0015065D
B11: SCT3022ALHRC11 | C11: 28.6 | D11: TO-247-3 | E11: C3M0015065D
A12: United Silicon Carbide | B12: UF3C065030T3S | C12: 35 | D12: TO-220-3 | E12: C3M0015065D
B13: UJ3C065030T3S | C13: 35 | D13: TO-220-3 | E13: C3M0015065D
A14: United Silicon Carbide | B14: UF3C065030K3S | C14: 35 | D14: TO-247-3 | E14: C3M0015065D
B15: UJ3C065030K3S | C15: 35 | D15: TO-247-3 | E15: C3M0015065D
A16: United Silicon Carbide | B16: UF3C065030K4S | C16: 35 | D16: TO-247-4 | E16: C3M0015065K
A17: United Silicon Carbide | B17: UF3C065030B3 | C17: 35 | D17: TO-263-3, | E17: C3M0015065J
B18: UJ3C065030B3 | C18: 35 | D18: TO-263-3, | E18: C3M0015065J
A19: Rohm | B19: SCT3030ALGC11 | C19: 39 | D19: TO-247-3 | E19: C3M0015065D
B20: SCT3030ALHRC11 | C20: 39 | D20: TO-247-3 | E20: C3M0015065D
A21: Rohm | B21: SCT3030ARC14 | C21: 39 | D21: TO-247-4 | E21: C3M0015065K
A22: United Silicon Carbide | B22: UF3C065040T3S | C22: 52 | D22: TO-220-3 | E22: C3M0015065D
A23: United Silicon Carbide | B23: UF3C065040K3S | C23: 52 | D23: TO-247-3 | E23: C3M0015065D
A24: United Silicon Carbide | B24: UF3C065040K4S | C24: 52 | D24: TO-247-4 | E24: C3M0015065K
A25: United Silicon Carbide | B25: UF3C065040B3 | C25: 52 | D25: TO-263-3, | E25: C3M0015065J
A26: STMicroelectronics | B26: SCTW35N65G2V | C26: 67 | D26: TO-247-3 | E26: C3M0060065D
B27: SCTW35N65G2VAG | C27: 67 | D27: TO-247-3 | E27: C3M0060065D
A28: STMicroelectronics | B28: SCTH35N65G2V-7 | C28: 67 | D28: TO-263-8, | E28: C3M0060065J
A29: Rohm | B29: SCT3060ALGC11 | C29: 78 | D29: TO-247-3 | E29: C3M0060065D
B30: SCT3060ALHRC11 | C30: 78 | D30: TO-247-3 | E30: C3M0060065D
A31: Rohm | B31: SCT3060ARC14 | C31: 78 | D31: TO-247-4 | E31: C3M0060065K
A32: United Silicon Carbide | B32: UF3C065080T3S | C32: 100 | D32: TO-220-3 | E32: C3M0060065K
B33: UJ3C065080T3S | C33: 100 | D33: TO-220-3 | E33: C3M0060065K
A34: United Silicon Carbide | B34: UF3C065080K3S | C34: 100 | D34: TO-247-3 | E34: C3M0060065K
A35: United Silicon Carbide | B35: UF3C065080K4S | C35: 100 | D35: TO-247-4 | E35: C3M0060065K
A36: Rohm | B36: SCT3080ALHRC11 | C36: 104 | D36: TO-247-3 | E36: C3M0060065D
A37: Rohm | B37: SCT3080ARC14 | C37: 104 | D37: TO-247-4 | E37: C3M0060065K
A38: United Silicon Carbide | B38: UJ3C065080K3S | C38: 111 | D38: TO-247-3 | E38: C3M0060065D
A39: United Silicon Carbide | B39: UJ3C065080B3 | C39: 111 | D39: TO-263-3, | E39: C3M0060065J
A40: Rohm | B40: SCT2120AFC | C40: 156 | D40: TO-220-3 | E40: C3M0120065D
A41: Rohm | B41: SCT3120ALGC11 | C41: 156 | D41: TO-247-3 | E41: C3M0120065D
B42: SCT3120ALHRC11 | C42: 156 | D42: TO-247-3 | E42: C3M0120065D
A43: ON Semiconductor | B43: NTHL020N090SC1 | C43: 28 | D43: TO-247-3 | E43: C3M0030090D
B44: NVHL020N090SC1 | C44: 28 | D44: TO-247-3 | E44: C3M0030090D
A45: ON Semiconductor | B45: NTBG020N090SC1 | C45: 28 | D45: TO-263-8, | E45: C3M0030090J
B46: NVBG020N090SC1 | C46: 28 | D46: TO-263-8, | E46: C3M0030090J
A47: Wolfspeed | B47: C3M0030090K | C47: 39 | D47: TO-247-4 | E47: C3M0030090K
A48: Wolfspeed | B48: C3M0065090D | C48: 78 | D48: TO-247-3 | E48: C3M0065090D
A49: Wolfspeed | B49: C3M0065090J | C49: 78 | D49: TO-263-8, | E49: C3M0065090J
C50: 78 | D50: TO-263-8, | E50: C3M0065090J
A51: ON Semiconductor | B51: NTHL060N090SC1 | C51: 84 | D51: TO-247-3 | E51: C3M0065090D
A52: Wolfspeed | B52: E3M0065090D | C52: 84.5 | D52: TO-247-3 | E52: C3M0065090D
A53: Wolfspeed | B53: C3M0120090D | C53: 155 | D53: TO-247-3 | E53: C3M0120090D
B54: E3M0120090D | C54: 155 | D54: TO-247-3 | E54: C3M0120090D
A55: Wolfspeed | B55: C3M0120090J | C55: 155 | D55: TO-263-8, | E55: C3M0120090J
C56: 155 | D56: TO-263-8, | E56: C3M0120090J
A57: Wolfspeed | B57: C3M0280090D | C57: 360 | D57: TO-247-3 | E57: C3M0280090D
B58: E3M0280090D | C58: 360 | D58: TO-247-3 | E58: C3M0280090D
A59: Wolfspeed | B59: C3M0280090J | C59: 360 | D59: TO-263-8, | E59: C3M0280090J
C60: 360 | D60: TO-263-8, | E60: C3M0280090J
A61: Microsemi | B61: APT100MC120JCU2 | C61: 17 | D61: SOT-227-4, | E61: C3M0016120D
A62: Wolfspeed | B62: C3M0016120D | C62: 22.3 | D62: TO-247-3 | E62: C3M0016120D
A63: Wolfspeed | B63: C3M0016120K | C63: 22.3 | D63: TO-247-4 | E63: C3M0016120K
A64: ON Semiconductor | B64: NTHL020N120SC1 | C64: 28 | D64: TO-247-3 | E64: C3M0016120D
B65: NVHL020N120SC1 | C65: 28 | D65: TO-247-3 | E65: C3M0016120D
A66: ON Semiconductor | B66: NTBG020N120SC1 | C66: 28 | D66: TO-263-8, | E66: C3M0016120J
B67: NVBG020N120SC1 | C67: 28 | D67: TO-263-8, | E67: C3M0016120J
A68: Rohm | B68: SCT3022KLGC11 | C68: 28.6 | D68: TO-247-3 | E68: C3M0016120D
B69: SCT3022KLHRC11 | C69: 28.6 | D69: TO-247-3 | E69: C3M0016120D
A70: Wolfspeed | B70: C3M0021120D | C70: 28.8 | D70: TO-247-3 | E70: C3M0016120D
A71: Wolfspeed | B71: C3M0021120K | C71: 28.8 | D71: TO-247-4 | E71: C3M0016120K
A72: Microsemi | B72: MSC025SMA120J | C72: 31 | D72: SOT-227-4, | E72: C3M0016120K
A73: Microsemi | B73: MSC025SMA120B | C73: 31 | D73: TO-247-3 | E73: C3M0016120D
A74: IXYS | B74: IXFN70N120SK | C74: 34 | D74: SOT-227-4, | E74: C3M0021120D
A75: Wolfspeed | B75: C2M0025120D | C75: 34 | D75: TO-247-3 | E75: C3M0021120D
A76: IXYS | B76: MCB60I1200TZ-TUB | C76: 34 | D76: TO-268-3, | E76: C3M0021120D
A77: Rohm | B77: SCT3030KLGC11 | C77: 39 | D77: TO-247-3 | E77: C3M0021120D
B78: SCT3030KLHRC11 | C78: 39 | D78: TO-247-3 | E78: C3M0021120D
A79: Infineon | B79: IMW120R030M1HXKSA1 | C79: 40 | D79: TO-247-3 | E79: C3M0021120D
A80: Infineon | B80: IMZ120R030M1HXKSA1 | C80: 40 | D80: TO-247-4 | E80: C3M0021120K
A81: Wolfspeed | B81: C3M0032120D | C81: 43 | D81: TO-247-3 | E81: C2M0025120D
A82: Wolfspeed | B82: C3M0032120K | C82: 43 | D82: TO-247-4 | E82: C2M0025120K
A83: IXYS | B83: IXFN50N120SIC | C83: 50 | D83: SOT-227-4, | E83: C2M0025120K
A84: Microsemi | B84: MSC040SMA120J | C84: 50 | D84: SOT-227-4, | E84: C2M0025120K
A85: IXYS | B85: IXFN50N120SK | C85: 52 | D85: SOT-227-4, | E85: C3M0032120K
A86: Rohm | B86: SCT3040KLGC11 | C86: 52 | D86: TO-247-3 | E86: C3M0032120D
B87: SCT3040KLHRC11 | C87: 52 | D87: TO-247-3 | E87: C3M0032120D
A88: Wolfspeed | B88: C2M0040120D | C88: 52 | D88: TO-247-3 | E88: C3M0032120D
A89: Rohm | B89: SCT3040KRC14 | C89: 52 | D89: TO-247-4 | E89: C3M0032120K
A90: Infineon | B90: IMW120R045M1XKSA1 | C90: 59 | D90: TO-247-3 | E90: C3M0032120D
A91: Infineon | B91: IMZ120R045M1XKSA1 | C91: 59 | D91: TO-247-4 | E91: C3M0032120K
A92: GeneSiC Semiconductor | B92: GA20JT12-263 | C92: 60 | D92: DÂ²Pak | E92: C3M0032120K
A93: STMicroelectronics | B93: SCT50N120 | C93: 69 | D93: TO-247-3 | E93: C2M0040120D
B94: SCTWA50N120 | C94: 69 | D94: TO-247-3 | E94: C2M0040120D
A95: Infineon | B95: IMW120R060M1HXKSA1 | C95: 78 | D95: TO-247-3 | E95: C2M0040120D
A96: Infineon | B96: IMZ120R060M1HXKSA1 | C96: 78 | D96: TO-247-4 | E96: C2M0040120K
A97: Wolfspeed | B97: C3M0075120D | C97: 90 | D97: TO-247-3 | E97: C2M0040120D
A98: Wolfspeed | B98: C3M0075120K | C98: 90 | D98: TO-247-4 | E98: C2M0040120K
A99: Wolfspeed | B99: C3M0075120J | C99: 90 | D99: TO-263-8, | E99: C2M0040120J
A100: Wolfspeed | B100: C2M0080120D | C100: 98 | D100: TO-247-3 | E100: C3M0075120D
...

Sheet 20200306_untitled_bom (1)
A1: Qty | B1: Line Item | C1: Manufacturer | D1: MPN | E1: Octopart URL | F1: Schematic Reference | G1: Internal Part Number | H1: Description | I1: Total Qty (@ Batch Size: 1) | J1: SKU | K1: SKU2 | L1: SKU3 | M1: SKU4 | N1: SKU5 | O1: SKU6 | P1: SKU7 | Q1: SKU8 | R1: SKU9 | S1: SKU10 | T1: SKU11 | U1: SKU12 | V1: SKU13 | W1: SKU14 | X1: Packaging | Y1: Packaging15 | Z1: Packaging16 | AA1: Packaging17 | AB1: Packaging18 | AC1: Packaging19 | AD1: Packaging20 | AE1: Packaging21 | AF1: Packaging22 | AG1: Packaging23 | AH1: Packaging24 | AI1: Packaging25 | AJ1: Packaging26 | AK1: Packaging27 | AL1: Digi-Key | AM1: Arrow Electronics, Inc. | AN1: Avnet | AO1: Avnet Europe | AP1: Chip One Stop Japan | AQ1: Future Electronics | AR1: Mouser | AS1: Newark | AT1: Richardson RFPD | AU1: RS Components | AV1: Rutronik | AW1: TME | AX1: TTI | AY1: Verical | AZ1: In Stock | BA1: In Stock28 | BB1: In Stock29 | BC1: In Stock30 | BD1: In Stock31 | BE1: In Stock32 | BF1: In Stock33 | BG1: In Stock34 | BH1: In Stock35 | BI1: In Stock36 | BJ1: In Stock37 | BK1: In Stock38 | BL1: In Stock39 | BM1: In Stock40 | BN1: MOQ | BO1: MOQ41 | BP1: MOQ42 | BQ1: MOQ43 | BR1: MOQ44 | BS1: MOQ45 | BT1: MOQ46 | BU1: MOQ47 | BV1: MOQ48 | BW1: MOQ49 | BX1: MOQ50 | BY1: MOQ51 | BZ1: MOQ52 | CA1: MOQ53 | CB1: URL | CC1: URL54 | CD1: URL55 | CE1: URL56 | CF1: URL57 | CG1: URL58 | CH1: URL59 | CI1: URL60 | CJ1: URL61 | CK1: URL62 | CL1: URL63 | CM1: URL64 | CN1: URL65 | CO1: URL66 | CP1: Distributor [Lowest Price (Overall)] | CQ1: SKU [Lowest Price (Overall)] | CR1: Packaging [Lowest Price (Overall)] | CS1: Unit Price (@ Batch Size: 1) [Lowest Price (Overall)] | CT1: Line Total [Lowest Price (Overall)] | CU1: Batch Total [Lowest Price (Overall)] | CV1: In Stock [Lowest Price (Overall)] | CW1: MOQ [Lowest Price (Overall)] | CX1: URL [Lowest Price (Overall)] | CY1: Rdsontext | CZ1: Id | DA1: Vgsmax | DB1: Package | DC1: Rdson | DD1: br | DE1: Suffix | DF1: Column1
A2: 10000 | B2: GA50JT06-258 | C2: GeneSiC Semiconductor | D2: GA50JT06-258 | E2: https://octopart.com/ga50jt06-258-genesic+semiconductor-50255812 | F2: 600V 25mOhm @ 50A TO-258-3, TO-258AA | G2: Id=100A (Tc) Vgsmax=- Vth=- | H2: Qg=- Ciss=- | I2: 10000 | J2: 1242-1253-ND | X2: Bulk | AL2: 601.94 | AZ2: 0 | BN2: 10 | CB2: https://octopart.com/click/track?c=1&ai=8237&sig=0b5afa5&sid=459&ppid=50255812&vpid=161862115&ct=offers | CP2: Digi-Key | CQ2: 1242-1253-ND | CR2: Bulk | CS2: 601.94 | CT2: 6019400 | CU2: 6019400 | CV2: 0 | CW2: 10 | CX2: https://octopart.com/click/track?c=1&ai=8237&sig=0b5afa5&sid=459&ppid=50255812&vpid=161862115&ct=offers | CY2: 25mOhm | CZ2: 50A | DA2: TO-258-3, | DB2: TO-258AA | DC2: 25 | DD2: 650 | DE2: =IF(DB2="TO-247-3","D",IF(DB2="TO-247-4","K",IF(LEFT(DB2,6)="TO-263","J","K"))) -> K
A3: 10000 | B3: GA20JT12-263 | C3: GeneSiC Semiconductor | D3: GA20JT12-263 | E3: https://octopart.com/ga20jt12-263-genesic+semiconductor-30949953 | F3: 1200V 60mOhm @ 20A TO-263-8, DÂ²Pak (7 Leads + Tab), TO-263CA | G3: Id=45A (Tc) Vgsmax=- Vth=- | H3: Qg=- Ciss=3091pF @ 800V | I3: 10000 | J3: 1242-1189-ND | P3: 905-GA20JT12-263 | X3: Tube | AD3: Tape & Reel | AL3: 25.39544 | AR3: 31.21 | AZ3: 155 | BF3: 15 | BN3: 1 | BT3: 1 | CB3: https://octopart.com/click/track?ai=8237&sig=024d2d6&sid=459&ppid=30949953&vpid=91295666&ct=offers | CH3: https://octopart.com/click/track?ai=8237&sig=0e9393e&sid=2401&ppid=30949953&vpid=241918531&ct=offers | CP3: Master Electronics | CQ3: GA20JT12-263 | CS3: 25.03 | CT3: 250300 | CU3: 250300 | CV3: 0 | CW3: 313 | CX3: https://octopart.com/click/track?c=1&ai=8237&sig=09690c3&sid=2595&ppid=30949953&vpid=544351735&ct=offers | CY3: 60mOhm | CZ3: 20A | DA3: TO-263-8, | DB3: TO-263 | DC3: 60 | DD3: 1200 | DE3: =IF(DB3="TO-247-3","D",IF(DB3="TO-247-4","K",IF(LEFT(DB3,6)="TO-263","J","K"))) -> J
A4: 10000 | B4: GA10SICP12-263 | C4: GeneSiC Semiconductor | D4: GA10SICP12-263 | E4: https://octopart.com/ga10sicp12-263-genesic+semiconductor-61580712 | F4: 1200V 100mOhm @ 10A TO-263-8, DÂ²Pak (7 Leads + Tab), TO-263CA | G4: Id=25A (Tc) Vgsmax=- Vth=- | H4: Qg=- Ciss=1403pF @ 800V | I4: 10000 | J4: 1242-1318-ND | P4: 905-GA10SICP12-263 | X4: Tube | AD4: Tape & Reel | AL4: 25.27424 | AR4: 30.89 | AZ4: 0 | BF4: 57 | BN4: 500 | BT4: 1 | CB4: https://octopart.com/click/track?c=1&ai=8237&sig=02f854f&sid=459&ppid=61580712&vpid=232640500&ct=offers | CH4: https://octopart.com/click/track?ai=8237&sig=0d02ad8&sid=2401&ppid=61580712&vpid=239357292&ct=offers | CP4: Digi-Key | CQ4: 1242-1318-ND | CR4: Tube | CS4: 25.27424 | CT4: 252742.4 | CU4: 252742.4 | CV4: 0 | CW4: 500 | CX4: https://octopart.com/click/track?c=1&ai=8237&sig=02f854f&sid=459&ppid=61580712&vpid=232640500&ct=offers | CY4: 100mOhm | CZ4: 10A | DA4: TO-263-8, | DB4: TO-263 | DC4: 100 | DD4: 1200 | DE4: =IF(DB4="TO-247-3","D",IF(DB4="TO-247-4","K",IF(LEFT(DB4,6)="TO-263","J","K"))) -> J
A5: 10000 | B5: GA10JT12-263 | C5: GeneSiC Semiconductor | D5: GA10JT12-263 | E5: https://octopart.com/ga10jt12-263-genesic+semiconductor-30949952 | F5: 1200V 120mOhm @ 10A - | G5: Id=25A (Tc) Vgsmax=- Vth=- | H5: Qg=- Ciss=1403pF @ 800V | I5: 10000 | J5: 1242-1186-ND | P5: 905-GA10JT12-263 | Q5: 08X5868 | X5: Tube | AD5: Tape & Reel | AL5: 13.15122 | AR5: 15.31 | AS5: 18.28 | AZ5: 691 | BF5: 17 | BG5: 0 | BN5: 1 | BT5: 1 | BU5: 1250 | CB5: https://octopart.com/click/track?ai=8237&sig=02be008&sid=459&ppid=30949952&vpid=91295665&ct=offers | CH5: https://octopart.com/click/track?ai=8237&sig=009e2d8&sid=2401&ppid=30949952&vpid=241918530&ct=offers | CI5: https://octopart.com/click/track?c=1&ai=8237&sig=04cc738&sid=2402&ppid=30949952&vpid=89569525&ct=offers | CP5: Master Electronics | CQ5: GA10JT12-263 | CS5: 12.51 | CT5: 125100 | CU5: 125100 | CV5: 0 | CW5: 313 | CX5: https://octopart.com/click/track?c=1&ai=8237&sig=07d7ff1&sid=2595&ppid=30949952&vpid=544351733&ct=offers | CY5: 120mOhm | CZ5: 10A | DA5: - | DB5: TO-247-3 | DC5: 120 | DD5: 1200 | DE5: =IF(DB5="TO-247-3","D",IF(DB5="TO-247-4","K",IF(LEFT(DB5,6)="TO-263","J","K"))) -> D
A6: 10000 | B6: GA08JT17-247 | C6: GeneSiC Semiconductor | D6: GA08JT17-247 | E6: https://octopart.com/ga08jt17-247-genesic+semiconductor-24874688 | F6: 1700V 250mOhm @ 8A TO-247-3 | G6: Id=8A (Tc) (90Â°C) Vgsmax=- Vth=- | H6: Qg=- Ciss=- | I6: 10000 | J6: 1242-1135-ND | Q6: 46W2773 | X6: Tube | AL6: 43.0866 | AS6: 49.71 | AZ6: 631 | BG6: 0 | BN6: 1 | BU6: 450 | CB6: https://octopart.com/click/track?ai=8237&sig=0b98534&sid=459&ppid=24874688&vpid=67450421&ct=offers | CI6: https://octopart.com/click/track?c=1&ai=8237&sig=00e42b5&sid=2402&ppid=24874688&vpid=57576977&ct=offers | CP6: Digi-Key | CQ6: 1242-1135-ND | CR6: Tube | CS6: 43.0866 | CT6: 430866 | CU6: 430866 | CV6: 631 | CW6: 1 | CX6: https://octopart.com/click/track?ai=8237&sig=0b98534&sid=459&ppid=24874688&vpid=67450421&ct=offers | CY6: 250mOhm | CZ6: 8A | DA6: TO-247-3 | DB6: TO-247-3 | DC6: 250 | DD6: 1700 | DE6: =IF(DB6="TO-247-3","D",IF(DB6="TO-247-4","K",IF(LEFT(DB6,6)="TO-263","J","K"))) -> D
A7: 10000 | B7: GA05JT12-263 | C7: GeneSiC Semiconductor | D7: GA05JT12-263 | E7: https://octopart.com/ga05jt12-263-genesic+semiconductor-30949951 | F7: 1200V - TO-263-8, DÂ²Pak (7 Leads + Tab), TO-263CA | G7: Id=15A (Tc) Vgsmax=- Vth=- | H7: Qg=- Ciss=- | I7: 10000 | J7: 1242-1184-ND | Q7: 08X5866 | X7: Tube | AL7: 6.13575 | AS7: 0.675 | AZ7: 945 | BG7: 26 | BN7: 1 | BU7: 1 | CB7: https://octopart.com/click/track?ai=8237&sig=045742c&sid=459&ppid=30949951&vpid=91295664&ct=offers | CI7: https://octopart.com/click/track?ai=8237&sig=081dda7&sid=2402&ppid=30949951&vpid=89569480&ct=offers | CP7: Newark | CQ7: 08X5866 | CS7: 0.675 | CT7: 6750 | CU7: 6750 | CV7: 26 | CW7: 1 | CX7: https://octopart.com/click/track?ai=8237&sig=081dda7&sid=2402&ppid=30949951&vpid=89569480&ct=offers | CY7: - | CZ7: DÂ²Pak | DA7: (7 | DB7: TO-263 | DC7: 1000 | DD7: 1200 | DE7: =IF(DB7="TO-247-3","D",IF(DB7="TO-247-4","K",IF(LEFT(DB7,6)="TO-263","J","K"))) -> J
A8: 10000 | B8: IMW120R030M1HXKSA1 | C8: Infineon | D8: IMW120R030M1HXKSA1 | E8: https://octopart.com/imw120r030m1hxksa1-infineon-103317928 | F8: 1.2kV 40mOhm @ 25A, 18V TO-247-3 | G8: Id=56A (Tc) Vgsmax=15V, 18V Vth=5.7V @ 10mA | H8: Qg=63nC @ 18V Ciss=2.12nF @ 800V | I8: 10000 | J8: IMW120R030M1HXKSA1-ND | L8: IMW120R030M1HXKSA1 | M8: SP001727390 | P8: 726-IMW120R030M1HXKS | Q8: 29AH1031 | T8: TMOS2965 | X8: Tube | AD8: Tube | AL8: 16.96858 | AN8: 16.84201 | AO8: 19.089362 | AR8: 19.88 | AS8: 17.3 | AV8: 18.37 | AZ8: 124 | BB8: 0 | BC8: 806 | BF8: 213 | BG8: 413 | BJ8: 6 | BN8: 1 | BP8: 30 | BQ8: 1 | BT8: 1 | BU8: 1 | BX8: 30 | CB8: https://octopart.com/click/track?ai=8237&sig=00823e9&sid=459&ppid=103317928&vpid=576948913&ct=offers | CD8: https://octopart.com/click/track?c=1&ai=8237&sig=045c8fc&sid=5822&ppid=103317928&vpid=575333034&ct=offers | CE8: https://octopart.com/click/track?ai=8237&sig=0344a0f&sid=15544&ppid=103317928&vpid=577825268&ct=offers | CH8: https://octopart.com/click/track?ai=8237&sig=0cf777e&sid=2401&ppid=103317928&vpid=578355249&ct=offers | CI8: https://octopart.com/click/track?ai=8237&sig=07d6be3&sid=2402&ppid=103317928&vpid=579314181&ct=offers | CL8: https://octopart.com/click/track?ai=8237&sig=00a5788&sid=18993&ppid=103317928&vpid=596767973&ct=offers | CP8: Avnet | CQ8: IMW120R030M1HXKSA1 | CS8: 16.84201 | CT8: 168420.1 | CU8: 168420.1 | CV8: 0 | CW8: 30 | CX8: https://octopart.com/click/track?c=1&ai=8237&sig=045c8fc&sid=5822&ppid=103317928&vpid=575333034&ct=offers | CY8: 40mOhm | CZ8: 25A, | DA8: 18V | DB8: TO-247-3 | DC8: 40 | DD8: 1200 | DE8: =IF(DB8="TO-247-3","D",IF(DB8="TO-247-4","K",IF(LEFT(DB8,6)="TO-263","J","K"))) -> D
A9: 10000 | B9: IMZ120R030M1HXKSA1 | C9: Infineon | D9: IMZ120R030M1HXKSA1 | E9: https://octopart.com/imz120r030m1hxksa1-infineon-103046432 | F9: 1.2kV 40mOhm @ 25A, 18V TO-247-4 | G9: Id=56A (Tc) Vgsmax=15V, 18V Vth=5.7V @ 10mA | H9: Qg=63nC @ 18V Ciss=2.12nF @ 800V | I9: 10000 | J9: IMZ120R030M1HXKSA1-ND | L9: IMZ120R030M1HXKSA1 | M9: SP001727394 | O9: IMZ120R030M1HXKSA1-TUBE | P9: 726-IMZ120R030M1HXKS | Q9: 29AH1037 | T9: TMOS2946 | X9: Tube | AC9: Tube | AD9: Tube | AL9: 17.3975 | AN9: 17.26774 | AO9: 19.571836 | AQ9: 21.36 | AR9: 20.38 | AS9: 17.73 | AV9: 19.91 | AZ9: 168 | BB9: 0 | BC9: 1370 | BE9: 240 | BF9: 91 | BG9: 286 | BJ9: 12 | BN9: 1 | BP9: 240 | BQ9: 1 | BS9: 240 | BT9: 1 | BU9: 1 | BX9: 30 | CB9: https://octopart.com/click/track?ai=8237&sig=0daa28c&sid=459&ppid=103046432&vpid=576948920&ct=offers | CD9: https://octopart.com/click/track?c=1&ai=8237&sig=016c0ef&sid=5822&ppid=103046432&vpid=562297521&ct=offers | CE9: https://octopart.com/click/track?ai=8237&sig=0175787&sid=15544&ppid=103046432&vpid=577825272&ct=offers | CG9: https://octopart.com/click/track?ai=8237&sig=0f64ab2&sid=2454&ppid=103046432&vpid=608908120&ct=offers | CH9: https://octopart.com/click/track?ai=8237&sig=09a192c&sid=2401&ppid=103046432&vpid=578355255&ct=offers | CI9: https://octopart.com/click/track?ai=8237&sig=05d1bc3&sid=2402&ppid=103046432&vpid=579314187&ct=offers | CL9: https://octopart.com/click/track?ai=8237&sig=01dab6b&sid=18993&ppid=103046432&vpid=595493488&ct=offers | CP9: Avnet | CQ9: IMZ120R030M1HXKSA1 | CS9: 17.26774 | CT9: 172677.4 | CU9: 172677.4 | CV9: 0 | CW9: 240 | CX9: https://octopart.com/click/track?c=1&ai=8237&sig=016c0ef&sid=5822&ppid=103046432&vpid=562297521&ct=offers | CY9: 40mOhm | CZ9: 25A, | DA9: 18V | DB9: TO-247-4 | DC9: 40 | DD9: 1200 | DE9: =IF(DB9="TO-247-3","D",IF(DB9="TO-247-4","K",IF(LEFT(DB9,6)="TO-263","J","K"))) -> K
A10: 10000 | B10: IMW120R045M1XKSA1 | C10: Infineon | D10: IMW120R045M1XKSA1 | E10: https://octopart.com/imw120r045m1xksa1-infineon-100106595 | F10: 1.2kV 59mOhm @ 20A, 15V TO-247-3 | G10: Id=52A (Tc) Vgsmax=15V Vth=5.7V @ 10mA | H10: Qg=52nC @ 15V Ciss=1.9nF @ 800V | I10: 10000 | J10: IMW120R045M1XKSA1-ND | K10: IMW120R045M1XKSA1 | L10: IMW120R045M1XKSA1 | M10: SP001346254 | O10: IMW120R045M1XKSA1-TUBE | P10: 726-IMW120R045M1XKS1 | Q10: 39AH8888 | T10: TMOS1473 | X10: Tube | AC10: Tube | AD10: Tube | AL10: 14.5262 | AM10: 14.3625 | AN10: 14.41786 | AO10: 16.341543 | AQ10: 17.83 | AR10: 18.53 | AS10: 13.77 | AV10: 16.03 | AZ10: 273 | BA10: 144 | BB10: 0 | BC10: 0 | BE10: 240 | BF10: 808 | BG10: 168 | BJ10: 124 | BN10: 1 | BO10: 1 | BP10: 240 | BQ10: 1 | BS10: 240 | BT10: 1 | BU10: 1 | BX10: 30 | CB10: https://octopart.com/click/track?ai=8237&sig=01212b4&sid=459&ppid=100106595&vpid=576948914&ct=offers | CC10: https://octopart.com/click/track?ai=8237&sig=04ae06d&sid=1106&ppid=100106595&vpid=594818813&ct=offers | CD10: https://octopart.com/click/track?c=1&ai=8237&sig=056906b&sid=5822&ppid=100106595&vpid=535413974&ct=offers | CE10: https://octopart.com/click/track?c=1&ai=8237&sig=0909d64&sid=15544&ppid=100106595&vpid=507551754&ct=offers | CG10: https://octopart.com/click/track?ai=8237&sig=043a224&sid=2454&ppid=100106595&vpid=605175758&ct=offers | CH10: https://octopart.com/click/track?ai=8237&sig=02cf565&sid=2401&ppid=100106595&vpid=546621441&ct=offers | CI10: https://octopart.com/click/track?ai=8237&sig=0631cb9&sid=2402&ppid=100106595&vpid=592528197&ct=offers | CL10: https://octopart.com/click/track?ai=8237&sig=0368e33&sid=18993&ppid=100106595&vpid=504353219&ct=offers | CP10: Newark | CQ10: 39AH8888 | CS10: 13.77 | CT10: 137700 | CU10: 137700 | CV10: 168 | CW10: 1 | CX10: https://octopart.com/click/track?ai=8237&sig=0631cb9&sid=2402&ppid=100106595&vpid=592528197&ct=offers | CY10: 59mOhm | CZ10: 20A, | DA10: 15V | DB10: TO-247-3 | DC10: 59 | DD10: 1200 | DE10: =IF(DB10="TO-247-3","D",IF(DB10="TO-247-4","K",IF(LEFT(DB10,6)="TO-263","J","K"))) -> D
A11: 10000 | B11: IMZ120R045M1XKSA1 | C11: Infineon | D11: IMZ120R045M1XKSA1 | E11: https://octopart.com/imz120r045m1xksa1-infineon-91076059 | F11: 1200V 59mOhm @ 20A, 15V TO-247-4 | G11: Id=52A (Tc) Vgsmax=15V Vth=5.7V @ 10mA | H11: Qg=52nC @ 15V Ciss=1900pF @ 800V | I11: 10000 | J11: 448-IMZ120R045M1XKSA1-ND | K11: IMZ120R045M1XKSA1 | L11: IMZ120R045M1XKSA1 | M11: SP001346258 | P11: 726-IMZ120R045M1XKS1 | Q11: 39AH8889 | W11: IMZ120R045M1XKSA1 | X11: Tray | AD11: Tube | AL11: 15.68768 | AM11: 14.7512 | AN11: 15.57067 | AO11: 21.199442 | AR11: 19.45 | AS11: 13.38 | AY11: 14.1239 | AZ11: 13 | BA11: 25 | BB11: 0 | BC11: 1223 | BF11: 407 | BG11: 170 | BM11: 25 | BN11: 1 | BO11: 1 | BP11: 240 | BQ11: 1 | BT11: 1 | BU11: 1 | CA11: 1 | CB11: https://octopart.com/click/track?ai=8237&sig=0cdd42b&sid=459&ppid=91076059&vpid=582322520&ct=offers | CC11: https://octopart.com/click/track?ai=8237&sig=0adbb31&sid=1106&ppid=91076059&vpid=594818814&ct=offers | CD11: https://octopart.com/click/track?c=1&ai=8237&sig=080d581&sid=5822&ppid=91076059&vpid=475780504&ct=offers | CE11: https://octopart.com/click/track?ai=8237&sig=05389aa&sid=15544&ppid=91076059&vpid=510912778&ct=offers | CH11: https://octopart.com/click/track?ai=8237&sig=0d799b9&sid=2401&ppid=91076059&vpid=548539711&ct=offers | CI11: https://octopart.com/click/track?ai=8237&sig=01f5e67&sid=2402&ppid=91076059&vpid=592528198&ct=offers | CO11: https://octopart.com/click/track?ai=8237&sig=05393f2&sid=5489&ppid=91076059&vpid=597328029&ct=offers | CP11: Newark | CQ11: 39AH8889 | CS11: 13.38 | CT11: 133800 | CU11: 133800 | CV11: 170 | CW11: 1 | CX11: https://octopart.com/click/track?ai=8237&sig=01f5e67&sid=2402&ppid=91076059&vpid=592528198&ct=offers | CY11: 59mOhm | CZ11: 20A, | DA11: 15V | DB11: TO-247-4 | DC11: 59 | DD11: 1200 | DE11: =IF(DB11="TO-247-3","D",IF(DB11="TO-247-4","K",IF(LEFT(DB11,6)="TO-263","J","K"))) -> K
A12: 10000 | B12: IMW120R060M1HXKSA1 | C12: Infineon | D12: IMW120R060M1HXKSA1 | E12: https://octopart.com/imw120r060m1hxksa1-infineon-103317929 | F12: 1.2kV 78mOhm @ 13A, 18V TO-247-3 | G12: Id=36A (Tc) Vgsmax=15V, 18V Vth=5.7V @ 5.6mA | H12: Qg=31nC @ 18V Ciss=1.06nF @ 800V | I12: 10000 | J12: IMW120R060M1HXKSA1-ND | L12: IMW120R060M1HXKSA1 | M12: SP001808368 | O12: IMW120R060M1HXKSA1-TUBE | P12: 726-IMW120R060M1HXKS | Q12: 29AH1032 | T12: TMOS2966 | X12: Tube | AC12: Tube | AD12: Tube | AL12: 11.34654 | AN12: 9.94155 | AO12: 11.047171 | AQ12: 12.3 | AR12: 12.12 | AS12: 10.21 | AV12: 11.05 | AZ12: 125 | BB12: 0 | BC12: 952 | BE12: 240 | BF12: 50 | BG12: 38 | BJ12: 10 | BN12: 1 | BP12: 240 | BQ12: 1 | BS12: 240 | BT12: 1 | BU12: 1 | BX12: 30 | CB12: https://octopart.com/click/track?ai=8237&sig=00b8725&sid=459&ppid=103317929&vpid=576948915&ct=offers | CD12: https://octopart.com/click/track?c=1&ai=8237&sig=0a2c974&sid=5822&ppid=103317929&vpid=575333035&ct=offers | CE12: https://octopart.com/click/track?ai=8237&sig=07d6ec3&sid=15544&ppid=103317929&vpid=577825269&ct=offers | CG12: https://octopart.com/click/track?ai=8237&sig=0dab881&sid=2454&ppid=103317929&vpid=605175759&ct=offers | CH12: https://octopart.com/click/track?ai=8237&sig=07bb868&sid=2401&ppid=103317929&vpid=578355250&ct=offers | CI12: https://octopart.com/click/track?ai=8237&sig=0eeaaa3&sid=2402&ppid=103317929&vpid=579314182&ct=offers | CL12: https://octopart.com/click/track?ai=8237&sig=00b6989&sid=18993&ppid=103317929&vpid=596767975&ct=offers | CP12: Avnet | CQ12: IMW120R060M1HXKSA1 | CS12: 9.94155 | CT12: 99415.5 | CU12: 99415.5 | CV12: 0 | CW12: 240 | CX12: https://octopart.com/click/track?c=1&ai=8237&sig=0a2c974&sid=5822&ppid=103317929&vpid=575333035&ct=offers | CY12: 78mOhm | CZ12: 13A, | DA12: 18V | DB12: TO-247-3 | DC12: 78 | DD12: 1200 | DE12: =IF(DB12="TO-247-3","D",IF(DB12="TO-247-4","K",IF(LEFT(DB12,6)="TO-263","J","K"))) -> D
A13: 10000 | B13: IMZ120R060M1HXKSA1 | C13: Infineon | D13: IMZ120R060M1HXKSA1 | E13: https://octopart.com/imz120r060m1hxksa1-infineon-103132111 | F13: 1.2kV 78mOhm @ 13A, 18V TO-247-4 | G13: Id=36A (Tc) Vgsmax=15V, 18V Vth=5.7V @ 5.6mA | H13: Qg=31nC @ 18V Ciss=1.06nF @ 800V | I13: 10000 | J13: IMZ120R060M1HXKSA1-ND | L13: IMZ120R060M1HXKSA1 | M13: SP001808370 | O13: IMZ120R060M1HXKSA1-TUBE | P13: 726-IMZ120R060M1HXKS | Q13: 29AH1038 | T13: TMOS2947 | X13: Tube | AC13: Tube | AD13: Tube | AL13: 11.8584 | AN13: 10.39002 | AO13: 11.545405 | AQ13: 12.85 | AR13: 15.07 | AS13: 10.67 | AV13: 11.55 | AZ13: 260 | BB13: 0 | BC13: 234 | BE13: 240 | BF13: 68 | BG13: 224 | BJ13: 12 | BN13: 1 | BP13: 240 | BQ13: 1 | BS13: 240 | BT13: 1 | BU13: 1 | BX13: 30 | CB13: https://octopart.com/click/track?ai=8237&sig=00d3f33&sid=459&ppid=103132111&vpid=576948921&ct=offers | CD13: https://octopart.com/click/track?c=1&ai=8237&sig=0e82395&sid=5822&ppid=103132111&vpid=568891043&ct=offers | CE13: https://octopart.com/click/track?ai=8237&sig=042ea22&sid=15544&ppid=103132111&vpid=577825273&ct=offers | CG13: https://octopart.com/click/track?ai=8237&sig=0f92034&sid=2454&ppid=103132111&vpid=605175760&ct=offers | CH13: https://octopart.com/click/track?ai=8237&sig=029a5bd&sid=2401&ppid=103132111&vpid=578355256&ct=offers | CI13: https://octopart.com/click/track?ai=8237&sig=03dd196&sid=2402&ppid=103132111&vpid=579314188&ct=offers | CL13: https://octopart.com/click/track?ai=8237&sig=0653222&sid=18993&ppid=103132111&vpid=595493489&ct=offers | CP13: Avnet | CQ13: IMZ120R060M1HXKSA1 | CS13: 10.39002 | CT13: 103900.2 | CU13: 103900.2 | CV13: 0 | CW13: 240 | CX13: https://octopart.com/click/track?c=1&ai=8237&sig=0e82395&sid=5822&ppid=103132111&vpid=568891043&ct=offers | CY13: 78mOhm | CZ13: 13A, | DA13: 18V | DB13: TO-247-4 | DC13: 78 | DD13: 1200 | DE13: =IF(DB13="TO-247-3","D",IF(DB13="TO-247-4","K",IF(LEFT(DB13,6)="TO-263","J","K"))) -> K
A14: 10000 | B14: IMW120R090M1HXKSA1 | C14: Infineon | D14: IMW120R090M1HXKSA1 | E14: https://octopart.com/imw120r090m1hxksa1-infineon-103317930 | F14: 1.2kV 117mOhm @ 8.5A, 18V TO-247-3 | G14: Id=26A (Tc) Vgsmax=15V, 18V Vth=5.7V @ 3.7mA | H14: Qg=21nC @ 18V Ciss=707pF @ 800V | I14: 10000 | J14: IMW120R090M1HXKSA1-ND | L14: IMW120R090M1HXKSA1 | M14: SP001946164 | O14: IMW120R090M1HXKSA1-TUBE | P14: 726-IMW120R090M1HXKS | Q14: 29AH1033 | T14: TMOS2967 | X14: Tube | AC14: Tube | AD14: Tube | AL14: 7.98944 | AN14: 7.63174 | AO14: 8.5432397 | AQ14: 9.44 | AR14: 9.31 | AS14: 7.83 | AV14: 8.33 | AZ14: 233 | BB14: 0 | BC14: 0 | BE14: 240 | BF14: 269 | BG14: 190 | BJ14: 10 | BN14: 1 | BP14: 240 | BQ14: 30 | BS14: 240 | BT14: 1 | BU14: 1 | BX14: 30 | CB14: https://octopart.com/click/track?ai=8237&sig=0466a64&sid=459&ppid=103317930&vpid=576948916&ct=offers | CD14: https://octopart.com/click/track?c=1&ai=8237&sig=00ed5ed&sid=5822&ppid=103317930&vpid=575333036&ct=offers | CE14: https://octopart.com/click/track?c=1&ai=8237&sig=02e2fd0&sid=15544&ppid=103317930&vpid=577825270&ct=offers | CG14: https://octopart.com/click/track?ai=8237&sig=0f64ea5&sid=2454&ppid=103317930&vpid=608908118&ct=offers | CH14: https://octopart.com/click/track?ai=8237&sig=066815a&sid=2401&ppid=103317930&vpid=578355251&ct=offers | CI14: https://octopart.com/click/track?ai=8237&sig=07abdda&sid=2402&ppid=103317930&vpid=579314183&ct=offers | CL14: https://octopart.com/click/track?ai=8237&sig=018e4e9&sid=18993&ppid=103317930&vpid=596767978&ct=offers | CP14: Avnet | CQ14: IMW120R090M1HXKSA1 | CS14: 7.63174 | CT14: 76317.4 | CU14: 76317.4 | CV14: 0 | CW14: 240 | CX14: https://octopart.com/click/track?c=1&ai=8237&sig=00ed5ed&sid=5822&ppid=103317930&vpid=575333036&ct=offers | CY14: 117mOhm | CZ14: 8.5A, | DA14: 18V | DB14: TO-247-3 | DC14: 117 | DD14: 1200 | DE14: =IF(DB14="TO-247-3","D",IF(DB14="TO-247-4","K",IF(LEFT(DB14,6)="TO-263","J","K"))) -> D
A15: 10000 | B15: IMZ120R090M1HXKSA1 | C15: Infineon | D15: IMZ120R090M1HXKSA1 | E15: https://octopart.com/imz120r090m1hxksa1-infineon-102284137 | F15: 1.2kV 117mOhm @ 8.5A, 18V TO-247-4 | G15: Id=26A (Tc) Vgsmax=15V, 18V Vth=5.7V @ 3.7mA | H15: Qg=21nC @ 18V Ciss=707pF @ 800V | I15: 10000 | J15: IMZ120R090M1HXKSA1-ND | L15: IMZ120R090M1HXKSA1 | M15: SP001946182 | O15: IMZ120R090M1HXKSA1-TUBE | P15: 726-IMZ120R090M1HXKS | Q15: 29AH1039 | T15: TMOS2969 | X15: Tube | AC15: Tube | AD15: Tube | AL15: 8.47755 | AN15: 8.09799 | AO15: 9.1785833 | AQ15: 10.02 | AR15: 9.87 | AS15: 8.32 | AV15: 9 | AZ15: 273 | BB15: 0 | BC15: 240 | BE15: 240 | BF15: 275 | BG15: 223 | BJ15: 10 | BN15: 1 | BP15: 240 | BQ15: 1 | BS15: 240 | BT15: 1 | BU15: 1 | BX15: 30 | CB15: https://octopart.com/click/track?ai=8237&sig=05714e7&sid=459&ppid=102284137&vpid=576948922&ct=offers | CD15: https://octopart.com/click/track?c=1&ai=8237&sig=057e5bd&sid=5822&ppid=102284137&vpid=568891045&ct=offers | CE15: https://octopart.com/click/track?ai=8237&sig=0546041&sid=15544&ppid=102284137&vpid=549504808&ct=offers | CG15: https://octopart.com/click/track?ai=8237&sig=060e4fe&sid=2454&ppid=102284137&vpid=605175761&ct=offers | CH15: https://octopart.com/click/track?ai=8237&sig=01b06e9&sid=2401&ppid=102284137&vpid=578355257&ct=offers | CI15: https://octopart.com/click/track?ai=8237&sig=09bc967&sid=2402&ppid=102284137&vpid=579314189&ct=offers | CL15: https://octopart.com/click/track?ai=8237&sig=0a64030&sid=18993&ppid=102284137&vpid=596767987&ct=offers | CP15: Avnet | CQ15: IMZ120R090M1HXKSA1 | CS15: 8.09799 | CT15: 80979.9 | CU15: 80979.9 | CV15: 0 | CW15: 240 | CX15: https://octopart.com/click/track?c=1&ai=8237&sig=057e5bd&sid=5822&ppid=102284137&vpid=568891045&ct=offers | CY15: 117mOhm | CZ15: 8.5A, | DA15: 18V | DB15: TO-247-4 | DC15: 117 | DD15: 1200 | DE15: =IF(DB15="TO-247-3","D",IF(DB15="TO-247-4","K",IF(LEFT(DB15,6)="TO-263","J","K"))) -> K
A16: 10000 | B16: IMZ120R140M1HXKSA1 | C16: Infineon | D16: IMZ120R140M1HXKSA1 | E16: https://octopart.com/imz120r140m1hxksa1-infineon-103132112 | F16: 1.2kV 182mOhm @ 6A, 18V TO-247-4 | G16: Id=19A (Tc) Vgsmax=15V, 18V Vth=5.7V @ 2.5mA | H16: Qg=13nC @ 18V Ciss=454pF @ 800V | I16: 10000 | J16: IMZ120R140M1HXKSA1-ND | L16: IMZ120R140M1HXKSA1 | M16: SP001946186 | O16: IMZ120R140M1HXKSA1-TUBE | P16: 726-IMZ120R140M1HXKS | Q16: 29AH1040 | T16: TMOS2970 | X16: Tube | AC16: Tube | AD16: Tube | AL16: 7.07494 | AN16: 6.75817 | AO16: 7.5097366 | AQ16: 8.36 | AR16: 9.44 | AS16: 6.94 | AV16: 7.51 | AZ16: 284 | BB16: 0 | BC16: 240 | BE16: 240 | BF16: 71 | BG16: 234 | BJ16: 10 | BN16: 1 | BP16: 240 | BQ16: 1 | BS16: 240 | BT16: 1 | BU16: 1 | BX16: 30 | CB16: https://octopart.com/click/track?ai=8237&sig=0d09c44&sid=459&ppid=103132112&vpid=576948923&ct=offers | CD16: https://octopart.com/click/track?c=1&ai=8237&sig=0a180d2&sid=5822&ppid=103132112&vpid=568891048&ct=offers | CE16: https://octopart.com/click/track?ai=8237&sig=0b7506c&sid=15544&ppid=103132112&vpid=604727208&ct=offers | CG16: https://octopart.com/click/track?ai=8237&sig=0a7fe58&sid=2454&ppid=103132112&vpid=605175762&ct=offers | CH16: https://octopart.com/click/track?ai=8237&sig=0e9becd&sid=2401&ppid=103132112&vpid=578355258&ct=offers | CI16: https://octopart.com/click/track?ai=8237&sig=042853d&sid=2402&ppid=103132112&vpid=579314190&ct=offers | CL16: https://octopart.com/click/track?ai=8237&sig=09aec01&sid=18993&ppid=103132112&vpid=596767989&ct=offers | CP16: Avnet | CQ16: IMZ120R140M1HXKSA1 | CS16: 6.75817 | CT16: 67581.7 | CU16: 67581.7 | CV16: 0 | CW16: 240 | CX16: https://octopart.com/click/track?c=1&ai=8237&sig=0a180d2&sid=5822&ppid=103132112&vpid=568891048&ct=offers | CY16: 182mOhm | CZ16: 6A, | DA16: 18V | DB16: TO-247-4 | DC16: 182 | DD16: 1200 | DE16: =IF(DB16="TO-247-3","D",IF(DB16="TO-247-4","K",IF(LEFT(DB16,6)="TO-263","J","K"))) -> K
A17: 10000 | B17: IMW120R140M1HXKSA1 | C17: Infineon | D17: IMW120R140M1HXKSA1 | E17: https://octopart.com/imw120r140m1hxksa1-infineon-103317931 | F17: 1.2kV 182mOhm @ 6A, 18V TO-247-3 | G17: Id=19A (Tc) Vgsmax=15V, 18V Vth=5.7V @ 2.5mA | H17: Qg=13nC @ 18V Ciss=454pF @ 800V | I17: 10000 | J17: IMW120R140M1HXKSA1-ND | L17: IMW120R140M1HXKSA1 | M17: SP001946184 | P17: 726-IMW120R140M1HXKS | Q17: 29AH1034 | T17: TMOS2945 | X17: Tube | AD17: Tube | AL17: 6.66617 | AN17: 6.27337 | AO17: 7.1104353 | AR17: 8.88 | AS17: 5.92 | AV17: 6.97 | AZ17: 217 | BB17: 0 | BC17: 210 | BF17: 235 | BG17: 262 | BJ17: 20 | BN17: 1 | BP17: 240 | BQ17: 1 | BT17: 1 | BU17: 1 | BX17: 30 | CB17: https://octopart.com/click/track?ai=8237&sig=0337453&sid=459&ppid=103317931&vpid=576948917&ct=offers | CD17: https://octopart.com/click/track?c=1&ai=8237&sig=008de2d&sid=5822&ppid=103317931&vpid=575333037&ct=offers | CE17: https://octopart.com/click/track?ai=8237&sig=021575c&sid=15544&ppid=103317931&vpid=577825271&ct=offers | CH17: https://octopart.com/click/track?ai=8237&sig=0f6ca6c&sid=2401&ppid=103317931&vpid=578355252&ct=offers | CI17: https://octopart.com/click/track?ai=8237&sig=0987981&sid=2402&ppid=103317931&vpid=579314184&ct=offers | CL17: https://octopart.com/click/track?ai=8237&sig=0900daf&sid=18993&ppid=103317931&vpid=595493486&ct=offers | CP17: Newark | CQ17: 29AH1034 | CS17: 5.92 | CT17: 59200 | CU17: 59200 | CV17: 262 | CW17: 1 | CX17: https://octopart.com/click/track?ai=8237&sig=0987981&sid=2402&ppid=103317931&vpid=579314184&ct=offers | CY17: 182mOhm | CZ17: 6A, | DA17: 18V | DB17: TO-247-3 | DC17: 182 | DD17: 1200 | DE17: =IF(DB17="TO-247-3","D",IF(DB17="TO-247-4","K",IF(LEFT(DB17,6)="TO-263","J","K"))) -> D
A18: 10000 | B18: IMZ120R220M1HXKSA1 | C18: Infineon | D18: IMZ120R220M1HXKSA1 | E18: https://octopart.com/imz120r220m1hxksa1-infineon-103132113 | F18: 1.2kV 220mOhm @ 4A, 18V TO-247-4 | G18: Id=13A (Tc) Vgsmax=15V, 18V Vth=5.7V @ 1.6mA | H18: Qg=8.5nC @ 18V Ciss=289pF @ 800V | I18: 10000 | J18: IMZ120R220M1HXKSA1-ND | L18: IMZ120R220M1HXKSA1 | M18: SP001946190 | O18: IMZ120R220M1HXKSA1-REEL | P18: 726-IMZ120R220M1HXKS | Q18: 29AH1041 | T18: TMOS2971 | X18: Tube | AC18: Tape & Reel | AD18: Tube | AL18: 6.23174 | AN18: 5.86454 | AO18: 6.5166611 | AQ18: 7.25 | AR18: 7.43 | AS18: 5.54 | AV18: 6.76 | AZ18: 855 | BB18: 0 | BC18: 240 | BE18: 240 | BF18: 229 | BG18: 130 | BJ18: 15 | BN18: 1 | BP18: 240 | BQ18: 1 | BS18: 240 | BT18: 1 | BU18: 1 | BX18: 30 | CB18: https://octopart.com/click/track?ai=8237&sig=01280e8&sid=459&ppid=103132113&vpid=576948924&ct=offers | CD18: https://octopart.com/click/track?c=1&ai=8237&sig=0462180&sid=5822&ppid=103132113&vpid=568891050&ct=offers | CE18: https://octopart.com/click/track?ai=8237&sig=0ce40a6&sid=15544&ppid=103132113&vpid=604727209&ct=offers | CG18: https://octopart.com/click/track?ai=8237&sig=093bac5&sid=2454&ppid=103132113&vpid=605113262&ct=offers | CH18: https://octopart.com/click/track?ai=8237&sig=0735c6a&sid=2401&ppid=103132113&vpid=578355259&ct=offers | CI18: https://octopart.com/click/track?ai=8237&sig=0a2d3c5&sid=2402&ppid=103132113&vpid=579314191&ct=offers | CL18: https://octopart.com/click/track?ai=8237&sig=04f79fa&sid=18993&ppid=103132113&vpid=596767991&ct=offers | CP18: Newark | CQ18: 29AH1041 | CS18: 5.54 | CT18: 55400 | CU18: 55400 | CV18: 130 | CW18: 1 | CX18: https://octopart.com/click/track?ai=8237&sig=0a2d3c5&sid=2402&ppid=103132113&vpid=579314191&ct=offers | CY18: 220mOhm | CZ18: 4A, | DA18: 18V | DB18: TO-247-4 | DC18: 220 | DD18: 1200 | DE18: =IF(DB18="TO-247-3","D",IF(DB18="TO-247-4","K",IF(LEFT(DB18,6)="TO-263","J","K"))) -> K
A19: 10000 | B19: IMW120R220M1HXKSA1 | C19: Infineon | D19: IMW120R220M1HXKSA1 | E19: https://octopart.com/imw120r220m1hxksa1-infineon-103132109 | F19: 1.2kV 286mOhm @ 4A, 18V TO-247-3 | G19: Id=13A (Tc) Vgsmax=15V, 18V Vth=5.7V @ 1.6mA | H19: Qg=8.5nC @ 18V Ciss=289pF @ 800V | I19: 10000 | J19: IMW120R220M1HXKSA1-ND | L19: IMW120R220M1HXKSA1 | M19: SP001946188 | O19: IMW120R220M1HXKSA1-TUBE | P19: 726-IMW120R220M1HXKS | Q19: 29AH1035 | T19: TMOS2968 | X19: Tube | AC19: Tube | AD19: Tube | AL19: 5.69565 | AN19: 5.36004 | AO19: 6.0003505 | AQ19: 6.63 | AR19: 6.99 | AS19: 5.06 | AV19: 6.18 | AZ19: 121 | BB19: 0 | BC19: 240 | BE19: 240 | BF19: 69 | BG19: 197 | BJ19: 15 | BN19: 1 | BP19: 240 | BQ19: 30 | BS19: 240 | BT19: 1 | BU19: 1 | BX19: 30 | CB19: https://octopart.com/click/track?ai=8237&sig=002905f&sid=459&ppid=103132109&vpid=576948918&ct=offers | CD19: https://octopart.com/click/track?c=1&ai=8237&sig=0fc3bbf&sid=5822&ppid=103132109&vpid=568891038&ct=offers | CE19: https://octopart.com/click/track?ai=8237&sig=05a0f2c&sid=15544&ppid=103132109&vpid=582730771&ct=offers | CG19: https://octopart.com/click/track?ai=8237&sig=0b738e5&sid=2454&ppid=103132109&vpid=608908119&ct=offers | CH19: https://octopart.com/click/track?ai=8237&sig=0a1e3be&sid=2401&ppid=103132109&vpid=578355253&ct=offers | CI19: https://octopart.com/click/track?ai=8237&sig=0b1ee15&sid=2402&ppid=103132109&vpid=579314185&ct=offers | CL19: https://octopart.com/click/track?ai=8237&sig=0563d2a&sid=18993&ppid=103132109&vpid=596767981&ct=offers | CP19: Newark | CQ19: 29AH1035 | CS19: 5.06 | CT19: 50600 | CU19: 50600 | CV19: 197 | CW19: 1 | CX19: https://octopart.com/click/track?ai=8237&sig=0b1ee15&sid=2402&ppid=103132109&vpid=579314185&ct=offers | CY19: 286mOhm | CZ19: 4A, | DA19: 18V | DB19: TO-247-3 | DC19: 286 | DD19: 1200 | DE19: =IF(DB19="TO-247-3","D",IF(DB19="TO-247-4","K",IF(LEFT(DB19,6)="TO-263","J","K"))) -> D
A20: 10000 | B20: IMZ120R350M1HXKSA1 | C20: Infineon | D20: IMZ120R350M1HXKSA1 | E20: https://octopart.com/imz120r350m1hxksa1-infineon-103132114 | F20: 1.2kV 350mOhm @ 2A, 18V TO-247-4 | G20: Id=4.7A (Tc) Vgsmax=15V, 18V Vth=5.7V @ 1mA | H20: Qg=5.3nC @ 18V Ciss=182pF @ 800V | I20: 10000 | J20: IMZ120R350M1HXKSA1-ND | L20: IMZ120R350M1HXKSA1 | M20: SP001808378 | O20: IMZ120R350M1HXKSA1-TUBE | P20: 726-IMZ120R350M1HXKS | Q20: 29AH1042 | T20: TMOS2972 | W20: IMZ120R350M1HXKSA1 | X20: Tube | AC20: Tube | AD20: Tube | AL20: 5.57874 | AN20: 5.25002 | AO20: 5.8339372 | AQ20: 5.3 | AR20: 5.82 | AS20: 5.24 | AV20: 6.06 | AY20: 6.7805 | AZ20: 53 | BB20: 0 | BC20: 240 | BE20: 240 | BF20: 270 | BG20: 240 | BJ20: 15 | BM20: 240 | BN20: 1 | BP20: 240 | BQ20: 1 | BS20: 240 | BT20: 1 | BU20: 1 | BX20: 30 | CA20: 240 | CB20: https://octopart.com/click/track?ai=8237&sig=0fde354&sid=459&ppid=103132114&vpid=576948925&ct=offers | CD20: https://octopart.com/click/track?c=1&ai=8237&sig=08ef619&sid=5822&ppid=103132114&vpid=568891052&ct=offers | CE20: https://octopart.com/click/track?ai=8237&sig=08dfa42&sid=15544&ppid=103132114&vpid=604727210&ct=offers | CG20: https://octopart.com/click/track?ai=8237&sig=0f4a870&sid=2454&ppid=103132114&vpid=605175763&ct=offers | CH20: https://octopart.com/click/track?ai=8237&sig=05e050e&sid=2401&ppid=103132114&vpid=578355260&ct=offers | CI20: https://octopart.com/click/track?ai=8237&sig=03607df&sid=2402&ppid=103132114&vpid=579314192&ct=offers | CL20: https://octopart.com/click/track?ai=8237&sig=0f4834e&sid=18993&ppid=103132114&vpid=596767992&ct=offers | CO20: https://octopart.com/click/track?ai=8237&sig=08c9ae6&sid=5489&ppid=103132114&vpid=605148391&ct=offers | CP20: Farnell | CQ20: 3223689 | CS20: 5.0843468 | CT20: 50843.468 | CU20: 50843.468 | CV20: 240 | CW20: 1 | CX20: https://octopart.com/click/track?ai=8237&sig=060251f&sid=819&ppid=103132114&vpid=577971042&ct=offers | CY20: 350mOhm | CZ20: 2A, | DA20: 18V | DB20: TO-247-4 | DC20: 350 | DD20: 1200 | DE20: =IF(DB20="TO-247-3","D",IF(DB20="TO-247-4","K",IF(LEFT(DB20,6)="TO-263","J","K"))) -> K
A21: 10000 | B21: IMW120R350M1HXKSA1 | C21: Infineon | D21: IMW120R350M1HXKSA1 | E21: https://octopart.com/imw120r350m1hxksa1-infineon-103132110 | F21: 1.2kV 455mOhm @ 2A, 18V TO-247-3 | G21: Id=4.7A (Tc) Vgsmax=15V, 18V Vth=5.7V @ 1mA | H21: Qg=5.3nC @ 18V Ciss=182pF @ 800V | I21: 10000 | J21: IMW120R350M1HXKSA1-ND | K21: IMW120R350M1HXKSA1 | L21: IMW120R350M1HXKSA1 | M21: SP001808376 | O21: IMW120R350M1HXKSA1-REEL | P21: 726-IMW120R350M1HXKS | Q21: 29AH1036 | T21: TMOS2944 | W21: IMW120R350M1HXKSA1 | X21: Tube | AC21: Tape & Reel | AD21: Tube | AL21: 4.93844 | AM21: 4.861 | AN21: 4.64744 | AO21: 5.1642709 | AQ21: 4.8 | AR21: 5.66 | AS21: 4.39 | AV21: 5.36 | AY21: 3.9828 | AZ21: 258 | BA21: 240 | BB21: 0 | BC21: 480 | BE21: 240 | BF21: 63 | BG21: 168 | BJ21: 30 | BM21: 240 | BN21: 1 | BO21: 1 | BP21: 240 | BQ21: 1 | BS21: 240 | BT21: 1 | BU21: 1 | BX21: 30 | CA21: 240 | CB21: https://octopart.com/click/track?ai=8237&sig=0bdd478&sid=459&ppid=103132110&vpid=576948919&ct=offers | CC21: https://octopart.com/click/track?ai=8237&sig=0bef85e&sid=1106&ppid=103132110&vpid=604470649&ct=offers | CD21: https://octopart.com/click/track?c=1&ai=8237&sig=0b60af6&sid=5822&ppid=103132110&vpid=568891040&ct=offers | CE21: https://octopart.com/click/track?ai=8237&sig=0d304b8&sid=15544&ppid=103132110&vpid=582730772&ct=offers | CG21: https://octopart.com/click/track?ai=8237&sig=0fea9c8&sid=2454&ppid=103132110&vpid=605113261&ct=offers | CH21: https://octopart.com/click/track?ai=8237&sig=05df352&sid=2401&ppid=103132110&vpid=578355254&ct=offers | CI21: https://octopart.com/click/track?ai=8237&sig=01a2523&sid=2402&ppid=103132110&vpid=579314186&ct=offers | CL21: https://octopart.com/click/track?ai=8237&sig=049dbe5&sid=18993&ppid=103132110&vpid=595493487&ct=offers | CO21: https://octopart.com/click/track?ai=8237&sig=0a64996&sid=5489&ppid=103132110&vpid=605398441&ct=offers | CP21: Verical | CQ21: IMW120R350M1HXKSA1 | CS21: 3.9828 | CT21: 39828 | CU21: 39828 | CV21: 240 | CW21: 240 | CX21: https://octopart.com/click/track?ai=8237&sig=0a64996&sid=5489&ppid=103132110&vpid=605398441&ct=offers | CY21: 455mOhm | CZ21: 2A, | DA21: 18V | DB21: TO-247-3 | DC21: 455 | DD21: 1200 | DE21: =IF(DB21="TO-247-3","D",IF(DB21="TO-247-4","K",IF(LEFT(DB21,6)="TO-263","J","K"))) -> D
A22: 10000 | B22: IXFN70N120SK | C22: IXYS | D22: IXFN70N120SK | E22: https://octopart.com/ixfn70n120sk-ixys-75449792 | F22: 1200V 34mOhm @ 50A, 20V SOT-227-4, miniBLOC | G22: Id=68A (Tc) Vgsmax=20V Vth=4V @ 15mA | H22: Qg=161nC @ 20V Ciss=2790pF @ 1000V | I22: 10000 | J22: IXFN70N120SK-ND | P22: 747-IXFN70N120SK | U22: IXFN70N120SK | X22: Tube | AD22: Tube | AL22: 73.0624 | AR22: 88.62 | AW22: 83.24 | AZ22: 0 | BF22: 0 | BK22: 0 | BN22: 1 | BT22: 1 | BY22: 1 | CB22: https://octopart.com/click/track?c=1&ai=8237&sig=0913354&sid=459&ppid=75449792&vpid=467023031&ct=offers | CH22: https://octopart.com/click/track?c=1&ai=8237&sig=09b8ab3&sid=2401&ppid=75449792&vpid=271800403&ct=offers | CM22: https://octopart.com/click/track?ai=8237&sig=0045d0a&sid=1532&ppid=75449792&vpid=597534387&ct=offers | CP22: Digi-Key | CQ22: IXFN70N120SK-ND | CR22: Tube | CS22: 73.0624 | CT22: 730624 | CU22: 730624 | CV22: 0 | CW22: 1 | CX22: https://octopart.com/click/track?c=1&ai=8237&sig=0913354&sid=459&ppid=75449792&vpid=467023031&ct=offers | CY22: 34mOhm | CZ22: 50A, | DA22: 20V | DB22: SOT-227-4, | DC22: 34 | DD22: 1200 | DE22: =IF(DB22="TO-247-3","D",IF(DB22="TO-247-4","K",IF(LEFT(DB22,6)="TO-263","J","K"))) -> K
A23: 10000 | B23: MCB60I1200TZ-TUB | C23: IXYS | D23: MCB60I1200TZ-TUB | E23: https://octopart.com/mcb60i1200tz-tub-ixys-105954355 | F23: 1.2kV 34mOhm @ 50A, 20V TO-268-3, DÂ³Pak (2 Leads + Tab), TO-268AA | G23: Id=90A (Tc) Vgsmax=20V Vth=4V @ 15mA | H23: Qg=160nC @ 20V Ciss=2790pF @ 1000V | I23: 10000 | J23: 238-MCB60I1200TZ-TUB-ND | P23: 747-MCB60I1200TZ-TUB | X23: Tube | AD23: Tube | AL23: 73.51167 | AR23: 74.5 | AZ23: 0 | BF23: 0 | BN23: 30 | BT23: 1 | CB23: https://octopart.com/click/track?c=1&ai=8237&sig=0b57121&sid=459&ppid=105954355&vpid=597390080&ct=offers | CH23: https://octopart.com/click/track?c=1&ai=8237&sig=0b68e62&sid=2401&ppid=105954355&vpid=591316149&ct=offers | CP23: Digi-Key | CQ23: 238-MCB60I1200TZ-TUB-ND | CR23: Tube | CS23: 73.51167 | CT23: 735116.7 | CU23: 735116.7 | CV23: 0 | CW23: 30 | CX23: https://octopart.com/click/track?c=1&ai=8237&sig=0b57121&sid=459&ppid=105954355&vpid=597390080&ct=offers | CY23: 34mOhm | CZ23: 50A, | DA23: 20V | DB23: TO-268-3, | DC23: 34 | DD23: 1200 | DE23: =IF(DB23="TO-247-3","D",IF(DB23="TO-247-4","K",IF(LEFT(DB23,6)="TO-263","J","K"))) -> K
A24: 10000 | B24: IXFN50N120SIC | C24: IXYS | D24: IXFN50N120SIC | E24: https://octopart.com/ixfn50n120sic-ixys-78404026 | F24: 1200V 50mOhm @ 40A, 20V SOT-227-4, miniBLOC | G24: Id=47A (Tc) Vgsmax=20V Vth=2.2V @ 2mA | H24: Qg=100nC @ 20V Ciss=1900pF @ 1000V | I24: 10000 | J24: IXFN50N120SIC-ND | P24: 747-IXFN50N120SIC | U24: IXFN50N120SIC | X24: Tube | AD24: Tube | AL24: 51.336 | AR24: 49.67 | AW24: 48.6 | AZ24: 0 | BF24: 9 | BK24: 112 | BN24: 10 | BT24: 1 | BY24: 1 | CB24: https://octopart.com/click/track?c=1&ai=8237&sig=090d956&sid=459&ppid=78404026&vpid=467023029&ct=offers | CH24: https://octopart.com/click/track?ai=8237&sig=0474e54&sid=2401&ppid=78404026&vpid=574842029&ct=offers | CM24: https://octopart.com/click/track?ai=8237&sig=0d08a36&sid=1532&ppid=78404026&vpid=411939928&ct=offers | CP24: TME | CQ24: IXFN50N120SIC | CS24: 48.6 | CT24: 486000 | CU24: 486000 | CV24: 112 | CW24: 1 | CX24: https://octopart.com/click/track?ai=8237&sig=0d08a36&sid=1532&ppid=78404026&vpid=411939928&ct=offers | CY24: 50mOhm | CZ24: 40A, | DA24: 20V | DB24: SOT-227-4, | DC24: 50 | DD24: 1200 | DE24: =IF(DB24="TO-247-3","D",IF(DB24="TO-247-4","K",IF(LEFT(DB24,6)="TO-263","J","K"))) -> K
A25: 10000 | B25: IXFN50N120SK | C25: IXYS | D25: IXFN50N120SK | E25: https://octopart.com/ixfn50n120sk-ixys-75449791 | F25: 1200V 52mOhm @ 40A, 20V SOT-227-4, miniBLOC | G25: Id=48A (Tc) Vgsmax=20V Vth=2.8V @ 10mA | H25: Qg=115nC @ 20V Ciss=1895pF @ 1000V | I25: 10000 | J25: IXFN50N120SK-ND | P25: 747-IXFN50N120SK | U25: IXFN50N120SK | X25: Tube | AD25: Tube | AL25: 43.7805 | AR25: 45.07 | AW25: 50.28 | AZ25: 8 | BF25: 20 | BK25: 0 | BN25: 1 | BT25: 1 | BY25: 1 | CB25: https://octopart.com/click/track?c=1&ai=8237&sig=04f4eeb&sid=459&ppid=75449791&vpid=467023030&ct=offers | CH25: https://octopart.com/click/track?ai=8237&sig=0028e4b&sid=2401&ppid=75449791&vpid=271800402&ct=offers | CM25: https://octopart.com/click/track?ai=8237&sig=0899279&sid=1532&ppid=75449791&vpid=597534386&ct=offers | CP25: Digi-Key | CQ25: IXFN50N120SK-ND | CR25: Tube | CS25: 43.7805 | CT25: 437805 | CU25: 437805 | CV25: 8 | CW25: 1 | CX25: https://octopart.com/click/track?c=1&ai=8237&sig=04f4eeb&sid=459&ppid=75449791&vpid=467023030&ct=offers | CY25: 52mOhm | CZ25: 40A, | DA25: 20V | DB25: SOT-227-4, | DC25: 52 | DD25: 1200 | DE25: =IF(DB25="TO-247-3","D",IF(DB25="TO-247-4","K",IF(LEFT(DB25,6)="TO-263","J","K"))) -> K
A26: 10000 | B26: IXFN90N170SK | C26: Littelfuse | D26: IXFN90N170SK | E26: https://octopart.com/ixfn90n170sk-littelfuse-101844267 | F26: 1700V 35mOhm @ 100A, 20V SOT-227-4, miniBLOC | G26: Id=90A (Tc) Vgsmax=20V Vth=4V @ 36mA | H26: Qg=376nC @ 20V Ciss=7340pF @ 1000V | I26: 10000 | Q26: 03AH0782 | AS26: 199.82 | BG26: 0 | BU26: 10 | CI26: https://octopart.com/click/track?c=1&ai=8237&sig=02cfe0f&sid=2402&ppid=101844267&vpid=547512256&ct=offers | CP26: Newark | CQ26: 03AH0782 | CS26: 199.82 | CT26: 1998200 | CU26: 1998200 | CV26: 0 | CW26: 10 | CX26: https://octopart.com/click/track?c=1&ai=8237&sig=02cfe0f&sid=2402&ppid=101844267&vpid=547512256&ct=offers | CY26: 35mOhm | CZ26: 100A, | DA26: 20V | DB26: SOT-227-4, | DC26: 35 | DD26: 1700 | DE26: =IF(DB26="TO-247-3","D",IF(DB26="TO-247-4","K",IF(LEFT(DB26,6)="TO-263","J","K"))) -> K
A27: 10000 | B27: LSIC1MO120E0080 | C27: Littelfuse | D27: LSIC1MO120E0080 | E27: https://octopart.com/lsic1mo120e0080-littelfuse-87300487 | F27: 1200V 100mOhm @ 20A, 20V TO-247-3 | G27: Id=39A (Tc) Vgsmax=20V Vth=4V @ 10mA | H27: Qg=95nC @ 20V Ciss=1825pF @ 800V | I27: 10000 | J27: F10335-ND | K27: LSIC1MO120E0080 | P27: 576-LSICMO120E0080 | Q27: 46AC2654 | U27: LSIC1MO120E0080 | V27: LSIC1MO120E0080 | W27: LSIC1MO120E0080 | X27: Tube | AD27: Tube | AL27: 9.576 | AM27: 9.424 | AR27: 11.15 | AS27: 9 | AW27: 20.22 | AX27: 10.77 | AY27: 9.424 | AZ27: 520 | BA27: 450 | BF27: 646 | BG27: 0 | BK27: 3 | BL27: 150 | BM27: 450 | BN27: 1 | BO27: 1 | BT27: 1 | BU27: 450 | BY27: 1 | BZ27: 30 | CA27: 1 | CB27: https://octopart.com/click/track?ai=8237&sig=0d7facf&sid=459&ppid=87300487&vpid=454953435&ct=offers | CC27: https://octopart.com/click/track?ai=8237&sig=0e80c2b&sid=1106&ppid=87300487&vpid=485724439&ct=offers | CH27: https://octopart.com/click/track?ai=8237&sig=0484e6c&sid=2401&ppid=87300487&vpid=449043472&ct=offers | CI27: https://octopart.com/click/track?c=1&ai=8237&sig=04ae80d&sid=2402&ppid=87300487&vpid=462324843&ct=offers | CM27: https://octopart.com/click/track?ai=8237&sig=010dfac&sid=1532&ppid=87300487&vpid=477152603&ct=offers | CN27: https://octopart.com/click/track?ai=8237&sig=060a776&sid=950&ppid=87300487&vpid=452588944&ct=offers | CO27: https://octopart.com/click/track?ai=8237&sig=0e05860&sid=5489&ppid=87300487&vpid=606759396&ct=offers | CP27: Farnell | CQ27: 3361191 | CS27: 8.9723768 | CT27: 89723.768 | CU27: 89723.768 | CV27: 0 | CW27: 1 | CX27: https://octopart.com/click/track?c=1&ai=8237&sig=0d3b46b&sid=819&ppid=87300487&vpid=610775972&ct=offers | CY27: 100mOhm | CZ27: 20A, | DA27: 20V | DB27: TO-247-3 | DC27: 100 | DD27: 1200 | DE27: =IF(DB27="TO-247-3","D",IF(DB27="TO-247-4","K",IF(LEFT(DB27,6)="TO-263","J","K"))) -> D
A28: 10000 | B28: LSIC1MO120E0120 | C28: Littelfuse | D28: LSIC1MO120E0120 | E28: https://octopart.com/lsic1mo120e0120-littelfuse-90583259 | F28: 1200V 150mOhm @ 14A, 20V TO-247-3 | G28: Id=27A (Tc) Vgsmax=20V Vth=4V @ 7mA | H28: Qg=80nC @ 20V Ciss=1125pF @ 800V | I28: 10000 | J28: F11004-ND | K28: LSIC1MO120E0120 | O28: LSIC1MO120E0120-TUBE | P28: 576-LSIC1MO120E0120 | Q28: 60AC3729 | U28: LSIC1MO120E0120 | W28: LSIC1MO120E0120 | X28: Tube | AC28: Tube | AD28: Tube | AL28: 6.9559 | AM28: 8.824 | AQ28: 7.94 | AR28: 8.1 | AS28: 7.58 | AW28: 14.3 | AY28: 8.0732 | AZ28: 446 | BA28: 119 | BE28: 450 | BF28: 626 | BG28: 389 | BK28: 9 | BM28: 450 | BN28: 1 | BO28: 1 | BS28: 450 | BT28: 1 | BU28: 1 | BY28: 1 | CA28: 450 | CB28: https://octopart.com/click/track?ai=8237&sig=0c2f0d6&sid=459&ppid=90583259&vpid=482530492&ct=offers | CC28: https://octopart.com/click/track?ai=8237&sig=0f59010&sid=1106&ppid=90583259&vpid=485724441&ct=offers | CG28: https://octopart.com/click/track?ai=8237&sig=08e4cbb&sid=2454&ppid=90583259&vpid=504211505&ct=offers | CH28: https://octopart.com/click/track?ai=8237&sig=06594c8&sid=2401&ppid=90583259&vpid=474629001&ct=offers | CI28: https://octopart.com/click/track?ai=8237&sig=08a76c6&sid=2402&ppid=90583259&vpid=547451209&ct=offers | CM28: https://octopart.com/click/track?ai=8237&sig=0b3abef&sid=1532&ppid=90583259&vpid=477152604&ct=offers | CO28: https://octopart.com/click/track?ai=8237&sig=03fdac5&sid=5489&ppid=90583259&vpid=534894547&ct=offers | CP28: Digi-Key | CQ28: F11004-ND | CR28: Tube | CS28: 6.9559 | CT28: 69559 | CU28: 69559 | CV28: 446 | CW28: 1 | CX28: https://octopart.com/click/track?ai=8237&sig=0c2f0d6&sid=459&ppid=90583259&vpid=482530492&ct=offers | CY28: 150mOhm | CZ28: 14A, | DA28: 20V | DB28: TO-247-3 | DC28: 150 | DD28: 1200 | DE28: =IF(DB28="TO-247-3","D",IF(DB28="TO-247-4","K",IF(LEFT(DB28,6)="TO-263","J","K"))) -> D
A29: 10000 | B29: LSIC1MO120E0160 | C29: Littelfuse | D29: LSIC1MO120E0160 | E29: https://octopart.com/lsic1mo120e0160-littelfuse-90583260 | F29: 1200V 200mOhm @ 10A, 20V TO-247-3 | G29: Id=22A (Tc) Vgsmax=20V Vth=4V @ 5mA | H29: Qg=57nC @ 20V Ciss=870pF @ 800V | I29: 10000 | J29: F11005-ND | P29: 576-LSIC1MO120E0160 | Q29: 60AC3730 | U29: LSIC1MO120E0160 | X29: Tube | AD29: Tube | AL29: 5.1165 | AR29: 5.87 | AS29: 5.87 | AW29: 11.4 | AZ29: 198 | BF29: 952 | BG29: 301 | BK29: 9 | BN29: 1 | BT29: 1 | BU29: 1 | BY29: 1 | CB29: https://octopart.com/click/track?ai=8237&sig=0e598d9&sid=459&ppid=90583260&vpid=482530493&ct=offers | CH29: https://octopart.com/click/track?ai=8237&sig=0a38680&sid=2401&ppid=90583260&vpid=474629002&ct=offers | CI29: https://octopart.com/click/track?ai=8237&sig=00f22c4&sid=2402&ppid=90583260&vpid=507026465&ct=offers | CM29: https://octopart.com/click/track?ai=8237&sig=05d6f99&sid=1532&ppid=90583260&vpid=477152605&ct=offers | CP29: Digi-Key | CQ29: F11005-ND | CR29: Tube | CS29: 5.1165 | CT29: 51165 | CU29: 51165 | CV29: 198 | CW29: 1 | CX29: https://octopart.com/click/track?ai=8237&sig=0e598d9&sid=459&ppid=90583260&vpid=482530493&ct=offers | CY29: 200mOhm | CZ29: 10A, | DA29: 20V | DB29: TO-247-3 | DC29: 200 | DD29: 1200 | DE29: =IF(DB29="TO-247-3","D",IF(DB29="TO-247-4","K",IF(LEFT(DB29,6)="TO-263","J","K"))) -> D
A30: 10000 | B30: LSIC1MO170E1000 | C30: Littelfuse | D30: LSIC1MO170E1000 | E30: https://octopart.com/lsic1mo170e1000-littelfuse-94773904 | F30: 1700V 1Ohm @ 2A, 20V TO-247-3 | G30: Id=5A (Tc) Vgsmax=15V, 20V Vth=4V @ 1mA | H30: Qg=15nC @ 20V Ciss=200pF @ 1000V | I30: 10000 | J30: F11760-ND | K30: LSIC1MO170E1000 | O30: LSIC1MO170E1000-TUBE | P30: 576-LSIC1MO170E1000 | Q30: 79AC7105 | W30: LSIC1MO170E1000 | X30: Tube | AC30: Tube | AD30: Tube | AL30: 3.354 | AM30: 3.951 | AQ30: 4.16 | AR30: 3.99 | AS30: 3.23 | AY30: 3.7561 | AZ30: 504 | BA30: 260 | BE30: 420 | BF30: 929 | BG30: 0 | BM30: 240 | BN30: 1 | BO30: 1 | BS30: 30 | BT30: 1 | BU30: 450 | CA30: 30 | CB30: https://octopart.com/click/track?ai=8237&sig=0f0a796&sid=459&ppid=94773904&vpid=510231532&ct=offers | CC30: https://octopart.com/click/track?ai=8237&sig=0930025&sid=1106&ppid=94773904&vpid=507582341&ct=offers | CG30: https://octopart.com/click/track?ai=8237&sig=00afd6b&sid=2454&ppid=94773904&vpid=511776870&ct=offers | CH30: https://octopart.com/click/track?ai=8237&sig=09495d1&sid=2401&ppid=94773904&vpid=495056196&ct=offers | CI30: https://octopart.com/click/track?c=1&ai=8237&sig=0e28c58&sid=2402&ppid=94773904&vpid=537832758&ct=offers | CO30: https://octopart.com/click/track?ai=8237&sig=013e6f6&sid=5489&ppid=94773904&vpid=511804173&ct=offers | CP30: Newark | CQ30: 79AC7105 | CS30: 3.23 | CT30: 32300 | CU30: 32300 | CV30: 0 | CW30: 450 | CX30: https://octopart.com/click/track?c=1&ai=8237&sig=0e28c58&sid=2402&ppid=94773904&vpid=537832758&ct=offers | CY30: 1Ohm | CZ30: 2A, | DA30: 20V | DB30: TO-247-3 | DC30: 1000 | DD30: 1700 | DE30: =IF(DB30="TO-247-3","D",IF(DB30="TO-247-4","K",IF(LEFT(DB30,6)="TO-263","J","K"))) -> D
A31: 10000 | B31: APT100MC120JCU2 | C31: Microsemi | D31: APT100MC120JCU2 | E31: https://octopart.com/apt100mc120jcu2-microsemi-30374391 | F31: 1200V 17mOhm @ 100A, 20V SOT-227-4, miniBLOC | G31: Id=143A (Tc) Vgsmax=20V Vth=2.3V @ 2mA | H31: Qg=360nC @ 20V Ciss=5960pF @ 1000V | I31: 10000 | J31: APT100MC120JCU2-ND | K31: APT100MC120JCU2 | R31: APT100MC120JCU2 | W31: APT100MC120JCU2 | X31: Bulk | AL31: 206.1152 | AM31: 209.31 | AT31: 196.76 | AY31: 209.31 | AZ31: 4 | BA31: 62 | BH31: 0 | BM31: 62 | BN31: 1 | BO31: 1 | BV31: 3 | CA31: 1 | CB31: https://octopart.com/click/track?c=1&ai=8237&sig=05f502c&sid=459&ppid=30374391&vpid=89032773&ct=offers | CC31: https://octopart.com/click/track?ai=8237&sig=04ace45&sid=1106&ppid=30374391&vpid=492824369&ct=offers | CJ31: https://octopart.com/click/track?ai=8237&sig=033a52d&sid=18460&ppid=30374391&vpid=87762760&ct=offers | CO31: https://octopart.com/click/track?ai=8237&sig=00e033f&sid=5489&ppid=30374391&vpid=534152833&ct=offers | CP31: Richardson RFPD | CQ31: APT100MC120JCU2 | CS31: 196.76 | CT31: 1967600 | CU31: 1967600 | CV31: 0 | CW31: 3 | CX31: https://octopart.com/click/track?ai=8237&sig=033a52d&sid=18460&ppid=30374391&vpid=87762760&ct=offers | CY31: 17mOhm | CZ31: 100A, | DA31: 20V | DB31: SOT-227-4, | DC31: 17 | DD31: 1200 | DE31: =IF(DB31="TO-247-3","D",IF(DB31="TO-247-4","K",IF(LEFT(DB31,6)="TO-263","J","K"))) -> K | DF31: 1200V 17mOhm @ 100A, 20V SOT-227-4, miniBLOC
A32: 10000 | B32: MSC015SMA070B | C32: Microsemi | D32: MSC015SMA070B | E32: https://octopart.com/msc015sma070b-microsemi-92244032 | F32: 700V 19mOhm @ 40A, 20V TO-247-3 | G32: Id=131A (Tc) Vgsmax=20V Vth=2.4V @ 1mA | H32: Qg=215nC @ 20V Ciss=4500pF @ 700V | I32: 10000 | J32: 691-MSC015SMA070B-ND | K32: MSC015SMA070B | R32: MSC015SMA070B | W32: MSC015SMA070B | X32: Tube | AL32: 28.17152 | AM32: 26.98 | AT32: 26.09 | AY32: 26.98 | AZ32: 35 | BA32: 120 | BH32: 1458 | BM32: 120 | BN32: 1 | BO32: 1 | BV32: 1 | CA32: 1 | CB32: https://octopart.com/click/track?c=1&ai=8237&sig=0f99814&sid=459&ppid=92244032&vpid=550225154&ct=offers | CC32: https://octopart.com/click/track?ai=8237&sig=08b9c59&sid=1106&ppid=92244032&vpid=485765782&ct=offers | CJ32: https://octopart.com/click/track?ai=8237&sig=0827ca6&sid=18460&ppid=92244032&vpid=525612493&ct=offers | CO32: https://octopart.com/click/track?ai=8237&sig=0c43845&sid=5489&ppid=92244032&vpid=600830604&ct=offers | CP32: Richardson RFPD | CQ32: MSC015SMA070B | CS32: 26.09 | CT32: 260900 | CU32: 260900 | CV32: 1458 | CW32: 1 | CX32: https://octopart.com/click/track?ai=8237&sig=0827ca6&sid=18460&ppid=92244032&vpid=525612493&ct=offers | CY32: 19mOhm | CZ32: 40A, | DA32: 20V | DB32: TO-247-3 | DC32: 19 | DD32: 650 | DE32: =IF(DB32="TO-247-3","D",IF(DB32="TO-247-4","K",IF(LEFT(DB32,6)="TO-263","J","K"))) -> D | DF32: 700V 19mOhm @ 40A, 20V TO-247-3
A33: 10000 | B33: MSC025SMA120B | C33: Microsemi | D33: MSC025SMA120B | E33: https://octopart.com/msc025sma120b-microsemi-92244034 | F33: 1.2kV 31mOhm @ 40A, 20V TO-247-3 | G33: Id=103A (Tc) Vgsmax=20V Vth=2.8V @ 1mA | H33: Qg=232nC @ 20V Ciss=3020pF @ 1000V | I33: 10000 | J33: 691-MSC025SMA120B-ND | R33: MSC025SMA120B | W33: MSC025SMA120B | X33: Tube | AL33: 31.61996 | AT33: 29.28 | AY33: 37.9 | AZ33: 115 | BH33: 1600 | BM33: 1600 | BN33: 1 | BV33: 1 | CA33: 2 | CB33: https://octopart.com/click/track?c=1&ai=8237&sig=0fef2ba&sid=459&ppid=92244034&vpid=549853558&ct=offers | CJ33: https://octopart.com/click/track?ai=8237&sig=04bdb62&sid=18460&ppid=92244034&vpid=525612495&ct=offers | CO33: https://octopart.com/click/track?ai=8237&sig=00f7e01&sid=5489&ppid=92244034&vpid=609706302&ct=offers | CP33: Richardson RFPD | CQ33: MSC025SMA120B | CS33: 29.28 | CT33: 292800 | CU33: 292800 | CV33: 1600 | CW33: 1 | CX33: https://octopart.com/click/track?ai=8237&sig=04bdb62&sid=18460&ppid=92244034&vpid=525612495&ct=offers | CY33: 31mOhm | CZ33: 40A, | DA33: 20V | DB33: TO-247-3 | DC33: 31 | DD33: 1200 | DE33: =IF(DB33="TO-247-3","D",IF(DB33="TO-247-4","K",IF(LEFT(DB33,6)="TO-263","J","K"))) -> D | DF33: 1.2kV 31mOhm @ 40A, 20V TO-247-3
A34: 10000 | B34: MSC025SMA120J | C34: Microsemi | D34: MSC025SMA120J | E34: https://octopart.com/msc025sma120j-microsemi-92244035 | F34: 1.2kV 31mOhm @ 40A, 20V SOT-227-4, miniBLOC | G34: Id=77A (Tc) Vgsmax=20V Vth=2.8V @ 1mA | H34: Qg=232nC @ 20V Ciss=3020pF @ 1000V | I34: 10000 | J34: 691-MSC025SMA120J-ND | R34: MSC025SMA120J | W34: MSC025SMA120J | X34: Tube | AL34: 45.0522 | AT34: 41.72 | AY34: 54 | AZ34: 0 | BH34: 210 | BM34: 210 | BN34: 1 | BV34: 1 | CA34: 2 | CB34: https://octopart.com/click/track?c=1&ai=8237&sig=070d97d&sid=459&ppid=92244035&vpid=549853559&ct=offers | CJ34: https://octopart.com/click/track?ai=8237&sig=05fda4a&sid=18460&ppid=92244035&vpid=527002153&ct=offers | CO34: https://octopart.com/click/track?ai=8237&sig=0353fa1&sid=5489&ppid=92244035&vpid=609706303&ct=offers | CP34: Richardson RFPD | CQ34: MSC025SMA120J | CS34: 41.72 | CT34: 417200 | CU34: 417200 | CV34: 210 | CW34: 1 | CX34: https://octopart.com/click/track?ai=8237&sig=05fda4a&sid=18460&ppid=92244035&vpid=527002153&ct=offers | CY34: 31mOhm | CZ34: 40A, | DA34: 20V | DB34: SOT-227-4, | DC34: 31 | DD34: 1200 | DE34: =IF(DB34="TO-247-3","D",IF(DB34="TO-247-4","K",IF(LEFT(DB34,6)="TO-263","J","K"))) -> K | DF34: 1.2kV 31mOhm @ 40A, 20V SOT-227-4, miniBLOC
A35: 10000 | B35: MSC040SMA120J | C35: Microsemi | D35: MSC040SMA120J | E35: https://octopart.com/msc040sma120j-microsemi-92244037 | F35: 1.2kV 50mOhm @ 40A, 20V SOT-227-4, miniBLOC | G35: Id=53A (Tc) Vgsmax=20V Vth=2.8V @ 1mA | H35: Qg=137nC @ 20V Ciss=1990pF @ 1000V | I35: 10000 | J35: 691-MSC040SMA120J-ND | K35: MSC040SMA120J | R35: MSC040SMA120J | W35: MSC040SMA120J | X35: Tube | AL35: 32.09276 | AM35: 30.67 | AT35: 29.72 | AY35: 30.67 | AZ35: 37 | BA35: 66 | BH35: 250 | BM35: 66 | BN35: 1 | BO35: 1 | BV35: 1 | CA35: 1 | CB35: https://octopart.com/click/track?c=1&ai=8237&sig=0974a92&sid=459&ppid=92244037&vpid=549853562&ct=offers | CC35: https://octopart.com/click/track?ai=8237&sig=0730c7d&sid=1106&ppid=92244037&vpid=486619604&ct=offers | CJ35: https://octopart.com/click/track?ai=8237&sig=01b9352&sid=18460&ppid=92244037&vpid=527002158&ct=offers | CO35: https://octopart.com/click/track?ai=8237&sig=0c576f9&sid=5489&ppid=92244037&vpid=530769399&ct=offers | CP35: Richardson RFPD | CQ35: MSC040SMA120J | CS35: 29.72 | CT35: 297200 | CU35: 297200 | CV35: 250 | CW35: 1 | CX35: https://octopart.com/click/track?ai=8237&sig=01b9352&sid=18460&ppid=92244037&vpid=527002158&ct=offers | CY35: 50mOhm | CZ35: 40A, | DA35: 20V | DB35: SOT-227-4, | DC35: 50 | DD35: 1200 | DE35: =IF(DB35="TO-247-3","D",IF(DB35="TO-247-4","K",IF(LEFT(DB35,6)="TO-263","J","K"))) -> K | DF35: 1.2kV 50mOhm @ 40A, 20V SOT-227-4, miniBLOC
A36: 10000 | B36: MSC280SMA120B | C36: Microsemi | D36: MSC280SMA120B | E36: https://octopart.com/msc280sma120b-microsemi-92244042 | F36: 1.2kV 350mOhm @ 5A, 20V TO-247-3 | G36: Id=9.4A (Tc) Vgsmax=20V Vth=2.8V @ 1mA | H36: Qg=20nC @ 20V Ciss=300pF @ 1000V | I36: 10000 | J36: 691-MSC280SMA120B-ND | R36: MSC280SMA120B | X36: Tube | AL36: 6.18773 | AT36: 5.73 | AZ36: 0 | BH36: 0 | BN36: 1 | BV36: 57 | CB36: https://octopart.com/click/track?c=1&ai=8237&sig=03d339b&sid=459&ppid=92244042&vpid=549853567&ct=offers | CJ36: https://octopart.com/click/track?ai=8237&sig=075a537&sid=18460&ppid=92244042&vpid=527748679&ct=offers | CP36: Richardson RFPD | CQ36: MSC280SMA120B | CS36: 5.73 | CT36: 57300 | CU36: 57300 | CV36: 0 | CW36: 57 | CX36: https://octopart.com/click/track?ai=8237&sig=075a537&sid=18460&ppid=92244042&vpid=527748679&ct=offers | CY36: 350mOhm | CZ36: 5A, | DA36: 20V | DB36: TO-247-3 | DC36: 350 | DD36: 1200 | DE36: =IF(DB36="TO-247-3","D",IF(DB36="TO-247-4","K",IF(LEFT(DB36,6)="TO-263","J","K"))) -> D | DF36: 1.2kV 350mOhm @ 5A, 20V TO-247-3
A37: 10000 | B37: MSC090SMA070B | C37: Microsemi | D37: MSC090SMA070B | E37: https://octopart.com/msc090sma070b-microsemi-92244039 | F37: 700V - TO-247-3 | G37: Id=- Vgsmax=- Vth=- | H37: Qg=- Ciss=- | I37: 10000 | J37: 691-MSC090SMA070B-ND | R37: MSC090SMA070B | W37: MSC090SMA070B | X37: Tube | AL37: 5.99306 | AT37: 5.55 | AY37: 7.2 | AZ37: 63 | BH37: 803 | BM37: 803 | BN37: 1 | BV37: 1 | CA37: 8 | CB37: https://octopart.com/click/track?c=1&ai=8237&sig=0be1c35&sid=459&ppid=92244039&vpid=549853565&ct=offers | CJ37: https://octopart.com/click/track?ai=8237&sig=094b686&sid=18460&ppid=92244039&vpid=527002165&ct=offers | CO37: https://octopart.com/click/track?ai=8237&sig=0fe4e08&sid=5489&ppid=92244039&vpid=609706324&ct=offers | CP37: Richardson RFPD | CQ37: MSC090SMA070B | CS37: 5.55 | CT37: 55500 | CU37: 55500 | CV37: 803 | CW37: 1 | CX37: https://octopart.com/click/track?ai=8237&sig=094b686&sid=18460&ppid=92244039&vpid=527002165&ct=offers | CY37: - | DB37: TO-247-3 | DC37: 90 | DD37: 650 | DE37: =IF(DB37="TO-247-3","D",IF(DB37="TO-247-4","K",IF(LEFT(DB37,6)="TO-263","J","K"))) -> D | DF37: 700V - TO-247-3
A38: 10000 | B38: MSC090SMA070S | C38: Microsemi | D38: MSC090SMA070S | E38: https://octopart.com/msc090sma070s-microsemi-92244040 | F38: 700V - TO-268-3, DÂ³Pak (2 Leads + Tab), TO-268AA | G38: Id=- Vgsmax=- Vth=- | H38: Qg=- Ciss=- | I38: 10000 | J38: 691-MSC090SMA070S-ND | R38: MSC090SMA070S | W38: MSC090SMA070S | X38: Tube | AL38: 6.54926 | AT38: 6.07 | AY38: 7.85 | AZ38: 85 | BH38: 112 | BM38: 112 | BN38: 1 | BV38: 1 | CA38: 7 | CB38: https://octopart.com/click/track?c=1&ai=8237&sig=016cbc7&sid=459&ppid=92244040&vpid=549853566&ct=offers | CJ38: https://octopart.com/click/track?ai=8237&sig=03d369d&sid=18460&ppid=92244040&vpid=574757810&ct=offers | CO38: https://octopart.com/click/track?ai=8237&sig=09ef5c2&sid=5489&ppid=92244040&vpid=609706325&ct=offers | CP38: Richardson RFPD | CQ38: MSC090SMA070S | CS38: 6.07 | CT38: 60700 | CU38: 60700 | CV38: 112 | CW38: 1 | CX38: https://octopart.com/click/track?ai=8237&sig=03d369d&sid=18460&ppid=92244040&vpid=574757810&ct=offers | CY38: - | CZ38: DÂ³Pak | DA38: (2 | DB38: TO-268-3 | DC38: 90 | DD38: 650 | DE38: =IF(DB38="TO-247-3","D",IF(DB38="TO-247-4","K",IF(LEFT(DB38,6)="TO-263","J","K"))) -> K | DF38: 700V - TO-268-3, DÂ³Pak (2 Leads + Tab), TO-268AA
A39: 10000 | B39: MSC080SMA120J | C39: Microsemi | D39: MSC080SMA120J | E39: https://octopart.com/msc080sma120j-microsemi-92244038 | F39: 1.2kV - SOT-227-4, miniBLOC | G39: Id=35A Vgsmax=- Vth=- | H39: Qg=- Ciss=- | I39: 10000 | J39: 691-MSC080SMA120J-ND | R39: MSC080SMA120J | W39: MSC080SMA120J | X39: Tube | AL39: 23.53344 | AT39: 21.01 | AY39: 27.2 | AZ39: 48 | BH39: 250 | BM39: 250 | BN39: 1 | BV39: 1 | CA39: 3 | CB39: https://octopart.com/click/track?c=1&ai=8237&sig=0f4eedc&sid=459&ppid=92244038&vpid=549853564&ct=offers | CJ39: https://octopart.com/click/track?ai=8237&sig=01b9b9f&sid=18460&ppid=92244038&vpid=527002163&ct=offers | CO39: https://octopart.com/click/track?ai=8237&sig=0860c3d&sid=5489&ppid=92244038&vpid=609706322&ct=offers | CP39: Richardson RFPD | CQ39: MSC080SMA120J | CS39: 21.01 | CT39: 210100 | CU39: 210100 | CV39: 250 | CW39: 1 | CX39: https://octopart.com/click/track?ai=8237&sig=01b9b9f&sid=18460&ppid=92244038&vpid=527002163&ct=offers | CY39: - | CZ39: miniBLOC | DB39: SOT-227-4, | DC39: 80 | DD39: 1200 | DE39: =IF(DB39="TO-247-3","D",IF(DB39="TO-247-4","K",IF(LEFT(DB39,6)="TO-263","J","K"))) -> K | DF39: 1.2kV - SOT-227-4, miniBLOC
A40: 10000 | B40: MSC015SMA070S | C40: Microsemi | D40: MSC015SMA070S | E40: https://octopart.com/msc015sma070s-microsemi-92244033 | F40: 700V - TO-268-3, DÂ³Pak (2 Leads + Tab), TO-268AA | G40: Id=166A Vgsmax=- Vth=- | H40: Qg=- Ciss=- | I40: 10000 | J40: 691-MSC015SMA070S-ND | R40: MSC015SMA070S | W40: MSC015SMA070S | X40: Tube | AL40: 28.69992 | AT40: 26.57 | AY40: 34.4 | AZ40: 51 | BH40: 370 | BM40: 370 | BN40: 1 | BV40: 1 | CA40: 2 | CB40: https://octopart.com/click/track?c=1&ai=8237&sig=079e70f&sid=459&ppid=92244033&vpid=549853557&ct=offers | CJ40: https://octopart.com/click/track?ai=8237&sig=09ec00f&sid=18460&ppid=92244033&vpid=525612494&ct=offers | CO40: https://octopart.com/click/track?ai=8237&sig=0bf96f6&sid=5489&ppid=92244033&vpid=609706301&ct=offers | CP40: Richardson RFPD | CQ40: MSC015SMA070S | CS40: 26.57 | CT40: 265700 | CU40: 265700 | CV40: 370 | CW40: 1 | CX40: https://octopart.com/click/track?ai=8237&sig=09ec00f&sid=18460&ppid=92244033&vpid=525612494&ct=offers | CY40: - | CZ40: DÂ³Pak | DA40: (2 | DB40: TO-268-3 | DC40: 19 | DD40: 650 | DE40: =IF(DB40="TO-247-3","D",IF(DB40="TO-247-4","K",IF(LEFT(DB40,6)="TO-263","J","K"))) -> K | DF40: 700V - TO-268-3, DÂ³Pak (2 Leads + Tab), TO-268AA
A41: 10000 | B41: MSC025SMA120S | C41: Microsemi | D41: MSC025SMA120S | E41: https://octopart.com/msc025sma120s-microsemi-92244036 | F41: 1.2kV - TO-268-3, DÂ³Pak (2 Leads + Tab), TO-268AA | G41: Id=100A Vgsmax=- Vth=- | H41: Qg=- Ciss=- | I41: 10000 | J41: 691-MSC025SMA120S-ND | R41: MSC025SMA120S | W41: MSC025SMA120S | X41: Tube | AL41: 32.14836 | AT41: 29.77 | AY41: 38.55 | AZ41: 0 | BH41: 400 | BM41: 400 | BN41: 1 | BV41: 1 | CA41: 2 | CB41: https://octopart.com/click/track?c=1&ai=8237&sig=0fc4fa5&sid=459&ppid=92244036&vpid=549853560&ct=offers | CJ41: https://octopart.com/click/track?ai=8237&sig=0a2c28c&sid=18460&ppid=92244036&vpid=527002154&ct=offers | CO41: https://octopart.com/click/track?ai=8237&sig=0c746cb&sid=5489&ppid=92244036&vpid=609706304&ct=offers | CP41: Richardson RFPD | CQ41: MSC025SMA120S | CS41: 29.77 | CT41: 297700 | CU41: 297700 | CV41: 400 | CW41: 1 | CX41: https://octopart.com/click/track?ai=8237&sig=0a2c28c&sid=18460&ppid=92244036&vpid=527002154&ct=offers | CY41: - | CZ41: DÂ³Pak | DA41: (2 | DB41: TO-268-3 | DC41: 31 | DD41: 1200 | DE41: =IF(DB41="TO-247-3","D",IF(DB41="TO-247-4","K",IF(LEFT(DB41,6)="TO-263","J","K"))) -> K | DF41: 1.2kV - TO-268-3, DÂ³Pak (2 Leads + Tab), TO-268AA
