Workbook
Name Infineon: 'Wolfspeed Power Cross Reference'!$AA$6:$AA$84
Name Infineon.: Sheet8!$R$297:$R$388
Name IXYS: 'Wolfspeed Power Cross Reference'!$Z$6:$Z$154
Name Littelfuse: 'Wolfspeed Power Cross Reference'!$Y$6:$Y$51
Name Littelfuse.: Sheet8!$R$255:$R$295
Name Manufacturer: 'Wolfspeed Power Cross Reference'!$P$5:$P$14
Name Manufacturer.: Sheet8!$O$4:$O$9
Name Microsemi: 'Wolfspeed Power Cross Reference'!$X$6:$X$45
Name Microsemi.: Sheet8!$R$242:$R$253
Name ON: 'Wolfspeed Power Cross Reference'!$W$6:$W$57
Name ON.: Sheet8!$R$153:$R$240
Name Rohm: 'Wolfspeed Power Cross Reference'!$V$6:$V$113
Name Rohm.: Sheet8!$R$84:$R$151
Name ST: 'Wolfspeed Power Cross Reference'!$U$6:$U$86
Name ST.: Sheet8!$R$5:$R$82
Name UnitedSiC: 'Wolfspeed Power Cross Reference'!$T$6:$T$53
Name Wolfspeed: 'Wolfspeed Power Cross Reference'!$S$6:$S$134

Sheet Wolfspeed Power Cross Reference
G1: Version 1.3b
B2: Silicon Carbide MOSFET Cross Reference
C3: Please make selection using drop down menus below:
B4: Select Manufacturer  | C4: Rohm | E4: Description/Specs (from Digikey) | P4: Row Labels | S4: Row Labels | T4: Row Labels | U4: Row Labels | V4: Row Labels | W4: Row Labels | X4: Row Labels | Y4: Row Labels | Z4: Row Labels | AA4: Row Labels | AB4: Row Labels
B5: Select Part Number  | C5: SCT3080KLHRC11 | E5: =VLOOKUP($C5,'20200306_untitled_bom (1)'!$B:$H,5,FALSE) -> 1200V 104mOhm @ 10A, 18V TO-247-3 | F5: =VLOOKUP($C5,'20200306_untitled_bom (1)'!$B:$H,6,FALSE) -> Id=31A (Tc) Vgsmax=18V Vth=5.6V @ 5mA | G5: =VLOOKUP($C5,'20200306_untitled_bom (1)'!$B:$H,7,FALSE) -> Qg=60nC @ 18V Ciss=785pF @ 800V | P5: Wolfspeed | S5: Wolfspeed | T5: United Silicon Carbide | U5: STMicroelectronics | V5: Rohm | W5: ON Semiconductor | X5: Microsemi | Y5: Littelfuse | Z5: IXYS | AA5: Infineon | AB5: GeneSiC Semiconductor | AE5: Row Labels | AH5: Row Labels
B6: Wolfspeed Recommends: | C6: =INDEX(Sheet2!B:B,VLOOKUP(C5,Sheet2!K:AB,18,FALSE)) -> C3M0075120D | E6: =VLOOKUP($C6,'20200306_untitled_bom (1)'!$B:$H,5,FALSE) -> 1200V 90mOhm @ 20A, 15V TO-247-3 | F6: =VLOOKUP($C6,'20200306_untitled_bom (1)'!$B:$H,6,FALSE) -> Id=30A (Tc) Vgsmax=15V Vth=4V @ 5mA | G6: =VLOOKUP($C6,'20200306_untitled_bom (1)'!$B:$H,7,FALSE) -> Qg=54nC @ 15V Ciss=1350pF @ 1000V | P6: UnitedSiC | S6: C2M0025120D | T6: UF3C065030K3S | U6: SCT10N120 | V6: BSM180C12P2E202 | W6: NTBG020N090SC1 | X6: APT100MC120JCU2 | Y6: IXFN90N170SK | Z6: IXFN50N120SIC | AA6: IMW120R030M1HXKSA1 | AB6: GA05JT12-263 | AE6: ST. | AH6: STMicroelectronics
B7: Lower RDS(on): | C7: =VLOOKUP(C6,Sheet1!AF:AH,2,FALSE) -> C3M0032120D | E7: =VLOOKUP($C7,'20200306_untitled_bom (1)'!$B:$H,5,FALSE) -> 1200V 43mOhm @ 40A, 15V TO-247-3 | F7: =VLOOKUP($C7,'20200306_untitled_bom (1)'!$B:$H,6,FALSE) -> Id=63A (Tc) Vgsmax=15V Vth=3.6V @ 11.5mA | G7: =VLOOKUP($C7,'20200306_untitled_bom (1)'!$B:$H,7,FALSE) -> Qg=114nC @ 15V Ciss=3357pF @ 1000V | P7: ST | S7: C2M0040120D | T7: UF3C065030K4S | U7: SCT10N120AG | V7: BSM300C12P3E301 | W7: NTBG020N120SC1 | X7: MSC015SMA070B | Y7: LSIC1MO120E0080 | Z7: IXFN50N120SK | AA7: IMW120R045M1XKSA1 | AB7: GA08JT17-247 | AE7: Rohm. | AH7: STPSC10065D
B8: Higher RDS(on): | C8: =VLOOKUP(C6,Sheet1!AF:AH,3,FALSE) -> C3M0160120D | E8: =IFERROR(VLOOKUP($C8,'20200306_untitled_bom (1)'!$B:$H,5,FALSE),"N/A") -> 1200V 160mOhm TO-247-3 | F8: =IFERROR(VLOOKUP($C8,'20200306_untitled_bom (1)'!$B:$H,6,FALSE),"N/A") -> 0 | G8: =IFERROR(VLOOKUP($C8,'20200306_untitled_bom (1)'!$B:$H,7,FALSE),"N/A") -> 0 | P8: Rohm | S8: C2M0045170D | T8: UF3C065040B3 | U8: SCT10N120H | V8: BSM400C12P3G202 | W8: NTHL020N090SC1 | X8: MSC015SMA070S | Y8: LSIC1MO120E0120 | Z8: IXFN70N120SK | AA8: IMW120R060M1HXKSA1 | AB8: GA10JT12-263 | AE8: ON. | AH8: STPSC10065DY
P9: ON | S9: C2M0045170P | T9: UF3C065040K3S | U9: SCT20N120 | V9: BSM600C12P3G201 | W9: NTHL020N120SC1 | X9: MSC025SMA120B | Y9: LSIC1MO120E0160 | Z9: MCB60I1200TZ-TUB | AA9: IMW120R090M1HXKSA1 | AB9: GA10SICP12-263 | AE9: Microsemi. | AH9: STPSC10065GY-TR
B10: Silicon Carbide Diode Cross Reference | P10: Microsemi | S10: C2M0080120D | T10: UF3C065040K4S | U10: SCT20N120AG | V10: SCH2080KEC | W10: NTHL060N090SC1 | X10: MSC025SMA120J | Y10: LSIC1MO170E1000 | AA10: IMW120R140M1HXKSA1 | AB10: GA20JT12-263 | AE10: Littelfuse. | AH10: STPSC1006D
C11: Please make selection using drop down menus below: | P11: Littelfuse | S11: C2M0080170P | T11: UF3C065080K4S | U11: SCT20N120H | V11: SCT2080KEC | W11: NTHL080N120SC1 | X11: MSC025SMA120S | AA11: IMW120R220M1HXKSA1 | AB11: GA50JT06-258 | AE11: Infineon. | AH11: STPSC10C065RY
B12: Select Manufacturer  | C12: ST. | E12: Description/Specs (from Digikey) | P12: IXYS | S12: C2M0160120D | T12: UJ3C065030B3 | U12: SCT30N120 | V12: SCT2080KEHRC11 | W12: NVBG020N090SC1 | X12: MSC040SMA120J | AA12: IMW120R350M1HXKSA1 | AE12: Grand Total | AH12: STPSC10H065B-TR
B13: Select Part Number  | C13: STPSC10H065GY-TR | E13: =VLOOKUP($C13,'20200310_diodes_as_of_3_10_20'!$DH:$DO,7,FALSE) -> DIODE SCHTY SIC 650V 10A D2PAK | F13: =VLOOKUP($C13,'20200310_diodes_as_of_3_10_20'!$DH:$DO,6,FALSE) -> 1.75V @ 10A | G13: =VLOOKUP($C13,'20200310_diodes_as_of_3_10_20'!$DH:$DO,8,FALSE) -> TO-263-3, D²Pak (2 Leads + Tab), TO-263AB | P13: Infineon | S13: C2M0280120D | T13: UJ3C065030K3S | U13: SCT30N120D2 | V13: SCT2120AFC | W13: NVBG020N120SC1 | X13: MSC080SMA120J | AA13: IMZ120R030M1HXKSA1 | AH13: STPSC10H065BY-TR
B14: Wolfspeed Recommends: | C14: =INDEX('Sheet2 (2)'!$B:$B,MATCH(C13,'Sheet2 (2)'!$H:$H,0)) -> C3D10065A - no package match | E14: =VLOOKUP(LEFT($C14,9),'20200310_diodes_as_of_3_10_20'!$DH:$DO,7,FALSE) -> DIODE SCHOTTKY 650V 10A TO220-2 | F14: =VLOOKUP(LEFT($C14,9),'20200310_diodes_as_of_3_10_20'!$DH:$DO,6,FALSE) -> 1.8V @ 10A | G14: =VLOOKUP(LEFT($C14,9),'20200310_diodes_as_of_3_10_20'!$DH:$DO,8,FALSE) -> TO-220-2 | P14: Genesic | S14: C2M1000170D | T14: UJ3C065030T3S | U14: SCT30N120H | V14: SCT2160KEC | W14: NVHL020N090SC1 | X14: MSC090SMA070B | AA14: IMZ120R045M1XKSA1 | AH14: STPSC10H065D
P15: Grand Total | S15: C2M1000170J | T15: UJ3C065080B3 | U15: SCT50N120 | V15: SCT2280KEC | W15: NVHL020N120SC1 | X15: MSC090SMA070S | AA15: IMZ120R060M1HXKSA1 | AH15: STPSC10H065DI
B16: Silicon Carbide Module Cross Reference - COMING SOON! | S16: C2M1000170J-TR | T16: UJ3C065080K3S | U16: SCTH100N65G2-7AG | V16: SCT2450KEC | W16: NVHL080N120SC1 | X16: MSC280SMA120B | AA16: IMZ120R090M1HXKSA1 | AH16: STPSC10H065DLF
C17: Please make selection using drop down menus below: | S17: C3M0016120D | T17: UJ3C065080T3S | U17: SCTH35N65G2V-7 | V17: SCT2750NYTB | AA17: IMZ120R140M1HXKSA1 | AH17: STPSC10H065DY
B18: Select Manufacturer  | C18: ST | E18: Description/Specs (from Digikey) | S18: C3M0016120K | T18: (blank) | U18: SCTH40N120G2V7AG | V18: SCT2H12NYTB | AA18: IMZ120R220M1HXKSA1 | AH18: STPSC10H065G-TR
B19: Select Part Number  | C19: SCT20N120 | E19: =VLOOKUP($C19,'20200306_untitled_bom (1)'!$B:$H,5,FALSE) -> 1200V 290mOhm @ 10A, 20V TO-247-3 | F19: =VLOOKUP($C19,'20200306_untitled_bom (1)'!$B:$H,6,FALSE) -> Id=20A (Tc) Vgsmax=20V Vth=3.5V @ 1mA | G19: =VLOOKUP($C19,'20200306_untitled_bom (1)'!$B:$H,7,FALSE) -> Qg=45nC @ 20V Ciss=650pF @ 400V | S19: C3M0021120D | U19: SCTH90N65G2V-7 | V19: SCT2H12NZGC11 | AA19: IMZ120R350M1HXKSA1 | AH19: STPSC10H065GY-TR
B20: Wolfspeed Recommends: | C20: =INDEX(Sheet2!B:B,VLOOKUP(C19,Sheet2!K:AB,18,FALSE)) -> C3M0160120D | E20: =VLOOKUP($C20,'20200306_untitled_bom (1)'!$B:$H,5,FALSE) -> 1200V 160mOhm TO-247-3 | F20: =VLOOKUP($C20,'20200306_untitled_bom (1)'!$B:$H,6,FALSE) -> 0 | G20: =VLOOKUP($C20,'20200306_untitled_bom (1)'!$B:$H,7,FALSE) -> 0 | S20: C3M0021120K | U20: SCTW100N65G2AG | V20: SCT3017ALHRC11 | AA20: IMZA65R027M1H | AH20: STPSC10H12B-TR1
G21: Please send feedback to Dave Skinner - dskinner@cree.com | S21: C3M0030090K | U21: SCTW35N65G2V | V21: SCT3022ALGC11 | AA21: IMZA65R048M1H | AH21: STPSC10H12D
S22: C3M0032120D | U22: SCTW35N65G2VAG | V22: SCT3022ALHRC11 | AA22: IMW65R048M1H | AH22: STPSC10H12DY
S23: C3M0032120K | U23: SCTW40N120G2VAG | V23: SCT3022KLGC11 | AA23: IMZA65R107M1H | AH23: STPSC10H12G-TR
S24: C3M0065090D | U24: SCTW90N65G2V | V24: SCT3022KLHRC11 | AA24: IMW65R027M1H | AH24: STPSC10H12GY-TR
S25: C3M0065090J | U25: SCTWA50N120 | V25: SCT3030ALGC11 | AA25: IMW65R072M1H | AH25: STPSC10H12WL
S26: C3M0065090J-TR | V26: SCT3030ALHRC11 | AA26: IMZA65R072M1H | AH26: STPSC12065D
S27: C3M0065100J | V27: SCT3030ARC14 | AH27: STPSC12065DY
S28: C3M0065100J-TR | V28: SCT3030KLGC11 | AH28: STPSC12065G2Y-TR
S29: C3M0065100K | V29: SCT3030KLHRC11 | AH29: STPSC12065G-TR
S30: C3M0075120D | V30: SCT3040KLGC11 | AH30: STPSC12065GY-TR
S31: C3M0075120J | V31: SCT3040KLHRC11 | AH31: STPSC1206D
S32: C3M0075120J-TR | V32: SCT3040KRC14 | AH32: STPSC12C065DY
S33: C3M0075120K | V33: SCT3060ALGC11 | AH33: STPSC12H065D
S34: C3M0120090D | V34: SCT3060ALHRC11 | AH34: STPSC12H065DY
S35: C3M0120090J | V35: SCT3060ARC14 | AH35: STPSC15H12D
S36: C3M0120090J-TR | V36: SCT3080ALHRC11 | AH36: STPSC15H12DY
S37: C3M0120100J | V37: SCT3080ARC14 | AH37: STPSC15H12WL
S38: C3M0120100K | V38: SCT3080KLGC11 | AH38: STPSC16H065AW
... S47: C3M0060065D | V47: SCT3160KLHRC11 | AH47: STPSC20H12G2Y-TR
S48: C3M0060065K | AH48: STPSC20H12G-TR
...

Sheet Sheet2
D1: suffix | G1: br | H1: Rdson (max) | I1: Package | J1: Manufacturer | K1: Line Item | L1: Distributor with Lowest Price | M1: Lowest Price | N1: Digikey | O1: Arrow | P1: Avnet | Q1: Avnet Europe | R1: Chip One Stop | S1: Future | T1: Mouser | U1: Newark | V1: Richardson | W1: RS Components | X1: Rutronik | Y1: TME | Z1: TTI | AA1: Verical
A2: 2 | B2: =IF(J2="Wolfspeed",K2,IFERROR(VLOOKUP(CONCATENATE(C2,D2),Sheet1!AF:AH,1,FALSE),CONCATENATE(C2,"D"))) -> C3M0015065K | C2: {=IF(G2=650,INDEX(Sheet1!$I:$I,MATCH(MIN(ABS(Sheet1!$H$1:$H$50-E2)),ABS(Sheet1!$H$1:$H$50-E2),0)),IF(G2=900,INDEX(Sheet1!$C:$C,MATCH(MIN(ABS(Sheet1!$B$1:$B$50-E2)),ABS(Sheet1!$B$1:$B$50-E2),0)),IF(G2=1200,INDEX(Sheet1!$U:$U,MATCH(MIN(ABS(Sheet1!$T$1:$T$48-E2)),ABS(Sheet1!$T$1:$T$48-E2),0)),IF(G2=1000,INDEX(Sheet1!$AA:$AA,MATCH(MIN(ABS(Sheet1!$Z$1:$Z$50-E2)),ABS(Sheet1!$Z$1:$Z$50-E2),0))))))} -> C3M0015065 | D2: =IF(I2="TO-247-3","D",IF(I2="TO-247-4","K",IF(LEFT(I2,6)="TO-263","J","D"))) -> K | E2: =H2/1.3 -> 6.9230769 | G2: 650 | H2: 9 | I2: TO-247-4 | J2: United Silicon Carbide | K2: UF3SC065007K4S | L2: Mouser | M2: 55.36 | T2: 55.36 | AB2: =A2 -> 2
A3: 3 | B3: =IF(J3="Wolfspeed",K3,IFERROR(VLOOKUP(CONCATENATE(C3,D3),Sheet1!AF:AH,1,FALSE),CONCATENATE(C3,"D"))) -> C3M0015065D | C3: {=IF(G3=650,INDEX(Sheet1!$I:$I,MATCH(MIN(ABS(Sheet1!$H$1:$H$50-E3)),ABS(Sheet1!$H$1:$H$50-E3),0)),IF(G3=900,INDEX(Sheet1!$C:$C,MATCH(MIN(ABS(Sheet1!$B$1:$B$50-E3)),ABS(Sheet1!$B$1:$B$50-E3),0)),IF(G3=1200,INDEX(Sheet1!$U:$U,MATCH(MIN(ABS(Sheet1!$T$1:$T$48-E3)),ABS(Sheet1!$T$1:$T$48-E3),0)),IF(G3=1000,INDEX(Sheet1!$AA:$AA,MATCH(MIN(ABS(Sheet1!$Z$1:$Z$50-E3)),ABS(Sheet1!$Z$1:$Z$50-E3),0))))))} -> C3M0015065 | D3: =IF(I3="TO-247-3","D",IF(I3="TO-247-4","K",IF(LEFT(I3,6)="TO-263","J","D"))) -> D | E3: =H3/1.3 -> 14.615385 | G3: 650 | H3: 19 | I3: TO-247-3 | J3: Microsemi | K3: MSC015SMA070B | L3: Richardson RFPD | M3: 26.09 | N3: 28.17152 | O3: 26.98 | V3: 26.09 | AA3: 26.98 | AB3: =A3 -> 3
A4: 4 | B4: =IF(J4="Wolfspeed",K4,IFERROR(VLOOKUP(CONCATENATE(C4,D4),Sheet1!AF:AH,1,FALSE),CONCATENATE(C4,"D"))) -> C3M0015065D | C4: {=IF(G4=650,INDEX(Sheet1!$I:$I,MATCH(MIN(ABS(Sheet1!$H$1:$H$50-E4)),ABS(Sheet1!$H$1:$H$50-E4),0)),IF(G4=900,INDEX(Sheet1!$C:$C,MATCH(MIN(ABS(Sheet1!$B$1:$B$50-E4)),ABS(Sheet1!$B$1:$B$50-E4),0)),IF(G4=1200,INDEX(Sheet1!$U:$U,MATCH(MIN(ABS(Sheet1!$T$1:$T$48-E4)),ABS(Sheet1!$T$1:$T$48-E4),0)),IF(G4=1000,INDEX(Sheet1!$AA:$AA,MATCH(MIN(ABS(Sheet1!$Z$1:$Z$50-E4)),ABS(Sheet1!$Z$1:$Z$50-E4),0))))))} -> C3M0015065 | D4: =IF(I4="TO-247-3","D",IF(I4="TO-247-4","K",IF(LEFT(I4,6)="TO-263","J","D"))) -> D | E4: =H4/1.3 -> 14.615385 | G4: 650 | H4: 19 | I4: TO-268-3 | J4: Microsemi | K4: MSC015SMA070S | L4: Richardson RFPD | M4: 26.57 | N4: 28.69992 | V4: 26.57 | AA4: 34.4 | AB4: =A4 -> 4
A5: 5 | B5: =IF(J5="Wolfspeed",K5,IFERROR(VLOOKUP(CONCATENATE(C5,D5),Sheet1!AF:AH,1,FALSE),CONCATENATE(C5,"D"))) -> C3M0015065D | C5: {=IF(G5=650,INDEX(Sheet1!$I:$I,MATCH(MIN(ABS(Sheet1!$H$1:$H$50-E5)),ABS(Sheet1!$H$1:$H$50-E5),0)),IF(G5=900,INDEX(Sheet1!$C:$C,MATCH(MIN(ABS(Sheet1!$B$1:$B$50-E5)),ABS(Sheet1!$B$1:$B$50-E5),0)),IF(G5=1200,INDEX(Sheet1!$U:$U,MATCH(MIN(ABS(Sheet1!$T$1:$T$48-E5)),ABS(Sheet1!$T$1:$T$48-E5),0)),IF(G5=1000,INDEX(Sheet1!$AA:$AA,MATCH(MIN(ABS(Sheet1!$Z$1:$Z$50-E5)),ABS(Sheet1!$Z$1:$Z$50-E5),0))))))} -> C3M0015065 | D5: =IF(I5="TO-247-3","D",IF(I5="TO-247-4","K",IF(LEFT(I5,6)="TO-263","J","D"))) -> D | E5: =H5/1.3 -> 17 | G5: 650 | H5: 22.1 | I5: TO-247-3 | J5: Rohm | K5: SCT3017ALHRC11 | L5: Avnet Europe | M5: 74.333335 | N5: 94.0839 | Q5: 74.333335 | R5: 97.9 | T5: 96.1 | U5: 80.41 | AA5: 118.188 | AB5: =A5 -> 5
A6: 6 | B6: =IF(J6="Wolfspeed",K6,IFERROR(VLOOKUP(CONCATENATE(C6,D6),Sheet1!AF:AH,1,FALSE),CONCATENATE(C6,"D"))) -> C3M0015065D | C6: {=IF(G6=650,INDEX(Sheet1!$I:$I,MATCH(MIN(ABS(Sheet1!$H$1:$H$50-E6)),ABS(Sheet1!$H$1:$H$50-E6),0)),IF(G6=900,INDEX(Sheet1!$C:$C,MATCH(MIN(ABS(Sheet1!$B$1:$B$50-E6)),ABS(Sheet1!$B$1:$B$50-E6),0)),IF(G6=1200,INDEX(Sheet1!$U:$U,MATCH(MIN(ABS(Sheet1!$T$1:$T$48-E6)),ABS(Sheet1!$T$1:$T$48-E6),0)),IF(G6=1000,INDEX(Sheet1!$AA:$AA,MATCH(MIN(ABS(Sheet1!$Z$1:$Z$50-E6)),ABS(Sheet1!$Z$1:$Z$50-E6),0))))))} -> C3M0015065 | D6: =IF(I6="TO-247-3","D",IF(I6="TO-247-4","K",IF(LEFT(I6,6)="TO-263","J","D"))) -> D | E6: =H6/1.3 -> 19.230769 | G6: 650 | H6: 25 | I6: TO-247-3 | J6: STMicroelectronics | K6: SCTW90N65G2V | L6: Newark | M6: 37.5 | N6: 39 | O6: 46.407 | P6: 38.31418 | R6: 48.9 | S6: 41.93 | T6: 46.5 | U6: 37.5 | AA6: 49.401 | AB6: =A6 -> 6
A7: 7 | B7: =IF(J7="Wolfspeed",K7,IFERROR(VLOOKUP(CONCATENATE(C7,D7),Sheet1!AF:AH,1,FALSE),CONCATENATE(C7,"D"))) -> C3M0015065D | C7: {=IF(G7=650,INDEX(Sheet1!$I:$I,MATCH(MIN(ABS(Sheet1!$H$1:$H$50-E7)),ABS(Sheet1!$H$1:$H$50-E7),0)),IF(G7=900,INDEX(Sheet1!$C:$C,MATCH(MIN(ABS(Sheet1!$B$1:$B$50-E7)),ABS(Sheet1!$B$1:$B$50-E7),0)),IF(G7=1200,INDEX(Sheet1!$U:$U,MATCH(MIN(ABS(Sheet1!$T$1:$T$48-E7)),ABS(Sheet1!$T$1:$T$48-E7),0)),IF(G7=1000,INDEX(Sheet1!$AA:$AA,MATCH(MIN(ABS(Sheet1!$Z$1:$Z$50-E7)),ABS(Sheet1!$Z$1:$Z$50-E7),0))))))} -> C3M0015065 | D7: =IF(I7="TO-247-3","D",IF(I7="TO-247-4","K",IF(LEFT(I7,6)="TO-263","J","D"))) -> D | E7: =H7/1.3 -> 19.230769 | G7: 650 | H7: 25 | I7: TO-258AA | J7: GeneSiC Semiconductor | K7: GA50JT06-258 | L7: Digi-Key | M7: 601.94 | N7: 601.94 | AB7: =A7 -> 7
A8: 8 | B8: =IF(J8="Wolfspeed",K8,IFERROR(VLOOKUP(CONCATENATE(C8,D8),Sheet1!AF:AH,1,FALSE),CONCATENATE(C8,"D"))) -> C3M0015065D | C8: {=IF(G8=650,INDEX(Sheet1!$I:$I,MATCH(MIN(ABS(Sheet1!$H$1:$H$50-E8)),ABS(Sheet1!$H$1:$H$50-E8),0)),IF(G8=900,INDEX(Sheet1!$C:$C,MATCH(MIN(ABS(Sheet1!$B$1:$B$50-E8)),ABS(Sheet1!$B$1:$B$50-E8),0)),IF(G8=1200,INDEX(Sheet1!$U:$U,MATCH(MIN(ABS(Sheet1!$T$1:$T$48-E8)),ABS(Sheet1!$T$1:$T$48-E8),0)),IF(G8=1000,INDEX(Sheet1!$AA:$AA,MATCH(MIN(ABS(Sheet1!$Z$1:$Z$50-E8)),ABS(Sheet1!$Z$1:$Z$50-E8),0))))))} -> C3M0015065 | D8: =IF(I8="TO-247-3","D",IF(I8="TO-247-4","K",IF(LEFT(I8,6)="TO-263","J","D"))) -> D | E8: =H8/1.3 -> 20 | G8: 650 | H8: 26 | I8: TO-247-3 | J8: STMicroelectronics | K8: SCTW100N65G2AG | L8: Newark | M8: 17.07 | N8: 17.472 | T8: 20.74 | U8: 17.07 | AB8: =A8 -> 8
A9: 9 | B9: =IF(J9="Wolfspeed",K9,IFERROR(VLOOKUP(CONCATENATE(C9,D9),Sheet1!AF:AH,1,FALSE),CONCATENATE(C9,"D"))) -> C3M0015065D | C9: {=IF(G9=650,INDEX(Sheet1!$I:$I,MATCH(MIN(ABS(Sheet1!$H$1:$H$50-E9)),ABS(Sheet1!$H$1:$H$50-E9),0)),IF(G9=900,INDEX(Sheet1!$C:$C,MATCH(MIN(ABS(Sheet1!$B$1:$B$50-E9)),ABS(Sheet1!$B$1:$B$50-E9),0)),IF(G9=1200,INDEX(Sheet1!$U:$U,MATCH(MIN(ABS(Sheet1!$T$1:$T$48-E9)),ABS(Sheet1!$T$1:$T$48-E9),0)),IF(G9=1000,INDEX(Sheet1!$AA:$AA,MATCH(MIN(ABS(Sheet1!$Z$1:$Z$50-E9)),ABS(Sheet1!$Z$1:$Z$50-E9),0))))))} -> C3M0015065 | D9: =IF(I9="TO-247-3","D",IF(I9="TO-247-4","K",IF(LEFT(I9,6)="TO-263","J","D"))) -> J | E9: =H9/1.3 -> 20 | G9: 650 | H9: 26 | I9: TO-263-8, | J9: STMicroelectronics | K9: SCTH100N65G2-7AG | L9: Newark | M9: 17.88 | N9: 18.018 | T9: 21.73 | U9: 17.88 | AB9: =A9 -> 9
A10: 10 | B10: =IF(J10="Wolfspeed",K10,IFERROR(VLOOKUP(CONCATENATE(C10,D10),Sheet1!AF:AH,1,FALSE),CONCATENATE(C10,"D"))) -> C3M0015065D | C10: {=IF(G10=650,INDEX(Sheet1!$I:$I,MATCH(MIN(ABS(Sheet1!$H$1:$H$50-E10)),ABS(Sheet1!$H$1:$H$50-E10),0)),IF(G10=900,INDEX(Sheet1!$C:$C,MATCH(MIN(ABS(Sheet1!$B$1:$B$50-E10)),ABS(Sheet1!$B$1:$B$50-E10),0)),IF(G10=1200,INDEX(Sheet1!$U:$U,MATCH(MIN(ABS(Sheet1!$T$1:$T$48-E10)),ABS(Sheet1!$T$1:$T$48-E10),0)),IF(G10=1000,INDEX(Sheet1!$AA:$AA,MATCH(MIN(ABS(Sheet1!$Z$1:$Z$50-E10)),ABS(Sheet1!$Z$1:$Z$50-E10),0))))))} -> C3M0015065 | D10: =IF(I10="TO-247-3","D",IF(I10="TO-247-4","K",IF(LEFT(I10,6)="TO-263","J","D"))) -> J | E10: =H10/1.3 -> 20 | G10: 650 | H10: 26 | I10: TO-263-8, | J10: STMicroelectronics | K10: SCTH90N65G2V-7 | L10: Digi-Key | M10: 36.58 | N10: 36.58 | P10: 37.67561 | R10: 43.1 | T10: 42.77 | U10: 36.88 | AA10: 54.9525 | AB10: =A10 -> 10
A11: 11 | B11: =IF(J11="Wolfspeed",K11,IFERROR(VLOOKUP(CONCATENATE(C11,D11),Sheet1!AF:AH,1,FALSE),CONCATENATE(C11,"D"))) -> C3M0015065D | C11: {=IF(G11=650,INDEX(Sheet1!$I:$I,MATCH(MIN(ABS(Sheet1!$H$1:$H$50-E11)),ABS(Sheet1!$H$1:$H$50-E11),0)),IF(G11=900,INDEX(Sheet1!$C:$C,MATCH(MIN(ABS(Sheet1!$B$1:$B$50-E11)),ABS(Sheet1!$B$1:$B$50-E11),0)),IF(G11=1200,INDEX(Sheet1!$U:$U,MATCH(MIN(ABS(Sheet1!$T$1:$T$48-E11)),ABS(Sheet1!$T$1:$T$48-E11),0)),IF(G11=1000,INDEX(Sheet1!$AA:$AA,MATCH(MIN(ABS(Sheet1!$Z$1:$Z$50-E11)),ABS(Sheet1!$Z$1:$Z$50-E11),0))))))} -> C3M0015065 | D11: =IF(I11="TO-247-3","D",IF(I11="TO-247-4","K",IF(LEFT(I11,6)="TO-263","J","D"))) -> D | E11: =H11/1.3 -> 22 | G11: 650 | H11: 28.6 | I11: TO-247-3 | J11: Rohm | K11: SCT3022ALGC11 | L11: Avnet | M11: 30.1669 | N11: 32.9 | P11: 30.1669 | Q11: 39.260569 | R11: 39.2 | S11: 35.62 | T11: 39.64 | U11: 35.76 | W11: 40.99 | Z11: 30.94 | AA11: 40.292 | AB11: =A11 -> 11
A12: 12 | B12: =IF(J12="Wolfspeed",K12,IFERROR(VLOOKUP(CONCATENATE(C12,D12),Sheet1!AF:AH,1,FALSE),CONCATENATE(C12,"D"))) -> C3M0015065D | C12: {=IF(G12=650,INDEX(Sheet1!$I:$I,MATCH(MIN(ABS(Sheet1!$H$1:$H$50-E12)),ABS(Sheet1!$H$1:$H$50-E12),0)),IF(G12=900,INDEX(Sheet1!$C:$C,MATCH(MIN(ABS(Sheet1!$B$1:$B$50-E12)),ABS(Sheet1!$B$1:$B$50-E12),0)),IF(G12=1200,INDEX(Sheet1!$U:$U,MATCH(MIN(ABS(Sheet1!$T$1:$T$48-E12)),ABS(Sheet1!$T$1:$T$48-E12),0)),IF(G12=1000,INDEX(Sheet1!$AA:$AA,MATCH(MIN(ABS(Sheet1!$Z$1:$Z$50-E12)),ABS(Sheet1!$Z$1:$Z$50-E12),0))))))} -> C3M0015065 | D12: =IF(I12="TO-247-3","D",IF(I12="TO-247-4","K",IF(LEFT(I12,6)="TO-263","J","D"))) -> D | E12: =H12/1.3 -> 22 | G12: 650 | H12: 28.6 | I12: TO-247-3 | J12: Rohm | K12: SCT3022ALHRC11 | L12: Newark | M12: 41.13 | N12: 50.6248 | Q12: 45.018784 | R12: 45.2 | T12: 54.23 | U12: 41.13 | AA12: 62.6025 | AB12: =A12 -> 12
A13: 13 | B13: =IF(J13="Wolfspeed",K13,IFERROR(VLOOKUP(CONCATENATE(C13,D13),Sheet1!AF:AH,1,FALSE),CONCATENATE(C13,"D"))) -> C3M0015065D | C13: {=IF(G13=650,INDEX(Sheet1!$I:$I,MATCH(MIN(ABS(Sheet1!$H$1:$H$50-E13)),ABS(Sheet1!$H$1:$H$50-E13),0)),IF(G13=900,INDEX(Sheet1!$C:$C,MATCH(MIN(ABS(Sheet1!$B$1:$B$50-E13)),ABS(Sheet1!$B$1:$B$50-E13),0)),IF(G13=1200,INDEX(Sheet1!$U:$U,MATCH(MIN(ABS(Sheet1!$T$1:$T$48-E13)),ABS(Sheet1!$T$1:$T$48-E13),0)),IF(G13=1000,INDEX(Sheet1!$AA:$AA,MATCH(MIN(ABS(Sheet1!$Z$1:$Z$50-E13)),ABS(Sheet1!$Z$1:$Z$50-E13),0))))))} -> C3M0015065 | D13: =IF(I13="TO-247-3","D",IF(I13="TO-247-4","K",IF(LEFT(I13,6)="TO-263","J","D"))) -> D | E13: =H13/1.3 -> 26.923077 | G13: 650 | H13: 35 | I13: TO-220-3 | J13: United Silicon Carbide | K13: UF3C065030T3S | L13: Mouser 500 | M13: 10.86 | AB13: =A13 -> 13
A14: 14 | B14: =IF(J14="Wolfspeed",K14,IFERROR(VLOOKUP(CONCATENATE(C14,D14),Sheet1!AF:AH,1,FALSE),CONCATENATE(C14,"D"))) -> C3M0015065D | C14: {=IF(G14=650,INDEX(Sheet1!$I:$I,MATCH(MIN(ABS(Sheet1!$H$1:$H$50-E14)),ABS(Sheet1!$H$1:$H$50-E14),0)),IF(G14=900,INDEX(Sheet1!$C:$C,MATCH(MIN(ABS(Sheet1!$B$1:$B$50-E14)),ABS(Sheet1!$B$1:$B$50-E14),0)),IF(G14=1200,INDEX(Sheet1!$U:$U,MATCH(MIN(ABS(Sheet1!$T$1:$T$48-E14)),ABS(Sheet1!$T$1:$T$48-E14),0)),IF(G14=1000,INDEX(Sheet1!$AA:$AA,MATCH(MIN(ABS(Sheet1!$Z$1:$Z$50-E14)),ABS(Sheet1!$Z$1:$Z$50-E14),0))))))} -> C3M0015065 | D14: =IF(I14="TO-247-3","D",IF(I14="TO-247-4","K",IF(LEFT(I14,6)="TO-263","J","D"))) -> D | E14: =H14/1.3 -> 26.923077 | G14: 650 | H14: 35 | I14: TO-220-3 | J14: United Silicon Carbide | K14: UJ3C065030T3S | L14: Distrelec | M14: 23.492304 | AB14: =A14 -> 14
A15: 15 | B15: =IF(J15="Wolfspeed",K15,IFERROR(VLOOKUP(CONCATENATE(C15,D15),Sheet1!AF:AH,1,FALSE),CONCATENATE(C15,"D"))) -> C3M0015065D | C15: {=IF(G15=650,INDEX(Sheet1!$I:$I,MATCH(MIN(ABS(Sheet1!$H$1:$H$50-E15)),ABS(Sheet1!$H$1:$H$50-E15),0)),IF(G15=900,INDEX(Sheet1!$C:$C,MATCH(MIN(ABS(Sheet1!$B$1:$B$50-E15)),ABS(Sheet1!$B$1:$B$50-E15),0)),IF(G15=1200,INDEX(Sheet1!$U:$U,MATCH(MIN(ABS(Sheet1!$T$1:$T$48-E15)),ABS(Sheet1!$T$1:$T$48-E15),0)),IF(G15=1000,INDEX(Sheet1!$AA:$AA,MATCH(MIN(ABS(Sheet1!$Z$1:$Z$50-E15)),ABS(Sheet1!$Z$1:$Z$50-E15),0))))))} -> C3M0015065 | D15: =IF(I15="TO-247-3","D",IF(I15="TO-247-4","K",IF(LEFT(I15,6)="TO-263","J","D"))) -> D | E15: =H15/1.3 -> 26.923077 | G15: 650 | H15: 35 | I15: TO-247-3 | J15: United Silicon Carbide | K15: UF3C065030K3S | L15: Distrelec | M15: 38.019547 | AB15: =A15 -> 15
A16: 16 | B16: =IF(J16="Wolfspeed",K16,IFERROR(VLOOKUP(CONCATENATE(C16,D16),Sheet1!AF:AH,1,FALSE),CONCATENATE(C16,"D"))) -> C3M0015065D | C16: {=IF(G16=650,INDEX(Sheet1!$I:$I,MATCH(MIN(ABS(Sheet1!$H$1:$H$50-E16)),ABS(Sheet1!$H$1:$H$50-E16),0)),IF(G16=900,INDEX(Sheet1!$C:$C,MATCH(MIN(ABS(Sheet1!$B$1:$B$50-E16)),ABS(Sheet1!$B$1:$B$50-E16),0)),IF(G16=1200,INDEX(Sheet1!$U:$U,MATCH(MIN(ABS(Sheet1!$T$1:$T$48-E16)),ABS(Sheet1!$T$1:$T$48-E16),0)),IF(G16=1000,INDEX(Sheet1!$AA:$AA,MATCH(MIN(ABS(Sheet1!$Z$1:$Z$50-E16)),ABS(Sheet1!$Z$1:$Z$50-E16),0))))))} -> C3M0015065 | D16: =IF(I16="TO-247-3","D",IF(I16="TO-247-4","K",IF(LEFT(I16,6)="TO-263","J","D"))) -> D | E16: =H16/1.3 -> 26.923077 | G16: 650 | H16: 35 | I16: TO-247-3 | J16: United Silicon Carbide | K16: UJ3C065030K3S | L16: Distrelec | M16: 24.916765 | AB16: =A16 -> 16
A17: 17 | B17: =IF(J17="Wolfspeed",K17,IFERROR(VLOOKUP(CONCATENATE(C17,D17),Sheet1!AF:AH,1,FALSE),CONCATENATE(C17,"D"))) -> C3M0015065K | C17: {=IF(G17=650,INDEX(Sheet1!$I:$I,MATCH(MIN(ABS(Sheet1!$H$1:$H$50-E17)),ABS(Sheet1!$H$1:$H$50-E17),0)),IF(G17=900,INDEX(Sheet1!$C:$C,MATCH(MIN(ABS(Sheet1!$B$1:$B$50-E17)),ABS(Sheet1!$B$1:$B$50-E17),0)),IF(G17=1200,INDEX(Sheet1!$U:$U,MATCH(MIN(ABS(Sheet1!$T$1:$T$48-E17)),ABS(Sheet1!$T$1:$T$48-E17),0)),IF(G17=1000,INDEX(Sheet1!$AA:$AA,MATCH(MIN(ABS(Sheet1!$Z$1:$Z$50-E17)),ABS(Sheet1!$Z$1:$Z$50-E17),0))))))} -> C3M0015065 | D17: =IF(I17="TO-247-3","D",IF(I17="TO-247-4","K",IF(LEFT(I17,6)="TO-263","J","D"))) -> K | E17: =H17/1.3 -> 26.923077 | G17: 650 | H17: 35 | I17: TO-247-4 | J17: United Silicon Carbide | K17: UF3C065030K4S | L17: Distrelec | M17: 38.901356 | AB17: =A17 -> 17
A18: 18 | B18: =IF(J18="Wolfspeed",K18,IFERROR(VLOOKUP(CONCATENATE(C18,D18),Sheet1!AF:AH,1,FALSE),CONCATENATE(C18,"D"))) -> C3M0015065D | C18: {=IF(G18=650,INDEX(Sheet1!$I:$I,MATCH(MIN(ABS(Sheet1!$H$1:$H$50-E18)),ABS(Sheet1!$H$1:$H$50-E18),0)),IF(G18=900,INDEX(Sheet1!$C:$C,MATCH(MIN(ABS(Sheet1!$B$1:$B$50-E18)),ABS(Sheet1!$B$1:$B$50-E18),0)),IF(G18=1200,INDEX(Sheet1!$U:$U,MATCH(MIN(ABS(Sheet1!$T$1:$T$48-E18)),ABS(Sheet1!$T$1:$T$48-E18),0)),IF(G18=1000,INDEX(Sheet1!$AA:$AA,MATCH(MIN(ABS(Sheet1!$Z$1:$Z$50-E18)),ABS(Sheet1!$Z$1:$Z$50-E18),0))))))} -> C3M0015065 | D18: =IF(I18="TO-247-3","D",IF(I18="TO-247-4","K",IF(LEFT(I18,6)="TO-263","J","D"))) -> J | E18: =H18/1.3 -> 26.923077 | G18: 650 | H18: 35 | I18: TO-263-3, | J18: United Silicon Carbide | K18: UF3C065030B3 | L18: Mouser 500 | M18: 10.86 | AB18: =A18 -> 18
A19: 19 | B19: =IF(J19="Wolfspeed",K19,IFERROR(VLOOKUP(CONCATENATE(C19,D19),Sheet1!AF:AH,1,FALSE),CONCATENATE(C19,"D"))) -> C3M0015065D | C19: {=IF(G19=650,INDEX(Sheet1!$I:$I,MATCH(MIN(ABS(Sheet1!$H$1:$H$50-E19)),ABS(Sheet1!$H$1:$H$50-E19),0)),IF(G19=900,INDEX(Sheet1!$C:$C,MATCH(MIN(ABS(Sheet1!$B$1:$B$50-E19)),ABS(Sheet1!$B$1:$B$50-E19),0)),IF(G19=1200,INDEX(Sheet1!$U:$U,MATCH(MIN(ABS(Sheet1!$T$1:$T$48-E19)),ABS(Sheet1!$T$1:$T$48-E19),0)),IF(G19=1000,INDEX(Sheet1!$AA:$AA,MATCH(MIN(ABS(Sheet1!$Z$1:$Z$50-E19)),ABS(Sheet1!$Z$1:$Z$50-E19),0))))))} -> C3M0015065 | D19: =IF(I19="TO-247-3","D",IF(I19="TO-247-4","K",IF(LEFT(I19,6)="TO-263","J","D"))) -> J | E19: =H19/1.3 -> 26.923077 | G19: 650 | H19: 35 | I19: TO-263-3, | J19: United Silicon Carbide | K19: UJ3C065030B3 | L19: Distrelec | M19: 23.492304 | AB19: =A19 -> 19
A20: 20 | B20: =IF(J20="Wolfspeed",K20,IFERROR(VLOOKUP(CONCATENATE(C20,D20),Sheet1!AF:AH,1,FALSE),CONCATENATE(C20,"D"))) -> C3M0015065D | C20: {=IF(G20=650,INDEX(Sheet1!$I:$I,MATCH(MIN(ABS(Sheet1!$H$1:$H$50-E20)),ABS(Sheet1!$H$1:$H$50-E20),0)),IF(G20=900,INDEX(Sheet1!$C:$C,MATCH(MIN(ABS(Sheet1!$B$1:$B$50-E20)),ABS(Sheet1!$B$1:$B$50-E20),0)),IF(G20=1200,INDEX(Sheet1!$U:$U,MATCH(MIN(ABS(Sheet1!$T$1:$T$48-E20)),ABS(Sheet1!$T$1:$T$48-E20),0)),IF(G20=1000,INDEX(Sheet1!$AA:$AA,MATCH(MIN(ABS(Sheet1!$Z$1:$Z$50-E20)),ABS(Sheet1!$Z$1:$Z$50-E20),0))))))} -> C3M0015065 | D20: =IF(I20="TO-247-3","D",IF(I20="TO-247-4","K",IF(LEFT(I20,6)="TO-263","J","D"))) -> D | E20: =H20/1.3 -> 30 | G20: 650 | H20: 39 | I20: TO-247-3 | J20: Rohm | K20: SCT3030ALGC11 | L20: Chip One Stop Japan | M20: 15.9 | N20: 17.92 | P20: 16.43133 | Q20: 24.777778 | R20: 15.9 | T20: 19.45 | U20: 18.73 | W20: 26.79 | X20: 29.33 | Z20: 19.38 | AA20: 20.7825 | AB20: =A20 -> 20
A21: 21 | B21: =IF(J21="Wolfspeed",K21,IFERROR(VLOOKUP(CONCATENATE(C21,D21),Sheet1!AF:AH,1,FALSE),CONCATENATE(C21,"D"))) -> C3M0015065D | C21: {=IF(G21=650,INDEX(Sheet1!$I:$I,MATCH(MIN(ABS(Sheet1!$H$1:$H$50-E21)),ABS(Sheet1!$H$1:$H$50-E21),0)),IF(G21=900,INDEX(Sheet1!$C:$C,MATCH(MIN(ABS(Sheet1!$B$1:$B$50-E21)),ABS(Sheet1!$B$1:$B$50-E21),0)),IF(G21=1200,INDEX(Sheet1!$U:$U,MATCH(MIN(ABS(Sheet1!$T$1:$T$48-E21)),ABS(Sheet1!$T$1:$T$48-E21),0)),IF(G21=1000,INDEX(Sheet1!$AA:$AA,MATCH(MIN(ABS(Sheet1!$Z$1:$Z$50-E21)),ABS(Sheet1!$Z$1:$Z$50-E21),0))))))} -> C3M0015065 | D21: =IF(I21="TO-247-3","D",IF(I21="TO-247-4","K",IF(LEFT(I21,6)="TO-263","J","D"))) -> D | E21: =H21/1.3 -> 30 | G21: 650 | H21: 39 | I21: TO-247-3 | J21: Rohm | K21: SCT3030ALHRC11 | L21: Newark | M21: 27.88 | N21: 33.09684 | Q21: 33.502354 | R21: 34.4 | T21: 35.46 | U21: 27.88 | AA21: 42.56 | AB21: =A21 -> 21
A22: 22 | B22: =IF(J22="Wolfspeed",K22,IFERROR(VLOOKUP(CONCATENATE(C22,D22),Sheet1!AF:AH,1,FALSE),CONCATENATE(C22,"D"))) -> C3M0015065K | C22: {=IF(G22=650,INDEX(Sheet1!$I:$I,MATCH(MIN(ABS(Sheet1!$H$1:$H$50-E22)),ABS(Sheet1!$H$1:$H$50-E22),0)),IF(G22=900,INDEX(Sheet1!$C:$C,MATCH(MIN(ABS(Sheet1!$B$1:$B$50-E22)),ABS(Sheet1!$B$1:$B$50-E22),0)),IF(G22=1200,INDEX(Sheet1!$U:$U,MATCH(MIN(ABS(Sheet1!$T$1:$T$48-E22)),ABS(Sheet1!$T$1:$T$48-E22),0)),IF(G22=1000,INDEX(Sheet1!$AA:$AA,MATCH(MIN(ABS(Sheet1!$Z$1:$Z$50-E22)),ABS(Sheet1!$Z$1:$Z$50-E22),0))))))} -> C3M0015065 | D22: =IF(I22="TO-247-3","D",IF(I22="TO-247-4","K",IF(LEFT(I22,6)="TO-263","J","D"))) -> K | E22: =H22/1.3 -> 30 | G22: 650 | H22: 39 | I22: TO-247-4 | J22: Rohm | K22: SCT3030ARC14 | L22: Farnell | M22: 25.980882 | N22: 31.7296 | P22: 29.09373 | R22: 33 | T22: 32.86 | U22: 26.72 | AA22: 40.81 | AB22: =A22 -> 22
A23: 23 | B23: =IF(J23="Wolfspeed",K23,IFERROR(VLOOKUP(CONCATENATE(C23,D23),Sheet1!AF:AH,1,FALSE),CONCATENATE(C23,"D"))) -> C3M0015065D | C23: {=IF(G23=650,INDEX(Sheet1!$I:$I,MATCH(MIN(ABS(Sheet1!$H$1:$H$50-E23)),ABS(Sheet1!$H$1:$H$50-E23),0)),IF(G23=900,INDEX(Sheet1!$C:$C,MATCH(MIN(ABS(Sheet1!$B$1:$B$50-E23)),ABS(Sheet1!$B$1:$B$50-E23),0)),IF(G23=1200,INDEX(Sheet1!$U:$U,MATCH(MIN(ABS(Sheet1!$T$1:$T$48-E23)),ABS(Sheet1!$T$1:$T$48-E23),0)),IF(G23=1000,INDEX(Sheet1!$AA:$AA,MATCH(MIN(ABS(Sheet1!$Z$1:$Z$50-E23)),ABS(Sheet1!$Z$1:$Z$50-E23),0))))))} -> C3M0015065 | D23: =IF(I23="TO-247-3","D",IF(I23="TO-247-4","K",IF(LEFT(I23,6)="TO-263","J","D"))) -> D | E23: =H23/1.3 -> 40 | G23: 650 | H23: 52 | I23: TO-220-3 | J23: United Silicon Carbide | K23: UF3C065040T3S | L23: Mouser 1000 | M23: 7.31 | AB23: =A23 -> 23
A24: 24 | B24: =IF(J24="Wolfspeed",K24,IFERROR(VLOOKUP(CONCATENATE(C24,D24),Sheet1!AF:AH,1,FALSE),CONCATENATE(C24,"D"))) -> C3M0015065D | C24: {=IF(G24=650,INDEX(Sheet1!$I:$I,MATCH(MIN(ABS(Sheet1!$H$1:$H$50-E24)),ABS(Sheet1!$H$1:$H$50-E24),0)),IF(G24=900,INDEX(Sheet1!$C:$C,MATCH(MIN(ABS(Sheet1!$B$1:$B$50-E24)),ABS(Sheet1!$B$1:$B$50-E24),0)),IF(G24=1200,INDEX(Sheet1!$U:$U,MATCH(MIN(ABS(Sheet1!$T$1:$T$48-E24)),ABS(Sheet1!$T$1:$T$48-E24),0)),IF(G24=1000,INDEX(Sheet1!$AA:$AA,MATCH(MIN(ABS(Sheet1!$Z$1:$Z$50-E24)),ABS(Sheet1!$Z$1:$Z$50-E24),0))))))} -> C3M0015065 | D24: =IF(I24="TO-247-3","D",IF(I24="TO-247-4","K",IF(LEFT(I24,6)="TO-263","J","D"))) -> D | E24: =H24/1.3 -> 40 | G24: 650 | H24: 52 | I24: TO-247-3 | J24: United Silicon Carbide | K24: UF3C065040K3S | L24: Distrelec | M24: 24.464555 | AB24: =A24 -> 24
A25: 25 | B25: =IF(J25="Wolfspeed",K25,IFERROR(VLOOKUP(CONCATENATE(C25,D25),Sheet1!AF:AH,1,FALSE),CONCATENATE(C25,"D"))) -> C3M0015065K | C25: {=IF(G25=650,INDEX(Sheet1!$I:$I,MATCH(MIN(ABS(Sheet1!$H$1:$H$50-E25)),ABS(Sheet1!$H$1:$H$50-E25),0)),IF(G25=900,INDEX(Sheet1!$C:$C,MATCH(MIN(ABS(Sheet1!$B$1:$B$50-E25)),ABS(Sheet1!$B$1:$B$50-E25),0)),IF(G25=1200,INDEX(Sheet1!$U:$U,MATCH(MIN(ABS(Sheet1!$T$1:$T$48-E25)),ABS(Sheet1!$T$1:$T$48-E25),0)),IF(G25=1000,INDEX(Sheet1!$AA:$AA,MATCH(MIN(ABS(Sheet1!$Z$1:$Z$50-E25)),ABS(Sheet1!$Z$1:$Z$50-E25),0))))))} -> C3M0015065 | D25: =IF(I25="TO-247-3","D",IF(I25="TO-247-4","K",IF(LEFT(I25,6)="TO-263","J","D"))) -> K | E25: =H25/1.3 -> 40 | G25: 650 | H25: 52 | I25: TO-247-4 | J25: United Silicon Carbide | K25: UF3C065040K4S | L25: Distrelec | M25: 24.611523 | AB25: =A25 -> 25
A26: 26 | B26: =IF(J26="Wolfspeed",K26,IFERROR(VLOOKUP(CONCATENATE(C26,D26),Sheet1!AF:AH,1,FALSE),CONCATENATE(C26,"D"))) -> C3M0015065D | C26: {=IF(G26=650,INDEX(Sheet1!$I:$I,MATCH(MIN(ABS(Sheet1!$H$1:$H$50-E26)),ABS(Sheet1!$H$1:$H$50-E26),0)),IF(G26=900,INDEX(Sheet1!$C:$C,MATCH(MIN(ABS(Sheet1!$B$1:$B$50-E26)),ABS(Sheet1!$B$1:$B$50-E26),0)),IF(G26=1200,INDEX(Sheet1!$U:$U,MATCH(MIN(ABS(Sheet1!$T$1:$T$48-E26)),ABS(Sheet1!$T$1:$T$48-E26),0)),IF(G26=1000,INDEX(Sheet1!$AA:$AA,MATCH(MIN(ABS(Sheet1!$Z$1:$Z$50-E26)),ABS(Sheet1!$Z$1:$Z$50-E26),0))))))} -> C3M0015065 | D26: =IF(I26="TO-247-3","D",IF(I26="TO-247-4","K",IF(LEFT(I26,6)="TO-263","J","D"))) -> J | E26: =H26/1.3 -> 40 | G26: 650 | H26: 52 | I26: TO-263-3, | J26: United Silicon Carbide | K26: UF3C065040B3 | L26: Distrelec | M26: 20.632076 | AB26: =A26 -> 26
A27: 27 | B27: =IF(J27="Wolfspeed",K27,IFERROR(VLOOKUP(CONCATENATE(C27,D27),Sheet1!AF:AH,1,FALSE),CONCATENATE(C27,"D"))) -> C3M0060065D | C27: {=IF(G27=650,INDEX(Sheet1!$I:$I,MATCH(MIN(ABS(Sheet1!$H$1:$H$50-E27)),ABS(Sheet1!$H$1:$H$50-E27),0)),IF(G27=900,INDEX(Sheet1!$C:$C,MATCH(MIN(ABS(Sheet1!$B$1:$B$50-E27)),ABS(Sheet1!$B$1:$B$50-E27),0)),IF(G27=1200,INDEX(Sheet1!$U:$U,MATCH(MIN(ABS(Sheet1!$T$1:$T$48-E27)),ABS(Sheet1!$T$1:$T$48-E27),0)),IF(G27=1000,INDEX(Sheet1!$AA:$AA,MATCH(MIN(ABS(Sheet1!$Z$1:$Z$50-E27)),ABS(Sheet1!$Z$1:$Z$50-E27),0))))))} -> C3M0060065 | D27: =IF(I27="TO-247-3","D",IF(I27="TO-247-4","K",IF(LEFT(I27,6)="TO-263","J","D"))) -> D | E27: =H27/1.3 -> 51.538462 | G27: 650 | H27: 67 | I27: TO-247-3 | J27: STMicroelectronics | K27: SCTW35N65G2V | L27: Newark | M27: 7.63 | N27: 8.845 | P27: 7.79055 | T27: 9.45 | U27: 7.63 | AB27: =A27 -> 27
A28: 28 | B28: =IF(J28="Wolfspeed",K28,IFERROR(VLOOKUP(CONCATENATE(C28,D28),Sheet1!AF:AH,1,FALSE),CONCATENATE(C28,"D"))) -> C3M0060065D | C28: {=IF(G28=650,INDEX(Sheet1!$I:$I,MATCH(MIN(ABS(Sheet1!$H$1:$H$50-E28)),ABS(Sheet1!$H$1:$H$50-E28),0)),IF(G28=900,INDEX(Sheet1!$C:$C,MATCH(MIN(ABS(Sheet1!$B$1:$B$50-E28)),ABS(Sheet1!$B$1:$B$50-E28),0)),IF(G28=1200,INDEX(Sheet1!$U:$U,MATCH(MIN(ABS(Sheet1!$T$1:$T$48-E28)),ABS(Sheet1!$T$1:$T$48-E28),0)),IF(G28=1000,INDEX(Sheet1!$AA:$AA,MATCH(MIN(ABS(Sheet1!$Z$1:$Z$50-E28)),ABS(Sheet1!$Z$1:$Z$50-E28),0))))))} -> C3M0060065 | D28: =IF(I28="TO-247-3","D",IF(I28="TO-247-4","K",IF(LEFT(I28,6)="TO-263","J","D"))) -> D | E28: =H28/1.3 -> 51.538462 | G28: 650 | H28: 67 | I28: TO-247-3 | J28: STMicroelectronics | K28: SCTW35N65G2VAG | L28: Newark | M28: 10.68 | N28: 12.383 | T28: 13.23 | U28: 10.68 | AB28: =A28 -> 28
A29: 29 | B29: =IF(J29="Wolfspeed",K29,IFERROR(VLOOKUP(CONCATENATE(C29,D29),Sheet1!AF:AH,1,FALSE),CONCATENATE(C29,"D"))) -> C3M0060065J | C29: {=IF(G29=650,INDEX(Sheet1!$I:$I,MATCH(MIN(ABS(Sheet1!$H$1:$H$50-E29)),ABS(Sheet1!$H$1:$H$50-E29),0)),IF(G29=900,INDEX(Sheet1!$C:$C,MATCH(MIN(ABS(Sheet1!$B$1:$B$50-E29)),ABS(Sheet1!$B$1:$B$50-E29),0)),IF(G29=1200,INDEX(Sheet1!$U:$U,MATCH(MIN(ABS(Sheet1!$T$1:$T$48-E29)),ABS(Sheet1!$T$1:$T$48-E29),0)),IF(G29=1000,INDEX(Sheet1!$AA:$AA,MATCH(MIN(ABS(Sheet1!$Z$1:$Z$50-E29)),ABS(Sheet1!$Z$1:$Z$50-E29),0))))))} -> C3M0060065 | D29: =IF(I29="TO-247-3","D",IF(I29="TO-247-4","K",IF(LEFT(I29,6)="TO-263","J","D"))) -> J | E29: =H29/1.3 -> 51.538462 | G29: 650 | H29: 67 | I29: TO-263-8, | J29: STMicroelectronics | K29: SCTH35N65G2V-7 | L29: Newark | M29: 6.63 | N29: 7.049 | Q29: 9.8277646 | R29: 25 | T29: 8.21 | U29: 6.63 | AA29: 31.875 | AB29: =A29 -> 29
A30: 30 | B30: =IF(J30="Wolfspeed",K30,IFERROR(VLOOKUP(CONCATENATE(C30,D30),Sheet1!AF:AH,1,FALSE),CONCATENATE(C30,"D"))) -> C3M0060065D | C30: {=IF(G30=650,INDEX(Sheet1!$I:$I,MATCH(MIN(ABS(Sheet1!$H$1:$H$50-E30)),ABS(Sheet1!$H$1:$H$50-E30),0)),IF(G30=900,INDEX(Sheet1!$C:$C,MATCH(MIN(ABS(Sheet1!$B$1:$B$50-E30)),ABS(Sheet1!$B$1:$B$50-E30),0)),IF(G30=1200,INDEX(Sheet1!$U:$U,MATCH(MIN(ABS(Sheet1!$T$1:$T$48-E30)),ABS(Sheet1!$T$1:$T$48-E30),0)),IF(G30=1000,INDEX(Sheet1!$AA:$AA,MATCH(MIN(ABS(Sheet1!$Z$1:$Z$50-E30)),ABS(Sheet1!$Z$1:$Z$50-E30),0))))))} -> C3M0060065 | D30: =IF(I30="TO-247-3","D",IF(I30="TO-247-4","K",IF(LEFT(I30,6)="TO-263","J","D"))) -> D | E30: =H30/1.3 -> 60 | G30: 650 | H30: 78 | I30: TO-247-3 | J30: Rohm | K30: SCT3060ALGC11 | L30: Avnet | M30: 6.88062 | N30: 7.504 | P30: 6.88062 | Q30: 11.184903 | R30: 16 | S30: 10.15 | T30: 8.31 | U30: 10.73 | W30: 11.8 | Y30: 14 | Z30: 7.872 | AA30: 9.982 | AB30: =A30 -> 30
A31: 31 | B31: =IF(J31="Wolfspeed",K31,IFERROR(VLOOKUP(CONCATENATE(C31,D31),Sheet1!AF:AH,1,FALSE),CONCATENATE(C31,"D"))) -> C3M0060065D | C31: {=IF(G31=650,INDEX(Sheet1!$I:$I,MATCH(MIN(ABS(Sheet1!$H$1:$H$50-E31)),ABS(Sheet1!$H$1:$H$50-E31),0)),IF(G31=900,INDEX(Sheet1!$C:$C,MATCH(MIN(ABS(Sheet1!$B$1:$B$50-E31)),ABS(Sheet1!$B$1:$B$50-E31),0)),IF(G31=1200,INDEX(Sheet1!$U:$U,MATCH(MIN(ABS(Sheet1!$T$1:$T$48-E31)),ABS(Sheet1!$T$1:$T$48-E31),0)),IF(G31=1000,INDEX(Sheet1!$AA:$AA,MATCH(MIN(ABS(Sheet1!$Z$1:$Z$50-E31)),ABS(Sheet1!$Z$1:$Z$50-E31),0))))))} -> C3M0060065 | D31: =IF(I31="TO-247-3","D",IF(I31="TO-247-4","K",IF(LEFT(I31,6)="TO-263","J","D"))) -> D | E31: =H31/1.3 -> 60 | G31: 650 | H31: 78 | I31: TO-247-3 | J31: Rohm | K31: SCT3060ALHRC11 | L31: Newark | M31: 12.2 | N31: 14.57204 | Q31: 14.727074 | R31: 17.1 | T31: 17.69 | U31: 12.2 | AA31: 18.746 | AB31: =A31 -> 31
A32: 32 | B32: =IF(J32="Wolfspeed",K32,IFERROR(VLOOKUP(CONCATENATE(C32,D32),Sheet1!AF:AH,1,FALSE),CONCATENATE(C32,"D"))) -> C3M0060065K | C32: {=IF(G32=650,INDEX(Sheet1!$I:$I,MATCH(MIN(ABS(Sheet1!$H$1:$H$50-E32)),ABS(Sheet1!$H$1:$H$50-E32),0)),IF(G32=900,INDEX(Sheet1!$C:$C,MATCH(MIN(ABS(Sheet1!$B$1:$B$50-E32)),ABS(Sheet1!$B$1:$B$50-E32),0)),IF(G32=1200,INDEX(Sheet1!$U:$U,MATCH(MIN(ABS(Sheet1!$T$1:$T$48-E32)),ABS(Sheet1!$T$1:$T$48-E32),0)),IF(G32=1000,INDEX(Sheet1!$AA:$AA,MATCH(MIN(ABS(Sheet1!$Z$1:$Z$50-E32)),ABS(Sheet1!$Z$1:$Z$50-E32),0))))))} -> C3M0060065 | D32: =IF(I32="TO-247-3","D",IF(I32="TO-247-4","K",IF(LEFT(I32,6)="TO-263","J","D"))) -> K | E32: =H32/1.3 -> 60 | G32: 650 | H32: 78 | I32: TO-247-4 | J32: Rohm | K32: SCT3060ARC14 | L32: Avnet Europe | M32: 11.446642 | N32: 14.46956 | P32: 12.81002 | Q32: 11.446642 | R32: 13 | T32: 15.46 | U32: 11.77 | AA32: 17.2125 | AB32: =A32 -> 32
A33: 33 | B33: =IF(J33="Wolfspeed",K33,IFERROR(VLOOKUP(CONCATENATE(C33,D33),Sheet1!AF:AH,1,FALSE),CONCATENATE(C33,"D"))) -> C3M0060065D | C33: {=IF(G33=650,INDEX(Sheet1!$I:$I,MATCH(MIN(ABS(Sheet1!$H$1:$H$50-E33)),ABS(Sheet1!$H$1:$H$50-E33),0)),IF(G33=900,INDEX(Sheet1!$C:$C,MATCH(MIN(ABS(Sheet1!$B$1:$B$50-E33)),ABS(Sheet1!$B$1:$B$50-E33),0)),IF(G33=1200,INDEX(Sheet1!$U:$U,MATCH(MIN(ABS(Sheet1!$T$1:$T$48-E33)),ABS(Sheet1!$T$1:$T$48-E33),0)),IF(G33=1000,INDEX(Sheet1!$AA:$AA,MATCH(MIN(ABS(Sheet1!$Z$1:$Z$50-E33)),ABS(Sheet1!$Z$1:$Z$50-E33),0))))))} -> C3M0060065 | D33: =IF(I33="TO-247-3","D",IF(I33="TO-247-4","K",IF(LEFT(I33,6)="TO-263","J","D"))) -> D | E33: =H33/1.3 -> 69.230769 | G33: 650 | H33: 90 | I33: TO-247-3 | J33: Microsemi | K33: MSC090SMA070B | L33: Richardson RFPD | M33: 5.55 | N33: 5.99306 | V33: 5.55 | AA33: 7.2 | AB33: =A33 -> 33
A34: 34 | B34: =IF(J34="Wolfspeed",K34,IFERROR(VLOOKUP(CONCATENATE(C34,D34),Sheet1!AF:AH,1,FALSE),CONCATENATE(C34,"D"))) -> C3M0060065D | C34: {=IF(G34=650,INDEX(Sheet1!$I:$I,MATCH(MIN(ABS(Sheet1!$H$1:$H$50-E34)),ABS(Sheet1!$H$1:$H$50-E34),0)),IF(G34=900,INDEX(Sheet1!$C:$C,MATCH(MIN(ABS(Sheet1!$B$1:$B$50-E34)),ABS(Sheet1!$B$1:$B$50-E34),0)),IF(G34=1200,INDEX(Sheet1!$U:$U,MATCH(MIN(ABS(Sheet1!$T$1:$T$48-E34)),ABS(Sheet1!$T$1:$T$48-E34),0)),IF(G34=1000,INDEX(Sheet1!$AA:$AA,MATCH(MIN(ABS(Sheet1!$Z$1:$Z$50-E34)),ABS(Sheet1!$Z$1:$Z$50-E34),0))))))} -> C3M0060065 | D34: =IF(I34="TO-247-3","D",IF(I34="TO-247-4","K",IF(LEFT(I34,6)="TO-263","J","D"))) -> D | E34: =H34/1.3 -> 69.230769 | G34: 650 | H34: 90 | I34: TO-268-3 | J34: Microsemi | K34: MSC090SMA070S | L34: Richardson RFPD | M34: 6.07 | N34: 6.54926 | V34: 6.07 | AA34: 7.85 | AB34: =A34 -> 34
A35: 35 | B35: =IF(J35="Wolfspeed",K35,IFERROR(VLOOKUP(CONCATENATE(C35,D35),Sheet1!AF:AH,1,FALSE),CONCATENATE(C35,"D"))) -> C3M0060065D | C35: {=IF(G35=650,INDEX(Sheet1!$I:$I,MATCH(MIN(ABS(Sheet1!$H$1:$H$50-E35)),ABS(Sheet1!$H$1:$H$50-E35),0)),IF(G35=900,INDEX(Sheet1!$C:$C,MATCH(MIN(ABS(Sheet1!$B$1:$B$50-E35)),ABS(Sheet1!$B$1:$B$50-E35),0)),IF(G35=1200,INDEX(Sheet1!$U:$U,MATCH(MIN(ABS(Sheet1!$T$1:$T$48-E35)),ABS(Sheet1!$T$1:$T$48-E35),0)),IF(G35=1000,INDEX(Sheet1!$AA:$AA,MATCH(MIN(ABS(Sheet1!$Z$1:$Z$50-E35)),ABS(Sheet1!$Z$1:$Z$50-E35),0))))))} -> C3M0060065 | D35: =IF(I35="TO-247-3","D",IF(I35="TO-247-4","K",IF(LEFT(I35,6)="TO-263","J","D"))) -> D | E35: =H35/1.3 -> 76.923077 | G35: 650 | H35: 100 | I35: TO-220-3 | J35: United Silicon Carbide | K35: UF3C065080T3S | L35: Mouser 500 | M35: 3.86 | AB35: =A35 -> 35
A36: 36 | B36: =IF(J36="Wolfspeed",K36,IFERROR(VLOOKUP(CONCATENATE(C36,D36),Sheet1!AF:AH,1,FALSE),CONCATENATE(C36,"D"))) -> C3M0060065D | C36: {=IF(G36=650,INDEX(Sheet1!$I:$I,MATCH(MIN(ABS(Sheet1!$H$1:$H$50-E36)),ABS(Sheet1!$H$1:$H$50-E36),0)),IF(G36=900,INDEX(Sheet1!$C:$C,MATCH(MIN(ABS(Sheet1!$B$1:$B$50-E36)),ABS(Sheet1!$B$1:$B$50-E36),0)),IF(G36=1200,INDEX(Sheet1!$U:$U,MATCH(MIN(ABS(Sheet1!$T$1:$T$48-E36)),ABS(Sheet1!$T$1:$T$48-E36),0)),IF(G36=1000,INDEX(Sheet1!$AA:$AA,MATCH(MIN(ABS(Sheet1!$Z$1:$Z$50-E36)),ABS(Sheet1!$Z$1:$Z$50-E36),0))))))} -> C3M0060065 | D36: =IF(I36="TO-247-3","D",IF(I36="TO-247-4","K",IF(LEFT(I36,6)="TO-263","J","D"))) -> D | E36: =H36/1.3 -> 76.923077 | G36: 650 | H36: 100 | I36: TO-220-3 | J36: United Silicon Carbide | K36: UJ3C065080T3S | L36: Distrelec | M36: 9.0215874 | AB36: =A36 -> 36
A37: 37 | B37: =IF(J37="Wolfspeed",K37,IFERROR(VLOOKUP(CONCATENATE(C37,D37),Sheet1!AF:AH,1,FALSE),CONCATENATE(C37,"D"))) -> C3M0060065D | C37: {=IF(G37=650,INDEX(Sheet1!$I:$I,MATCH(MIN(ABS(Sheet1!$H$1:$H$50-E37)),ABS(Sheet1!$H$1:$H$50-E37),0)),IF(G37=900,INDEX(Sheet1!$C:$C,MATCH(MIN(ABS(Sheet1!$B$1:$B$50-E37)),ABS(Sheet1!$B$1:$B$50-E37),0)),IF(G37=1200,INDEX(Sheet1!$U:$U,MATCH(MIN(ABS(Sheet1!$T$1:$T$48-E37)),ABS(Sheet1!$T$1:$T$48-E37),0)),IF(G37=1000,INDEX(Sheet1!$AA:$AA,MATCH(MIN(ABS(Sheet1!$Z$1:$Z$50-E37)),ABS(Sheet1!$Z$1:$Z$50-E37),0))))))} -> C3M0060065 | D37: =IF(I37="TO-247-3","D",IF(I37="TO-247-4","K",IF(LEFT(I37,6)="TO-263","J","D"))) -> D | E37: =H37/1.3 -> 76.923077 | G37: 650 | H37: 100 | I37: TO-247-3 | J37: United Silicon Carbide | K37: UF3C065080K3S | L37: Mouser 500 | M37: 4.49 | AB37: =A37 -> 37
A38: 38 | B38: =IF(J38="Wolfspeed",K38,IFERROR(VLOOKUP(CONCATENATE(C38,D38),Sheet1!AF:AH,1,FALSE),CONCATENATE(C38,"D"))) -> C3M0060065K | C38: {=IF(G38=650,INDEX(Sheet1!$I:$I,MATCH(MIN(ABS(Sheet1!$H$1:$H$50-E38)),ABS(Sheet1!$H$1:$H$50-E38),0)),IF(G38=900,INDEX(Sheet1!$C:$C,MATCH(MIN(ABS(Sheet1!$B$1:$B$50-E38)),ABS(Sheet1!$B$1:$B$50-E38),0)),IF(G38=1200,INDEX(Sheet1!$U:$U,MATCH(MIN(ABS(Sheet1!$T$1:$T$48-E38)),ABS(Sheet1!$T$1:$T$48-E38),0)),IF(G38=1000,INDEX(Sheet1!$AA:$AA,MATCH(MIN(ABS(Sheet1!$Z$1:$Z$50-E38)),ABS(Sheet1!$Z$1:$Z$50-E38),0))))))} -> C3M0060065 | D38: =IF(I38="TO-247-3","D",IF(I38="TO-247-4","K",IF(LEFT(I38,6)="TO-263","J","D"))) -> K | E38: =H38/1.3 -> 76.923077 | G38: 650 | H38: 100 | I38: TO-247-4 | J38: United Silicon Carbide | K38: UF3C065080K4S | L38: Distrelec | M38: 16.087367 | AB38: =A38 -> 38
A39: 39 | B39: =IF(J39="Wolfspeed",K39,IFERROR(VLOOKUP(CONCATENATE(C39,D39),Sheet1!AF:AH,1,FALSE),CONCATENATE(C39,"D"))) -> C3M0060065D | C39: {=IF(G39=650,INDEX(Sheet1!$I:$I,MATCH(MIN(ABS(Sheet1!$H$1:$H$50-E39)),ABS(Sheet1!$H$1:$H$50-E39),0)),IF(G39=900,INDEX(Sheet1!$C:$C,MATCH(MIN(ABS(Sheet1!$B$1:$B$50-E39)),ABS(Sheet1!$B$1:$B$50-E39),0)),IF(G39=1200,INDEX(Sheet1!$U:$U,MATCH(MIN(ABS(Sheet1!$T$1:$T$48-E39)),ABS(Sheet1!$T$1:$T$48-E39),0)),IF(G39=1000,INDEX(Sheet1!$AA:$AA,MATCH(MIN(ABS(Sheet1!$Z$1:$Z$50-E39)),ABS(Sheet1!$Z$1:$Z$50-E39),0))))))} -> C3M0060065 | D39: =IF(I39="TO-247-3","D",IF(I39="TO-247-4","K",IF(LEFT(I39,6)="TO-263","J","D"))) -> D | E39: =H39/1.3 -> 80 | G39: 650 | H39: 104 | I39: TO-247-3 | J39: Rohm | K39: SCT3080ALHRC11 | L39: Newark | M39: 9.4 | N39: 11.55216 | R39: 14.1 | T39: 14.74 | U39: 9.4 | AA39: 14.784 | AB39: =A39 -> 39
A40: 40 | B40: =IF(J40="Wolfspeed",K40,IFERROR(VLOOKUP(CONCATENATE(C40,D40),Sheet1!AF:AH,1,FALSE),CONCATENATE(C40,"D"))) -> C3M0060065K | C40: {=IF(G40=650,INDEX(Sheet1!$I:$I,MATCH(MIN(ABS(Sheet1!$H$1:$H$50-E40)),ABS(Sheet1!$H$1:$H$50-E40),0)),IF(G40=900,INDEX(Sheet1!$C:$C,MATCH(MIN(ABS(Sheet1!$B$1:$B$50-E40)),ABS(Sheet1!$B$1:$B$50-E40),0)),IF(G40=1200,INDEX(Sheet1!$U:$U,MATCH(MIN(ABS(Sheet1!$T$1:$T$48-E40)),ABS(Sheet1!$T$1:$T$48-E40),0)),IF(G40=1000,INDEX(Sheet1!$AA:$AA,MATCH(MIN(ABS(Sheet1!$Z$1:$Z$50-E40)),ABS(Sheet1!$Z$1:$Z$50-E40),0))))))} -> C3M0060065 | D40: =IF(I40="TO-247-3","D",IF(I40="TO-247-4","K",IF(LEFT(I40,6)="TO-263","J","D"))) -> K | E40: =H40/1.3 -> 80 | G40: 650 | H40: 104 | I40: TO-247-4 | J40: Rohm | K40: SCT3080ARC14 | L40: Farnell | M40: 8.7123079 | N40: 11.0751 | P40: 9.80488 | R40: 13.5 | T40: 11.83 | U40: 9.01 | AA40: 14.182 | AB40: =A40 -> 40
...

Sheet Sheet1
A1: 900 | B1: 39 | C1: C3M0030090 | D1: TO-247-4 | E1: =IF(D1="TO-247-3","D",IF(D1="TO-247-4","K",IF(LEFT(D1,6)="TO-263","J"))) -> K | G1: 650 | H1: 19.5 | I1: C3M0015065 | J1: TO-247-4 | K1: =IF(J1="TO-247-3","D",IF(J1="TO-247-4","K",IF(LEFT(J1,6)="TO-263","J","K"))) -> K | M1: 1700 | N1: 59 | O1: C2M0045170 | P1: TO-247-4 | Q1: P | S1: 1200 | T1: 22.3 | U1: C3M0016120 | V1: TO-247-4 | W1: =IF(V1="TO-247-3","D",IF(V1="TO-247-4","K",IF(LEFT(V1,6)="TO-263","J","K"))) -> K | Y1: 1000 | Z1: 78 | AA1: C3M0065100 | AB1: TO-263-8, | AC1: =IF(AB1="TO-247-3","D",IF(AB1="TO-247-4","K",IF(LEFT(AB1,6)="TO-263","J","K"))) -> J | AF1: =CONCATENATE(C1,E1) -> C3M0030090K | AG1: N/A | AH1: C3M0065090D
A2: 900 | B2: 78 | C2: C3M0065090 | D2: TO-247-3 | E2: =IF(D2="TO-247-3","D",IF(D2="TO-247-4","K",IF(LEFT(D2,6)="TO-263","J","K"))) -> D | G2: 650 | H2: 19.5 | I2: C3M0015065 | J2: TO-247-3 | K2: =IF(J2="TO-247-3","D",IF(J2="TO-247-4","K",IF(LEFT(J2,6)="TO-263","J","K"))) -> D | M2: 1700 | N2: 70 | O2: C2M0045170 | P2: TO-247-3 | Q2: =IF(P2="TO-247-3","D",IF(P2="TO-247-4","K",IF(LEFT(P2,6)="TO-263","J","K"))) -> D | S2: 1200 | T2: 22.3 | U2: C3M0016120 | V2: TO-247-3 | W2: =IF(V2="TO-247-3","D",IF(V2="TO-247-4","K",IF(LEFT(V2,6)="TO-263","J","K"))) -> D | Y2: 1000 | Z2: 78 | AA2: C3M0065100 | AB2: TO-247-4 | AC2: =IF(AB2="TO-247-3","D",IF(AB2="TO-247-4","K",IF(LEFT(AB2,6)="TO-263","J","K"))) -> K | AF2: =CONCATENATE(C2,E2) -> C3M0065090D | AG2: C3M0030090K | AH2: C3M0120090D
A3: 900 | B3: 78 | C3: C3M0065090 | D3: TO-263-8, | E3: =IF(D3="TO-247-3","D",IF(D3="TO-247-4","K",IF(LEFT(D3,6)="TO-263","J","K"))) -> J | G3: 650 | H3: 78 | I3: C3M0060065 | J3: TO-247-4 | K3: =IF(J3="TO-247-3","D",IF(J3="TO-247-4","K",IF(LEFT(J3,6)="TO-263","J","K"))) -> K | M3: 1700 | N3: 125 | O3: C2M0080170 | P3: TO-247-4 | Q3: P | S3: 1200 | T3: 28.8 | U3: C3M0021120 | V3: TO-247-4 | W3: =IF(V3="TO-247-3","D",IF(V3="TO-247-4","K",IF(LEFT(V3,6)="TO-263","J","K"))) -> K | Y3: 1000 | Z3: 155 | AA3: C3M0120100 | AB3: TO-247-4 | AC3: =IF(AB3="TO-247-3","D",IF(AB3="TO-247-4","K",IF(LEFT(AB3,6)="TO-263","J","K"))) -> K | AF3: =CONCATENATE(C3,E3) -> C3M0065090J | AG3: C3M0030090K | AH3: C3M0120090J
A4: 900 | B4: 155 | C4: C3M0120090 | D4: TO-263-8, | E4: =IF(D4="TO-247-3","D",IF(D4="TO-247-4","K",IF(LEFT(D4,6)="TO-263","J","K"))) -> J | G4: 650 | H4: 78 | I4: C3M0060065 | J4: TO-247-3 | K4: =IF(J4="TO-247-3","D",IF(J4="TO-247-4","K",IF(LEFT(J4,6)="TO-263","J","K"))) -> D | M4: 1700 | N4: 1100 | O4: C2M1000170 | P4: TO-247-3 | Q4: =IF(P4="TO-247-3","D",IF(P4="TO-247-4","K",IF(LEFT(P4,6)="TO-263","J","K"))) -> D | S4: 1200 | T4: 28.8 | U4: C3M0021120 | V4: TO-247-3 | W4: =IF(V4="TO-247-3","D",IF(V4="TO-247-4","K",IF(LEFT(V4,6)="TO-263","J","K"))) -> D | Y4: 1000 | Z4: 155 | AA4: C3M0120100 | AB4: TO-263-8, | AC4: =IF(AB4="TO-247-3","D",IF(AB4="TO-247-4","K",IF(LEFT(AB4,6)="TO-263","J","K"))) -> J | AF4: =CONCATENATE(C4,E4) -> C3M0120090J | AG4: C3M0065090J | AH4: C3M0120090D
A5: 900 | B5: 155 | C5: C3M0120090 | D5: TO-247-3 | E5: =IF(D5="TO-247-3","D",IF(D5="TO-247-4","K",IF(LEFT(D5,6)="TO-263","J","K"))) -> D | G5: 650 | H5: 78 | I5: C3M0060065 | J5: TO-263-7 | K5: =IF(J5="TO-247-3","D",IF(J5="TO-247-4","K",IF(LEFT(J5,6)="TO-263","J","K"))) -> J | M5: 1700 | N5: 1400 | O5: C2M1000170 | P5: TO-263-7 | Q5: =IF(P5="TO-247-3","D",IF(P5="TO-247-4","K",IF(LEFT(P5,6)="TO-263","J","K"))) -> J | S5: 1200 | T5: 28.8 | U5: C3M0021120 | V5: TO-247-3 | W5: =IF(V5="TO-247-3","D",IF(V5="TO-247-4","K",IF(LEFT(V5,6)="TO-263","J","K"))) -> D | Y5: 1000 | Z5: 155 | AA5: C3M0120101 | AB5: TO-263-8, | AC5: =IF(AB5="TO-247-3","D",IF(AB5="TO-247-4","K",IF(LEFT(AB5,6)="TO-263","J","K"))) -> J | AF5: =CONCATENATE(C5,E5) -> C3M0120090D | AG5: C3M0065090D | AH5: C3M0120090J
A6: 900 | B6: 360 | C6: C3M0280090 | D6: TO-247-3 | E6: =IF(D6="TO-247-3","D",IF(D6="TO-247-4","K",IF(LEFT(D6,6)="TO-263","J","K"))) -> D | G6: 650 | H6: 156 | I6: C3M0120065 | J6: TO-247-4 | K6: =IF(J6="TO-247-3","D",IF(J6="TO-247-4","K",IF(LEFT(J6,6)="TO-263","J","K"))) -> K | M6: 1700 | N6: 1400 | O6: C2M1000171 | P6: TO-263-8 | Q6: =IF(P6="TO-247-3","D",IF(P6="TO-247-4","K",IF(LEFT(P6,6)="TO-263","J","K"))) -> J | S6: 1200 | T6: 43 | U6: C3M0032120 | V6: TO-247-3 | W6: =IF(V6="TO-247-3","D",IF(V6="TO-247-4","K",IF(LEFT(V6,6)="TO-263","J","K"))) -> D | Y6: 1000 | Z6: 155 | AA6: C3M0120102 | AB6: TO-263-8, | AC6: =IF(AB6="TO-247-3","D",IF(AB6="TO-247-4","K",IF(LEFT(AB6,6)="TO-263","J","K"))) -> J | AF6: =CONCATENATE(C6,E6) -> C3M0280090D | AG6: C3M0120090D | AH6: N/A
A7: 900 | B7: 360 | C7: C3M0280090 | D7: TO-263-8, | E7: =IF(D7="TO-247-3","D",IF(D7="TO-247-4","K",IF(LEFT(D7,6)="TO-263","J","K"))) -> J | G7: 650 | H7: 156 | I7: C3M0120065 | J7: TO-247-3 | K7: =IF(J7="TO-247-3","D",IF(J7="TO-247-4","K",IF(LEFT(J7,6)="TO-263","J","K"))) -> D | M7: 1700 | N7: 1400 | O7: C2M1000172 | P7: TO-263-9 | Q7: =IF(P7="TO-247-3","D",IF(P7="TO-247-4","K",IF(LEFT(P7,6)="TO-263","J","K"))) -> J | S7: 1200 | T7: 43 | U7: C3M0032120 | V7: TO-247-4 | W7: =IF(V7="TO-247-3","D",IF(V7="TO-247-4","K",IF(LEFT(V7,6)="TO-263","J","K"))) -> K | Y7: 1000 | Z7: 155 | AA7: C3M0120103 | AB7: TO-263-8, | AC7: =IF(AB7="TO-247-3","D",IF(AB7="TO-247-4","K",IF(LEFT(AB7,6)="TO-263","J","K"))) -> J | AF7: =CONCATENATE(C7,E7) -> C3M0280090J | AG7: C3M0120090J | AH7: N/A
A8: 900 | B8: 360 | C8: C3M0280091 | D8: TO-263-8, | E8: =IF(D8="TO-247-3","D",IF(D8="TO-247-4","K",IF(LEFT(D8,6)="TO-263","J","K"))) -> J | G8: 650 | H8: 156 | I8: C3M0120065 | J8: TO-263-7 | K8: =IF(J8="TO-247-3","D",IF(J8="TO-247-4","K",IF(LEFT(J8,6)="TO-263","J","K"))) -> J | M8: 1700 | N8: 1400 | O8: C2M1000173 | P8: TO-263-10 | Q8: =IF(P8="TO-247-3","D",IF(P8="TO-247-4","K",IF(LEFT(P8,6)="TO-263","J","K"))) -> J | S8: 1200 | T8: 43 | U8: C3M0032120 | V8: TO-247-3 | W8: =IF(V8="TO-247-3","D",IF(V8="TO-247-4","K",IF(LEFT(V8,6)="TO-263","J","K"))) -> D | Y8: 1000 | Z8: 155 | AA8: C3M0120104 | AB8: TO-263-8, | AC8: =IF(AB8="TO-247-3","D",IF(AB8="TO-247-4","K",IF(LEFT(AB8,6)="TO-263","J","K"))) -> J | AF8: =CONCATENATE(C8,E8) -> C3M0280091J
A9: 900 | B9: 360 | C9: C3M0280092 | D9: TO-263-8, | E9: =IF(D9="TO-247-3","D",IF(D9="TO-247-4","K",IF(LEFT(D9,6)="TO-263","J","K"))) -> J | G9: 650 | H9: 156 | I9: C3M0120066 | J9: TO-263-8 | K9: =IF(J9="TO-247-3","D",IF(J9="TO-247-4","K",IF(LEFT(J9,6)="TO-263","J","K"))) -> J | M9: 1700 | N9: 1400 | O9: C2M1000174 | P9: TO-263-11 | Q9: =IF(P9="TO-247-3","D",IF(P9="TO-247-4","K",IF(LEFT(P9,6)="TO-263","J","K"))) -> J | S9: 1200 | T9: 90 | U9: C3M0075120 | V9: TO-263-7 | W9: =IF(V9="TO-247-3","D",IF(V9="TO-247-4","K",IF(LEFT(V9,6)="TO-263","J","K"))) -> J | Y9: 1000 | Z9: 155 | AA9: C3M0120105 | AB9: TO-263-8, | AC9: =IF(AB9="TO-247-3","D",IF(AB9="TO-247-4","K",IF(LEFT(AB9,6)="TO-263","J","K"))) -> J | AF9: =CONCATENATE(C9,E9) -> C3M0280092J
A10: 900 | B10: 360 | C10: C3M0280093 | D10: TO-263-8, | E10: =IF(D10="TO-247-3","D",IF(D10="TO-247-4","K",IF(LEFT(D10,6)="TO-263","J","K"))) -> J | G10: 650 | H10: 156 | I10: C3M0120067 | J10: TO-263-9 | K10: =IF(J10="TO-247-3","D",IF(J10="TO-247-4","K",IF(LEFT(J10,6)="TO-263","J","K"))) -> J | M10: 1700 | N10: 1400 | O10: C2M1000175 | P10: TO-263-12 | Q10: =IF(P10="TO-247-3","D",IF(P10="TO-247-4","K",IF(LEFT(P10,6)="TO-263","J","K"))) -> J | S10: 1200 | T10: 90 | U10: C3M0075120 | V10: TO-247-4 | W10: =IF(V10="TO-247-3","D",IF(V10="TO-247-4","K",IF(LEFT(V10,6)="TO-263","J","K"))) -> K | Y10: 1000 | Z10: 155 | AA10: C3M0120106 | AB10: TO-263-8, | AC10: =IF(AB10="TO-247-3","D",IF(AB10="TO-247-4","K",IF(LEFT(AB10,6)="TO-263","J","K"))) -> J | AF10: =CONCATENATE(C10,E10) -> C3M0280093J
A11: 900 | B11: 360 | C11: C3M0280094 | D11: TO-263-8, | E11: =IF(D11="TO-247-3","D",IF(D11="TO-247-4","K",IF(LEFT(D11,6)="TO-263","J","K"))) -> J | G11: 650 | H11: 156 | I11: C3M0120068 | J11: TO-263-10 | K11: =IF(J11="TO-247-3","D",IF(J11="TO-247-4","K",IF(LEFT(J11,6)="TO-263","J","K"))) -> J | M11: 1700 | N11: 1400 | O11: C2M1000176 | P11: TO-263-13 | Q11: =IF(P11="TO-247-3","D",IF(P11="TO-247-4","K",IF(LEFT(P11,6)="TO-263","J","K"))) -> J | S11: 1200 | T11: 90 | U11: C3M0075120 | V11: TO-247-3 | W11: =IF(V11="TO-247-3","D",IF(V11="TO-247-4","K",IF(LEFT(V11,6)="TO-263","J","K"))) -> D | Y11: 1000 | Z11: 155 | AA11: C3M0120107 | AB11: TO-263-8, | AC11: =IF(AB11="TO-247-3","D",IF(AB11="TO-247-4","K",IF(LEFT(AB11,6)="TO-263","J","K"))) -> J | AF11: =CONCATENATE(C11,E11) -> C3M0280094J
A12: 900 | B12: 360 | C12: C3M0280095 | D12: TO-263-8, | E12: =IF(D12="TO-247-3","D",IF(D12="TO-247-4","K",IF(LEFT(D12,6)="TO-263","J","K"))) -> J | G12: 650 | H12: 156 | I12: C3M0120069 | J12: TO-263-11 | K12: =IF(J12="TO-247-3","D",IF(J12="TO-247-4","K",IF(LEFT(J12,6)="TO-263","J","K"))) -> J | M12: 1700 | N12: 1400 | O12: C2M1000177 | P12: TO-263-14 | Q12: =IF(P12="TO-247-3","D",IF(P12="TO-247-4","K",IF(LEFT(P12,6)="TO-263","J","K"))) -> J | S12: 1200 | T12: 180 | U12: C3M0160120 | V12: TO-247-4 | W12: =IF(V12="TO-247-3","D",IF(V12="TO-247-4","K",IF(LEFT(V12,6)="TO-263","J","K"))) -> K | Y12: 1000 | Z12: 155 | AA12: C3M0120108 | AB12: TO-263-8, | AC12: =IF(AB12="TO-247-3","D",IF(AB12="TO-247-4","K",IF(LEFT(AB12,6)="TO-263","J","K"))) -> J | AF12: =CONCATENATE(C12,E12) -> C3M0280095J
A13: 900 | B13: 360 | C13: C3M0280096 | D13: TO-263-8, | E13: =IF(D13="TO-247-3","D",IF(D13="TO-247-4","K",IF(LEFT(D13,6)="TO-263","J","K"))) -> J | G13: 650 | H13: 156 | I13: C3M0120070 | J13: TO-263-12 | K13: =IF(J13="TO-247-3","D",IF(J13="TO-247-4","K",IF(LEFT(J13,6)="TO-263","J","K"))) -> J | M13: 1700 | N13: 1400 | O13: C2M1000178 | P13: TO-263-15 | Q13: =IF(P13="TO-247-3","D",IF(P13="TO-247-4","K",IF(LEFT(P13,6)="TO-263","J","K"))) -> J | S13: 1200 | T13: 180 | U13: C3M0160120 | V13: TO-247-3 | W13: =IF(V13="TO-247-3","D",IF(V13="TO-247-4","K",IF(LEFT(V13,6)="TO-263","J","K"))) -> D | Y13: 1000 | Z13: 155 | AA13: C3M0120109 | AB13: TO-263-8, | AC13: =IF(AB13="TO-247-3","D",IF(AB13="TO-247-4","K",IF(LEFT(AB13,6)="TO-263","J","K"))) -> J | AF13: =CONCATENATE(C13,E13) -> C3M0280096J
A14: 900 | B14: 360 | C14: C3M0280097 | D14: TO-263-8, | E14: =IF(D14="TO-247-3","D",IF(D14="TO-247-4","K",IF(LEFT(D14,6)="TO-263","J","K"))) -> J | G14: 650 | H14: 156 | I14: C3M0120071 | J14: TO-263-13 | K14: =IF(J14="TO-247-3","D",IF(J14="TO-247-4","K",IF(LEFT(J14,6)="TO-263","J","K"))) -> J | M14: 1700 | N14: 1400 | O14: C2M1000179 | P14: TO-263-16 | Q14: =IF(P14="TO-247-3","D",IF(P14="TO-247-4","K",IF(LEFT(P14,6)="TO-263","J","K"))) -> J | S14: 1200 | T14: 180 | U14: C3M0160120 | V14: TO-263-7 | W14: =IF(V14="TO-247-3","D",IF(V14="TO-247-4","K",IF(LEFT(V14,6)="TO-263","J","K"))) -> J | Y14: 1000 | Z14: 155 | AA14: C3M0120110 | AB14: TO-263-8, | AC14: =IF(AB14="TO-247-3","D",IF(AB14="TO-247-4","K",IF(LEFT(AB14,6)="TO-263","J","K"))) -> J | AF14: =CONCATENATE(C14,E14) -> C3M0280097J
A15: 900 | B15: 360 | C15: C3M0280098 | D15: TO-263-8, | E15: =IF(D15="TO-247-3","D",IF(D15="TO-247-4","K",IF(LEFT(D15,6)="TO-263","J","K"))) -> J | G15: 650 | H15: 156 | I15: C3M0120072 | J15: TO-263-14 | K15: =IF(J15="TO-247-3","D",IF(J15="TO-247-4","K",IF(LEFT(J15,6)="TO-263","J","K"))) -> J | M15: 1700 | N15: 1400 | O15: C2M1000180 | P15: TO-263-17 | Q15: =IF(P15="TO-247-3","D",IF(P15="TO-247-4","K",IF(LEFT(P15,6)="TO-263","J","K"))) -> J | S15: 1200 | T15: 370 | U15: C3M0350120 | V15: TO-247-4 | W15: =IF(V15="TO-247-3","D",IF(V15="TO-247-4","K",IF(LEFT(V15,6)="TO-263","J","K"))) -> K | Y15: 1000 | Z15: 155 | AA15: C3M0120111 | AB15: TO-263-8, | AC15: =IF(AB15="TO-247-3","D",IF(AB15="TO-247-4","K",IF(LEFT(AB15,6)="TO-263","J","K"))) -> J | AF15: =CONCATENATE(C15,E15) -> C3M0280098J
A16: 900 | B16: 360 | C16: C3M0280099 | D16: TO-263-8, | E16: =IF(D16="TO-247-3","D",IF(D16="TO-247-4","K",IF(LEFT(D16,6)="TO-263","J","K"))) -> J | G16: 650 | H16: 156 | I16: C3M0120073 | J16: TO-263-15 | K16: =IF(J16="TO-247-3","D",IF(J16="TO-247-4","K",IF(LEFT(J16,6)="TO-263","J","K"))) -> J | M16: 1700 | N16: 1400 | O16: C2M1000181 | P16: TO-263-18 | Q16: =IF(P16="TO-247-3","D",IF(P16="TO-247-4","K",IF(LEFT(P16,6)="TO-263","J","K"))) -> J | S16: 1200 | T16: 370 | U16: C3M0350120 | V16: TO-247-3 | W16: =IF(V16="TO-247-3","D",IF(V16="TO-247-4","K",IF(LEFT(V16,6)="TO-263","J","K"))) -> D | Y16: 1000 | Z16: 155 | AA16: C3M0120112 | AB16: TO-263-8, | AC16: =IF(AB16="TO-247-3","D",IF(AB16="TO-247-4","K",IF(LEFT(AB16,6)="TO-263","J","K"))) -> J | AF16: =CONCATENATE(C16,E16) -> C3M0280099J
A17: 900 | B17: 360 | C17: C3M0280100 | D17: TO-263-8, | E17: =IF(D17="TO-247-3","D",IF(D17="TO-247-4","K",IF(LEFT(D17,6)="TO-263","J","K"))) -> J | G17: 650 | H17: 156 | I17: C3M0120074 | J17: TO-263-16 | K17: =IF(J17="TO-247-3","D",IF(J17="TO-247-4","K",IF(LEFT(J17,6)="TO-263","J","K"))) -> J | M17: 1700 | N17: 1400 | O17: C2M1000182 | P17: TO-263-19 | Q17: =IF(P17="TO-247-3","D",IF(P17="TO-247-4","K",IF(LEFT(P17,6)="TO-263","J","K"))) -> J | S17: 1200 | T17: 370 | U17: C3M0350120 | V17: TO-263-7 | W17: =IF(V17="TO-247-3","D",IF(V17="TO-247-4","K",IF(LEFT(V17,6)="TO-263","J","K"))) -> J | Y17: 1000 | Z17: 155 | AA17: C3M0120113 | AB17: TO-263-8, | AC17: =IF(AB17="TO-247-3","D",IF(AB17="TO-247-4","K",IF(LEFT(AB17,6)="TO-263","J","K"))) -> J | AF17: =CONCATENATE(C17,E17) -> C3M0280100J
A18: 900 | B18: 360 | C18: C3M0280101 | D18: TO-263-8, | E18: =IF(D18="TO-247-3","D",IF(D18="TO-247-4","K",IF(LEFT(D18,6)="TO-263","J","K"))) -> J | G18: 650 | H18: 156 | I18: C3M0120075 | J18: TO-263-17 | K18: =IF(J18="TO-247-3","D",IF(J18="TO-247-4","K",IF(LEFT(J18,6)="TO-263","J","K"))) -> J | M18: 1700 | N18: 1400 | O18: C2M1000183 | P18: TO-263-20 | Q18: =IF(P18="TO-247-3","D",IF(P18="TO-247-4","K",IF(LEFT(P18,6)="TO-263","J","K"))) -> J | S18: 1200 | U18: C2M0280128 | V18: TO-247-11 | W18: =IF(V18="TO-247-3","D",IF(V18="TO-247-4","K",IF(LEFT(V18,6)="TO-263","J","K"))) -> K | Y18: 1000 | Z18: 155 | AA18: C3M0120114 | AB18: TO-263-8, | AC18: =IF(AB18="TO-247-3","D",IF(AB18="TO-247-4","K",IF(LEFT(AB18,6)="TO-263","J","K"))) -> J | AF18: =CONCATENATE(C18,E18) -> C3M0280101J
A19: 900 | B19: 360 | C19: C3M0280102 | D19: TO-263-8, | E19: =IF(D19="TO-247-3","D",IF(D19="TO-247-4","K",IF(LEFT(D19,6)="TO-263","J","K"))) -> J | G19: 650 | H19: 156 | I19: C3M0120076 | J19: TO-263-18 | K19: =IF(J19="TO-247-3","D",IF(J19="TO-247-4","K",IF(LEFT(J19,6)="TO-263","J","K"))) -> J | M19: 1700 | N19: 1400 | O19: C2M1000184 | P19: TO-263-21 | Q19: =IF(P19="TO-247-3","D",IF(P19="TO-247-4","K",IF(LEFT(P19,6)="TO-263","J","K"))) -> J | S19: 1200 | U19: C2M0280128 | V19: TO-247-11 | W19: =IF(V19="TO-247-3","D",IF(V19="TO-247-4","K",IF(LEFT(V19,6)="TO-263","J","K"))) -> K | Y19: 1000 | Z19: 155 | AA19: C3M0120115 | AB19: TO-263-8, | AC19: =IF(AB19="TO-247-3","D",IF(AB19="TO-247-4","K",IF(LEFT(AB19,6)="TO-263","J","K"))) -> J | AF19: =CONCATENATE(C19,E19) -> C3M0280102J
A20: 900 | B20: 360 | C20: C3M0280103 | D20: TO-263-8, | E20: =IF(D20="TO-247-3","D",IF(D20="TO-247-4","K",IF(LEFT(D20,6)="TO-263","J","K"))) -> J | G20: 650 | H20: 156 | I20: C3M0120077 | J20: TO-263-19 | K20: =IF(J20="TO-247-3","D",IF(J20="TO-247-4","K",IF(LEFT(J20,6)="TO-263","J","K"))) -> J | M20: 1700 | N20: 1400 | O20: C2M1000185 | P20: TO-263-22 | Q20: =IF(P20="TO-247-3","D",IF(P20="TO-247-4","K",IF(LEFT(P20,6)="TO-263","J","K"))) -> J | S20: 1200 | U20: C2M0280129 | V20: TO-247-12 | W20: =IF(V20="TO-247-3","D",IF(V20="TO-247-4","K",IF(LEFT(V20,6)="TO-263","J","K"))) -> K | Y20: 1000 | Z20: 155 | AA20: C3M0120116 | AB20: TO-263-8, | AC20: =IF(AB20="TO-247-3","D",IF(AB20="TO-247-4","K",IF(LEFT(AB20,6)="TO-263","J","K"))) -> J | AF20: =CONCATENATE(C20,E20) -> C3M0280103J
A21: 900 | B21: 360 | C21: C3M0280104 | D21: TO-263-8, | E21: =IF(D21="TO-247-3","D",IF(D21="TO-247-4","K",IF(LEFT(D21,6)="TO-263","J","K"))) -> J | G21: 650 | H21: 156 | I21: C3M0120078 | J21: TO-263-20 | K21: =IF(J21="TO-247-3","D",IF(J21="TO-247-4","K",IF(LEFT(J21,6)="TO-263","J","K"))) -> J | M21: 1700 | N21: 1400 | O21: C2M1000186 | P21: TO-263-23 | Q21: =IF(P21="TO-247-3","D",IF(P21="TO-247-4","K",IF(LEFT(P21,6)="TO-263","J","K"))) -> J | S21: 1200 | U21: C2M0280130 | V21: TO-247-13 | W21: =IF(V21="TO-247-3","D",IF(V21="TO-247-4","K",IF(LEFT(V21,6)="TO-263","J","K"))) -> K | Y21: 1000 | Z21: 155 | AA21: C3M0120117 | AB21: TO-263-8, | AC21: =IF(AB21="TO-247-3","D",IF(AB21="TO-247-4","K",IF(LEFT(AB21,6)="TO-263","J","K"))) -> J | AF21: =CONCATENATE(C21,E21) -> C3M0280104J
A22: 900 | B22: 360 | C22: C3M0280105 | D22: TO-263-8, | E22: =IF(D22="TO-247-3","D",IF(D22="TO-247-4","K",IF(LEFT(D22,6)="TO-263","J","K"))) -> J | G22: 650 | H22: 156 | I22: C3M0120079 | J22: TO-263-21 | K22: =IF(J22="TO-247-3","D",IF(J22="TO-247-4","K",IF(LEFT(J22,6)="TO-263","J","K"))) -> J | M22: 1700 | N22: 1400 | O22: C2M1000187 | P22: TO-263-24 | Q22: =IF(P22="TO-247-3","D",IF(P22="TO-247-4","K",IF(LEFT(P22,6)="TO-263","J","K"))) -> J | S22: 1200 | U22: C2M0280131 | V22: TO-247-14 | W22: =IF(V22="TO-247-3","D",IF(V22="TO-247-4","K",IF(LEFT(V22,6)="TO-263","J","K"))) -> K | Y22: 1000 | Z22: 155 | AA22: C3M0120118 | AB22: TO-263-8, | AC22: =IF(AB22="TO-247-3","D",IF(AB22="TO-247-4","K",IF(LEFT(AB22,6)="TO-263","J","K"))) -> J | AF22: =CONCATENATE(C22,E22) -> C3M0280105J
